{"text_format":"1","workbook":"xlsx","n_sheets":7,"sheets":[" Instructions & Controls","All Running Order","All Finishing Order","Finishing Order By Class & Axle","Database Entry","Constants","All Running Order working doc"],"not_rendered":{"charts":0,"images":1,"macros":1,"external_links":0,"defined_names":9,"comments":0,"pivot_tables":0},"unopened":[],"bounds":{"document_bytes":16777216,"sheet_cells":100000,"rows_first":2000,"rows_last":500,"rows_between":2000,"halvings":0,"cell_chars":16384,"cell_head_chars":4096},"cells_cut":0,"cells_raw":0,"read":"whole","date_system":"1900"}

{"sheet":" Instructions & Controls","index":0,"n_rows":12,"n_cols":2,"rows_kept":12,"cut":false,"hidden":false,"merged":[]}
[]
[null,"Instructions"]
[1,"Only edit the sheet labelled \"All Running Order\", the other sheets will automatically work themselves out or be created by macro"]
[2,"The names of the classes can be changed by editing the Constants tab (see separate note on that tab).  The column headings will change accordingly."]
[3,"Fill in the Trial Name, Date, Driver, passenger, Car, CC etc"]
[4,"Use the macro buttons below to show and hide columns on all the sheets."]
[5,"There is enough space for 59 competitors"]
[6,"The Class and axle configuration can be selected by clicking on the cell in the Class or Live/IRS column, it will provide you with a small arrow, click that and it will give you options, click the correct one"]
[7,"If a competitor retires or is a non starter, click the relevant cell in the Ret/NS column and from the drop down menu select Ret/NS - they will be excluded from the results"]
[8,"Countback is done automatically up to competitors tying on 6's "]
[9,"When all the results have been entered click on the \"Build Finishing Order By Class & Axle\" button to build that sheet.  It can be run as many times as you like.  Each time it is run it deletes all existing data on that sheet"]
[10,"The Finishing Order By Class & Axle and All Finishing Order sheets can be exported to PDF files by clicking on the macro buttons below"]

{"sheet":"All Running Order","index":1,"n_rows":64,"n_cols":258,"rows_kept":64,"cut":false,"hidden":false,"merged":[[2,129,3,132],[2,89,3,89],[2,113,3,116],[2,117,3,120],[2,121,3,124],[2,125,3,128],[2,105,3,108],[2,109,3,112],[2,100,3,100],[2,101,3,101],[2,91,3,91],[2,93,3,93],[2,95,3,95],[2,92,3,92],[2,94,3,94],[2,242,3,245],[2,246,3,249],[2,250,3,253],[2,204,3,207],[2,208,3,211],[2,212,3,215],[2,188,3,191],[2,200,3,203],[2,159,3,162],[2,80,2,84],[2,164,3,167],[2,168,3,171],[2,172,3,175],[2,176,3,179],[2,180,3,183],[2,143,3,146],[2,147,3,150],[2,96,3,96],[2,90,3,90],[2,97,3,97],[2,98,3,98],[2,99,3,99],[2,254,3,257],[2,51,2,60],[2,61,3,61],[2,62,3,62],[2,135,3,138],[2,139,3,142],[2,216,3,219],[2,220,3,223],[2,224,3,227],[2,230,3,233],[2,234,3,237],[2,238,3,241],[2,75,2,79],[2,151,3,154],[2,155,3,158],[2,184,3,187],[2,8,2,12],[2,13,3,13],[2,15,3,15],[2,16,2,25],[2,26,3,26],[2,27,2,36],[2,37,3,37],[2,38,3,38],[2,39,2,48],[2,49,3,49],[2,50,3,50],[2,85,3,85],[2,86,3,86],[2,87,3,87],[2,88,3,88],[2,63,2,72],[2,73,3,73],[2,74,3,74]]}
[null,null,null,"J B Taylor"]
[null,null,null,"2026-03-15"]
[null,null,null,null,null,null,null,null,"START HILL",null,null,null,null,"Ret/NS",null,"BTRDA CLASS","ROUND 1: HILL NO. ",null,null,null,null,null,null,null,null,null,"ROUND TOTAL","ROUND 2: HILL NO. ",null,null,null,null,null,null,null,null,null,"ROUND TOTAL","SUB TOTAL","ROUND 3: HILL NO. ",null,null,null,null,null,null,null,null,null,"ROUND TOTAL","SUB TOTAL","ROUND 4: HILL NO. ",null,null,null,null,null,null,null,null,null,"ROUND TOTAL","SUB TOTAL","ROUND 5: HILL NO. ",null,null,null,null,null,null,null,null,null,"ROUND TOTAL","GRAND TOTAL","POSITION AFTER ROUND",null,null,null,null,"Round position pre-calculation",null,null,null,null,{"$f":"CONCATENATE(,\"CLASS\",\" \",Constants!$B$2)","v":"CLASS Red"},{"$f":"CONCATENATE(\"Position in \",Constants!$B$2,\" CLASS\")","v":"Position in Red CLASS"},{"$f":"CONCATENATE(,\"CLASS\",\" \",Constants!$B$3)","v":"CLASS Blue"},{"$f":"CONCATENATE(\"Position in \",Constants!$B$3,\" CLASS\")","v":"Position in Blue CLASS"},{"$f":"CONCATENATE(,Constants!$B$4,\" \",\"CLASS\")","v":"Rookie CLASS"},{"$f":"CONCATENATE(\"Position in \",Constants!$B$4,\" \",\"CLASS\")","v":"Position in Rookie CLASS"},{"$f":"CONCATENATE(,Constants!$C$2,\" \",\"CLASS\")","v":"750-A CLASS"},{"$f":"CONCATENATE(\"Position in \",Constants!$C$2,\" \",\"CLASS\")","v":"Position in 750-A CLASS"},{"$f":"CONCATENATE(,Constants!$C$3,\" \",\"CLASS\")","v":"750-B CLASS"},{"$f":"CONCATENATE(\"Position in \",Constants!$C$3,\" \",\"CLASS\")","v":"Position in 750-B CLASS"},{"$f":"CONCATENATE(,Constants!$C$4,\" \",\"CLASS\")","v":"750-N CLASS"},{"$f":"CONCATENATE(\"Position in \",Constants!$C$4,\" \",\"CLASS\")","v":"Position in 750-N CLASS"},"Post-Historic Class",{"$f":"CONCATENATE(\"Position in Post Historic CLASS\")","v":"Position in Post Historic CLASS"},"Live Class","Position in Live CLASS","POSITION IN CLASS",null,null,null,"NUMBER OF 0",null,null,null,"NUMBER OF 1",null,null,null,"NUMBER OF 2",null,null,null,"NUMBER OF 3",null,null,null,"NUMBER OF 4",null,null,null,"NUMBER OF 5",null,null,null,"NUMBER OF 6",null,null,null,null,null,"NUMBER OF 0",null,null,null,"NUMBER OF 1",null,null,null,"NUMBER OF 2",null,null,null,"NUMBER OF 3",null,null,null,"NUMBER OF 4",null,null,null,"NUMBER OF 5",null,null,null,"NUMBER OF 6",null,null,null,null,"NUMBER OF 0",null,null,null,"NUMBER OF 1",null,null,null,"NUMBER OF 2",null,null,null,"NUMBER OF 3",null,null,null,"NUMBER OF 4",null,null,null,"NUMBER OF 5",null,null,null,"NUMBER OF 6",null,null,null,null,null,null,null,null,null,null,null,"NUMBER OF 0",null,null,null,"NUMBER OF 1",null,null,null,"NUMBER OF 2",null,null,null,"NUMBER OF 3",null,null,null,"NUMBER OF 4",null,null,null,"NUMBER OF 5",null,null,null,"NUMBER OF 6",null,null,null,null,null,"NUMBER OF 0",null,null,null,"NUMBER OF 1",null,null,null,"NUMBER OF 2",null,null,null,"NUMBER OF 3",null,null,null,"NUMBER OF 4",null,null,null,"NUMBER OF 5",null,null,null,"NUMBER OF 6"]
[null,"NO.","DRIVER","PASSENGER","CAR","CC","Live/IRS","BTRDA Tyres",1,2,3,4,5,null,"Club CLASS",null,"1","2","3","4","5","6","7","8","9","10",null,"1","2","3","4","5","6","7","8","9","10",null,null,"1","2","3","4","5","6","7","8","9","10",null,null,"1","2","3","4","5","6","7","8","9","10",null,null,"1","2","3","4","5","6","7","8","9","10",null,null,1,2,3,4,5,1,2,3,4,5,null,null,null,null,null,null,null,null,null,null,null,null,null,null,null,null,null,"Class","Type",null,null,null,null,null,null,null,null,null,null,null,null,null,null,null,null,null,null,null,null,null,null,null,null,null,null,null,null,null,null,null,null,null,null,null,null,null,null,null,null,null,null,null,null,null,null,null,null,null,null,null,null,null,null,null,null,null,null,null,null,null,null,null,null,null,null,null,null,null,null,null,null,null,null,null,null,null,null,null,null,null,null,null,null,null,null,null,null,null,null,null,"Cross Check 1",null,"Cross Check 2"]
[null,null,"Best score",null,null,null,null,null,null,null,null,null,null,null,null,null,{"$f":"MIN(Q6:Q64)","v":0},{"$f":"MIN(R6:R64)","v":0},0,0,1,{"$f":"MIN(V6:V64)","v":1},0,0,0,0,{"$f":"SUM(Q5:Z5)","v":2},{"$f":"MIN(AB6:AB64)","v":0},{"$f":"MIN(AC6:AC64)","v":0},0,1,0,0,0,0,0,0,{"$f":"SUM(AB5:AK5)","v":1},{"$f":"AL5+AA5","v":3},{"$f":"MIN(AN6:AN64)","v":0},{"$f":"MIN(AO6:AO64)","v":0},0,0,0,0,0,0,0,0,{"$f":"SUM(AN5:AW5)","v":0},{"$f":"AX5+AM5","v":3},{"$f":"MIN(AZ6:AZ64)","v":0},{"$f":"MIN(BA6:BA64)","v":0},0,0,0,0,0,0,0,0,{"$f":"SUM(AZ5:BI5)","v":0},{"$f":"BJ5+AY5","v":3},{"$f":"MIN(BL6:BL64)","v":0},{"$f":"MIN(BM6:BM64)","v":0},0,0,0,0,0,0,0,0,{"$f":"SUM(BL5:BU5)","v":0},{"$f":"BV5+BK5","v":3},null,null,null,null,null,null,null,null,null,null,null,null,null,null,null,null,null,null,null,null,null,null,null,null,null,null,null,null,null,null,null,"Tiebrake","Final Rank","New Rank",null,"Tiebrake","Final Rank","New Rank",null,"Tiebrake","Final Rank","New Rank",null,"Tiebrake","Final Rank","New Rank",null,"Tiebrake","Final Rank","New Rank",null,"Tiebrake","Final Rank","New Rank",null,"Tiebrake","Final Rank","New Rank",null,null,null,"Tiebrake","Final Rank","New Rank",null,"Tiebrake","Final Rank","New Rank",null,"Tiebrake","Final Rank","New Rank",null,"Tiebrake","Final Rank","New Rank",null,"Tiebrake","Final Rank","New Rank",null,"Tiebrake","Final Rank","New Rank",null,"Tiebrake","Final Rank","New Rank",null,null,"Tiebrake","Final Rank","New Rank",null,"Tiebrake","Final Rank","New Rank",null,"Tiebrake","Final Rank","New Rank",null,"Tiebrake","Final Rank","New Rank",null,"Tiebrake","Final Rank","New Rank",null,"Tiebrake","Final Rank","New Rank",null,"Tiebrake","Final Rank","New Rank",null,null,null,null,null,null,null,null,null,"Tiebrake","Final Rank","New Rank",null,"Tiebrake","Final Rank","New Rank",null,"Tiebrake","Final Rank","New Rank",null,"Tiebrake","Final Rank","New Rank",null,"Tiebrake","Final Rank","New Rank",null,"Tiebrake","Final Rank","New Rank",null,"Tiebrake","Final Rank","New Rank",null,null,null,"Tiebrake","Final Rank","New Rank",null,"Tiebrake","Final Rank","New Rank",null,"Tiebrake","Final Rank","New Rank",null,"Tiebrake","Final Rank","New Rank",null,"Tiebrake","Final Rank","New Rank",null,"Tiebrake","Final Rank","New Rank",null,"Tiebrake","Final Rank","New Rank"]
[{"$f":"CB6","v":1},1,"Stuart Beare","Sue Underwood","Sherpa Indy",null,"IRS","Yes",null,null,null,null,null,null,null,"Red",0,0,1,0,1,2,null,null,null,null,{"$f":"IF(N6=\"Ret/NS\",1000+SUM(Q6:Z6),IF(C6=\"\",2000,SUM(Q6:Z6)))","v":4},0,0,0,1,1,0,null,null,null,null,{"$f":"SUM(AB6:AK6)","v":2},{"$f":"IF(C6=\"\",2000,AL6+AA6)","v":6},0,2,0,1,0,0,null,null,null,null,{"$f":"SUM(AN6:AW6)","v":3},{"$f":"IF(C6=\"\",2000,AM6+AX6)","v":9},0,0,0,1,0,0,null,null,null,null,{"$f":"SUM(AZ6:BI6)","v":1},{"$f":"IF(C6=\"\",2000,AY6+BJ6)","v":10},null,null,null,null,null,null,null,null,null,null,{"$f":"SUM(BL6:BU6)","v":0},{"$f":"IF(C6=\"\",2000,BK6+BV6)","v":10},{"$f":"IX6","v":1},{"$f":"HT6","v":1},{"$f":"GJ6","v":3},{"$f":"FG6","v":1},{"$f":"EC6","v":1},{"$f":"RANK(AA6,$AA$6:$AA$64,1)","v":1},{"$f":"RANK(AM6,$AM$6:$AM$64,1)","v":1},{"$f":"RANK(AY6,$AY$6:$AY$64,1)","v":3},{"$f":"RANK(BK6,$BK$6:$BK$64,1)","v":1},{"$f":"RANK(BW6,$BW$6:$BW$64,1)","v":1},{"$f":"IF($P6=Constants!$B$2,RANK($CB6,$CB$6:$CB$64,1),\"-\")","v":1},{"$f":"IFERROR(RANK(CH6,$CH$6:$CH$64,1),\"\")","v":""},{"$f":"IF($P6=Constants!$B$3,RANK($CB6,$CB$6:$CB$64,1),\"-\")","v":"-"},{"$f":"IFERROR(RANK(CJ6,$CJ$6:$CJ$64,1),\"\")","v":""},{"$f":"IF($P6=Constants!$B$4,RANK($CB6,$CB$6:$CB$64,1),\"-\")","v":"-"},{"$f":"IFERROR(RANK(CL6,$CL$6:$CL$64,1),\"\")","v":""},{"$f":"IF($O6=Constants!$C$2,RANK($CB6,$CB$6:$CB$64,1),\"-\")","v":"-"},{"$f":"IFERROR(RANK(CN6,$CN$6:$CN$64,1),\"\")","v":""},{"$f":"IF($O6=Constants!$C$3,RANK($CB6,$CB$6:$CB$64,1),\"-\")","v":"-"},{"$f":"IFERROR(RANK(CP6,$CP$6:$CP$64,1),\"\")","v":""},{"$f":"IF($O6=Constants!$C$4,RANK($CB6,$CB$6:$CB$64,1),\"-\")","v":"-"},{"$f":"IFERROR(RANK(CR6,$CR$6:$CR$64,1),\"\")","v":""},{"$f":"IF($G6=Constants!$D$4,RANK($CB6,$CB$6:$CB$64,1),\"-\")","v":"-"},{"$f":"IFERROR(RANK(CT6,$CT$6:$CT$64,1),\" \")","v":" "},{"$f":"IF($G6=Constants!$D$2,RANK($CB6,$CB$6:$CB$64,1),\"-\")","v":"-"},{"$f":"IFERROR(RANK(CV6,$CV$6:$CV$64,1),\" \")","v":" "},{"$f":"CI6&CK6&CM6&CO6&CQ6&CS6&CU6","v":" "},{"$f":"IF(P6<>\"\",P6,O6)","v":"Red"},{"$f":"G6","v":"IRS"},null,{"$f":"COUNTIF($BL6:$BU6,\"0\")+COUNTIF($AZ6:$BI6,\"0\")+COUNTIF($AN6:$AW6,\"0\")+COUNTIF($AB6:$AK6,\"0\")+COUNTIF($Q6:$Z6,\"0\")","v":16},{"$f":"IF(COUNTIF($BW$6:$BW$64,BW6)>1,RANK(DB6,DB$6:DB$64,0)/1000,0)","v":0},{"$f":"CG6+DC6","v":1},{"$f":"RANK(DD6,DD$6:DD$64,1)","v":1},{"$f":"COUNTIF($BL6:$BU6,\"1\")+COUNTIF($AZ6:$BI6,\"1\")+COUNTIF($AN6:$AW6,\"1\")+COUNTIF($AB6:$AK6,\"1\")+COUNTIF($Q6:$Z6,\"1\")","v":6},{"$f":"IF(COUNTIF(DE$6:DE$64,DE6)>1,RANK(DF6,DF$6:DF$64,0)/1000,0)","v":0},{"$f":"DE6+DG6","v":1},{"$f":"RANK(DH6,DH$6:DH$64,1)","v":1},{"$f":"COUNTIF($BL6:$BU6,\"2\")+COUNTIF($AZ6:$BI6,\"2\")+COUNTIF($AN6:$AW6,\"2\")+COUNTIF($AB6:$AK6,\"2\")+COUNTIF($Q6:$Z6,\"2\")","v":2},{"$f":"IF(COUNTIF(DI$6:DI$64,DI6)>1,RANK(DJ6,DJ$6:DJ$64,0)/1000,0)","v":0},{"$f":"DI6+DK6","v":1},{"$f":"RANK(DL6,DL$6:DL$64,1)","v":1},{"$f":"COUNTIF($BL6:$BU6,\"3\")+COUNTIF($AZ6:$BI6,\"3\")+COUNTIF($AN6:$AW6,\"3\")+COUNTIF($AB6:$AK6,\"3\")+COUNTIF($Q6:$Z6,\"3\")","v":0},{"$f":"IF(COUNTIF(DM$6:DM$64,DM6)>1,RANK(DN6,DN$6:DN$64,0)/1000,0)","v":0},{"$f":"DM6+DO6","v":1},{"$f":"RANK(DP6,DP$6:DP$64,1)","v":1},{"$f":"COUNTIF($BL6:$BU6,\"4\")+COUNTIF($AZ6:$BI6,\"4\")+COUNTIF($AN6:$AW6,\"4\")+COUNTIF($AB6:$AK6,\"4\")+COUNTIF($Q6:$Z6,\"4\")","v":0},{"$f":"IF(COUNTIF(DQ$6:DQ$64,DQ6)>1,RANK(DR6,DR$6:DR$64,0)/1000,0)","v":0},{"$f":"DQ6+DS6","v":1},{"$f":"RANK(DT6,DT$6:DT$64,1)","v":1},{"$f":"COUNTIF($BL6:$BU6,\"5\")+COUNTIF($AZ6:$BI6,\"5\")+COUNTIF($AN6:$AW6,\"5\")+COUNTIF($AB6:$AK6,\"5\")+COUNTIF($Q6:$Z6,\"5\")","v":0},{"$f":"IF(COUNTIF(DU$6:DU$64,DU6)>1,RANK(DV6,DV$6:DV$64,0)/1000,0)","v":0},{"$f":"DU6+DW6","v":1},{"$f":"RANK(DX6,DX$6:DX$64,1)","v":1},{"$f":"COUNTIF($BL6:$BU6,\"6\")+COUNTIF($AZ6:$BI6,\"6\")+COUNTIF($AN6:$AW6,\"6\")+COUNTIF($AB6:$AK6,\"6\")+COUNTIF($Q6:$Z6,\"6\")","v":0},{"$f":"IF(COUNTIF(DY$6:DY$64,DY6)>1,RANK(DZ6,DZ$6:DZ$64,0)/1000,0)","v":0},{"$f":"DY6+EA6","v":1},{"$f":"RANK(EB6,EB$6:EB$64,1)","v":1},null,null,{"$f":"COUNTIF($AZ6:$BI6,\"0\")+COUNTIF($AN6:$AW6,\"0\")+COUNTIF($AB6:$AK6,\"0\")+COUNTIF($Q6:$Z6,\"0\")","v":16},{"$f":"IF(COUNTIF($BK$6:$BK$64,BK6)>1,RANK(EF6,EF$6:EF$64,0)/1000,0)","v":0},{"$f":"CF6+EG6","v":1},{"$f":"RANK(EH6,EH$6:EH$64,1)","v":1},{"$f":"COUNTIF($AZ6:$BI6,\"1\")+COUNTIF($AN6:$AW6,\"1\")+COUNTIF($AB6:$AK6,\"1\")+COUNTIF($Q6:$Z6,\"1\")","v":6},{"$f":"IF(COUNTIF(EI$6:EI$64,EI6)>1,RANK(EJ6,EJ$6:EJ$64,0)/1000,0)","v":0},{"$f":"EI6+EK6","v":1},{"$f":"RANK(EL6,EL$6:EL$64,1)","v":1},{"$f":"COUNTIF($AZ6:$BI6,\"2\")+COUNTIF($AN6:$AW6,\"2\")+COUNTIF($AB6:$AK6,\"2\")+COUNTIF($Q6:$Z6,\"2\")","v":2},{"$f":"IF(COUNTIF(EM$6:EM$64,EM6)>1,RANK(EN6,EN$6:EN$64,0)/1000,0)","v":0},{"$f":"EM6+EO6","v":1},{"$f":"RANK(EP6,EP$6:EP$64,1)","v":1},{"$f":"COUNTIF($AZ6:$BI6,\"3\")+COUNTIF($AN6:$AW6,\"3\")+COUNTIF($AB6:$AK6,\"3\")+COUNTIF($Q6:$Z6,\"3\")","v":0},{"$f":"IF(COUNTIF(EQ$6:EQ$64,EQ6)>1,RANK(ER6,ER$6:ER$64,0)/1000,0)","v":0},{"$f":"EQ6+ES6","v":1},{"$f":"RANK(ET6,ET$6:ET$64,1)","v":1},{"$f":"COUNTIF($AZ6:$BI6,\"4\")+COUNTIF($AN6:$AW6,\"4\")+COUNTIF($AB6:$AK6,\"4\")+COUNTIF($Q6:$Z6,\"4\")","v":0},{"$f":"IF(COUNTIF(EU$6:EU$64,EU6)>1,RANK(EV6,EV$6:EV$64,0)/1000,0)","v":0},{"$f":"EU6+EW6","v":1},{"$f":"RANK(EX6,EX$6:EX$64,1)","v":1},{"$f":"COUNTIF($AZ6:$BI6,\"5\")+COUNTIF($AN6:$AW6,\"5\")+COUNTIF($AB6:$AK6,\"5\")+COUNTIF($Q6:$Z6,\"5\")","v":0},{"$f":"IF(COUNTIF(EY$6:EY$64,EY6)>1,RANK(EZ6,EZ$6:EZ$64,0)/1000,0)","v":0},{"$f":"EY6+FA6","v":1},{"$f":"RANK(FB6,FB$6:FB$64,1)","v":1},{"$f":"COUNTIF($AZ6:$BI6,\"6\")+COUNTIF($AN6:$AW6,\"6\")+COUNTIF($AB6:$AK6,\"6\")+COUNTIF($Q6:$Z6,\"6\")","v":0},{"$f":"IF(COUNTIF(FC$6:FC$64,FC6)>1,RANK(FD6,FD$6:FD$64,0)/1000,0)","v":0},{"$f":"FC6+FE6","v":1},{"$f":"RANK(FF6,FF$6:FF$64,1)","v":1},null,{"$f":"COUNTIF($AN6:$AW6,\"0\")+COUNTIF($AB6:$AK6,\"0\")+COUNTIF($Q6:$Z6,\"0\")","v":11},{"$f":"IF(COUNTIF($AY$6:$AY$64,AY6)>1,RANK(FI6,FI$6:FI$64,0)/1000,0)","v":0},{"$f":"CE6+FJ6","v":3},{"$f":"RANK(FK6,FK$6:FK$64,1)","v":3},{"$f":"COUNTIF($AN6:$AW6,\"1\")+COUNTIF($AB6:$AK6,\"1\")+COUNTIF($Q6:$Z6,\"1\")","v":5},{"$f":"IF(COUNTIF(FL$6:FL$64,FL6)>1,RANK(FM6,FM$6:FM$64,0)/1000,0)","v":0},{"$f":"FL6+FN6","v":3},{"$f":"RANK(FO6,FO$6:FO$64,1)","v":3},{"$f":"COUNTIF($AN6:$AW6,\"2\")+COUNTIF($AB6:$AK6,\"2\")+COUNTIF($Q6:$Z6,\"2\")","v":2},{"$f":"IF(COUNTIF(FP$6:FP$64,FP6)>1,RANK(FQ6,FQ$6:FQ$64,0)/1000,0)","v":0},{"$f":"FP6+FR6","v":3},{"$f":"RANK(FS6,FS$6:FS$64,1)","v":3},{"$f":"COUNTIF($AN6:$AW6,\"3\")+COUNTIF($AB6:$AK6,\"3\")+COUNTIF($Q6:$Z6,\"3\")","v":0},{"$f":"IF(COUNTIF(FT$6:FT$64,FT6)>1,RANK(FU6,FU$6:FU$64,0)/1000,0)","v":0},{"$f":"FT6+FV6","v":3},{"$f":"RANK(FW6,FW$6:FW$64,1)","v":3},{"$f":"COUNTIF($AN6:$AW6,\"4\")+COUNTIF($AB6:$AK6,\"4\")+COUNTIF($Q6:$Z6,\"4\")","v":0},{"$f":"IF(COUNTIF(FX$6:FX$64,FX6)>1,RANK(FY6,FY$6:FY$64,0)/1000,0)","v":0},{"$f":"FX6+FZ6","v":3},{"$f":"RANK(GA6,GA$6:GA$64,1)","v":3},{"$f":"COUNTIF($AN6:$AW6,\"5\")+COUNTIF($AB6:$AK6,\"5\")+COUNTIF($Q6:$Z6,\"5\")","v":0},{"$f":"IF(COUNTIF(GB$6:GB$64,GB6)>1,RANK(GC6,GC$6:GC$64,0)/1000,0)","v":0},{"$f":"GB6+GD6","v":3},{"$f":"RANK(GE6,GE$6:GE$64,1)","v":3},{"$f":"COUNTIF($AN6:$AW6,\"6\")+COUNTIF($AB6:$AK6,\"6\")+COUNTIF($Q6:$Z6,\"6\")","v":0},{"$f":"IF(COUNTIF(GF$6:GF$64,GF6)>1,RANK(GG6,GG$6:GG$64,0)/1000,0)","v":0},{"$f":"GF6+GH6","v":3},{"$f":"RANK(GI6,GI$6:GI$64,1)","v":3},null,null,null,{"$f":"SUM(Q6:Z6,AB6:AK6,AN6:AW6,AZ6:BI6)","v":10},{"$f":"IF(BK6=GN6,\"YES\",\"NO\")","v":"YES"},{"$f":"BJ6+AX6+AL6+AA6","v":10},{"$f":"IF(BK6=GP6,\"YES\",\"NO\")","v":"YES"},null,{"$f":"COUNTIF($AB6:$AK6,\"0\")+COUNTIF($Q6:$Z6,\"0\")","v":7},{"$f":"IF(COUNTIF($AM$6:$AM$64,AM6)>1,RANK(GS6,GS$6:GS$64,0)/1000,0)","v":0},{"$f":"CD6+GT6","v":1},{"$f":"RANK(GU6,GU$6:GU$64,1)","v":1},{"$f":"COUNTIF($AB6:$AK6,\"1\")+COUNTIF($Q6:$Z6,\"1\")","v":4},{"$f":"IF(COUNTIF(GV$6:GV$64,GV6)>1,RANK(GW6,GW$6:GW$64,0)/1000,0)","v":0},{"$f":"GV6+GX6","v":1},{"$f":"RANK(GY6,GY$6:GY$64,1)","v":1},{"$f":"COUNTIF($AB6:$AK6,\"2\")+COUNTIF($Q6:$Z6,\"2\")","v":1},{"$f":"IF(COUNTIF(GZ$6:GZ$64,GZ6)>1,RANK(HA6,HA$6:HA$64,0)/1000,0)","v":0},{"$f":"GZ6+HB6","v":1},{"$f":"RANK(HC6,HC$6:HC$64,1)","v":1},{"$f":"+COUNTIF($AB6:$AK6,\"3\")+COUNTIF($Q6:$Z6,\"3\")","v":0},{"$f":"IF(COUNTIF(HD$6:HD$64,HD6)>1,RANK(HE6,HE$6:HE$64,0)/1000,0)","v":0},{"$f":"HD6+HF6","v":1},{"$f":"RANK(HG6,HG$6:HG$64,1)","v":1},{"$f":"COUNTIF($AB6:$AK6,\"4\")+COUNTIF($Q6:$Z6,\"4\")","v":0},{"$f":"IF(COUNTIF(HH$6:HH$64,HH6)>1,RANK(HI6,HI$6:HI$64,0)/1000,0)","v":0},{"$f":"HH6+HJ6","v":1},{"$f":"RANK(HK6,HK$6:HK$64,1)","v":1},{"$f":"COUNTIF($AB6:$AK6,\"5\")+COUNTIF($Q6:$Z6,\"5\")","v":0},{"$f":"IF(COUNTIF(HL$6:HL$64,HL6)>1,RANK(HM6,HM$6:HM$64,0)/1000,0)","v":0},{"$f":"HL6+HN6","v":1},{"$f":"RANK(HO6,HO$6:HO$64,1)","v":1},{"$f":"COUNTIF($AB6:$AK6,\"6\")+COUNTIF($Q6:$Z6,\"6\")","v":0},{"$f":"IF(COUNTIF(HP$6:HP$64,HP6)>1,RANK(HQ6,HQ$6:HQ$64,0)/1000,0)","v":0},{"$f":"HP6+HR6","v":1},{"$f":"RANK(HS6,HS$6:HS$64,1)","v":1},null,null,{"$f":"COUNTIF($Q6:$Z6,\"0\")","v":3},{"$f":"IF(COUNTIF($AA$6:$AA$64,AA6)>1,RANK(HW6,HW$6:HW$64,0)/1000,0)","v":1E-3},{"$f":"CC6+HX6","v":1.0009999999999999},{"$f":"RANK(HY6,HY$6:HY$64,1)","v":1},{"$f":"COUNTIF($Q6:$Z6,\"1\")","v":2},{"$f":"IF(COUNTIF(HZ$6:HZ$64,HZ6)>1,RANK(IA6,IA$6:IA$64,0)/1000,0)","v":1E-3},{"$f":"HZ6+IB6","v":1.0009999999999999},{"$f":"RANK(IC6,IC$6:IC$64,1)","v":1},{"$f":"COUNTIF($Q6:$Z6,\"2\")","v":1},{"$f":"IF(COUNTIF(ID$6:ID$64,ID6)>1,RANK(IE6,IE$6:IE$64,0)/1000,0)","v":7.0000000000000001E-3},{"$f":"ID6+IF6","v":1.0069999999999999},{"$f":"RANK(IG6,IG$6:IG$64,1)","v":1},{"$f":"COUNTIF($Q6:$Z6,\"3\")","v":0},{"$f":"IF(COUNTIF(IH$6:IH$64,IH6)>1,RANK(II6,II$6:II$64,0)/1000,0)","v":1E-3},{"$f":"IH6+IJ6","v":1.0009999999999999},{"$f":"RANK(IK6,IK$6:IK$64,1)","v":1},{"$f":"COUNTIF($Q6:$Z6,\"4\")","v":0},{"$f":"IF(COUNTIF(IL$6:IL$64,IL6)>1,RANK(IM6,IM$6:IM$64,0)/1000,0)","v":2E-3},{"$f":"IL6+IN6","v":1.002},{"$f":"RANK(IO6,IO$6:IO$64,1)","v":1},{"$f":"COUNTIF($Q6:$Z6,\"5\")","v":0},{"$f":"IF(COUNTIF(IP$6:IP$64,IP6)>1,RANK(IQ6,IQ$6:IQ$64,0)/1000,0)","v":5.0000000000000001E-3},{"$f":"IP6+IR6","v":1.0049999999999999},{"$f":"RANK(IS6,IS$6:IS$64,1)","v":1},{"$f":"COUNTIF($Q6:$Z6,\"6\")","v":0},{"$f":"IF(COUNTIF(IT$6:IT$64,IT6)>1,RANK(IU6,IU$6:IU$64,0)/1000,0)","v":1E-3},{"$f":"IT6+IV6","v":1.0009999999999999},{"$f":"RANK(IW6,IW$6:IW$64,1)","v":1}]
[{"$f":"CB7","v":11},2,"Darren Underwood","Sue Underwood","Crossle ",null,"IRS","Yes",null,null,null,null,null,"Ret/NS",null,"Blue",null,null,null,null,null,null,null,null,null,null,{"$f":"IF(N7=\"Ret/NS\",1000+SUM(Q7:Z7),IF(C7=\"\",2000,SUM(Q7:Z7)))","v":1000},null,null,null,null,null,null,null,null,null,null,{"$f":"SUM(AB7:AK7)","v":0},{"$f":"IF(C7=\"\",2000,AL7+AA7)","v":1000},null,null,null,null,null,null,null,null,null,null,{"$f":"SUM(AN7:AW7)","v":0},{"$f":"IF(C7=\"\",2000,AM7+AX7)","v":1000},null,null,null,null,null,null,null,null,null,null,{"$f":"SUM(AZ7:BI7)","v":0},{"$f":"IF(C7=\"\",2000,AY7+BJ7)","v":1000},null,null,null,null,null,null,null,null,null,null,{"$f":"SUM(BL7:BU7)","v":0},{"$f":"IF(C7=\"\",2000,BK7+BV7)","v":1000},{"$f":"IX7","v":11},{"$f":"HT7","v":11},{"$f":"GJ7","v":11},{"$f":"FG7","v":11},{"$f":"EC7","v":11},11,11,11,11,11,{"$f":"IF($P7=Constants!$B$2,RANK($CB7,$CB$6:$CB$64,1),\"-\")","v":"-"},{"$f":"IFERROR(RANK(CH7,$CH$6:$CH$64,1),\"\")","v":""},{"$f":"IF($P7=Constants!$B$3,RANK($CB7,$CB$6:$CB$64,1),\"-\")","v":11},{"$f":"IFERROR(RANK(CJ7,$CJ$6:$CJ$64,1),\"\")","v":""},{"$f":"IF($P7=Constants!$B$4,RANK($CB7,$CB$6:$CB$64,1),\"-\")","v":"-"},{"$f":"IFERROR(RANK(CL7,$CL$6:$CL$64,1),\"\")","v":""},{"$f":"IF($O7=Constants!$C$2,RANK($CB7,$CB$6:$CB$64,1),\"-\")","v":"-"},{"$f":"IFERROR(RANK(CN7,$CN$6:$CN$64,1),\"\")","v":""},{"$f":"IF($O7=Constants!$C$3,RANK($CB7,$CB$6:$CB$64,1),\"-\")","v":"-"},{"$f":"IFERROR(RANK(CP7,$CP$6:$CP$64,1),\"\")","v":""},{"$f":"IF($O7=Constants!$C$4,RANK($CB7,$CB$6:$CB$64,1),\"-\")","v":"-"},{"$f":"IFERROR(RANK(CR7,$CR$6:$CR$64,1),\"\")","v":""},{"$f":"IF($G7=Constants!$D$4,RANK($CB7,$CB$6:$CB$64,1),\"-\")","v":"-"},{"$f":"IFERROR(RANK(CT7,$CT$6:$CT$64,1),\" \")","v":" "},{"$f":"IF($G7=Constants!$D$2,RANK($CB7,$CB$6:$CB$64,1),\"-\")","v":"-"},{"$f":"IFERROR(RANK(CV7,$CV$6:$CV$64,1),\" \")","v":" "},{"$f":"CI7&CK7&CM7&CO7&CQ7&CS7&CU7","v":" "},"Blue","IRS",null,0,8.9999999999999993E-3,{"$f":"CG7+DC7","v":11.009},{"$f":"RANK(DD7,DD$6:DD$64,1)","v":11},0,{"$f":"IF(COUNTIF(DE$6:DE$64,DE7)>1,RANK(DF7,DF$6:DF$64,0)/1000,0)","v":0.01},{"$f":"DE7+DG7","v":11.01},{"$f":"RANK(DH7,DH$6:DH$64,1)","v":11},0,{"$f":"IF(COUNTIF(DI$6:DI$64,DI7)>1,RANK(DJ7,DJ$6:DJ$64,0)/1000,0)","v":1.0999999999999999E-2},{"$f":"DI7+DK7","v":11.010999999999999},{"$f":"RANK(DL7,DL$6:DL$64,1)","v":11},0,{"$f":"IF(COUNTIF(DM$6:DM$64,DM7)>1,RANK(DN7,DN$6:DN$64,0)/1000,0)","v":5.0000000000000001E-3},{"$f":"DM7+DO7","v":11.005000000000001},{"$f":"RANK(DP7,DP$6:DP$64,1)","v":11},0,{"$f":"IF(COUNTIF(DQ$6:DQ$64,DQ7)>1,RANK(DR7,DR$6:DR$64,0)/1000,0)","v":4.0000000000000001E-3},{"$f":"DQ7+DS7","v":11.004},{"$f":"RANK(DT7,DT$6:DT$64,1)","v":11},0,{"$f":"IF(COUNTIF(DU$6:DU$64,DU7)>1,RANK(DV7,DV$6:DV$64,0)/1000,0)","v":6.0000000000000001E-3},{"$f":"DU7+DW7","v":11.006},{"$f":"RANK(DX7,DX$6:DX$64,1)","v":11},0,{"$f":"IF(COUNTIF(DY$6:DY$64,DY7)>1,RANK(DZ7,DZ$6:DZ$64,0)/1000,0)","v":4.0000000000000001E-3},{"$f":"DY7+EA7","v":11.004},{"$f":"RANK(EB7,EB$6:EB$64,1)","v":11},null,null,0,8.9999999999999993E-3,{"$f":"CF7+EG7","v":11.009},{"$f":"RANK(EH7,EH$6:EH$64,1)","v":11},0,{"$f":"IF(COUNTIF(EI$6:EI$64,EI7)>1,RANK(EJ7,EJ$6:EJ$64,0)/1000,0)","v":0.01},{"$f":"EI7+EK7","v":11.01},{"$f":"RANK(EL7,EL$6:EL$64,1)","v":11},0,{"$f":"IF(COUNTIF(EM$6:EM$64,EM7)>1,RANK(EN7,EN$6:EN$64,0)/1000,0)","v":1.0999999999999999E-2},{"$f":"EM7+EO7","v":11.010999999999999},{"$f":"RANK(EP7,EP$6:EP$64,1)","v":11},0,{"$f":"IF(COUNTIF(EQ$6:EQ$64,EQ7)>1,RANK(ER7,ER$6:ER$64,0)/1000,0)","v":5.0000000000000001E-3},{"$f":"EQ7+ES7","v":11.005000000000001},{"$f":"RANK(ET7,ET$6:ET$64,1)","v":11},0,{"$f":"IF(COUNTIF(EU$6:EU$64,EU7)>1,RANK(EV7,EV$6:EV$64,0)/1000,0)","v":4.0000000000000001E-3},{"$f":"EU7+EW7","v":11.004},{"$f":"RANK(EX7,EX$6:EX$64,1)","v":11},0,{"$f":"IF(COUNTIF(EY$6:EY$64,EY7)>1,RANK(EZ7,EZ$6:EZ$64,0)/1000,0)","v":6.0000000000000001E-3},{"$f":"EY7+FA7","v":11.006},{"$f":"RANK(FB7,FB$6:FB$64,1)","v":11},0,{"$f":"IF(COUNTIF(FC$6:FC$64,FC7)>1,RANK(FD7,FD$6:FD$64,0)/1000,0)","v":4.0000000000000001E-3},{"$f":"FC7+FE7","v":11.004},{"$f":"RANK(FF7,FF$6:FF$64,1)","v":11},null,0,8.9999999999999993E-3,11.009,{"$f":"RANK(FK7,FK$6:FK$64,1)","v":11},0,{"$f":"IF(COUNTIF(FL$6:FL$64,FL7)>1,RANK(FM7,FM$6:FM$64,0)/1000,0)","v":8.9999999999999993E-3},{"$f":"FL7+FN7","v":11.009},{"$f":"RANK(FO7,FO$6:FO$64,1)","v":11},0,{"$f":"IF(COUNTIF(FP$6:FP$64,FP7)>1,RANK(FQ7,FQ$6:FQ$64,0)/1000,0)","v":1.0999999999999999E-2},{"$f":"FP7+FR7","v":11.010999999999999},{"$f":"RANK(FS7,FS$6:FS$64,1)","v":11},0,{"$f":"IF(COUNTIF(FT$6:FT$64,FT7)>1,RANK(FU7,FU$6:FU$64,0)/1000,0)","v":5.0000000000000001E-3},{"$f":"FT7+FV7","v":11.005000000000001},{"$f":"RANK(FW7,FW$6:FW$64,1)","v":11},0,{"$f":"IF(COUNTIF(FX$6:FX$64,FX7)>1,RANK(FY7,FY$6:FY$64,0)/1000,0)","v":4.0000000000000001E-3},{"$f":"FX7+FZ7","v":11.004},{"$f":"RANK(GA7,GA$6:GA$64,1)","v":11},0,{"$f":"IF(COUNTIF(GB$6:GB$64,GB7)>1,RANK(GC7,GC$6:GC$64,0)/1000,0)","v":6.0000000000000001E-3},{"$f":"GB7+GD7","v":11.006},{"$f":"RANK(GE7,GE$6:GE$64,1)","v":11},0,{"$f":"IF(COUNTIF(GF$6:GF$64,GF7)>1,RANK(GG7,GG$6:GG$64,0)/1000,0)","v":4.0000000000000001E-3},{"$f":"GF7+GH7","v":11.004},{"$f":"RANK(GI7,GI$6:GI$64,1)","v":11},null,null,null,0,"NO",1000,"YES",null,0,8.9999999999999993E-3,11.009,{"$f":"RANK(GU7,GU$6:GU$64,1)","v":11},0,{"$f":"IF(COUNTIF(GV$6:GV$64,GV7)>1,RANK(GW7,GW$6:GW$64,0)/1000,0)","v":8.9999999999999993E-3},{"$f":"GV7+GX7","v":11.009},{"$f":"RANK(GY7,GY$6:GY$64,1)","v":11},0,{"$f":"IF(COUNTIF(GZ$6:GZ$64,GZ7)>1,RANK(HA7,HA$6:HA$64,0)/1000,0)","v":1.0999999999999999E-2},{"$f":"GZ7+HB7","v":11.010999999999999},{"$f":"RANK(HC7,HC$6:HC$64,1)","v":11},0,{"$f":"IF(COUNTIF(HD$6:HD$64,HD7)>1,RANK(HE7,HE$6:HE$64,0)/1000,0)","v":3.0000000000000001E-3},{"$f":"HD7+HF7","v":11.003},{"$f":"RANK(HG7,HG$6:HG$64,1)","v":11},0,{"$f":"IF(COUNTIF(HH$6:HH$64,HH7)>1,RANK(HI7,HI$6:HI$64,0)/1000,0)","v":4.0000000000000001E-3},{"$f":"HH7+HJ7","v":11.004},{"$f":"RANK(HK7,HK$6:HK$64,1)","v":11},0,{"$f":"IF(COUNTIF(HL$6:HL$64,HL7)>1,RANK(HM7,HM$6:HM$64,0)/1000,0)","v":6.0000000000000001E-3},{"$f":"HL7+HN7","v":11.006},{"$f":"RANK(HO7,HO$6:HO$64,1)","v":11},0,{"$f":"IF(COUNTIF(HP$6:HP$64,HP7)>1,RANK(HQ7,HQ$6:HQ$64,0)/1000,0)","v":2E-3},{"$f":"HP7+HR7","v":11.002000000000001},{"$f":"RANK(HS7,HS$6:HS$64,1)","v":11},null,null,0,8.9999999999999993E-3,11.009,{"$f":"RANK(HY7,HY$6:HY$64,1)","v":11},0,{"$f":"IF(COUNTIF(HZ$6:HZ$64,HZ7)>1,RANK(IA7,IA$6:IA$64,0)/1000,0)","v":7.0000000000000001E-3},{"$f":"HZ7+IB7","v":11.007},{"$f":"RANK(IC7,IC$6:IC$64,1)","v":11},0,{"$f":"IF(COUNTIF(ID$6:ID$64,ID7)>1,RANK(IE7,IE$6:IE$64,0)/1000,0)","v":1.0999999999999999E-2},{"$f":"ID7+IF7","v":11.010999999999999},{"$f":"RANK(IG7,IG$6:IG$64,1)","v":11},0,{"$f":"IF(COUNTIF(IH$6:IH$64,IH7)>1,RANK(II7,II$6:II$64,0)/1000,0)","v":1E-3},{"$f":"IH7+IJ7","v":11.000999999999999},{"$f":"RANK(IK7,IK$6:IK$64,1)","v":11},0,{"$f":"IF(COUNTIF(IL$6:IL$64,IL7)>1,RANK(IM7,IM$6:IM$64,0)/1000,0)","v":2E-3},{"$f":"IL7+IN7","v":11.002000000000001},{"$f":"RANK(IO7,IO$6:IO$64,1)","v":11},0,{"$f":"IF(COUNTIF(IP$6:IP$64,IP7)>1,RANK(IQ7,IQ$6:IQ$64,0)/1000,0)","v":5.0000000000000001E-3},{"$f":"IP7+IR7","v":11.005000000000001},{"$f":"RANK(IS7,IS$6:IS$64,1)","v":11},0,{"$f":"IF(COUNTIF(IT$6:IT$64,IT7)>1,RANK(IU7,IU$6:IU$64,0)/1000,0)","v":1E-3},{"$f":"IT7+IV7","v":11.000999999999999},{"$f":"RANK(IW7,IW$6:IW$64,1)","v":11}]
[5,3,"George Barnes","Rob Uryc","Sherpa",null,"Live","Yes",null,null,null,null,null,null,null,"Red",0,0,2,0,1,1,null,null,null,null,4,0,0,1,1,6,0,null,null,null,null,8,12,0,2,0,1,0,0,null,null,null,null,3,15,0,2,0,1,1,0,null,null,null,null,4,19,null,null,null,null,null,null,null,null,null,null,0,19,1,5,5,5,5,1,5,5,5,5,{"$f":"IF($P8=Constants!$B$2,RANK($CB8,$CB$6:$CB$64,1),\"-\")","v":5},"",{"$f":"IF($P8=Constants!$B$3,RANK($CB8,$CB$6:$CB$64,1),\"-\")","v":"-"},"",{"$f":"IF($P8=Constants!$B$4,RANK($CB8,$CB$6:$CB$64,1),\"-\")","v":"-"},"",{"$f":"IF($O8=Constants!$C$2,RANK($CB8,$CB$6:$CB$64,1),\"-\")","v":"-"},"",{"$f":"IF($O8=Constants!$C$3,RANK($CB8,$CB$6:$CB$64,1),\"-\")","v":"-"},"",{"$f":"IF($O8=Constants!$C$4,RANK($CB8,$CB$6:$CB$64,1),\"-\")","v":"-"},"",{"$f":"IF($G8=Constants!$D$4,RANK($CB8,$CB$6:$CB$64,1),\"-\")","v":"-"}," ",{"$f":"IF($G8=Constants!$D$2,RANK($CB8,$CB$6:$CB$64,1),\"-\")","v":5}," "," ","Red","Live",null,13,0,5,5,7,0,5,5,3,0,5,5,0,0,5,5,0,0,5,5,0,0,5,5,1,0,5,5,null,null,13,0,5,5,7,0,5,5,3,0,5,5,0,0,5,5,0,0,5,5,0,0,5,5,1,0,5,5,null,10,0,5,5,5,0,5,5,2,0,5,5,0,0,5,5,0,0,5,5,0,0,5,5,1,0,5,5,null,null,null,19,"YES",19,"YES",null,6,0,5,5,4,0,5,5,1,0,5,5,0,0,5,5,0,0,5,5,0,0,5,5,1,0,5,5,null,null,3,1E-3,1.0009999999999999,1,2,1E-3,1.0009999999999999,1,1,7.0000000000000001E-3,1.0069999999999999,1,0,1E-3,1.0009999999999999,1,0,2E-3,1.002,1,0,5.0000000000000001E-3,1.0049999999999999,1,0,1E-3,1.0009999999999999,1]
[10,4,"Trevor Wood","Ralph Brown","MSR",null,"IRS","Yes",null,null,null,null,null,null,null,"Rookie",9,2,8,9,10,8,null,null,null,null,46,5,2,3,10,11,8,null,null,null,null,39,85,6,9,2,9,10,11,null,null,null,null,47,132,8,11,3,9,11,11,null,null,null,null,53,185,null,null,null,null,null,null,null,null,null,null,0,185,10,10,10,10,10,10,10,10,10,10,{"$f":"IF($P9=Constants!$B$2,RANK($CB9,$CB$6:$CB$64,1),\"-\")","v":"-"},"",{"$f":"IF($P9=Constants!$B$3,RANK($CB9,$CB$6:$CB$64,1),\"-\")","v":"-"},"",{"$f":"IF($P9=Constants!$B$4,RANK($CB9,$CB$6:$CB$64,1),\"-\")","v":10},"",{"$f":"IF($O9=Constants!$C$2,RANK($CB9,$CB$6:$CB$64,1),\"-\")","v":"-"},"",{"$f":"IF($O9=Constants!$C$3,RANK($CB9,$CB$6:$CB$64,1),\"-\")","v":"-"},"",{"$f":"IF($O9=Constants!$C$4,RANK($CB9,$CB$6:$CB$64,1),\"-\")","v":"-"},"",{"$f":"IF($G9=Constants!$D$4,RANK($CB9,$CB$6:$CB$64,1),\"-\")","v":"-"}," ",{"$f":"IF($G9=Constants!$D$2,RANK($CB9,$CB$6:$CB$64,1),\"-\")","v":"-"}," "," ","Rookie","IRS",null,0,0,10,10,0,0,10,10,3,0,10,10,2,0,10,10,0,0,10,10,1,0,10,10,1,0,10,10,null,null,0,0,10,10,0,0,10,10,3,0,10,10,2,0,10,10,0,0,10,10,1,0,10,10,1,0,10,10,null,0,0,10,10,0,0,10,10,3,0,10,10,1,0,10,10,0,0,10,10,1,0,10,10,1,0,10,10,null,null,null,185,"YES",185,"YES",null,0,0,10,10,0,0,10,10,2,0,10,10,1,0,10,10,0,0,10,10,1,0,10,10,0,0,10,10,null,null,0,0,10,10,0,0,10,10,1,0,10,10,0,0,10,10,0,0,10,10,0,0,10,10,0,0,10,10]
[2,5,"Ian Wright","Chris Taylor","Sherpa Indy",null,"IRS","Yes",null,null,null,null,null,null,null,"Red",0,1,2,0,2,1,null,null,null,null,6,0,0,0,1,1,0,null,null,null,null,2,8,0,0,0,0,0,0,null,null,null,null,0,8,0,2,2,0,2,0,null,null,null,null,6,14,null,null,null,null,null,null,null,null,null,null,0,14,4,2,1,2,2,4,2,1,2,2,{"$f":"IF($P10=Constants!$B$2,RANK($CB10,$CB$6:$CB$64,1),\"-\")","v":2},"",{"$f":"IF($P10=Constants!$B$3,RANK($CB10,$CB$6:$CB$64,1),\"-\")","v":"-"},"",{"$f":"IF($P10=Constants!$B$4,RANK($CB10,$CB$6:$CB$64,1),\"-\")","v":"-"},"",{"$f":"IF($O10=Constants!$C$2,RANK($CB10,$CB$6:$CB$64,1),\"-\")","v":"-"},"",{"$f":"IF($O10=Constants!$C$3,RANK($CB10,$CB$6:$CB$64,1),\"-\")","v":"-"},"",{"$f":"IF($O10=Constants!$C$4,RANK($CB10,$CB$6:$CB$64,1),\"-\")","v":"-"},"",{"$f":"IF($G10=Constants!$D$4,RANK($CB10,$CB$6:$CB$64,1),\"-\")","v":"-"}," ",{"$f":"IF($G10=Constants!$D$2,RANK($CB10,$CB$6:$CB$64,1),\"-\")","v":"-"}," "," ","Red","IRS",null,15,0,2,2,4,0,2,2,5,0,2,2,0,0,2,2,0,0,2,2,0,0,2,2,0,0,2,2,null,null,15,0,2,2,4,0,2,2,5,0,2,2,0,0,2,2,0,0,2,2,0,0,2,2,0,0,2,2,null,12,1E-3,1.0009999999999999,1,4,3.0000000000000001E-3,1.0029999999999999,1,2,6.0000000000000001E-3,1.006,1,0,5.0000000000000001E-3,1.0049999999999999,1,0,4.0000000000000001E-3,1.004,1,0,6.0000000000000001E-3,1.006,1,0,4.0000000000000001E-3,1.004,1,null,null,null,14,"YES",14,"YES",null,6,3.0000000000000001E-3,2.0030000000000001,2,4,1E-3,2.0009999999999999,2,2,4.0000000000000001E-3,2.004,2,0,3.0000000000000001E-3,2.0030000000000001,2,0,4.0000000000000001E-3,2.004,2,0,6.0000000000000001E-3,2.0059999999999998,2,0,2E-3,2.0019999999999998,2,null,null,2,0,4,4,2,0,4,4,2,0,4,4,0,0,4,4,0,0,4,4,0,0,4,4,0,0,4,4]
[6,6,"Peter Fensom","Liz Fensom","Hamilton",null,"IRS","Yes",null,null,null,null,null,null,null,"Red",0,2,2,0,2,1,null,null,null,null,7,0,0,2,4,2,0,null,null,null,null,8,15,0,2,2,1,0,0,null,null,null,null,5,20,12,2,2,2,2,0,null,null,null,null,20,40,null,null,null,null,null,null,null,null,null,null,0,40,5,6,6,6,6,5,6,6,6,6,{"$f":"IF($P11=Constants!$B$2,RANK($CB11,$CB$6:$CB$64,1),\"-\")","v":6},"",{"$f":"IF($P11=Constants!$B$3,RANK($CB11,$CB$6:$CB$64,1),\"-\")","v":"-"},"",{"$f":"IF($P11=Constants!$B$4,RANK($CB11,$CB$6:$CB$64,1),\"-\")","v":"-"},"",{"$f":"IF($O11=Constants!$C$2,RANK($CB11,$CB$6:$CB$64,1),\"-\")","v":"-"},"",{"$f":"IF($O11=Constants!$C$3,RANK($CB11,$CB$6:$CB$64,1),\"-\")","v":"-"},"",{"$f":"IF($O11=Constants!$C$4,RANK($CB11,$CB$6:$CB$64,1),\"-\")","v":"-"},"",{"$f":"IF($G11=Constants!$D$4,RANK($CB11,$CB$6:$CB$64,1),\"-\")","v":"-"}," ",{"$f":"IF($G11=Constants!$D$2,RANK($CB11,$CB$6:$CB$64,1),\"-\")","v":"-"}," "," ","Red","IRS",null,9,0,6,6,2,0,6,6,11,0,6,6,0,0,6,6,1,0,6,6,0,0,6,6,0,0,6,6,null,null,9,0,6,6,2,0,6,6,11,0,6,6,0,0,6,6,1,0,6,6,0,0,6,6,0,0,6,6,null,8,0,6,6,2,0,6,6,7,0,6,6,0,0,6,6,1,0,6,6,0,0,6,6,0,0,6,6,null,null,null,40,"YES",40,"YES",null,5,0,6,6,1,0,6,6,5,0,6,6,0,0,6,6,1,0,6,6,0,0,6,6,0,0,6,6,null,null,2,0,5,5,1,0,5,5,3,0,5,5,0,0,5,5,0,0,5,5,0,0,5,5,0,0,5,5]
[9,7,"Ian Brooks","Matt Sunderland","Sabson",null,"Live","Yes",null,null,null,null,null,null,null,"Rookie",8,2,2,5,9,8,null,null,null,null,34,8,3,4,9,9,1,null,null,null,null,34,68,2,8,4,6,10,11,null,null,null,null,41,109,2,11,2,10,10,11,null,null,null,null,46,155,null,null,null,null,null,null,null,null,null,null,0,155,9,9,9,9,9,9,9,9,9,9,{"$f":"IF($P12=Constants!$B$2,RANK($CB12,$CB$6:$CB$64,1),\"-\")","v":"-"},"",{"$f":"IF($P12=Constants!$B$3,RANK($CB12,$CB$6:$CB$64,1),\"-\")","v":"-"},"",{"$f":"IF($P12=Constants!$B$4,RANK($CB12,$CB$6:$CB$64,1),\"-\")","v":9},"",{"$f":"IF($O12=Constants!$C$2,RANK($CB12,$CB$6:$CB$64,1),\"-\")","v":"-"},"",{"$f":"IF($O12=Constants!$C$3,RANK($CB12,$CB$6:$CB$64,1),\"-\")","v":"-"},"",{"$f":"IF($O12=Constants!$C$4,RANK($CB12,$CB$6:$CB$64,1),\"-\")","v":"-"},"",{"$f":"IF($G12=Constants!$D$4,RANK($CB12,$CB$6:$CB$64,1),\"-\")","v":"-"}," ",{"$f":"IF($G12=Constants!$D$2,RANK($CB12,$CB$6:$CB$64,1),\"-\")","v":9}," "," ","Rookie","Live",null,0,0,9,9,1,0,9,9,5,0,9,9,1,0,9,9,2,0,9,9,1,0,9,9,1,0,9,9,null,null,0,0,9,9,1,0,9,9,5,0,9,9,1,0,9,9,2,0,9,9,1,0,9,9,1,0,9,9,null,0,0,9,9,1,0,9,9,3,0,9,9,1,0,9,9,2,0,9,9,1,0,9,9,1,0,9,9,null,null,null,155,"YES",155,"YES",null,0,0,9,9,1,0,9,9,2,0,9,9,1,0,9,9,1,0,9,9,1,0,9,9,0,0,9,9,null,null,0,0,9,9,0,0,9,9,2,0,9,9,0,0,9,9,0,0,9,9,1,0,9,9,0,0,9,9]
[4,8,"Tom Bricknell","Andy Beveridge","Crossle ",null,"IRS","Yes",null,null,null,null,null,null,null,"Red",0,0,0,5,2,2,null,null,null,null,9,0,0,0,1,0,0,null,null,null,null,1,10,3,0,0,1,0,0,null,null,null,null,4,14,0,2,2,0,0,0,null,null,null,null,4,18,null,null,null,null,null,null,null,null,null,null,0,18,6,4,4,4,4,6,4,4,3,3,{"$f":"IF($P13=Constants!$B$2,RANK($CB13,$CB$6:$CB$64,1),\"-\")","v":4},"",{"$f":"IF($P13=Constants!$B$3,RANK($CB13,$CB$6:$CB$64,1),\"-\")","v":"-"},"",{"$f":"IF($P13=Constants!$B$4,RANK($CB13,$CB$6:$CB$64,1),\"-\")","v":"-"},"",{"$f":"IF($O13=Constants!$C$2,RANK($CB13,$CB$6:$CB$64,1),\"-\")","v":"-"},"",{"$f":"IF($O13=Constants!$C$3,RANK($CB13,$CB$6:$CB$64,1),\"-\")","v":"-"},"",{"$f":"IF($O13=Constants!$C$4,RANK($CB13,$CB$6:$CB$64,1),\"-\")","v":"-"},"",{"$f":"IF($G13=Constants!$D$4,RANK($CB13,$CB$6:$CB$64,1),\"-\")","v":"-"}," ",{"$f":"IF($G13=Constants!$D$2,RANK($CB13,$CB$6:$CB$64,1),\"-\")","v":"-"}," "," ","Red","IRS",null,16,2E-3,3.0019999999999998,4,2,0,4,4,4,0,4,4,1,0,4,4,0,0,4,4,1,0,4,4,0,0,4,4,null,null,16,2E-3,3.0019999999999998,4,2,0,4,4,4,0,4,4,1,0,4,4,0,0,4,4,1,0,4,4,0,0,4,4,null,12,0,4,4,2,0,4,4,2,0,4,4,1,0,4,4,0,0,4,4,1,0,4,4,0,0,4,4,null,null,null,18,"YES",18,"YES",null,8,0,4,4,1,0,4,4,2,0,4,4,0,0,4,4,0,0,4,4,1,0,4,4,0,0,4,4,null,null,3,1E-3,6.0010000000000003,6,0,7.0000000000000001E-3,6.0069999999999997,6,2,2E-3,6.0019999999999998,6,0,1E-3,6.0010000000000003,6,0,2E-3,6.0019999999999998,6,1,1E-3,6.0010000000000003,6,0,1E-3,6.0010000000000003,6]
[3,9,"Sam Beare","Jemima Beare","Sherpa",null,"Live","Yes",null,null,null,null,null,null,null,"Red",0,0,2,0,1,2,null,null,null,null,5,0,0,0,1,1,1,null,null,null,null,3,8,0,0,0,0,0,0,null,null,null,null,0,8,0,0,0,10,0,0,null,null,null,null,10,18,null,null,null,null,null,null,null,null,null,null,0,18,3,2,1,3,3,3,2,1,3,3,{"$f":"IF($P14=Constants!$B$2,RANK($CB14,$CB$6:$CB$64,1),\"-\")","v":3},"",{"$f":"IF($P14=Constants!$B$3,RANK($CB14,$CB$6:$CB$64,1),\"-\")","v":"-"},"",{"$f":"IF($P14=Constants!$B$4,RANK($CB14,$CB$6:$CB$64,1),\"-\")","v":"-"},"",{"$f":"IF($O14=Constants!$C$2,RANK($CB14,$CB$6:$CB$64,1),\"-\")","v":"-"},"",{"$f":"IF($O14=Constants!$C$3,RANK($CB14,$CB$6:$CB$64,1),\"-\")","v":"-"},"",{"$f":"IF($O14=Constants!$C$4,RANK($CB14,$CB$6:$CB$64,1),\"-\")","v":"-"},"",{"$f":"IF($G14=Constants!$D$4,RANK($CB14,$CB$6:$CB$64,1),\"-\")","v":"-"}," ",{"$f":"IF($G14=Constants!$D$2,RANK($CB14,$CB$6:$CB$64,1),\"-\")","v":3}," "," ","Red","Live",null,17,1E-3,3.0009999999999999,3,4,0,3,3,2,0,3,3,0,0,3,3,0,0,3,3,0,0,3,3,0,0,3,3,null,null,17,1E-3,3.0009999999999999,3,4,0,3,3,2,0,3,3,0,0,3,3,0,0,3,3,0,0,3,3,0,0,3,3,null,12,1E-3,1.0009999999999999,1,4,3.0000000000000001E-3,1.0029999999999999,1,2,6.0000000000000001E-3,1.006,1,0,5.0000000000000001E-3,1.0049999999999999,1,0,4.0000000000000001E-3,1.004,1,0,6.0000000000000001E-3,1.006,1,0,4.0000000000000001E-3,1.004,1,null,null,null,18,"YES",18,"YES",null,6,3.0000000000000001E-3,2.0030000000000001,2,4,1E-3,2.0009999999999999,2,2,4.0000000000000001E-3,2.004,2,0,3.0000000000000001E-3,2.0030000000000001,2,0,4.0000000000000001E-3,2.004,2,0,6.0000000000000001E-3,2.0059999999999998,2,0,2E-3,2.0019999999999998,2,null,null,3,0,3,3,1,0,3,3,2,0,3,3,0,0,3,3,0,0,3,3,0,0,3,3,0,0,3,3]
[11,10,"Mike Readings","Carole Readings","Sherpa Indy",null,"IRS","Yes",null,null,null,null,null,"Ret/NS",null,"Red",null,null,null,null,null,null,null,null,null,null,1000,null,null,null,null,null,null,null,null,null,null,0,1000,null,null,null,null,null,null,null,null,null,null,0,1000,null,null,null,null,null,null,null,null,null,null,0,1000,null,null,null,null,null,null,null,null,null,null,0,1000,11,11,11,11,11,11,11,11,11,11,{"$f":"IF($P15=Constants!$B$2,RANK($CB15,$CB$6:$CB$64,1),\"-\")","v":11},"",{"$f":"IF($P15=Constants!$B$3,RANK($CB15,$CB$6:$CB$64,1),\"-\")","v":"-"},"",{"$f":"IF($P15=Constants!$B$4,RANK($CB15,$CB$6:$CB$64,1),\"-\")","v":"-"},"",{"$f":"IF($O15=Constants!$C$2,RANK($CB15,$CB$6:$CB$64,1),\"-\")","v":"-"},"",{"$f":"IF($O15=Constants!$C$3,RANK($CB15,$CB$6:$CB$64,1),\"-\")","v":"-"},"",{"$f":"IF($O15=Constants!$C$4,RANK($CB15,$CB$6:$CB$64,1),\"-\")","v":"-"},"",{"$f":"IF($G15=Constants!$D$4,RANK($CB15,$CB$6:$CB$64,1),\"-\")","v":"-"}," ",{"$f":"IF($G15=Constants!$D$2,RANK($CB15,$CB$6:$CB$64,1),\"-\")","v":"-"}," "," ","Red","IRS",null,0,8.9999999999999993E-3,11.009,11,0,0.01,11.01,11,0,1.0999999999999999E-2,11.010999999999999,11,0,5.0000000000000001E-3,11.005000000000001,11,0,4.0000000000000001E-3,11.004,11,0,6.0000000000000001E-3,11.006,11,0,4.0000000000000001E-3,11.004,11,null,null,0,8.9999999999999993E-3,11.009,11,0,0.01,11.01,11,0,1.0999999999999999E-2,11.010999999999999,11,0,5.0000000000000001E-3,11.005000000000001,11,0,4.0000000000000001E-3,11.004,11,0,6.0000000000000001E-3,11.006,11,0,4.0000000000000001E-3,11.004,11,null,0,8.9999999999999993E-3,11.009,11,0,8.9999999999999993E-3,11.009,11,0,1.0999999999999999E-2,11.010999999999999,11,0,5.0000000000000001E-3,11.005000000000001,11,0,4.0000000000000001E-3,11.004,11,0,6.0000000000000001E-3,11.006,11,0,4.0000000000000001E-3,11.004,11,null,null,null,0,"NO",1000,"YES",null,0,8.9999999999999993E-3,11.009,11,0,8.9999999999999993E-3,11.009,11,0,1.0999999999999999E-2,11.010999999999999,11,0,3.0000000000000001E-3,11.003,11,0,4.0000000000000001E-3,11.004,11,0,6.0000000000000001E-3,11.006,11,0,2E-3,11.002000000000001,11,null,null,0,8.9999999999999993E-3,11.009,11,0,7.0000000000000001E-3,11.007,11,0,1.0999999999999999E-2,11.010999999999999,11,0,1E-3,11.000999999999999,11,0,2E-3,11.002000000000001,11,0,5.0000000000000001E-3,11.005000000000001,11,0,1E-3,11.000999999999999,11]
[8,11,"Jamie Bartholomew","Fiona Bartholomew","Avonova",null,"Live","Yes",null,null,null,null,null,null,null,"Rookie",8,0,4,1,5,2,null,null,null,null,20,0,0,2,2,5,11,null,null,null,null,20,40,0,8,2,10,5,11,null,null,null,null,36,76,0,2,2,4,2,4,null,null,null,null,14,90,null,null,null,null,null,null,null,null,null,null,0,90,8,8,8,8,8,8,8,8,8,8,{"$f":"IF($P16=Constants!$B$2,RANK($CB16,$CB$6:$CB$64,1),\"-\")","v":"-"},"",{"$f":"IF($P16=Constants!$B$3,RANK($CB16,$CB$6:$CB$64,1),\"-\")","v":"-"},"",{"$f":"IF($P16=Constants!$B$4,RANK($CB16,$CB$6:$CB$64,1),\"-\")","v":8},"",{"$f":"IF($O16=Constants!$C$2,RANK($CB16,$CB$6:$CB$64,1),\"-\")","v":"-"},"",{"$f":"IF($O16=Constants!$C$3,RANK($CB16,$CB$6:$CB$64,1),\"-\")","v":"-"},"",{"$f":"IF($O16=Constants!$C$4,RANK($CB16,$CB$6:$CB$64,1),\"-\")","v":"-"},"",{"$f":"IF($G16=Constants!$D$4,RANK($CB16,$CB$6:$CB$64,1),\"-\")","v":"-"}," ",{"$f":"IF($G16=Constants!$D$2,RANK($CB16,$CB$6:$CB$64,1),\"-\")","v":8}," "," ","Rookie","Live",null,5,0,8,8,1,0,8,8,7,0,8,8,0,0,8,8,3,0,8,8,3,0,8,8,0,0,8,8,null,null,5,0,8,8,1,0,8,8,7,0,8,8,0,0,8,8,3,0,8,8,3,0,8,8,0,0,8,8,null,4,0,8,8,1,0,8,8,4,0,8,8,0,0,8,8,1,0,8,8,3,0,8,8,0,0,8,8,null,null,null,90,"YES",90,"YES",null,3,0,8,8,1,0,8,8,3,0,8,8,0,0,8,8,1,0,8,8,2,0,8,8,0,0,8,8,null,null,1,0,8,8,1,0,8,8,1,0,8,8,0,0,8,8,1,0,8,8,1,0,8,8,0,0,8,8]
[7,12,"Stephen Barnes","John Miller","Sherpa",null,"Live","Yes",null,null,null,null,null,null,null,"Red",0,2,0,0,5,2,null,null,null,null,9,12,2,0,2,2,2,null,null,null,null,20,29,3,2,0,3,2,0,null,null,null,null,10,39,2,2,1,0,2,5,null,null,null,null,12,51,null,null,null,null,null,null,null,null,null,null,0,51,6,7,7,7,7,6,7,7,7,7,{"$f":"IF(#REF!=Constants!$B$2,RANK($CB17,$CB$6:$CB$64,1),\"-\")","v":{"$error":"#REF!"}},"",{"$f":"IF(#REF!=Constants!$B$3,RANK($CB17,$CB$6:$CB$64,1),\"-\")","v":{"$error":"#REF!"}},"",{"$f":"IF(#REF!=Constants!$B$4,RANK($CB17,$CB$6:$CB$64,1),\"-\")","v":{"$error":"#REF!"}},"",{"$f":"IF(#REF!=Constants!$C$2,RANK($CB17,$CB$6:$CB$64,1),\"-\")","v":{"$error":"#REF!"}},"",{"$f":"IF(#REF!=Constants!$C$3,RANK($CB17,$CB$6:$CB$64,1),\"-\")","v":{"$error":"#REF!"}},"",{"$f":"IF(#REF!=Constants!$C$4,RANK($CB17,$CB$6:$CB$64,1),\"-\")","v":{"$error":"#REF!"}},"",{"$f":"IF(#REF!=Constants!$D$4,RANK($CB17,$CB$6:$CB$64,1),\"-\")","v":{"$error":"#REF!"}}," ",{"$f":"IF(#REF!=Constants!$D$2,RANK($CB17,$CB$6:$CB$64,1),\"-\")","v":{"$error":"#REF!"}}," "," ","Red","Live",null,7,0,7,7,1,0,7,7,11,0,7,7,2,0,7,7,0,0,7,7,2,0,7,7,0,0,7,7,null,null,7,0,7,7,1,0,7,7,11,0,7,7,2,0,7,7,0,0,7,7,2,0,7,7,0,0,7,7,null,6,0,7,7,0,0,7,7,8,0,7,7,2,0,7,7,0,0,7,7,1,0,7,7,0,0,7,7,null,null,null,51,"YES",51,"YES",null,4,0,7,7,0,0,7,7,6,0,7,7,0,0,7,7,0,0,7,7,1,0,7,7,0,0,7,7,null,null,3,1E-3,6.0010000000000003,6,0,7.0000000000000001E-3,6.0069999999999997,6,2,2E-3,6.0019999999999998,6,0,1E-3,6.0010000000000003,6,0,2E-3,6.0019999999999998,6,1,1E-3,6.0010000000000003,6,0,1E-3,6.0010000000000003,6]
[13,14,null,null,null,null,null,null,null,null,null,null,null,null,null,null,null,null,null,null,null,null,null,null,null,null,2000,null,null,null,null,null,null,null,null,null,null,0,2000,null,null,null,null,null,null,null,null,null,null,0,2000,null,null,null,null,null,null,null,null,null,null,0,2000,null,null,null,null,null,null,null,null,null,null,0,2000,13,13,13,13,13,13,13,13,13,13,{"$f":"IF($P18=Constants!$B$2,RANK($CB18,$CB$6:$CB$64,1),\"-\")","v":"-"},"",{"$f":"IF($P18=Constants!$B$3,RANK($CB18,$CB$6:$CB$64,1),\"-\")","v":"-"},"",{"$f":"IF($P18=Constants!$B$4,RANK($CB18,$CB$6:$CB$64,1),\"-\")","v":"-"},"",{"$f":"IF($O18=Constants!$C$2,RANK($CB18,$CB$6:$CB$64,1),\"-\")","v":"-"},"",{"$f":"IF($O18=Constants!$C$3,RANK($CB18,$CB$6:$CB$64,1),\"-\")","v":"-"},"",{"$f":"IF($O18=Constants!$C$4,RANK($CB18,$CB$6:$CB$64,1),\"-\")","v":"-"},"",{"$f":"IF($G18=Constants!$D$4,RANK($CB18,$CB$6:$CB$64,1),\"-\")","v":"-"}," ",{"$f":"IF($G18=Constants!$D$2,RANK($CB18,$CB$6:$CB$64,1),\"-\")","v":"-"}," "," ",{"$f":"IF(P18<>\"\",P18,O18)","v":0},{"$f":"G18","v":0},null,0,8.9999999999999993E-3,13.009,13,0,0.01,13.01,13,0,1.0999999999999999E-2,13.010999999999999,13,0,5.0000000000000001E-3,13.005000000000001,13,0,4.0000000000000001E-3,13.004,13,0,6.0000000000000001E-3,13.006,13,0,4.0000000000000001E-3,13.004,13,null,null,0,8.9999999999999993E-3,13.009,13,0,0.01,13.01,13,0,1.0999999999999999E-2,13.010999999999999,13,0,5.0000000000000001E-3,13.005000000000001,13,0,4.0000000000000001E-3,13.004,13,0,6.0000000000000001E-3,13.006,13,0,4.0000000000000001E-3,13.004,13,null,0,8.9999999999999993E-3,13.009,13,0,8.9999999999999993E-3,13.009,13,0,1.0999999999999999E-2,13.010999999999999,13,0,5.0000000000000001E-3,13.005000000000001,13,0,4.0000000000000001E-3,13.004,13,0,6.0000000000000001E-3,13.006,13,0,4.0000000000000001E-3,13.004,13,null,null,null,0,"NO",2000,"YES",null,0,8.9999999999999993E-3,13.009,13,0,8.9999999999999993E-3,13.009,13,0,1.0999999999999999E-2,13.010999999999999,13,0,3.0000000000000001E-3,13.003,13,0,4.0000000000000001E-3,13.004,13,0,6.0000000000000001E-3,13.006,13,0,2E-3,13.002000000000001,13,null,null,0,8.9999999999999993E-3,13.009,13,0,7.0000000000000001E-3,13.007,13,0,1.0999999999999999E-2,13.010999999999999,13,0,1E-3,13.000999999999999,13,0,2E-3,13.002000000000001,13,0,5.0000000000000001E-3,13.005000000000001,13,0,1E-3,13.000999999999999,13]
[13,15,null,null,null,null,null,null,null,null,null,null,null,null,null,null,null,null,null,null,null,null,null,null,null,null,2000,null,null,null,null,null,null,null,null,null,null,0,2000,null,null,null,null,null,null,null,null,null,null,0,2000,null,null,null,null,null,null,null,null,null,null,0,2000,null,null,null,null,null,null,null,null,null,null,0,2000,13,13,13,13,13,13,13,13,13,13,{"$f":"IF($P19=Constants!$B$2,RANK($CB19,$CB$6:$CB$64,1),\"-\")","v":"-"},"",{"$f":"IF($P19=Constants!$B$3,RANK($CB19,$CB$6:$CB$64,1),\"-\")","v":"-"},"",{"$f":"IF($P19=Constants!$B$4,RANK($CB19,$CB$6:$CB$64,1),\"-\")","v":"-"},"",{"$f":"IF($O19=Constants!$C$2,RANK($CB19,$CB$6:$CB$64,1),\"-\")","v":"-"},"",{"$f":"IF($O19=Constants!$C$3,RANK($CB19,$CB$6:$CB$64,1),\"-\")","v":"-"},"",{"$f":"IF($O19=Constants!$C$4,RANK($CB19,$CB$6:$CB$64,1),\"-\")","v":"-"},"",{"$f":"IF($G19=Constants!$D$4,RANK($CB19,$CB$6:$CB$64,1),\"-\")","v":"-"}," ",{"$f":"IF($G19=Constants!$D$2,RANK($CB19,$CB$6:$CB$64,1),\"-\")","v":"-"}," "," ",0,0,null,{"$f":"COUNTIF($BL19:$BU19,\"0\")+COUNTIF($AZ19:$BI19,\"0\")+COUNTIF($AN19:$AW19,\"0\")+COUNTIF($AB19:$AK19,\"0\")+COUNTIF($Q19:$Z19,\"0\")","v":0},8.9999999999999993E-3,13.009,13,{"$f":"COUNTIF($BL19:$BU19,\"1\")+COUNTIF($AZ19:$BI19,\"1\")+COUNTIF($AN19:$AW19,\"1\")+COUNTIF($AB19:$AK19,\"1\")+COUNTIF($Q19:$Z19,\"1\")","v":0},0.01,13.01,13,{"$f":"COUNTIF($BL19:$BU19,\"2\")+COUNTIF($AZ19:$BI19,\"2\")+COUNTIF($AN19:$AW19,\"2\")+COUNTIF($AB19:$AK19,\"2\")+COUNTIF($Q19:$Z19,\"2\")","v":0},1.0999999999999999E-2,13.010999999999999,13,{"$f":"COUNTIF($BL19:$BU19,\"3\")+COUNTIF($AZ19:$BI19,\"3\")+COUNTIF($AN19:$AW19,\"3\")+COUNTIF($AB19:$AK19,\"3\")+COUNTIF($Q19:$Z19,\"3\")","v":0},5.0000000000000001E-3,13.005000000000001,13,{"$f":"COUNTIF($BL19:$BU19,\"4\")+COUNTIF($AZ19:$BI19,\"4\")+COUNTIF($AN19:$AW19,\"4\")+COUNTIF($AB19:$AK19,\"4\")+COUNTIF($Q19:$Z19,\"4\")","v":0},4.0000000000000001E-3,13.004,13,{"$f":"COUNTIF($BL19:$BU19,\"5\")+COUNTIF($AZ19:$BI19,\"5\")+COUNTIF($AN19:$AW19,\"5\")+COUNTIF($AB19:$AK19,\"5\")+COUNTIF($Q19:$Z19,\"5\")","v":0},6.0000000000000001E-3,13.006,13,{"$f":"COUNTIF($BL19:$BU19,\"6\")+COUNTIF($AZ19:$BI19,\"6\")+COUNTIF($AN19:$AW19,\"6\")+COUNTIF($AB19:$AK19,\"6\")+COUNTIF($Q19:$Z19,\"6\")","v":0},4.0000000000000001E-3,13.004,13,null,null,{"$f":"COUNTIF($AZ19:$BI19,\"0\")+COUNTIF($AN19:$AW19,\"0\")+COUNTIF($AB19:$AK19,\"0\")+COUNTIF($Q19:$Z19,\"0\")","v":0},8.9999999999999993E-3,13.009,13,{"$f":"COUNTIF($AZ19:$BI19,\"1\")+COUNTIF($AN19:$AW19,\"1\")+COUNTIF($AB19:$AK19,\"1\")+COUNTIF($Q19:$Z19,\"1\")","v":0},0.01,13.01,13,{"$f":"COUNTIF($AZ19:$BI19,\"2\")+COUNTIF($AN19:$AW19,\"2\")+COUNTIF($AB19:$AK19,\"2\")+COUNTIF($Q19:$Z19,\"2\")","v":0},1.0999999999999999E-2,13.010999999999999,13,{"$f":"COUNTIF($AZ19:$BI19,\"3\")+COUNTIF($AN19:$AW19,\"3\")+COUNTIF($AB19:$AK19,\"3\")+COUNTIF($Q19:$Z19,\"3\")","v":0},5.0000000000000001E-3,13.005000000000001,13,{"$f":"COUNTIF($AZ19:$BI19,\"4\")+COUNTIF($AN19:$AW19,\"4\")+COUNTIF($AB19:$AK19,\"4\")+COUNTIF($Q19:$Z19,\"4\")","v":0},4.0000000000000001E-3,13.004,13,{"$f":"COUNTIF($AZ19:$BI19,\"5\")+COUNTIF($AN19:$AW19,\"5\")+COUNTIF($AB19:$AK19,\"5\")+COUNTIF($Q19:$Z19,\"5\")","v":0},6.0000000000000001E-3,13.006,13,{"$f":"COUNTIF($AZ19:$BI19,\"6\")+COUNTIF($AN19:$AW19,\"6\")+COUNTIF($AB19:$AK19,\"6\")+COUNTIF($Q19:$Z19,\"6\")","v":0},4.0000000000000001E-3,13.004,13,null,{"$f":"COUNTIF($AN19:$AW19,\"0\")+COUNTIF($AB19:$AK19,\"0\")+COUNTIF($Q19:$Z19,\"0\")","v":0},8.9999999999999993E-3,13.009,13,{"$f":"COUNTIF($AN19:$AW19,\"1\")+COUNTIF($AB19:$AK19,\"1\")+COUNTIF($Q19:$Z19,\"1\")","v":0},8.9999999999999993E-3,13.009,13,{"$f":"COUNTIF($AN19:$AW19,\"2\")+COUNTIF($AB19:$AK19,\"2\")+COUNTIF($Q19:$Z19,\"2\")","v":0},1.0999999999999999E-2,13.010999999999999,13,{"$f":"COUNTIF($AN19:$AW19,\"3\")+COUNTIF($AB19:$AK19,\"3\")+COUNTIF($Q19:$Z19,\"3\")","v":0},5.0000000000000001E-3,13.005000000000001,13,{"$f":"COUNTIF($AN19:$AW19,\"4\")+COUNTIF($AB19:$AK19,\"4\")+COUNTIF($Q19:$Z19,\"4\")","v":0},4.0000000000000001E-3,13.004,13,{"$f":"COUNTIF($AN19:$AW19,\"5\")+COUNTIF($AB19:$AK19,\"5\")+COUNTIF($Q19:$Z19,\"5\")","v":0},6.0000000000000001E-3,13.006,13,{"$f":"COUNTIF($AN19:$AW19,\"6\")+COUNTIF($AB19:$AK19,\"6\")+COUNTIF($Q19:$Z19,\"6\")","v":0},4.0000000000000001E-3,13.004,13,null,null,null,0,"NO",2000,"YES",null,{"$f":"COUNTIF($AB19:$AK19,\"0\")+COUNTIF($Q19:$Z19,\"0\")","v":0},8.9999999999999993E-3,13.009,13,{"$f":"COUNTIF($AB19:$AK19,\"1\")+COUNTIF($Q19:$Z19,\"1\")","v":0},8.9999999999999993E-3,13.009,13,{"$f":"COUNTIF($AB19:$AK19,\"2\")+COUNTIF($Q19:$Z19,\"2\")","v":0},1.0999999999999999E-2,13.010999999999999,13,{"$f":"+COUNTIF($AB19:$AK19,\"3\")+COUNTIF($Q19:$Z19,\"3\")","v":0},3.0000000000000001E-3,13.003,13,{"$f":"COUNTIF($AB19:$AK19,\"4\")+COUNTIF($Q19:$Z19,\"4\")","v":0},4.0000000000000001E-3,13.004,13,{"$f":"COUNTIF($AB19:$AK19,\"5\")+COUNTIF($Q19:$Z19,\"5\")","v":0},6.0000000000000001E-3,13.006,13,{"$f":"COUNTIF($AB19:$AK19,\"6\")+COUNTIF($Q19:$Z19,\"6\")","v":0},2E-3,13.002000000000001,13,null,null,{"$f":"COUNTIF($Q19:$Z19,\"0\")","v":0},8.9999999999999993E-3,13.009,13,{"$f":"COUNTIF($Q19:$Z19,\"1\")","v":0},7.0000000000000001E-3,13.007,13,{"$f":"COUNTIF($Q19:$Z19,\"2\")","v":0},1.0999999999999999E-2,13.010999999999999,13,{"$f":"COUNTIF($Q19:$Z19,\"3\")","v":0},1E-3,13.000999999999999,13,{"$f":"COUNTIF($Q19:$Z19,\"4\")","v":0},2E-3,13.002000000000001,13,{"$f":"COUNTIF($Q19:$Z19,\"5\")","v":0},5.0000000000000001E-3,13.005000000000001,13,{"$f":"COUNTIF($Q19:$Z19,\"6\")","v":0},1E-3,13.000999999999999,13]
[13,16,null,null,null,null,null,null,null,null,null,null,null,null,null,null,null,null,null,null,null,null,null,null,null,null,2000,null,null,null,null,null,null,null,null,null,null,0,2000,null,null,null,null,null,null,null,null,null,null,0,2000,null,null,null,null,null,null,null,null,null,null,0,2000,null,null,null,null,null,null,null,null,null,null,0,2000,13,13,13,13,13,13,13,13,13,13,{"$f":"IF($P20=Constants!$B$2,RANK($CB20,$CB$6:$CB$64,1),\"-\")","v":"-"},"",{"$f":"IF($P20=Constants!$B$3,RANK($CB20,$CB$6:$CB$64,1),\"-\")","v":"-"},"",{"$f":"IF($P20=Constants!$B$4,RANK($CB20,$CB$6:$CB$64,1),\"-\")","v":"-"},"",{"$f":"IF($O20=Constants!$C$2,RANK($CB20,$CB$6:$CB$64,1),\"-\")","v":"-"},"",{"$f":"IF($O20=Constants!$C$3,RANK($CB20,$CB$6:$CB$64,1),\"-\")","v":"-"},"",{"$f":"IF($O20=Constants!$C$4,RANK($CB20,$CB$6:$CB$64,1),\"-\")","v":"-"},"",{"$f":"IF($G20=Constants!$D$4,RANK($CB20,$CB$6:$CB$64,1),\"-\")","v":"-"}," ",{"$f":"IF($G20=Constants!$D$2,RANK($CB20,$CB$6:$CB$64,1),\"-\")","v":"-"}," "," ",0,0,null,0,8.9999999999999993E-3,13.009,13,0,0.01,13.01,13,0,1.0999999999999999E-2,13.010999999999999,13,0,5.0000000000000001E-3,13.005000000000001,13,0,4.0000000000000001E-3,13.004,13,0,6.0000000000000001E-3,13.006,13,0,4.0000000000000001E-3,13.004,13,null,null,0,8.9999999999999993E-3,13.009,13,0,0.01,13.01,13,0,1.0999999999999999E-2,13.010999999999999,13,0,5.0000000000000001E-3,13.005000000000001,13,0,4.0000000000000001E-3,13.004,13,0,6.0000000000000001E-3,13.006,13,0,4.0000000000000001E-3,13.004,13,null,0,8.9999999999999993E-3,13.009,13,0,8.9999999999999993E-3,13.009,13,0,1.0999999999999999E-2,13.010999999999999,13,0,5.0000000000000001E-3,13.005000000000001,13,0,4.0000000000000001E-3,13.004,13,0,6.0000000000000001E-3,13.006,13,0,4.0000000000000001E-3,13.004,13,null,null,null,0,"NO",2000,"YES",null,0,8.9999999999999993E-3,13.009,13,0,8.9999999999999993E-3,13.009,13,0,1.0999999999999999E-2,13.010999999999999,13,0,3.0000000000000001E-3,13.003,13,0,4.0000000000000001E-3,13.004,13,0,6.0000000000000001E-3,13.006,13,0,2E-3,13.002000000000001,13,null,null,0,8.9999999999999993E-3,13.009,13,0,7.0000000000000001E-3,13.007,13,0,1.0999999999999999E-2,13.010999999999999,13,0,1E-3,13.000999999999999,13,0,2E-3,13.002000000000001,13,0,5.0000000000000001E-3,13.005000000000001,13,0,1E-3,13.000999999999999,13]
[13,17,null,null,null,null,null,null,null,null,null,null,null,null,null,null,null,null,null,null,null,null,null,null,null,null,2000,null,null,null,null,null,null,null,null,null,null,0,2000,null,null,null,null,null,null,null,null,null,null,0,2000,null,null,null,null,null,null,null,null,null,null,0,2000,null,null,null,null,null,null,null,null,null,null,0,2000,13,13,13,13,13,13,13,13,13,13,{"$f":"IF($P21=Constants!$B$2,RANK($CB21,$CB$6:$CB$64,1),\"-\")","v":"-"},"",{"$f":"IF($P21=Constants!$B$3,RANK($CB21,$CB$6:$CB$64,1),\"-\")","v":"-"},"",{"$f":"IF($P21=Constants!$B$4,RANK($CB21,$CB$6:$CB$64,1),\"-\")","v":"-"},"",{"$f":"IF($O21=Constants!$C$2,RANK($CB21,$CB$6:$CB$64,1),\"-\")","v":"-"},"",{"$f":"IF($O21=Constants!$C$3,RANK($CB21,$CB$6:$CB$64,1),\"-\")","v":"-"},"",{"$f":"IF($O21=Constants!$C$4,RANK($CB21,$CB$6:$CB$64,1),\"-\")","v":"-"},"",{"$f":"IF($G21=Constants!$D$4,RANK($CB21,$CB$6:$CB$64,1),\"-\")","v":"-"}," ",{"$f":"IF($G21=Constants!$D$2,RANK($CB21,$CB$6:$CB$64,1),\"-\")","v":"-"}," "," ",0,0,null,0,8.9999999999999993E-3,13.009,13,0,0.01,13.01,13,0,1.0999999999999999E-2,13.010999999999999,13,0,5.0000000000000001E-3,13.005000000000001,13,0,4.0000000000000001E-3,13.004,13,0,6.0000000000000001E-3,13.006,13,0,4.0000000000000001E-3,13.004,13,null,null,0,8.9999999999999993E-3,13.009,13,0,0.01,13.01,13,0,1.0999999999999999E-2,13.010999999999999,13,0,5.0000000000000001E-3,13.005000000000001,13,0,4.0000000000000001E-3,13.004,13,0,6.0000000000000001E-3,13.006,13,0,4.0000000000000001E-3,13.004,13,null,0,8.9999999999999993E-3,13.009,13,0,8.9999999999999993E-3,13.009,13,0,1.0999999999999999E-2,13.010999999999999,13,0,5.0000000000000001E-3,13.005000000000001,13,0,4.0000000000000001E-3,13.004,13,0,6.0000000000000001E-3,13.006,13,0,4.0000000000000001E-3,13.004,13,null,null,null,0,"NO",2000,"YES",null,0,8.9999999999999993E-3,13.009,13,0,8.9999999999999993E-3,13.009,13,0,1.0999999999999999E-2,13.010999999999999,13,0,3.0000000000000001E-3,13.003,13,0,4.0000000000000001E-3,13.004,13,0,6.0000000000000001E-3,13.006,13,0,2E-3,13.002000000000001,13,null,null,0,8.9999999999999993E-3,13.009,13,0,7.0000000000000001E-3,13.007,13,0,1.0999999999999999E-2,13.010999999999999,13,0,1E-3,13.000999999999999,13,0,2E-3,13.002000000000001,13,0,5.0000000000000001E-3,13.005000000000001,13,0,1E-3,13.000999999999999,13]
[13,18,null,null,null,null,null,null,null,null,null,null,null,null,null,null,null,null,null,null,null,null,null,null,null,null,2000,null,null,null,null,null,null,null,null,null,null,0,2000,null,null,null,null,null,null,null,null,null,null,0,2000,null,null,null,null,null,null,null,null,null,null,0,2000,null,null,null,null,null,null,null,null,null,null,0,2000,13,13,13,13,13,13,13,13,13,13,{"$f":"IF($P22=Constants!$B$2,RANK($CB22,$CB$6:$CB$64,1),\"-\")","v":"-"},"",{"$f":"IF($P22=Constants!$B$3,RANK($CB22,$CB$6:$CB$64,1),\"-\")","v":"-"},"",{"$f":"IF($P22=Constants!$B$4,RANK($CB22,$CB$6:$CB$64,1),\"-\")","v":"-"},"",{"$f":"IF($O22=Constants!$C$2,RANK($CB22,$CB$6:$CB$64,1),\"-\")","v":"-"},"",{"$f":"IF($O22=Constants!$C$3,RANK($CB22,$CB$6:$CB$64,1),\"-\")","v":"-"},"",{"$f":"IF($O22=Constants!$C$4,RANK($CB22,$CB$6:$CB$64,1),\"-\")","v":"-"},"",{"$f":"IF($G22=Constants!$D$4,RANK($CB22,$CB$6:$CB$64,1),\"-\")","v":"-"}," ",{"$f":"IF($G22=Constants!$D$2,RANK($CB22,$CB$6:$CB$64,1),\"-\")","v":"-"}," "," ",0,0,null,0,8.9999999999999993E-3,13.009,13,0,0.01,13.01,13,0,1.0999999999999999E-2,13.010999999999999,13,0,5.0000000000000001E-3,13.005000000000001,13,0,4.0000000000000001E-3,13.004,13,0,6.0000000000000001E-3,13.006,13,0,4.0000000000000001E-3,13.004,13,null,null,0,8.9999999999999993E-3,13.009,13,0,0.01,13.01,13,0,1.0999999999999999E-2,13.010999999999999,13,0,5.0000000000000001E-3,13.005000000000001,13,0,4.0000000000000001E-3,13.004,13,0,6.0000000000000001E-3,13.006,13,0,4.0000000000000001E-3,13.004,13,null,0,8.9999999999999993E-3,13.009,13,0,8.9999999999999993E-3,13.009,13,0,1.0999999999999999E-2,13.010999999999999,13,0,5.0000000000000001E-3,13.005000000000001,13,0,4.0000000000000001E-3,13.004,13,0,6.0000000000000001E-3,13.006,13,0,4.0000000000000001E-3,13.004,13,null,null,null,0,"NO",2000,"YES",null,0,8.9999999999999993E-3,13.009,13,0,8.9999999999999993E-3,13.009,13,0,1.0999999999999999E-2,13.010999999999999,13,0,3.0000000000000001E-3,13.003,13,0,4.0000000000000001E-3,13.004,13,0,6.0000000000000001E-3,13.006,13,0,2E-3,13.002000000000001,13,null,null,0,8.9999999999999993E-3,13.009,13,0,7.0000000000000001E-3,13.007,13,0,1.0999999999999999E-2,13.010999999999999,13,0,1E-3,13.000999999999999,13,0,2E-3,13.002000000000001,13,0,5.0000000000000001E-3,13.005000000000001,13,0,1E-3,13.000999999999999,13]
[13,19,null,null,null,null,null,null,null,null,null,null,null,null,null,null,null,null,null,null,null,null,null,null,null,null,2000,null,null,null,null,null,null,null,null,null,null,0,2000,null,null,null,null,null,null,null,null,null,null,0,2000,null,null,null,null,null,null,null,null,null,null,0,2000,null,null,null,null,null,null,null,null,null,null,0,2000,13,13,13,13,13,13,13,13,13,13,{"$f":"IF($P23=Constants!$B$2,RANK($CB23,$CB$6:$CB$64,1),\"-\")","v":"-"},"",{"$f":"IF($P23=Constants!$B$3,RANK($CB23,$CB$6:$CB$64,1),\"-\")","v":"-"},"",{"$f":"IF($P23=Constants!$B$4,RANK($CB23,$CB$6:$CB$64,1),\"-\")","v":"-"},"",{"$f":"IF($O23=Constants!$C$2,RANK($CB23,$CB$6:$CB$64,1),\"-\")","v":"-"},"",{"$f":"IF($O23=Constants!$C$3,RANK($CB23,$CB$6:$CB$64,1),\"-\")","v":"-"},"",{"$f":"IF($O23=Constants!$C$4,RANK($CB23,$CB$6:$CB$64,1),\"-\")","v":"-"},"",{"$f":"IF($G23=Constants!$D$4,RANK($CB23,$CB$6:$CB$64,1),\"-\")","v":"-"}," ",{"$f":"IF($G23=Constants!$D$2,RANK($CB23,$CB$6:$CB$64,1),\"-\")","v":"-"}," "," ",0,0,null,0,8.9999999999999993E-3,13.009,13,0,0.01,13.01,13,0,1.0999999999999999E-2,13.010999999999999,13,0,5.0000000000000001E-3,13.005000000000001,13,0,4.0000000000000001E-3,13.004,13,0,6.0000000000000001E-3,13.006,13,0,4.0000000000000001E-3,13.004,13,null,null,0,8.9999999999999993E-3,13.009,13,0,0.01,13.01,13,0,1.0999999999999999E-2,13.010999999999999,13,0,5.0000000000000001E-3,13.005000000000001,13,0,4.0000000000000001E-3,13.004,13,0,6.0000000000000001E-3,13.006,13,0,4.0000000000000001E-3,13.004,13,null,0,8.9999999999999993E-3,13.009,13,0,8.9999999999999993E-3,13.009,13,0,1.0999999999999999E-2,13.010999999999999,13,0,5.0000000000000001E-3,13.005000000000001,13,0,4.0000000000000001E-3,13.004,13,0,6.0000000000000001E-3,13.006,13,0,4.0000000000000001E-3,13.004,13,null,null,null,0,"NO",2000,"YES",null,0,8.9999999999999993E-3,13.009,13,0,8.9999999999999993E-3,13.009,13,0,1.0999999999999999E-2,13.010999999999999,13,0,3.0000000000000001E-3,13.003,13,0,4.0000000000000001E-3,13.004,13,0,6.0000000000000001E-3,13.006,13,0,2E-3,13.002000000000001,13,null,null,0,8.9999999999999993E-3,13.009,13,0,7.0000000000000001E-3,13.007,13,0,1.0999999999999999E-2,13.010999999999999,13,0,1E-3,13.000999999999999,13,0,2E-3,13.002000000000001,13,0,5.0000000000000001E-3,13.005000000000001,13,0,1E-3,13.000999999999999,13]
[13,20,null,null,null,null,null,null,null,null,null,null,null,null,null,null,null,null,null,null,null,null,null,null,null,null,2000,null,null,null,null,null,null,null,null,null,null,0,2000,null,null,null,null,null,null,null,null,null,null,0,2000,null,null,null,null,null,null,null,null,null,null,0,2000,null,null,null,null,null,null,null,null,null,null,0,2000,13,13,13,13,13,13,13,13,13,13,{"$f":"IF($P24=Constants!$B$2,RANK($CB24,$CB$6:$CB$64,1),\"-\")","v":"-"},"",{"$f":"IF($P24=Constants!$B$3,RANK($CB24,$CB$6:$CB$64,1),\"-\")","v":"-"},"",{"$f":"IF($P24=Constants!$B$4,RANK($CB24,$CB$6:$CB$64,1),\"-\")","v":"-"},"",{"$f":"IF($O24=Constants!$C$2,RANK($CB24,$CB$6:$CB$64,1),\"-\")","v":"-"},"",{"$f":"IF($O24=Constants!$C$3,RANK($CB24,$CB$6:$CB$64,1),\"-\")","v":"-"},"",{"$f":"IF($O24=Constants!$C$4,RANK($CB24,$CB$6:$CB$64,1),\"-\")","v":"-"},"",{"$f":"IF($G24=Constants!$D$4,RANK($CB24,$CB$6:$CB$64,1),\"-\")","v":"-"}," ",{"$f":"IF($G24=Constants!$D$2,RANK($CB24,$CB$6:$CB$64,1),\"-\")","v":"-"}," "," ",0,0,null,0,8.9999999999999993E-3,13.009,13,0,0.01,13.01,13,0,1.0999999999999999E-2,13.010999999999999,13,0,5.0000000000000001E-3,13.005000000000001,13,0,4.0000000000000001E-3,13.004,13,0,6.0000000000000001E-3,13.006,13,0,4.0000000000000001E-3,13.004,13,null,null,0,8.9999999999999993E-3,13.009,13,0,0.01,13.01,13,0,1.0999999999999999E-2,13.010999999999999,13,0,5.0000000000000001E-3,13.005000000000001,13,0,4.0000000000000001E-3,13.004,13,0,6.0000000000000001E-3,13.006,13,0,4.0000000000000001E-3,13.004,13,null,0,8.9999999999999993E-3,13.009,13,0,8.9999999999999993E-3,13.009,13,0,1.0999999999999999E-2,13.010999999999999,13,0,5.0000000000000001E-3,13.005000000000001,13,0,4.0000000000000001E-3,13.004,13,0,6.0000000000000001E-3,13.006,13,0,4.0000000000000001E-3,13.004,13,null,null,null,0,"NO",2000,"YES",null,0,8.9999999999999993E-3,13.009,13,0,8.9999999999999993E-3,13.009,13,0,1.0999999999999999E-2,13.010999999999999,13,0,3.0000000000000001E-3,13.003,13,0,4.0000000000000001E-3,13.004,13,0,6.0000000000000001E-3,13.006,13,0,2E-3,13.002000000000001,13,null,null,0,8.9999999999999993E-3,13.009,13,0,7.0000000000000001E-3,13.007,13,0,1.0999999999999999E-2,13.010999999999999,13,0,1E-3,13.000999999999999,13,0,2E-3,13.002000000000001,13,0,5.0000000000000001E-3,13.005000000000001,13,0,1E-3,13.000999999999999,13]
[13,21,null,null,null,null,null,null,null,null,null,null,null,null,null,null,null,null,null,null,null,null,null,null,null,null,2000,null,null,null,null,null,null,null,null,null,null,0,2000,null,null,null,null,null,null,null,null,null,null,0,2000,null,null,null,null,null,null,null,null,null,null,0,2000,null,null,null,null,null,null,null,null,null,null,0,2000,13,13,13,13,13,13,13,13,13,13,{"$f":"IF($P25=Constants!$B$2,RANK($CB25,$CB$6:$CB$64,1),\"-\")","v":"-"},"",{"$f":"IF($P25=Constants!$B$3,RANK($CB25,$CB$6:$CB$64,1),\"-\")","v":"-"},"",{"$f":"IF($P25=Constants!$B$4,RANK($CB25,$CB$6:$CB$64,1),\"-\")","v":"-"},"",{"$f":"IF($O25=Constants!$C$2,RANK($CB25,$CB$6:$CB$64,1),\"-\")","v":"-"},"",{"$f":"IF($O25=Constants!$C$3,RANK($CB25,$CB$6:$CB$64,1),\"-\")","v":"-"},"",{"$f":"IF($O25=Constants!$C$4,RANK($CB25,$CB$6:$CB$64,1),\"-\")","v":"-"},"",{"$f":"IF($G25=Constants!$D$4,RANK($CB25,$CB$6:$CB$64,1),\"-\")","v":"-"}," ",{"$f":"IF($G25=Constants!$D$2,RANK($CB25,$CB$6:$CB$64,1),\"-\")","v":"-"}," "," ",0,0,null,0,8.9999999999999993E-3,13.009,13,0,0.01,13.01,13,0,1.0999999999999999E-2,13.010999999999999,13,0,5.0000000000000001E-3,13.005000000000001,13,0,4.0000000000000001E-3,13.004,13,0,6.0000000000000001E-3,13.006,13,0,4.0000000000000001E-3,13.004,13,null,null,0,8.9999999999999993E-3,13.009,13,0,0.01,13.01,13,0,1.0999999999999999E-2,13.010999999999999,13,0,5.0000000000000001E-3,13.005000000000001,13,0,4.0000000000000001E-3,13.004,13,0,6.0000000000000001E-3,13.006,13,0,4.0000000000000001E-3,13.004,13,null,0,8.9999999999999993E-3,13.009,13,0,8.9999999999999993E-3,13.009,13,0,1.0999999999999999E-2,13.010999999999999,13,0,5.0000000000000001E-3,13.005000000000001,13,0,4.0000000000000001E-3,13.004,13,0,6.0000000000000001E-3,13.006,13,0,4.0000000000000001E-3,13.004,13,null,null,null,0,"NO",2000,"YES",null,0,8.9999999999999993E-3,13.009,13,0,8.9999999999999993E-3,13.009,13,0,1.0999999999999999E-2,13.010999999999999,13,0,3.0000000000000001E-3,13.003,13,0,4.0000000000000001E-3,13.004,13,0,6.0000000000000001E-3,13.006,13,0,2E-3,13.002000000000001,13,null,null,0,8.9999999999999993E-3,13.009,13,0,7.0000000000000001E-3,13.007,13,0,1.0999999999999999E-2,13.010999999999999,13,0,1E-3,13.000999999999999,13,0,2E-3,13.002000000000001,13,0,5.0000000000000001E-3,13.005000000000001,13,0,1E-3,13.000999999999999,13]
[13,22,null,null,null,null,null,null,null,null,null,null,null,null,null,null,null,null,null,null,null,null,null,null,null,null,2000,null,null,null,null,null,null,null,null,null,null,0,2000,null,null,null,null,null,null,null,null,null,null,0,2000,null,null,null,null,null,null,null,null,null,null,0,2000,null,null,null,null,null,null,null,null,null,null,0,2000,13,13,13,13,13,13,13,13,13,13,{"$f":"IF($P26=Constants!$B$2,RANK($CB26,$CB$6:$CB$64,1),\"-\")","v":"-"},"",{"$f":"IF($P26=Constants!$B$3,RANK($CB26,$CB$6:$CB$64,1),\"-\")","v":"-"},"",{"$f":"IF($P26=Constants!$B$4,RANK($CB26,$CB$6:$CB$64,1),\"-\")","v":"-"},"",{"$f":"IF($O26=Constants!$C$2,RANK($CB26,$CB$6:$CB$64,1),\"-\")","v":"-"},"",{"$f":"IF($O26=Constants!$C$3,RANK($CB26,$CB$6:$CB$64,1),\"-\")","v":"-"},"",{"$f":"IF($O26=Constants!$C$4,RANK($CB26,$CB$6:$CB$64,1),\"-\")","v":"-"},"",{"$f":"IF($G26=Constants!$D$4,RANK($CB26,$CB$6:$CB$64,1),\"-\")","v":"-"}," ",{"$f":"IF($G26=Constants!$D$2,RANK($CB26,$CB$6:$CB$64,1),\"-\")","v":"-"}," "," ",0,0,null,0,8.9999999999999993E-3,13.009,13,0,0.01,13.01,13,0,1.0999999999999999E-2,13.010999999999999,13,0,5.0000000000000001E-3,13.005000000000001,13,0,4.0000000000000001E-3,13.004,13,0,6.0000000000000001E-3,13.006,13,0,4.0000000000000001E-3,13.004,13,null,null,0,8.9999999999999993E-3,13.009,13,0,0.01,13.01,13,0,1.0999999999999999E-2,13.010999999999999,13,0,5.0000000000000001E-3,13.005000000000001,13,0,4.0000000000000001E-3,13.004,13,0,6.0000000000000001E-3,13.006,13,0,4.0000000000000001E-3,13.004,13,null,0,8.9999999999999993E-3,13.009,13,0,8.9999999999999993E-3,13.009,13,0,1.0999999999999999E-2,13.010999999999999,13,0,5.0000000000000001E-3,13.005000000000001,13,0,4.0000000000000001E-3,13.004,13,0,6.0000000000000001E-3,13.006,13,0,4.0000000000000001E-3,13.004,13,null,null,null,0,"NO",2000,"YES",null,0,8.9999999999999993E-3,13.009,13,0,8.9999999999999993E-3,13.009,13,0,1.0999999999999999E-2,13.010999999999999,13,0,3.0000000000000001E-3,13.003,13,0,4.0000000000000001E-3,13.004,13,0,6.0000000000000001E-3,13.006,13,0,2E-3,13.002000000000001,13,null,null,0,8.9999999999999993E-3,13.009,13,0,7.0000000000000001E-3,13.007,13,0,1.0999999999999999E-2,13.010999999999999,13,0,1E-3,13.000999999999999,13,0,2E-3,13.002000000000001,13,0,5.0000000000000001E-3,13.005000000000001,13,0,1E-3,13.000999999999999,13]
[13,23,null,null,null,null,null,null,null,null,null,null,null,null,null,null,null,null,null,null,null,null,null,null,null,null,2000,null,null,null,null,null,null,null,null,null,null,0,2000,null,null,null,null,null,null,null,null,null,null,0,2000,null,null,null,null,null,null,null,null,null,null,0,2000,null,null,null,null,null,null,null,null,null,null,0,2000,13,13,13,13,13,13,13,13,13,13,{"$f":"IF($P27=Constants!$B$2,RANK($CB27,$CB$6:$CB$64,1),\"-\")","v":"-"},"",{"$f":"IF($P27=Constants!$B$3,RANK($CB27,$CB$6:$CB$64,1),\"-\")","v":"-"},"",{"$f":"IF($P27=Constants!$B$4,RANK($CB27,$CB$6:$CB$64,1),\"-\")","v":"-"},"",{"$f":"IF($O27=Constants!$C$2,RANK($CB27,$CB$6:$CB$64,1),\"-\")","v":"-"},"",{"$f":"IF($O27=Constants!$C$3,RANK($CB27,$CB$6:$CB$64,1),\"-\")","v":"-"},"",{"$f":"IF($O27=Constants!$C$4,RANK($CB27,$CB$6:$CB$64,1),\"-\")","v":"-"},"",{"$f":"IF($G27=Constants!$D$4,RANK($CB27,$CB$6:$CB$64,1),\"-\")","v":"-"}," ",{"$f":"IF($G27=Constants!$D$2,RANK($CB27,$CB$6:$CB$64,1),\"-\")","v":"-"}," "," ",0,0,null,0,8.9999999999999993E-3,13.009,13,0,0.01,13.01,13,0,1.0999999999999999E-2,13.010999999999999,13,0,5.0000000000000001E-3,13.005000000000001,13,0,4.0000000000000001E-3,13.004,13,0,6.0000000000000001E-3,13.006,13,0,4.0000000000000001E-3,13.004,13,null,null,0,8.9999999999999993E-3,13.009,13,0,0.01,13.01,13,0,1.0999999999999999E-2,13.010999999999999,13,0,5.0000000000000001E-3,13.005000000000001,13,0,4.0000000000000001E-3,13.004,13,0,6.0000000000000001E-3,13.006,13,0,4.0000000000000001E-3,13.004,13,null,0,8.9999999999999993E-3,13.009,13,0,8.9999999999999993E-3,13.009,13,0,1.0999999999999999E-2,13.010999999999999,13,0,5.0000000000000001E-3,13.005000000000001,13,0,4.0000000000000001E-3,13.004,13,0,6.0000000000000001E-3,13.006,13,0,4.0000000000000001E-3,13.004,13,null,null,null,0,"NO",2000,"YES",null,0,8.9999999999999993E-3,13.009,13,0,8.9999999999999993E-3,13.009,13,0,1.0999999999999999E-2,13.010999999999999,13,0,3.0000000000000001E-3,13.003,13,0,4.0000000000000001E-3,13.004,13,0,6.0000000000000001E-3,13.006,13,0,2E-3,13.002000000000001,13,null,null,0,8.9999999999999993E-3,13.009,13,0,7.0000000000000001E-3,13.007,13,0,1.0999999999999999E-2,13.010999999999999,13,0,1E-3,13.000999999999999,13,0,2E-3,13.002000000000001,13,0,5.0000000000000001E-3,13.005000000000001,13,0,1E-3,13.000999999999999,13]
[13,24,null,null,null,null,null,null,null,null,null,null,null,null,null,null,null,null,null,null,null,null,null,null,null,null,2000,null,null,null,null,null,null,null,null,null,null,0,2000,null,null,null,null,null,null,null,null,null,null,0,2000,null,null,null,null,null,null,null,null,null,null,0,2000,null,null,null,null,null,null,null,null,null,null,0,2000,13,13,13,13,13,13,13,13,13,13,{"$f":"IF($P28=Constants!$B$2,RANK($CB28,$CB$6:$CB$64,1),\"-\")","v":"-"},"",{"$f":"IF($P28=Constants!$B$3,RANK($CB28,$CB$6:$CB$64,1),\"-\")","v":"-"},"",{"$f":"IF($P28=Constants!$B$4,RANK($CB28,$CB$6:$CB$64,1),\"-\")","v":"-"},"",{"$f":"IF($O28=Constants!$C$2,RANK($CB28,$CB$6:$CB$64,1),\"-\")","v":"-"},"",{"$f":"IF($O28=Constants!$C$3,RANK($CB28,$CB$6:$CB$64,1),\"-\")","v":"-"},"",{"$f":"IF($O28=Constants!$C$4,RANK($CB28,$CB$6:$CB$64,1),\"-\")","v":"-"},"",{"$f":"IF($G28=Constants!$D$4,RANK($CB28,$CB$6:$CB$64,1),\"-\")","v":"-"}," ",{"$f":"IF($G28=Constants!$D$2,RANK($CB28,$CB$6:$CB$64,1),\"-\")","v":"-"}," "," ",0,0,null,0,8.9999999999999993E-3,13.009,13,0,0.01,13.01,13,0,1.0999999999999999E-2,13.010999999999999,13,0,5.0000000000000001E-3,13.005000000000001,13,0,4.0000000000000001E-3,13.004,13,0,6.0000000000000001E-3,13.006,13,0,4.0000000000000001E-3,13.004,13,null,null,0,8.9999999999999993E-3,13.009,13,0,0.01,13.01,13,0,1.0999999999999999E-2,13.010999999999999,13,0,5.0000000000000001E-3,13.005000000000001,13,0,4.0000000000000001E-3,13.004,13,0,6.0000000000000001E-3,13.006,13,0,4.0000000000000001E-3,13.004,13,null,0,8.9999999999999993E-3,13.009,13,0,8.9999999999999993E-3,13.009,13,0,1.0999999999999999E-2,13.010999999999999,13,0,5.0000000000000001E-3,13.005000000000001,13,0,4.0000000000000001E-3,13.004,13,0,6.0000000000000001E-3,13.006,13,0,4.0000000000000001E-3,13.004,13,null,null,null,0,"NO",2000,"YES",null,0,8.9999999999999993E-3,13.009,13,0,8.9999999999999993E-3,13.009,13,0,1.0999999999999999E-2,13.010999999999999,13,0,3.0000000000000001E-3,13.003,13,0,4.0000000000000001E-3,13.004,13,0,6.0000000000000001E-3,13.006,13,0,2E-3,13.002000000000001,13,null,null,0,8.9999999999999993E-3,13.009,13,0,7.0000000000000001E-3,13.007,13,0,1.0999999999999999E-2,13.010999999999999,13,0,1E-3,13.000999999999999,13,0,2E-3,13.002000000000001,13,0,5.0000000000000001E-3,13.005000000000001,13,0,1E-3,13.000999999999999,13]
[13,25,null,null,null,null,null,null,null,null,null,null,null,null,null,null,null,null,null,null,null,null,null,null,null,null,2000,null,null,null,null,null,null,null,null,null,null,0,2000,null,null,null,null,null,null,null,null,null,null,0,2000,null,null,null,null,null,null,null,null,null,null,0,2000,null,null,null,null,null,null,null,null,null,null,0,2000,13,13,13,13,13,13,13,13,13,13,{"$f":"IF($P29=Constants!$B$2,RANK($CB29,$CB$6:$CB$64,1),\"-\")","v":"-"},"",{"$f":"IF($P29=Constants!$B$3,RANK($CB29,$CB$6:$CB$64,1),\"-\")","v":"-"},"",{"$f":"IF($P29=Constants!$B$4,RANK($CB29,$CB$6:$CB$64,1),\"-\")","v":"-"},"",{"$f":"IF($O29=Constants!$C$2,RANK($CB29,$CB$6:$CB$64,1),\"-\")","v":"-"},"",{"$f":"IF($O29=Constants!$C$3,RANK($CB29,$CB$6:$CB$64,1),\"-\")","v":"-"},"",{"$f":"IF($O29=Constants!$C$4,RANK($CB29,$CB$6:$CB$64,1),\"-\")","v":"-"},"",{"$f":"IF($G29=Constants!$D$4,RANK($CB29,$CB$6:$CB$64,1),\"-\")","v":"-"}," ",{"$f":"IF($G29=Constants!$D$2,RANK($CB29,$CB$6:$CB$64,1),\"-\")","v":"-"}," "," ",0,0,null,0,8.9999999999999993E-3,13.009,13,0,0.01,13.01,13,0,1.0999999999999999E-2,13.010999999999999,13,0,5.0000000000000001E-3,13.005000000000001,13,0,4.0000000000000001E-3,13.004,13,0,6.0000000000000001E-3,13.006,13,0,4.0000000000000001E-3,13.004,13,null,null,0,8.9999999999999993E-3,13.009,13,0,0.01,13.01,13,0,1.0999999999999999E-2,13.010999999999999,13,0,5.0000000000000001E-3,13.005000000000001,13,0,4.0000000000000001E-3,13.004,13,0,6.0000000000000001E-3,13.006,13,0,4.0000000000000001E-3,13.004,13,null,0,8.9999999999999993E-3,13.009,13,0,8.9999999999999993E-3,13.009,13,0,1.0999999999999999E-2,13.010999999999999,13,0,5.0000000000000001E-3,13.005000000000001,13,0,4.0000000000000001E-3,13.004,13,0,6.0000000000000001E-3,13.006,13,0,4.0000000000000001E-3,13.004,13,null,null,null,0,"NO",2000,"YES",null,0,8.9999999999999993E-3,13.009,13,0,8.9999999999999993E-3,13.009,13,0,1.0999999999999999E-2,13.010999999999999,13,0,3.0000000000000001E-3,13.003,13,0,4.0000000000000001E-3,13.004,13,0,6.0000000000000001E-3,13.006,13,0,2E-3,13.002000000000001,13,null,null,0,8.9999999999999993E-3,13.009,13,0,7.0000000000000001E-3,13.007,13,0,1.0999999999999999E-2,13.010999999999999,13,0,1E-3,13.000999999999999,13,0,2E-3,13.002000000000001,13,0,5.0000000000000001E-3,13.005000000000001,13,0,1E-3,13.000999999999999,13]
[13,26,null,null,null,null,null,null,null,null,null,null,null,null,null,null,null,null,null,null,null,null,null,null,null,null,2000,null,null,null,null,null,null,null,null,null,null,0,2000,null,null,null,null,null,null,null,null,null,null,0,2000,null,null,null,null,null,null,null,null,null,null,0,2000,null,null,null,null,null,null,null,null,null,null,0,2000,13,13,13,13,13,13,13,13,13,13,{"$f":"IF($P30=Constants!$B$2,RANK($CB30,$CB$6:$CB$64,1),\"-\")","v":"-"},"",{"$f":"IF($P30=Constants!$B$3,RANK($CB30,$CB$6:$CB$64,1),\"-\")","v":"-"},"",{"$f":"IF($P30=Constants!$B$4,RANK($CB30,$CB$6:$CB$64,1),\"-\")","v":"-"},"",{"$f":"IF($O30=Constants!$C$2,RANK($CB30,$CB$6:$CB$64,1),\"-\")","v":"-"},"",{"$f":"IF($O30=Constants!$C$3,RANK($CB30,$CB$6:$CB$64,1),\"-\")","v":"-"},"",{"$f":"IF($O30=Constants!$C$4,RANK($CB30,$CB$6:$CB$64,1),\"-\")","v":"-"},"",{"$f":"IF($G30=Constants!$D$4,RANK($CB30,$CB$6:$CB$64,1),\"-\")","v":"-"}," ",{"$f":"IF($G30=Constants!$D$2,RANK($CB30,$CB$6:$CB$64,1),\"-\")","v":"-"}," "," ",0,0,null,0,8.9999999999999993E-3,13.009,13,0,0.01,13.01,13,0,1.0999999999999999E-2,13.010999999999999,13,0,5.0000000000000001E-3,13.005000000000001,13,0,4.0000000000000001E-3,13.004,13,0,6.0000000000000001E-3,13.006,13,0,4.0000000000000001E-3,13.004,13,null,null,0,8.9999999999999993E-3,13.009,13,0,0.01,13.01,13,0,1.0999999999999999E-2,13.010999999999999,13,0,5.0000000000000001E-3,13.005000000000001,13,0,4.0000000000000001E-3,13.004,13,0,6.0000000000000001E-3,13.006,13,0,4.0000000000000001E-3,13.004,13,null,0,8.9999999999999993E-3,13.009,13,0,8.9999999999999993E-3,13.009,13,0,1.0999999999999999E-2,13.010999999999999,13,0,5.0000000000000001E-3,13.005000000000001,13,0,4.0000000000000001E-3,13.004,13,0,6.0000000000000001E-3,13.006,13,0,4.0000000000000001E-3,13.004,13,null,null,null,0,"NO",2000,"YES",null,0,8.9999999999999993E-3,13.009,13,0,8.9999999999999993E-3,13.009,13,0,1.0999999999999999E-2,13.010999999999999,13,0,3.0000000000000001E-3,13.003,13,0,4.0000000000000001E-3,13.004,13,0,6.0000000000000001E-3,13.006,13,0,2E-3,13.002000000000001,13,null,null,0,8.9999999999999993E-3,13.009,13,0,7.0000000000000001E-3,13.007,13,0,1.0999999999999999E-2,13.010999999999999,13,0,1E-3,13.000999999999999,13,0,2E-3,13.002000000000001,13,0,5.0000000000000001E-3,13.005000000000001,13,0,1E-3,13.000999999999999,13]
[13,27,null,null,null,null,null,null,null,null,null,null,null,null,null,null,null,null,null,null,null,null,null,null,null,null,2000,null,null,null,null,null,null,null,null,null,null,0,2000,null,null,null,null,null,null,null,null,null,null,0,2000,null,null,null,null,null,null,null,null,null,null,0,2000,null,null,null,null,null,null,null,null,null,null,0,2000,13,13,13,13,13,13,13,13,13,13,{"$f":"IF($P31=Constants!$B$2,RANK($CB31,$CB$6:$CB$64,1),\"-\")","v":"-"},"",{"$f":"IF($P31=Constants!$B$3,RANK($CB31,$CB$6:$CB$64,1),\"-\")","v":"-"},"",{"$f":"IF($P31=Constants!$B$4,RANK($CB31,$CB$6:$CB$64,1),\"-\")","v":"-"},"",{"$f":"IF($O31=Constants!$C$2,RANK($CB31,$CB$6:$CB$64,1),\"-\")","v":"-"},"",{"$f":"IF($O31=Constants!$C$3,RANK($CB31,$CB$6:$CB$64,1),\"-\")","v":"-"},"",{"$f":"IF($O31=Constants!$C$4,RANK($CB31,$CB$6:$CB$64,1),\"-\")","v":"-"},"",{"$f":"IF($G31=Constants!$D$4,RANK($CB31,$CB$6:$CB$64,1),\"-\")","v":"-"}," ",{"$f":"IF($G31=Constants!$D$2,RANK($CB31,$CB$6:$CB$64,1),\"-\")","v":"-"}," "," ",0,0,null,0,8.9999999999999993E-3,13.009,13,0,0.01,13.01,13,0,1.0999999999999999E-2,13.010999999999999,13,0,5.0000000000000001E-3,13.005000000000001,13,0,4.0000000000000001E-3,13.004,13,0,6.0000000000000001E-3,13.006,13,0,4.0000000000000001E-3,13.004,13,null,null,0,8.9999999999999993E-3,13.009,13,0,0.01,13.01,13,0,1.0999999999999999E-2,13.010999999999999,13,0,5.0000000000000001E-3,13.005000000000001,13,0,4.0000000000000001E-3,13.004,13,0,6.0000000000000001E-3,13.006,13,0,4.0000000000000001E-3,13.004,13,null,0,8.9999999999999993E-3,13.009,13,0,8.9999999999999993E-3,13.009,13,0,1.0999999999999999E-2,13.010999999999999,13,0,5.0000000000000001E-3,13.005000000000001,13,0,4.0000000000000001E-3,13.004,13,0,6.0000000000000001E-3,13.006,13,0,4.0000000000000001E-3,13.004,13,null,null,null,0,"NO",2000,"YES",null,0,8.9999999999999993E-3,13.009,13,0,8.9999999999999993E-3,13.009,13,0,1.0999999999999999E-2,13.010999999999999,13,0,3.0000000000000001E-3,13.003,13,0,4.0000000000000001E-3,13.004,13,0,6.0000000000000001E-3,13.006,13,0,2E-3,13.002000000000001,13,null,null,0,8.9999999999999993E-3,13.009,13,0,7.0000000000000001E-3,13.007,13,0,1.0999999999999999E-2,13.010999999999999,13,0,1E-3,13.000999999999999,13,0,2E-3,13.002000000000001,13,0,5.0000000000000001E-3,13.005000000000001,13,0,1E-3,13.000999999999999,13]
[13,28,null,null,null,null,null,null,null,null,null,null,null,null,null,null,null,null,null,null,null,null,null,null,null,null,2000,null,null,null,null,null,null,null,null,null,null,0,2000,null,null,null,null,null,null,null,null,null,null,0,2000,null,null,null,null,null,null,null,null,null,null,0,2000,null,null,null,null,null,null,null,null,null,null,0,2000,13,13,13,13,13,13,13,13,13,13,{"$f":"IF($P32=Constants!$B$2,RANK($CB32,$CB$6:$CB$64,1),\"-\")","v":"-"},"",{"$f":"IF($P32=Constants!$B$3,RANK($CB32,$CB$6:$CB$64,1),\"-\")","v":"-"},"",{"$f":"IF($P32=Constants!$B$4,RANK($CB32,$CB$6:$CB$64,1),\"-\")","v":"-"},"",{"$f":"IF($O32=Constants!$C$2,RANK($CB32,$CB$6:$CB$64,1),\"-\")","v":"-"},"",{"$f":"IF($O32=Constants!$C$3,RANK($CB32,$CB$6:$CB$64,1),\"-\")","v":"-"},"",{"$f":"IF($O32=Constants!$C$4,RANK($CB32,$CB$6:$CB$64,1),\"-\")","v":"-"},"",{"$f":"IF($G32=Constants!$D$4,RANK($CB32,$CB$6:$CB$64,1),\"-\")","v":"-"}," ",{"$f":"IF($G32=Constants!$D$2,RANK($CB32,$CB$6:$CB$64,1),\"-\")","v":"-"}," "," ",0,0,null,0,8.9999999999999993E-3,13.009,13,0,0.01,13.01,13,0,1.0999999999999999E-2,13.010999999999999,13,0,5.0000000000000001E-3,13.005000000000001,13,0,4.0000000000000001E-3,13.004,13,0,6.0000000000000001E-3,13.006,13,0,4.0000000000000001E-3,13.004,13,null,null,0,8.9999999999999993E-3,13.009,13,0,0.01,13.01,13,0,1.0999999999999999E-2,13.010999999999999,13,0,5.0000000000000001E-3,13.005000000000001,13,0,4.0000000000000001E-3,13.004,13,0,6.0000000000000001E-3,13.006,13,0,4.0000000000000001E-3,13.004,13,null,0,8.9999999999999993E-3,13.009,13,0,8.9999999999999993E-3,13.009,13,0,1.0999999999999999E-2,13.010999999999999,13,0,5.0000000000000001E-3,13.005000000000001,13,0,4.0000000000000001E-3,13.004,13,0,6.0000000000000001E-3,13.006,13,0,4.0000000000000001E-3,13.004,13,null,null,null,0,"NO",2000,"YES",null,0,8.9999999999999993E-3,13.009,13,0,8.9999999999999993E-3,13.009,13,0,1.0999999999999999E-2,13.010999999999999,13,0,3.0000000000000001E-3,13.003,13,0,4.0000000000000001E-3,13.004,13,0,6.0000000000000001E-3,13.006,13,0,2E-3,13.002000000000001,13,null,null,0,8.9999999999999993E-3,13.009,13,0,7.0000000000000001E-3,13.007,13,0,1.0999999999999999E-2,13.010999999999999,13,0,1E-3,13.000999999999999,13,0,2E-3,13.002000000000001,13,0,5.0000000000000001E-3,13.005000000000001,13,0,1E-3,13.000999999999999,13]
[13,29,null,null,null,null,null,null,null,null,null,null,null,null,null,null,null,null,null,null,null,null,null,null,null,null,2000,null,null,null,null,null,null,null,null,null,null,0,2000,null,null,null,null,null,null,null,null,null,null,0,2000,null,null,null,null,null,null,null,null,null,null,0,2000,null,null,null,null,null,null,null,null,null,null,0,2000,13,13,13,13,13,13,13,13,13,13,{"$f":"IF($P33=Constants!$B$2,RANK($CB33,$CB$6:$CB$64,1),\"-\")","v":"-"},"",{"$f":"IF($P33=Constants!$B$3,RANK($CB33,$CB$6:$CB$64,1),\"-\")","v":"-"},"",{"$f":"IF($P33=Constants!$B$4,RANK($CB33,$CB$6:$CB$64,1),\"-\")","v":"-"},"",{"$f":"IF($O33=Constants!$C$2,RANK($CB33,$CB$6:$CB$64,1),\"-\")","v":"-"},"",{"$f":"IF($O33=Constants!$C$3,RANK($CB33,$CB$6:$CB$64,1),\"-\")","v":"-"},"",{"$f":"IF($O33=Constants!$C$4,RANK($CB33,$CB$6:$CB$64,1),\"-\")","v":"-"},"",{"$f":"IF($G33=Constants!$D$4,RANK($CB33,$CB$6:$CB$64,1),\"-\")","v":"-"}," ",{"$f":"IF($G33=Constants!$D$2,RANK($CB33,$CB$6:$CB$64,1),\"-\")","v":"-"}," "," ",0,0,null,0,8.9999999999999993E-3,13.009,13,0,0.01,13.01,13,0,1.0999999999999999E-2,13.010999999999999,13,0,5.0000000000000001E-3,13.005000000000001,13,0,4.0000000000000001E-3,13.004,13,0,6.0000000000000001E-3,13.006,13,0,4.0000000000000001E-3,13.004,13,null,null,0,8.9999999999999993E-3,13.009,13,0,0.01,13.01,13,0,1.0999999999999999E-2,13.010999999999999,13,0,5.0000000000000001E-3,13.005000000000001,13,0,4.0000000000000001E-3,13.004,13,0,6.0000000000000001E-3,13.006,13,0,4.0000000000000001E-3,13.004,13,null,0,8.9999999999999993E-3,13.009,13,0,8.9999999999999993E-3,13.009,13,0,1.0999999999999999E-2,13.010999999999999,13,0,5.0000000000000001E-3,13.005000000000001,13,0,4.0000000000000001E-3,13.004,13,0,6.0000000000000001E-3,13.006,13,0,4.0000000000000001E-3,13.004,13,null,null,null,0,"NO",2000,"YES",null,0,8.9999999999999993E-3,13.009,13,0,8.9999999999999993E-3,13.009,13,0,1.0999999999999999E-2,13.010999999999999,13,0,3.0000000000000001E-3,13.003,13,0,4.0000000000000001E-3,13.004,13,0,6.0000000000000001E-3,13.006,13,0,2E-3,13.002000000000001,13,null,null,0,8.9999999999999993E-3,13.009,13,0,7.0000000000000001E-3,13.007,13,0,1.0999999999999999E-2,13.010999999999999,13,0,1E-3,13.000999999999999,13,0,2E-3,13.002000000000001,13,0,5.0000000000000001E-3,13.005000000000001,13,0,1E-3,13.000999999999999,13]
[13,30,null,null,null,null,null,null,null,null,null,null,null,null,null,null,null,null,null,null,null,null,null,null,null,null,2000,null,null,null,null,null,null,null,null,null,null,0,2000,null,null,null,null,null,null,null,null,null,null,0,2000,null,null,null,null,null,null,null,null,null,null,0,2000,null,null,null,null,null,null,null,null,null,null,0,2000,13,13,13,13,13,13,13,13,13,13,{"$f":"IF($P34=Constants!$B$2,RANK($CB34,$CB$6:$CB$64,1),\"-\")","v":"-"},"",{"$f":"IF($P34=Constants!$B$3,RANK($CB34,$CB$6:$CB$64,1),\"-\")","v":"-"},"",{"$f":"IF($P34=Constants!$B$4,RANK($CB34,$CB$6:$CB$64,1),\"-\")","v":"-"},"",{"$f":"IF($O34=Constants!$C$2,RANK($CB34,$CB$6:$CB$64,1),\"-\")","v":"-"},"",{"$f":"IF($O34=Constants!$C$3,RANK($CB34,$CB$6:$CB$64,1),\"-\")","v":"-"},"",{"$f":"IF($O34=Constants!$C$4,RANK($CB34,$CB$6:$CB$64,1),\"-\")","v":"-"},"",{"$f":"IF($G34=Constants!$D$4,RANK($CB34,$CB$6:$CB$64,1),\"-\")","v":"-"}," ",{"$f":"IF($G34=Constants!$D$2,RANK($CB34,$CB$6:$CB$64,1),\"-\")","v":"-"}," "," ",0,0,null,0,8.9999999999999993E-3,13.009,13,0,0.01,13.01,13,0,1.0999999999999999E-2,13.010999999999999,13,0,5.0000000000000001E-3,13.005000000000001,13,0,4.0000000000000001E-3,13.004,13,0,6.0000000000000001E-3,13.006,13,0,4.0000000000000001E-3,13.004,13,null,null,0,8.9999999999999993E-3,13.009,13,0,0.01,13.01,13,0,1.0999999999999999E-2,13.010999999999999,13,0,5.0000000000000001E-3,13.005000000000001,13,0,4.0000000000000001E-3,13.004,13,0,6.0000000000000001E-3,13.006,13,0,4.0000000000000001E-3,13.004,13,null,0,8.9999999999999993E-3,13.009,13,0,8.9999999999999993E-3,13.009,13,0,1.0999999999999999E-2,13.010999999999999,13,0,5.0000000000000001E-3,13.005000000000001,13,0,4.0000000000000001E-3,13.004,13,0,6.0000000000000001E-3,13.006,13,0,4.0000000000000001E-3,13.004,13,null,null,null,0,"NO",2000,"YES",null,0,8.9999999999999993E-3,13.009,13,0,8.9999999999999993E-3,13.009,13,0,1.0999999999999999E-2,13.010999999999999,13,0,3.0000000000000001E-3,13.003,13,0,4.0000000000000001E-3,13.004,13,0,6.0000000000000001E-3,13.006,13,0,2E-3,13.002000000000001,13,null,null,0,8.9999999999999993E-3,13.009,13,0,7.0000000000000001E-3,13.007,13,0,1.0999999999999999E-2,13.010999999999999,13,0,1E-3,13.000999999999999,13,0,2E-3,13.002000000000001,13,0,5.0000000000000001E-3,13.005000000000001,13,0,1E-3,13.000999999999999,13]
[13,31,null,null,null,null,null,null,null,null,null,null,null,null,null,null,null,null,null,null,null,null,null,null,null,null,2000,null,null,null,null,null,null,null,null,null,null,0,2000,null,null,null,null,null,null,null,null,null,null,0,2000,null,null,null,null,null,null,null,null,null,null,0,2000,null,null,null,null,null,null,null,null,null,null,0,2000,13,13,13,13,13,13,13,13,13,13,{"$f":"IF($P35=Constants!$B$2,RANK($CB35,$CB$6:$CB$64,1),\"-\")","v":"-"},"",{"$f":"IF($P35=Constants!$B$3,RANK($CB35,$CB$6:$CB$64,1),\"-\")","v":"-"},"",{"$f":"IF($P35=Constants!$B$4,RANK($CB35,$CB$6:$CB$64,1),\"-\")","v":"-"},"",{"$f":"IF($O35=Constants!$C$2,RANK($CB35,$CB$6:$CB$64,1),\"-\")","v":"-"},"",{"$f":"IF($O35=Constants!$C$3,RANK($CB35,$CB$6:$CB$64,1),\"-\")","v":"-"},"",{"$f":"IF($O35=Constants!$C$4,RANK($CB35,$CB$6:$CB$64,1),\"-\")","v":"-"},"",{"$f":"IF($G35=Constants!$D$4,RANK($CB35,$CB$6:$CB$64,1),\"-\")","v":"-"}," ",{"$f":"IF($G35=Constants!$D$2,RANK($CB35,$CB$6:$CB$64,1),\"-\")","v":"-"}," "," ",0,0,null,0,8.9999999999999993E-3,13.009,13,0,0.01,13.01,13,0,1.0999999999999999E-2,13.010999999999999,13,0,5.0000000000000001E-3,13.005000000000001,13,0,4.0000000000000001E-3,13.004,13,0,6.0000000000000001E-3,13.006,13,0,4.0000000000000001E-3,13.004,13,null,null,0,8.9999999999999993E-3,13.009,13,0,0.01,13.01,13,0,1.0999999999999999E-2,13.010999999999999,13,0,5.0000000000000001E-3,13.005000000000001,13,0,4.0000000000000001E-3,13.004,13,0,6.0000000000000001E-3,13.006,13,0,4.0000000000000001E-3,13.004,13,null,0,8.9999999999999993E-3,13.009,13,0,8.9999999999999993E-3,13.009,13,0,1.0999999999999999E-2,13.010999999999999,13,0,5.0000000000000001E-3,13.005000000000001,13,0,4.0000000000000001E-3,13.004,13,0,6.0000000000000001E-3,13.006,13,0,4.0000000000000001E-3,13.004,13,null,null,null,0,"NO",2000,"YES",null,0,8.9999999999999993E-3,13.009,13,0,8.9999999999999993E-3,13.009,13,0,1.0999999999999999E-2,13.010999999999999,13,0,3.0000000000000001E-3,13.003,13,0,4.0000000000000001E-3,13.004,13,0,6.0000000000000001E-3,13.006,13,0,2E-3,13.002000000000001,13,null,null,0,8.9999999999999993E-3,13.009,13,0,7.0000000000000001E-3,13.007,13,0,1.0999999999999999E-2,13.010999999999999,13,0,1E-3,13.000999999999999,13,0,2E-3,13.002000000000001,13,0,5.0000000000000001E-3,13.005000000000001,13,0,1E-3,13.000999999999999,13]
[13,32,null,null,null,null,null,null,null,null,null,null,null,null,null,null,null,null,null,null,null,null,null,null,null,null,2000,null,null,null,null,null,null,null,null,null,null,0,2000,null,null,null,null,null,null,null,null,null,null,0,2000,null,null,null,null,null,null,null,null,null,null,0,2000,null,null,null,null,null,null,null,null,null,null,0,2000,13,13,13,13,13,13,13,13,13,13,{"$f":"IF($P36=Constants!$B$2,RANK($CB36,$CB$6:$CB$64,1),\"-\")","v":"-"},"",{"$f":"IF($P36=Constants!$B$3,RANK($CB36,$CB$6:$CB$64,1),\"-\")","v":"-"},"",{"$f":"IF($P36=Constants!$B$4,RANK($CB36,$CB$6:$CB$64,1),\"-\")","v":"-"},"",{"$f":"IF($O36=Constants!$C$2,RANK($CB36,$CB$6:$CB$64,1),\"-\")","v":"-"},"",{"$f":"IF($O36=Constants!$C$3,RANK($CB36,$CB$6:$CB$64,1),\"-\")","v":"-"},"",{"$f":"IF($O36=Constants!$C$4,RANK($CB36,$CB$6:$CB$64,1),\"-\")","v":"-"},"",{"$f":"IF($G36=Constants!$D$4,RANK($CB36,$CB$6:$CB$64,1),\"-\")","v":"-"}," ",{"$f":"IF($G36=Constants!$D$2,RANK($CB36,$CB$6:$CB$64,1),\"-\")","v":"-"}," "," ",0,0,null,0,8.9999999999999993E-3,13.009,13,0,0.01,13.01,13,0,1.0999999999999999E-2,13.010999999999999,13,0,5.0000000000000001E-3,13.005000000000001,13,0,4.0000000000000001E-3,13.004,13,0,6.0000000000000001E-3,13.006,13,0,4.0000000000000001E-3,13.004,13,null,null,0,8.9999999999999993E-3,13.009,13,0,0.01,13.01,13,0,1.0999999999999999E-2,13.010999999999999,13,0,5.0000000000000001E-3,13.005000000000001,13,0,4.0000000000000001E-3,13.004,13,0,6.0000000000000001E-3,13.006,13,0,4.0000000000000001E-3,13.004,13,null,0,8.9999999999999993E-3,13.009,13,0,8.9999999999999993E-3,13.009,13,0,1.0999999999999999E-2,13.010999999999999,13,0,5.0000000000000001E-3,13.005000000000001,13,0,4.0000000000000001E-3,13.004,13,0,6.0000000000000001E-3,13.006,13,0,4.0000000000000001E-3,13.004,13,null,null,null,0,"NO",2000,"YES",null,0,8.9999999999999993E-3,13.009,13,0,8.9999999999999993E-3,13.009,13,0,1.0999999999999999E-2,13.010999999999999,13,0,3.0000000000000001E-3,13.003,13,0,4.0000000000000001E-3,13.004,13,0,6.0000000000000001E-3,13.006,13,0,2E-3,13.002000000000001,13,null,null,0,8.9999999999999993E-3,13.009,13,0,7.0000000000000001E-3,13.007,13,0,1.0999999999999999E-2,13.010999999999999,13,0,1E-3,13.000999999999999,13,0,2E-3,13.002000000000001,13,0,5.0000000000000001E-3,13.005000000000001,13,0,1E-3,13.000999999999999,13]
[13,33,null,null,null,null,null,null,null,null,null,null,null,null,null,null,null,null,null,null,null,null,null,null,null,null,2000,null,null,null,null,null,null,null,null,null,null,0,2000,null,null,null,null,null,null,null,null,null,null,0,2000,null,null,null,null,null,null,null,null,null,null,0,2000,null,null,null,null,null,null,null,null,null,null,0,2000,13,13,13,13,13,13,13,13,13,13,{"$f":"IF($P37=Constants!$B$2,RANK($CB37,$CB$6:$CB$64,1),\"-\")","v":"-"},"",{"$f":"IF($P37=Constants!$B$3,RANK($CB37,$CB$6:$CB$64,1),\"-\")","v":"-"},"",{"$f":"IF($P37=Constants!$B$4,RANK($CB37,$CB$6:$CB$64,1),\"-\")","v":"-"},"",{"$f":"IF($O37=Constants!$C$2,RANK($CB37,$CB$6:$CB$64,1),\"-\")","v":"-"},"",{"$f":"IF($O37=Constants!$C$3,RANK($CB37,$CB$6:$CB$64,1),\"-\")","v":"-"},"",{"$f":"IF($O37=Constants!$C$4,RANK($CB37,$CB$6:$CB$64,1),\"-\")","v":"-"},"",{"$f":"IF($G37=Constants!$D$4,RANK($CB37,$CB$6:$CB$64,1),\"-\")","v":"-"}," ",{"$f":"IF($G37=Constants!$D$2,RANK($CB37,$CB$6:$CB$64,1),\"-\")","v":"-"}," "," ",0,0,null,0,8.9999999999999993E-3,13.009,13,0,0.01,13.01,13,0,1.0999999999999999E-2,13.010999999999999,13,0,5.0000000000000001E-3,13.005000000000001,13,0,4.0000000000000001E-3,13.004,13,0,6.0000000000000001E-3,13.006,13,0,4.0000000000000001E-3,13.004,13,null,null,0,8.9999999999999993E-3,13.009,13,0,0.01,13.01,13,0,1.0999999999999999E-2,13.010999999999999,13,0,5.0000000000000001E-3,13.005000000000001,13,0,4.0000000000000001E-3,13.004,13,0,6.0000000000000001E-3,13.006,13,0,4.0000000000000001E-3,13.004,13,null,0,8.9999999999999993E-3,13.009,13,0,8.9999999999999993E-3,13.009,13,0,1.0999999999999999E-2,13.010999999999999,13,0,5.0000000000000001E-3,13.005000000000001,13,0,4.0000000000000001E-3,13.004,13,0,6.0000000000000001E-3,13.006,13,0,4.0000000000000001E-3,13.004,13,null,null,null,0,"NO",2000,"YES",null,0,8.9999999999999993E-3,13.009,13,0,8.9999999999999993E-3,13.009,13,0,1.0999999999999999E-2,13.010999999999999,13,0,3.0000000000000001E-3,13.003,13,0,4.0000000000000001E-3,13.004,13,0,6.0000000000000001E-3,13.006,13,0,2E-3,13.002000000000001,13,null,null,0,8.9999999999999993E-3,13.009,13,0,7.0000000000000001E-3,13.007,13,0,1.0999999999999999E-2,13.010999999999999,13,0,1E-3,13.000999999999999,13,0,2E-3,13.002000000000001,13,0,5.0000000000000001E-3,13.005000000000001,13,0,1E-3,13.000999999999999,13]
[13,34,null,null,null,null,null,null,null,null,null,null,null,null,null,null,null,null,null,null,null,null,null,null,null,null,{"$f":"IF(N38=\"Ret/NS\",1000+SUM(Q38:Z38),IF(C38=\"\",2000,SUM(Q38:Z38)))","v":2000},null,null,null,null,null,null,null,null,null,null,0,{"$f":"IF(C38=\"\",2000,AL38+AA38)","v":2000},null,null,null,null,null,null,null,null,null,null,0,{"$f":"IF(C38=\"\",2000,AM38+AX38)","v":2000},null,null,null,null,null,null,null,null,null,null,0,{"$f":"IF(C38=\"\",2000,AY38+BJ38)","v":2000},null,null,null,null,null,null,null,null,null,null,0,{"$f":"IF(C38=\"\",2000,BK38+BV38)","v":2000},13,13,13,13,13,{"$f":"RANK(AA38,$AA$6:$AA$64,1)","v":13},{"$f":"RANK(AM38,$AM$6:$AM$64,1)","v":13},{"$f":"RANK(AY38,$AY$6:$AY$64,1)","v":13},{"$f":"RANK(BK38,$BK$6:$BK$64,1)","v":13},{"$f":"RANK(BW38,$BW$6:$BW$64,1)","v":13},{"$f":"IF($P38=Constants!$B$2,RANK($CB38,$CB$6:$CB$64,1),\"-\")","v":"-"},"",{"$f":"IF($P38=Constants!$B$3,RANK($CB38,$CB$6:$CB$64,1),\"-\")","v":"-"},"",{"$f":"IF($P38=Constants!$B$4,RANK($CB38,$CB$6:$CB$64,1),\"-\")","v":"-"},"",{"$f":"IF($O38=Constants!$C$2,RANK($CB38,$CB$6:$CB$64,1),\"-\")","v":"-"},"",{"$f":"IF($O38=Constants!$C$3,RANK($CB38,$CB$6:$CB$64,1),\"-\")","v":"-"},"",{"$f":"IF($O38=Constants!$C$4,RANK($CB38,$CB$6:$CB$64,1),\"-\")","v":"-"},"",{"$f":"IF($G38=Constants!$D$4,RANK($CB38,$CB$6:$CB$64,1),\"-\")","v":"-"}," ",{"$f":"IF($G38=Constants!$D$2,RANK($CB38,$CB$6:$CB$64,1),\"-\")","v":"-"}," "," ",0,0,null,0,{"$f":"IF(COUNTIF($BW$6:$BW$64,BW38)>1,RANK(DB38,DB$6:DB$64,0)/1000,0)","v":8.9999999999999993E-3},13.009,13,0,0.01,13.01,13,0,1.0999999999999999E-2,13.010999999999999,13,0,5.0000000000000001E-3,13.005000000000001,13,0,4.0000000000000001E-3,13.004,13,0,6.0000000000000001E-3,13.006,13,0,4.0000000000000001E-3,13.004,13,null,null,0,{"$f":"IF(COUNTIF($BK$6:$BK$64,BK38)>1,RANK(EF38,EF$6:EF$64,0)/1000,0)","v":8.9999999999999993E-3},13.009,13,0,0.01,13.01,13,0,1.0999999999999999E-2,13.010999999999999,13,0,5.0000000000000001E-3,13.005000000000001,13,0,4.0000000000000001E-3,13.004,13,0,6.0000000000000001E-3,13.006,13,0,4.0000000000000001E-3,13.004,13,null,0,{"$f":"IF(COUNTIF($AY$6:$AY$64,AY38)>1,RANK(FI38,FI$6:FI$64,0)/1000,0)","v":8.9999999999999993E-3},{"$f":"CE38+FJ38","v":13.009},13,0,8.9999999999999993E-3,13.009,13,0,1.0999999999999999E-2,13.010999999999999,13,0,5.0000000000000001E-3,13.005000000000001,13,0,4.0000000000000001E-3,13.004,13,0,6.0000000000000001E-3,13.006,13,0,4.0000000000000001E-3,13.004,13,null,null,null,{"$f":"SUM(Q38:Z38,AB38:AK38,AN38:AW38,AZ38:BI38)","v":0},{"$f":"IF(BK38=GN38,\"YES\",\"NO\")","v":"NO"},{"$f":"BJ38+AX38+AL38+AA38","v":2000},{"$f":"IF(BK38=GP38,\"YES\",\"NO\")","v":"YES"},null,0,{"$f":"IF(COUNTIF($AM$6:$AM$64,AM38)>1,RANK(GS38,GS$6:GS$64,0)/1000,0)","v":8.9999999999999993E-3},{"$f":"CD38+GT38","v":13.009},13,0,8.9999999999999993E-3,13.009,13,0,1.0999999999999999E-2,13.010999999999999,13,0,3.0000000000000001E-3,13.003,13,0,4.0000000000000001E-3,13.004,13,0,6.0000000000000001E-3,13.006,13,0,2E-3,13.002000000000001,13,null,null,0,{"$f":"IF(COUNTIF($AA$6:$AA$64,AA38)>1,RANK(HW38,HW$6:HW$64,0)/1000,0)","v":8.9999999999999993E-3},{"$f":"CC38+HX38","v":13.009},13,0,7.0000000000000001E-3,13.007,13,0,1.0999999999999999E-2,13.010999999999999,13,0,1E-3,13.000999999999999,13,0,2E-3,13.002000000000001,13,0,5.0000000000000001E-3,13.005000000000001,13,0,1E-3,13.000999999999999,13]
[13,35,null,null,null,null,null,null,null,null,null,null,null,null,null,null,null,null,null,null,null,null,null,null,null,null,2000,null,null,null,null,null,null,null,null,null,null,0,2000,null,null,null,null,null,null,null,null,null,null,0,2000,null,null,null,null,null,null,null,null,null,null,0,2000,null,null,null,null,null,null,null,null,null,null,0,2000,13,13,13,13,13,13,13,13,13,13,{"$f":"IF($P39=Constants!$B$2,RANK($CB39,$CB$6:$CB$64,1),\"-\")","v":"-"},"",{"$f":"IF($P39=Constants!$B$3,RANK($CB39,$CB$6:$CB$64,1),\"-\")","v":"-"},"",{"$f":"IF($P39=Constants!$B$4,RANK($CB39,$CB$6:$CB$64,1),\"-\")","v":"-"},"",{"$f":"IF($O39=Constants!$C$2,RANK($CB39,$CB$6:$CB$64,1),\"-\")","v":"-"},"",{"$f":"IF($O39=Constants!$C$3,RANK($CB39,$CB$6:$CB$64,1),\"-\")","v":"-"},"",{"$f":"IF($O39=Constants!$C$4,RANK($CB39,$CB$6:$CB$64,1),\"-\")","v":"-"},"",{"$f":"IF($G39=Constants!$D$4,RANK($CB39,$CB$6:$CB$64,1),\"-\")","v":"-"}," ",{"$f":"IF($G39=Constants!$D$2,RANK($CB39,$CB$6:$CB$64,1),\"-\")","v":"-"}," "," ",0,0,null,0,8.9999999999999993E-3,13.009,13,0,0.01,13.01,13,0,1.0999999999999999E-2,13.010999999999999,13,0,5.0000000000000001E-3,13.005000000000001,13,0,4.0000000000000001E-3,13.004,13,0,6.0000000000000001E-3,13.006,13,0,4.0000000000000001E-3,13.004,13,null,null,0,8.9999999999999993E-3,13.009,13,0,0.01,13.01,13,0,1.0999999999999999E-2,13.010999999999999,13,0,5.0000000000000001E-3,13.005000000000001,13,0,4.0000000000000001E-3,13.004,13,0,6.0000000000000001E-3,13.006,13,0,4.0000000000000001E-3,13.004,13,null,0,8.9999999999999993E-3,13.009,13,0,8.9999999999999993E-3,13.009,13,0,1.0999999999999999E-2,13.010999999999999,13,0,5.0000000000000001E-3,13.005000000000001,13,0,4.0000000000000001E-3,13.004,13,0,6.0000000000000001E-3,13.006,13,0,4.0000000000000001E-3,13.004,13,null,null,null,0,"NO",2000,"YES",null,0,8.9999999999999993E-3,13.009,13,0,8.9999999999999993E-3,13.009,13,0,1.0999999999999999E-2,13.010999999999999,13,0,3.0000000000000001E-3,13.003,13,0,4.0000000000000001E-3,13.004,13,0,6.0000000000000001E-3,13.006,13,0,2E-3,13.002000000000001,13,null,null,0,8.9999999999999993E-3,13.009,13,0,7.0000000000000001E-3,13.007,13,0,1.0999999999999999E-2,13.010999999999999,13,0,1E-3,13.000999999999999,13,0,2E-3,13.002000000000001,13,0,5.0000000000000001E-3,13.005000000000001,13,0,1E-3,13.000999999999999,13]
[13,36,null,null,null,null,null,null,null,null,null,null,null,null,null,null,null,null,null,null,null,null,null,null,null,null,2000,null,null,null,null,null,null,null,null,null,null,0,2000,null,null,null,null,null,null,null,null,null,null,0,2000,null,null,null,null,null,null,null,null,null,null,0,2000,null,null,null,null,null,null,null,null,null,null,0,2000,13,13,13,13,13,13,13,13,13,13,{"$f":"IF($P40=Constants!$B$2,RANK($CB40,$CB$6:$CB$64,1),\"-\")","v":"-"},"",{"$f":"IF($P40=Constants!$B$3,RANK($CB40,$CB$6:$CB$64,1),\"-\")","v":"-"},"",{"$f":"IF($P40=Constants!$B$4,RANK($CB40,$CB$6:$CB$64,1),\"-\")","v":"-"},"",{"$f":"IF($O40=Constants!$C$2,RANK($CB40,$CB$6:$CB$64,1),\"-\")","v":"-"},"",{"$f":"IF($O40=Constants!$C$3,RANK($CB40,$CB$6:$CB$64,1),\"-\")","v":"-"},"",{"$f":"IF($O40=Constants!$C$4,RANK($CB40,$CB$6:$CB$64,1),\"-\")","v":"-"},"",{"$f":"IF($G40=Constants!$D$4,RANK($CB40,$CB$6:$CB$64,1),\"-\")","v":"-"}," ",{"$f":"IF($G40=Constants!$D$2,RANK($CB40,$CB$6:$CB$64,1),\"-\")","v":"-"}," "," ",0,0,null,0,8.9999999999999993E-3,13.009,13,0,0.01,13.01,13,0,1.0999999999999999E-2,13.010999999999999,13,0,5.0000000000000001E-3,13.005000000000001,13,0,4.0000000000000001E-3,13.004,13,0,6.0000000000000001E-3,13.006,13,0,4.0000000000000001E-3,13.004,13,null,null,0,8.9999999999999993E-3,13.009,13,0,0.01,13.01,13,0,1.0999999999999999E-2,13.010999999999999,13,0,5.0000000000000001E-3,13.005000000000001,13,0,4.0000000000000001E-3,13.004,13,0,6.0000000000000001E-3,13.006,13,0,4.0000000000000001E-3,13.004,13,null,0,8.9999999999999993E-3,13.009,13,0,8.9999999999999993E-3,13.009,13,0,1.0999999999999999E-2,13.010999999999999,13,0,5.0000000000000001E-3,13.005000000000001,13,0,4.0000000000000001E-3,13.004,13,0,6.0000000000000001E-3,13.006,13,0,4.0000000000000001E-3,13.004,13,null,null,null,0,"NO",2000,"YES",null,0,8.9999999999999993E-3,13.009,13,0,8.9999999999999993E-3,13.009,13,0,1.0999999999999999E-2,13.010999999999999,13,0,3.0000000000000001E-3,13.003,13,0,4.0000000000000001E-3,13.004,13,0,6.0000000000000001E-3,13.006,13,0,2E-3,13.002000000000001,13,null,null,0,8.9999999999999993E-3,13.009,13,0,7.0000000000000001E-3,13.007,13,0,1.0999999999999999E-2,13.010999999999999,13,0,1E-3,13.000999999999999,13,0,2E-3,13.002000000000001,13,0,5.0000000000000001E-3,13.005000000000001,13,0,1E-3,13.000999999999999,13]
[13,37,null,null,null,null,null,null,null,null,null,null,null,null,null,null,null,null,null,null,null,null,null,null,null,null,2000,null,null,null,null,null,null,null,null,null,null,0,2000,null,null,null,null,null,null,null,null,null,null,0,2000,null,null,null,null,null,null,null,null,null,null,0,2000,null,null,null,null,null,null,null,null,null,null,0,2000,13,13,13,13,13,13,13,13,13,13,{"$f":"IF($P41=Constants!$B$2,RANK($CB41,$CB$6:$CB$64,1),\"-\")","v":"-"},"",{"$f":"IF($P41=Constants!$B$3,RANK($CB41,$CB$6:$CB$64,1),\"-\")","v":"-"},"",{"$f":"IF($P41=Constants!$B$4,RANK($CB41,$CB$6:$CB$64,1),\"-\")","v":"-"},"",{"$f":"IF($O41=Constants!$C$2,RANK($CB41,$CB$6:$CB$64,1),\"-\")","v":"-"},"",{"$f":"IF($O41=Constants!$C$3,RANK($CB41,$CB$6:$CB$64,1),\"-\")","v":"-"},"",{"$f":"IF($O41=Constants!$C$4,RANK($CB41,$CB$6:$CB$64,1),\"-\")","v":"-"},"",{"$f":"IF($G41=Constants!$D$4,RANK($CB41,$CB$6:$CB$64,1),\"-\")","v":"-"}," ",{"$f":"IF($G41=Constants!$D$2,RANK($CB41,$CB$6:$CB$64,1),\"-\")","v":"-"}," "," ",0,0,null,0,8.9999999999999993E-3,13.009,13,0,0.01,13.01,13,0,1.0999999999999999E-2,13.010999999999999,13,0,5.0000000000000001E-3,13.005000000000001,13,0,4.0000000000000001E-3,13.004,13,0,6.0000000000000001E-3,13.006,13,0,4.0000000000000001E-3,13.004,13,null,null,0,8.9999999999999993E-3,13.009,13,0,0.01,13.01,13,0,1.0999999999999999E-2,13.010999999999999,13,0,5.0000000000000001E-3,13.005000000000001,13,0,4.0000000000000001E-3,13.004,13,0,6.0000000000000001E-3,13.006,13,0,4.0000000000000001E-3,13.004,13,null,0,8.9999999999999993E-3,13.009,13,0,8.9999999999999993E-3,13.009,13,0,1.0999999999999999E-2,13.010999999999999,13,0,5.0000000000000001E-3,13.005000000000001,13,0,4.0000000000000001E-3,13.004,13,0,6.0000000000000001E-3,13.006,13,0,4.0000000000000001E-3,13.004,13,null,null,null,0,"NO",2000,"YES",null,0,8.9999999999999993E-3,13.009,13,0,8.9999999999999993E-3,13.009,13,0,1.0999999999999999E-2,13.010999999999999,13,0,3.0000000000000001E-3,13.003,13,0,4.0000000000000001E-3,13.004,13,0,6.0000000000000001E-3,13.006,13,0,2E-3,13.002000000000001,13,null,null,0,8.9999999999999993E-3,13.009,13,0,7.0000000000000001E-3,13.007,13,0,1.0999999999999999E-2,13.010999999999999,13,0,1E-3,13.000999999999999,13,0,2E-3,13.002000000000001,13,0,5.0000000000000001E-3,13.005000000000001,13,0,1E-3,13.000999999999999,13]
[13,38,null,null,null,null,null,null,null,null,null,null,null,null,null,null,null,null,null,null,null,null,null,null,null,null,2000,null,null,null,null,null,null,null,null,null,null,0,2000,null,null,null,null,null,null,null,null,null,null,0,2000,null,null,null,null,null,null,null,null,null,null,0,2000,null,null,null,null,null,null,null,null,null,null,0,2000,13,13,13,13,13,13,13,13,13,13,{"$f":"IF($P42=Constants!$B$2,RANK($CB42,$CB$6:$CB$64,1),\"-\")","v":"-"},"",{"$f":"IF($P42=Constants!$B$3,RANK($CB42,$CB$6:$CB$64,1),\"-\")","v":"-"},"",{"$f":"IF($P42=Constants!$B$4,RANK($CB42,$CB$6:$CB$64,1),\"-\")","v":"-"},"",{"$f":"IF($O42=Constants!$C$2,RANK($CB42,$CB$6:$CB$64,1),\"-\")","v":"-"},"",{"$f":"IF($O42=Constants!$C$3,RANK($CB42,$CB$6:$CB$64,1),\"-\")","v":"-"},"",{"$f":"IF($O42=Constants!$C$4,RANK($CB42,$CB$6:$CB$64,1),\"-\")","v":"-"},"",{"$f":"IF($G42=Constants!$D$4,RANK($CB42,$CB$6:$CB$64,1),\"-\")","v":"-"}," ",{"$f":"IF($G42=Constants!$D$2,RANK($CB42,$CB$6:$CB$64,1),\"-\")","v":"-"}," "," ",0,0,null,0,8.9999999999999993E-3,13.009,13,0,0.01,13.01,13,0,1.0999999999999999E-2,13.010999999999999,13,0,5.0000000000000001E-3,13.005000000000001,13,0,4.0000000000000001E-3,13.004,13,0,6.0000000000000001E-3,13.006,13,0,4.0000000000000001E-3,13.004,13,null,null,0,8.9999999999999993E-3,13.009,13,0,0.01,13.01,13,0,1.0999999999999999E-2,13.010999999999999,13,0,5.0000000000000001E-3,13.005000000000001,13,0,4.0000000000000001E-3,13.004,13,0,6.0000000000000001E-3,13.006,13,0,4.0000000000000001E-3,13.004,13,null,0,8.9999999999999993E-3,13.009,13,0,8.9999999999999993E-3,13.009,13,0,1.0999999999999999E-2,13.010999999999999,13,0,5.0000000000000001E-3,13.005000000000001,13,0,4.0000000000000001E-3,13.004,13,0,6.0000000000000001E-3,13.006,13,0,4.0000000000000001E-3,13.004,13,null,null,null,0,"NO",2000,"YES",null,0,8.9999999999999993E-3,13.009,13,0,8.9999999999999993E-3,13.009,13,0,1.0999999999999999E-2,13.010999999999999,13,0,3.0000000000000001E-3,13.003,13,0,4.0000000000000001E-3,13.004,13,0,6.0000000000000001E-3,13.006,13,0,2E-3,13.002000000000001,13,null,null,0,8.9999999999999993E-3,13.009,13,0,7.0000000000000001E-3,13.007,13,0,1.0999999999999999E-2,13.010999999999999,13,0,1E-3,13.000999999999999,13,0,2E-3,13.002000000000001,13,0,5.0000000000000001E-3,13.005000000000001,13,0,1E-3,13.000999999999999,13]
[13,39,null,null,null,null,null,null,null,null,null,null,null,null,null,null,null,null,null,null,null,null,null,null,null,null,2000,null,null,null,null,null,null,null,null,null,null,0,2000,null,null,null,null,null,null,null,null,null,null,0,2000,null,null,null,null,null,null,null,null,null,null,0,2000,null,null,null,null,null,null,null,null,null,null,0,2000,13,13,13,13,13,13,13,13,13,13,{"$f":"IF($P43=Constants!$B$2,RANK($CB43,$CB$6:$CB$64,1),\"-\")","v":"-"},"",{"$f":"IF($P43=Constants!$B$3,RANK($CB43,$CB$6:$CB$64,1),\"-\")","v":"-"},"",{"$f":"IF($P43=Constants!$B$4,RANK($CB43,$CB$6:$CB$64,1),\"-\")","v":"-"},"",{"$f":"IF($O43=Constants!$C$2,RANK($CB43,$CB$6:$CB$64,1),\"-\")","v":"-"},"",{"$f":"IF($O43=Constants!$C$3,RANK($CB43,$CB$6:$CB$64,1),\"-\")","v":"-"},"",{"$f":"IF($O43=Constants!$C$4,RANK($CB43,$CB$6:$CB$64,1),\"-\")","v":"-"},"",{"$f":"IF($G43=Constants!$D$4,RANK($CB43,$CB$6:$CB$64,1),\"-\")","v":"-"}," ",{"$f":"IF($G43=Constants!$D$2,RANK($CB43,$CB$6:$CB$64,1),\"-\")","v":"-"}," "," ",0,0,null,0,8.9999999999999993E-3,13.009,13,0,0.01,13.01,13,0,1.0999999999999999E-2,13.010999999999999,13,0,5.0000000000000001E-3,13.005000000000001,13,0,4.0000000000000001E-3,13.004,13,0,6.0000000000000001E-3,13.006,13,0,4.0000000000000001E-3,13.004,13,null,null,0,8.9999999999999993E-3,13.009,13,0,0.01,13.01,13,0,1.0999999999999999E-2,13.010999999999999,13,0,5.0000000000000001E-3,13.005000000000001,13,0,4.0000000000000001E-3,13.004,13,0,6.0000000000000001E-3,13.006,13,0,4.0000000000000001E-3,13.004,13,null,0,8.9999999999999993E-3,13.009,13,0,8.9999999999999993E-3,13.009,13,0,1.0999999999999999E-2,13.010999999999999,13,0,5.0000000000000001E-3,13.005000000000001,13,0,4.0000000000000001E-3,13.004,13,0,6.0000000000000001E-3,13.006,13,0,4.0000000000000001E-3,13.004,13,null,null,null,0,"NO",2000,"YES",null,0,8.9999999999999993E-3,13.009,13,0,8.9999999999999993E-3,13.009,13,0,1.0999999999999999E-2,13.010999999999999,13,0,3.0000000000000001E-3,13.003,13,0,4.0000000000000001E-3,13.004,13,0,6.0000000000000001E-3,13.006,13,0,2E-3,13.002000000000001,13,null,null,0,8.9999999999999993E-3,13.009,13,0,7.0000000000000001E-3,13.007,13,0,1.0999999999999999E-2,13.010999999999999,13,0,1E-3,13.000999999999999,13,0,2E-3,13.002000000000001,13,0,5.0000000000000001E-3,13.005000000000001,13,0,1E-3,13.000999999999999,13]
[13,40,null,null,null,null,null,null,null,null,null,null,null,null,null,null,null,null,null,null,null,null,null,null,null,null,2000,null,null,null,null,null,null,null,null,null,null,0,2000,null,null,null,null,null,null,null,null,null,null,0,2000,null,null,null,null,null,null,null,null,null,null,0,2000,null,null,null,null,null,null,null,null,null,null,0,2000,13,13,13,13,13,13,13,13,13,13,{"$f":"IF($P44=Constants!$B$2,RANK($CB44,$CB$6:$CB$64,1),\"-\")","v":"-"},"",{"$f":"IF($P44=Constants!$B$3,RANK($CB44,$CB$6:$CB$64,1),\"-\")","v":"-"},"",{"$f":"IF($P44=Constants!$B$4,RANK($CB44,$CB$6:$CB$64,1),\"-\")","v":"-"},"",{"$f":"IF($O44=Constants!$C$2,RANK($CB44,$CB$6:$CB$64,1),\"-\")","v":"-"},"",{"$f":"IF($O44=Constants!$C$3,RANK($CB44,$CB$6:$CB$64,1),\"-\")","v":"-"},"",{"$f":"IF($O44=Constants!$C$4,RANK($CB44,$CB$6:$CB$64,1),\"-\")","v":"-"},"",{"$f":"IF($G44=Constants!$D$4,RANK($CB44,$CB$6:$CB$64,1),\"-\")","v":"-"}," ",{"$f":"IF($G44=Constants!$D$2,RANK($CB44,$CB$6:$CB$64,1),\"-\")","v":"-"}," "," ",0,0,null,0,8.9999999999999993E-3,13.009,13,0,0.01,13.01,13,0,1.0999999999999999E-2,13.010999999999999,13,0,5.0000000000000001E-3,13.005000000000001,13,0,4.0000000000000001E-3,13.004,13,0,6.0000000000000001E-3,13.006,13,0,4.0000000000000001E-3,13.004,13,null,null,0,8.9999999999999993E-3,13.009,13,0,0.01,13.01,13,0,1.0999999999999999E-2,13.010999999999999,13,0,5.0000000000000001E-3,13.005000000000001,13,0,4.0000000000000001E-3,13.004,13,0,6.0000000000000001E-3,13.006,13,0,4.0000000000000001E-3,13.004,13,null,0,8.9999999999999993E-3,13.009,13,0,8.9999999999999993E-3,13.009,13,0,1.0999999999999999E-2,13.010999999999999,13,0,5.0000000000000001E-3,13.005000000000001,13,0,4.0000000000000001E-3,13.004,13,0,6.0000000000000001E-3,13.006,13,0,4.0000000000000001E-3,13.004,13,null,null,null,0,"NO",2000,"YES",null,0,8.9999999999999993E-3,13.009,13,0,8.9999999999999993E-3,13.009,13,0,1.0999999999999999E-2,13.010999999999999,13,0,3.0000000000000001E-3,13.003,13,0,4.0000000000000001E-3,13.004,13,0,6.0000000000000001E-3,13.006,13,0,2E-3,13.002000000000001,13,null,null,0,8.9999999999999993E-3,13.009,13,0,7.0000000000000001E-3,13.007,13,0,1.0999999999999999E-2,13.010999999999999,13,0,1E-3,13.000999999999999,13,0,2E-3,13.002000000000001,13,0,5.0000000000000001E-3,13.005000000000001,13,0,1E-3,13.000999999999999,13]
[13,41,null,null,null,null,null,null,null,null,null,null,null,null,null,null,null,null,null,null,null,null,null,null,null,null,2000,null,null,null,null,null,null,null,null,null,null,0,2000,null,null,null,null,null,null,null,null,null,null,0,2000,null,null,null,null,null,null,null,null,null,null,0,2000,null,null,null,null,null,null,null,null,null,null,0,2000,13,13,13,13,13,13,13,13,13,13,{"$f":"IF($P45=Constants!$B$2,RANK($CB45,$CB$6:$CB$64,1),\"-\")","v":"-"},"",{"$f":"IF($P45=Constants!$B$3,RANK($CB45,$CB$6:$CB$64,1),\"-\")","v":"-"},"",{"$f":"IF($P45=Constants!$B$4,RANK($CB45,$CB$6:$CB$64,1),\"-\")","v":"-"},"",{"$f":"IF($O45=Constants!$C$2,RANK($CB45,$CB$6:$CB$64,1),\"-\")","v":"-"},"",{"$f":"IF($O45=Constants!$C$3,RANK($CB45,$CB$6:$CB$64,1),\"-\")","v":"-"},"",{"$f":"IF($O45=Constants!$C$4,RANK($CB45,$CB$6:$CB$64,1),\"-\")","v":"-"},"",{"$f":"IF($G45=Constants!$D$4,RANK($CB45,$CB$6:$CB$64,1),\"-\")","v":"-"}," ",{"$f":"IF($G45=Constants!$D$2,RANK($CB45,$CB$6:$CB$64,1),\"-\")","v":"-"}," "," ",0,0,null,0,8.9999999999999993E-3,13.009,13,0,0.01,13.01,13,0,1.0999999999999999E-2,13.010999999999999,13,0,5.0000000000000001E-3,13.005000000000001,13,0,4.0000000000000001E-3,13.004,13,0,6.0000000000000001E-3,13.006,13,0,4.0000000000000001E-3,13.004,13,null,null,0,8.9999999999999993E-3,13.009,13,0,0.01,13.01,13,0,1.0999999999999999E-2,13.010999999999999,13,0,5.0000000000000001E-3,13.005000000000001,13,0,4.0000000000000001E-3,13.004,13,0,6.0000000000000001E-3,13.006,13,0,4.0000000000000001E-3,13.004,13,null,0,8.9999999999999993E-3,13.009,13,0,8.9999999999999993E-3,13.009,13,0,1.0999999999999999E-2,13.010999999999999,13,0,5.0000000000000001E-3,13.005000000000001,13,0,4.0000000000000001E-3,13.004,13,0,6.0000000000000001E-3,13.006,13,0,4.0000000000000001E-3,13.004,13,null,null,null,0,"NO",2000,"YES",null,0,8.9999999999999993E-3,13.009,13,0,8.9999999999999993E-3,13.009,13,0,1.0999999999999999E-2,13.010999999999999,13,0,3.0000000000000001E-3,13.003,13,0,4.0000000000000001E-3,13.004,13,0,6.0000000000000001E-3,13.006,13,0,2E-3,13.002000000000001,13,null,null,0,8.9999999999999993E-3,13.009,13,0,7.0000000000000001E-3,13.007,13,0,1.0999999999999999E-2,13.010999999999999,13,0,1E-3,13.000999999999999,13,0,2E-3,13.002000000000001,13,0,5.0000000000000001E-3,13.005000000000001,13,0,1E-3,13.000999999999999,13]
[13,42,null,null,null,null,null,null,null,null,null,null,null,null,null,null,null,null,null,null,null,null,null,null,null,null,2000,null,null,null,null,null,null,null,null,null,null,0,2000,null,null,null,null,null,null,null,null,null,null,0,2000,null,null,null,null,null,null,null,null,null,null,0,2000,null,null,null,null,null,null,null,null,null,null,0,2000,13,13,13,13,13,13,13,13,13,13,{"$f":"IF($P46=Constants!$B$2,RANK($CB46,$CB$6:$CB$64,1),\"-\")","v":"-"},"",{"$f":"IF($P46=Constants!$B$3,RANK($CB46,$CB$6:$CB$64,1),\"-\")","v":"-"},"",{"$f":"IF($P46=Constants!$B$4,RANK($CB46,$CB$6:$CB$64,1),\"-\")","v":"-"},"",{"$f":"IF($O46=Constants!$C$2,RANK($CB46,$CB$6:$CB$64,1),\"-\")","v":"-"},"",{"$f":"IF($O46=Constants!$C$3,RANK($CB46,$CB$6:$CB$64,1),\"-\")","v":"-"},"",{"$f":"IF($O46=Constants!$C$4,RANK($CB46,$CB$6:$CB$64,1),\"-\")","v":"-"},"",{"$f":"IF($G46=Constants!$D$4,RANK($CB46,$CB$6:$CB$64,1),\"-\")","v":"-"}," ",{"$f":"IF($G46=Constants!$D$2,RANK($CB46,$CB$6:$CB$64,1),\"-\")","v":"-"}," "," ",0,0,null,0,8.9999999999999993E-3,13.009,13,0,0.01,13.01,13,0,1.0999999999999999E-2,13.010999999999999,13,0,5.0000000000000001E-3,13.005000000000001,13,0,4.0000000000000001E-3,13.004,13,0,6.0000000000000001E-3,13.006,13,0,4.0000000000000001E-3,13.004,13,null,null,0,8.9999999999999993E-3,13.009,13,0,0.01,13.01,13,0,1.0999999999999999E-2,13.010999999999999,13,0,5.0000000000000001E-3,13.005000000000001,13,0,4.0000000000000001E-3,13.004,13,0,6.0000000000000001E-3,13.006,13,0,4.0000000000000001E-3,13.004,13,null,0,8.9999999999999993E-3,13.009,13,0,8.9999999999999993E-3,13.009,13,0,1.0999999999999999E-2,13.010999999999999,13,0,5.0000000000000001E-3,13.005000000000001,13,0,4.0000000000000001E-3,13.004,13,0,6.0000000000000001E-3,13.006,13,0,4.0000000000000001E-3,13.004,13,null,null,null,0,"NO",2000,"YES",null,0,8.9999999999999993E-3,13.009,13,0,8.9999999999999993E-3,13.009,13,0,1.0999999999999999E-2,13.010999999999999,13,0,3.0000000000000001E-3,13.003,13,0,4.0000000000000001E-3,13.004,13,0,6.0000000000000001E-3,13.006,13,0,2E-3,13.002000000000001,13,null,null,0,8.9999999999999993E-3,13.009,13,0,7.0000000000000001E-3,13.007,13,0,1.0999999999999999E-2,13.010999999999999,13,0,1E-3,13.000999999999999,13,0,2E-3,13.002000000000001,13,0,5.0000000000000001E-3,13.005000000000001,13,0,1E-3,13.000999999999999,13]
[13,43,null,null,null,null,null,null,null,null,null,null,null,null,null,null,null,null,null,null,null,null,null,null,null,null,2000,null,null,null,null,null,null,null,null,null,null,0,2000,null,null,null,null,null,null,null,null,null,null,0,2000,null,null,null,null,null,null,null,null,null,null,0,2000,null,null,null,null,null,null,null,null,null,null,0,2000,13,13,13,13,13,13,13,13,13,13,{"$f":"IF($P47=Constants!$B$2,RANK($CB47,$CB$6:$CB$64,1),\"-\")","v":"-"},"",{"$f":"IF($P47=Constants!$B$3,RANK($CB47,$CB$6:$CB$64,1),\"-\")","v":"-"},"",{"$f":"IF($P47=Constants!$B$4,RANK($CB47,$CB$6:$CB$64,1),\"-\")","v":"-"},"",{"$f":"IF($O47=Constants!$C$2,RANK($CB47,$CB$6:$CB$64,1),\"-\")","v":"-"},"",{"$f":"IF($O47=Constants!$C$3,RANK($CB47,$CB$6:$CB$64,1),\"-\")","v":"-"},"",{"$f":"IF($O47=Constants!$C$4,RANK($CB47,$CB$6:$CB$64,1),\"-\")","v":"-"},"",{"$f":"IF($G47=Constants!$D$4,RANK($CB47,$CB$6:$CB$64,1),\"-\")","v":"-"}," ",{"$f":"IF($G47=Constants!$D$2,RANK($CB47,$CB$6:$CB$64,1),\"-\")","v":"-"}," "," ",0,0,null,0,8.9999999999999993E-3,13.009,13,0,0.01,13.01,13,0,1.0999999999999999E-2,13.010999999999999,13,0,5.0000000000000001E-3,13.005000000000001,13,0,4.0000000000000001E-3,13.004,13,0,6.0000000000000001E-3,13.006,13,0,4.0000000000000001E-3,13.004,13,null,null,0,8.9999999999999993E-3,13.009,13,0,0.01,13.01,13,0,1.0999999999999999E-2,13.010999999999999,13,0,5.0000000000000001E-3,13.005000000000001,13,0,4.0000000000000001E-3,13.004,13,0,6.0000000000000001E-3,13.006,13,0,4.0000000000000001E-3,13.004,13,null,0,8.9999999999999993E-3,13.009,13,0,8.9999999999999993E-3,13.009,13,0,1.0999999999999999E-2,13.010999999999999,13,0,5.0000000000000001E-3,13.005000000000001,13,0,4.0000000000000001E-3,13.004,13,0,6.0000000000000001E-3,13.006,13,0,4.0000000000000001E-3,13.004,13,null,null,null,0,"NO",2000,"YES",null,0,8.9999999999999993E-3,13.009,13,0,8.9999999999999993E-3,13.009,13,0,1.0999999999999999E-2,13.010999999999999,13,0,3.0000000000000001E-3,13.003,13,0,4.0000000000000001E-3,13.004,13,0,6.0000000000000001E-3,13.006,13,0,2E-3,13.002000000000001,13,null,null,0,8.9999999999999993E-3,13.009,13,0,7.0000000000000001E-3,13.007,13,0,1.0999999999999999E-2,13.010999999999999,13,0,1E-3,13.000999999999999,13,0,2E-3,13.002000000000001,13,0,5.0000000000000001E-3,13.005000000000001,13,0,1E-3,13.000999999999999,13]
[13,44,null,null,null,null,null,null,null,null,null,null,null,null,null,null,null,null,null,null,null,null,null,null,null,null,2000,null,null,null,null,null,null,null,null,null,null,0,2000,null,null,null,null,null,null,null,null,null,null,0,2000,null,null,null,null,null,null,null,null,null,null,0,2000,null,null,null,null,null,null,null,null,null,null,0,2000,13,13,13,13,13,13,13,13,13,13,{"$f":"IF($P48=Constants!$B$2,RANK($CB48,$CB$6:$CB$64,1),\"-\")","v":"-"},"",{"$f":"IF($P48=Constants!$B$3,RANK($CB48,$CB$6:$CB$64,1),\"-\")","v":"-"},"",{"$f":"IF($P48=Constants!$B$4,RANK($CB48,$CB$6:$CB$64,1),\"-\")","v":"-"},"",{"$f":"IF($O48=Constants!$C$2,RANK($CB48,$CB$6:$CB$64,1),\"-\")","v":"-"},"",{"$f":"IF($O48=Constants!$C$3,RANK($CB48,$CB$6:$CB$64,1),\"-\")","v":"-"},"",{"$f":"IF($O48=Constants!$C$4,RANK($CB48,$CB$6:$CB$64,1),\"-\")","v":"-"},"",{"$f":"IF($G48=Constants!$D$4,RANK($CB48,$CB$6:$CB$64,1),\"-\")","v":"-"}," ",{"$f":"IF($G48=Constants!$D$2,RANK($CB48,$CB$6:$CB$64,1),\"-\")","v":"-"}," "," ",0,0,null,0,8.9999999999999993E-3,13.009,13,0,0.01,13.01,13,0,1.0999999999999999E-2,13.010999999999999,13,0,5.0000000000000001E-3,13.005000000000001,13,0,4.0000000000000001E-3,13.004,13,0,6.0000000000000001E-3,13.006,13,0,4.0000000000000001E-3,13.004,13,null,null,0,8.9999999999999993E-3,13.009,13,0,0.01,13.01,13,0,1.0999999999999999E-2,13.010999999999999,13,0,5.0000000000000001E-3,13.005000000000001,13,0,4.0000000000000001E-3,13.004,13,0,6.0000000000000001E-3,13.006,13,0,4.0000000000000001E-3,13.004,13,null,0,8.9999999999999993E-3,13.009,13,0,8.9999999999999993E-3,13.009,13,0,1.0999999999999999E-2,13.010999999999999,13,0,5.0000000000000001E-3,13.005000000000001,13,0,4.0000000000000001E-3,13.004,13,0,6.0000000000000001E-3,13.006,13,0,4.0000000000000001E-3,13.004,13,null,null,null,0,"NO",2000,"YES",null,0,8.9999999999999993E-3,13.009,13,0,8.9999999999999993E-3,13.009,13,0,1.0999999999999999E-2,13.010999999999999,13,0,3.0000000000000001E-3,13.003,13,0,4.0000000000000001E-3,13.004,13,0,6.0000000000000001E-3,13.006,13,0,2E-3,13.002000000000001,13,null,null,0,8.9999999999999993E-3,13.009,13,0,7.0000000000000001E-3,13.007,13,0,1.0999999999999999E-2,13.010999999999999,13,0,1E-3,13.000999999999999,13,0,2E-3,13.002000000000001,13,0,5.0000000000000001E-3,13.005000000000001,13,0,1E-3,13.000999999999999,13]
[13,45,null,null,null,null,null,null,null,null,null,null,null,null,null,null,null,null,null,null,null,null,null,null,null,null,2000,null,null,null,null,null,null,null,null,null,null,0,2000,null,null,null,null,null,null,null,null,null,null,0,2000,null,null,null,null,null,null,null,null,null,null,0,2000,null,null,null,null,null,null,null,null,null,null,0,2000,13,13,13,13,13,13,13,13,13,13,{"$f":"IF($P49=Constants!$B$2,RANK($CB49,$CB$6:$CB$64,1),\"-\")","v":"-"},"",{"$f":"IF($P49=Constants!$B$3,RANK($CB49,$CB$6:$CB$64,1),\"-\")","v":"-"},"",{"$f":"IF($P49=Constants!$B$4,RANK($CB49,$CB$6:$CB$64,1),\"-\")","v":"-"},"",{"$f":"IF($O49=Constants!$C$2,RANK($CB49,$CB$6:$CB$64,1),\"-\")","v":"-"},"",{"$f":"IF($O49=Constants!$C$3,RANK($CB49,$CB$6:$CB$64,1),\"-\")","v":"-"},"",{"$f":"IF($O49=Constants!$C$4,RANK($CB49,$CB$6:$CB$64,1),\"-\")","v":"-"},"",{"$f":"IF($G49=Constants!$D$4,RANK($CB49,$CB$6:$CB$64,1),\"-\")","v":"-"}," ",{"$f":"IF($G49=Constants!$D$2,RANK($CB49,$CB$6:$CB$64,1),\"-\")","v":"-"}," "," ",0,0,null,0,8.9999999999999993E-3,13.009,13,0,0.01,13.01,13,0,1.0999999999999999E-2,13.010999999999999,13,0,5.0000000000000001E-3,13.005000000000001,13,0,4.0000000000000001E-3,13.004,13,0,6.0000000000000001E-3,13.006,13,0,4.0000000000000001E-3,13.004,13,null,null,0,8.9999999999999993E-3,13.009,13,0,0.01,13.01,13,0,1.0999999999999999E-2,13.010999999999999,13,0,5.0000000000000001E-3,13.005000000000001,13,0,4.0000000000000001E-3,13.004,13,0,6.0000000000000001E-3,13.006,13,0,4.0000000000000001E-3,13.004,13,null,0,8.9999999999999993E-3,13.009,13,0,8.9999999999999993E-3,13.009,13,0,1.0999999999999999E-2,13.010999999999999,13,0,5.0000000000000001E-3,13.005000000000001,13,0,4.0000000000000001E-3,13.004,13,0,6.0000000000000001E-3,13.006,13,0,4.0000000000000001E-3,13.004,13,null,null,null,0,"NO",2000,"YES",null,0,8.9999999999999993E-3,13.009,13,0,8.9999999999999993E-3,13.009,13,0,1.0999999999999999E-2,13.010999999999999,13,0,3.0000000000000001E-3,13.003,13,0,4.0000000000000001E-3,13.004,13,0,6.0000000000000001E-3,13.006,13,0,2E-3,13.002000000000001,13,null,null,0,8.9999999999999993E-3,13.009,13,0,7.0000000000000001E-3,13.007,13,0,1.0999999999999999E-2,13.010999999999999,13,0,1E-3,13.000999999999999,13,0,2E-3,13.002000000000001,13,0,5.0000000000000001E-3,13.005000000000001,13,0,1E-3,13.000999999999999,13]
[13,46,null,null,null,null,null,null,null,null,null,null,null,null,null,null,null,null,null,null,null,null,null,null,null,null,2000,null,null,null,null,null,null,null,null,null,null,0,2000,null,null,null,null,null,null,null,null,null,null,0,2000,null,null,null,null,null,null,null,null,null,null,0,2000,null,null,null,null,null,null,null,null,null,null,0,2000,13,13,13,13,13,13,13,13,13,13,{"$f":"IF($P50=Constants!$B$2,RANK($CB50,$CB$6:$CB$64,1),\"-\")","v":"-"},"",{"$f":"IF($P50=Constants!$B$3,RANK($CB50,$CB$6:$CB$64,1),\"-\")","v":"-"},"",{"$f":"IF($P50=Constants!$B$4,RANK($CB50,$CB$6:$CB$64,1),\"-\")","v":"-"},"",{"$f":"IF($O50=Constants!$C$2,RANK($CB50,$CB$6:$CB$64,1),\"-\")","v":"-"},"",{"$f":"IF($O50=Constants!$C$3,RANK($CB50,$CB$6:$CB$64,1),\"-\")","v":"-"},"",{"$f":"IF($O50=Constants!$C$4,RANK($CB50,$CB$6:$CB$64,1),\"-\")","v":"-"},"",{"$f":"IF($G50=Constants!$D$4,RANK($CB50,$CB$6:$CB$64,1),\"-\")","v":"-"}," ",{"$f":"IF($G50=Constants!$D$2,RANK($CB50,$CB$6:$CB$64,1),\"-\")","v":"-"}," "," ",0,0,null,0,8.9999999999999993E-3,13.009,13,0,0.01,13.01,13,0,1.0999999999999999E-2,13.010999999999999,13,0,5.0000000000000001E-3,13.005000000000001,13,0,4.0000000000000001E-3,13.004,13,0,6.0000000000000001E-3,13.006,13,0,4.0000000000000001E-3,13.004,13,null,null,0,8.9999999999999993E-3,13.009,13,0,0.01,13.01,13,0,1.0999999999999999E-2,13.010999999999999,13,0,5.0000000000000001E-3,13.005000000000001,13,0,4.0000000000000001E-3,13.004,13,0,6.0000000000000001E-3,13.006,13,0,4.0000000000000001E-3,13.004,13,null,0,8.9999999999999993E-3,13.009,13,0,8.9999999999999993E-3,13.009,13,0,1.0999999999999999E-2,13.010999999999999,13,0,5.0000000000000001E-3,13.005000000000001,13,0,4.0000000000000001E-3,13.004,13,0,6.0000000000000001E-3,13.006,13,0,4.0000000000000001E-3,13.004,13,null,null,null,0,"NO",2000,"YES",null,0,8.9999999999999993E-3,13.009,13,0,8.9999999999999993E-3,13.009,13,0,1.0999999999999999E-2,13.010999999999999,13,0,3.0000000000000001E-3,13.003,13,0,4.0000000000000001E-3,13.004,13,0,6.0000000000000001E-3,13.006,13,0,2E-3,13.002000000000001,13,null,null,0,8.9999999999999993E-3,13.009,13,0,7.0000000000000001E-3,13.007,13,0,1.0999999999999999E-2,13.010999999999999,13,0,1E-3,13.000999999999999,13,0,2E-3,13.002000000000001,13,0,5.0000000000000001E-3,13.005000000000001,13,0,1E-3,13.000999999999999,13]
[13,47,null,null,null,null,null,null,null,null,null,null,null,null,null,null,null,null,null,null,null,null,null,null,null,null,2000,null,null,null,null,null,null,null,null,null,null,0,2000,null,null,null,null,null,null,null,null,null,null,0,2000,null,null,null,null,null,null,null,null,null,null,0,2000,null,null,null,null,null,null,null,null,null,null,0,2000,13,13,13,13,13,13,13,13,13,13,{"$f":"IF($P51=Constants!$B$2,RANK($CB51,$CB$6:$CB$64,1),\"-\")","v":"-"},"",{"$f":"IF($P51=Constants!$B$3,RANK($CB51,$CB$6:$CB$64,1),\"-\")","v":"-"},"",{"$f":"IF($P51=Constants!$B$4,RANK($CB51,$CB$6:$CB$64,1),\"-\")","v":"-"},"",{"$f":"IF($O51=Constants!$C$2,RANK($CB51,$CB$6:$CB$64,1),\"-\")","v":"-"},"",{"$f":"IF($O51=Constants!$C$3,RANK($CB51,$CB$6:$CB$64,1),\"-\")","v":"-"},"",{"$f":"IF($O51=Constants!$C$4,RANK($CB51,$CB$6:$CB$64,1),\"-\")","v":"-"},"",{"$f":"IF($G51=Constants!$D$4,RANK($CB51,$CB$6:$CB$64,1),\"-\")","v":"-"}," ",{"$f":"IF($G51=Constants!$D$2,RANK($CB51,$CB$6:$CB$64,1),\"-\")","v":"-"}," "," ",0,0,null,0,8.9999999999999993E-3,13.009,13,0,0.01,13.01,13,0,1.0999999999999999E-2,13.010999999999999,13,0,5.0000000000000001E-3,13.005000000000001,13,0,4.0000000000000001E-3,13.004,13,0,6.0000000000000001E-3,13.006,13,0,4.0000000000000001E-3,13.004,13,null,null,0,8.9999999999999993E-3,13.009,13,0,0.01,13.01,13,0,1.0999999999999999E-2,13.010999999999999,13,0,5.0000000000000001E-3,13.005000000000001,13,0,4.0000000000000001E-3,13.004,13,0,6.0000000000000001E-3,13.006,13,0,4.0000000000000001E-3,13.004,13,null,0,8.9999999999999993E-3,13.009,13,0,8.9999999999999993E-3,13.009,13,0,1.0999999999999999E-2,13.010999999999999,13,0,5.0000000000000001E-3,13.005000000000001,13,0,4.0000000000000001E-3,13.004,13,0,6.0000000000000001E-3,13.006,13,0,4.0000000000000001E-3,13.004,13,null,null,null,0,"NO",2000,"YES",null,0,8.9999999999999993E-3,13.009,13,0,8.9999999999999993E-3,13.009,13,0,1.0999999999999999E-2,13.010999999999999,13,0,3.0000000000000001E-3,13.003,13,0,4.0000000000000001E-3,13.004,13,0,6.0000000000000001E-3,13.006,13,0,2E-3,13.002000000000001,13,null,null,0,8.9999999999999993E-3,13.009,13,0,7.0000000000000001E-3,13.007,13,0,1.0999999999999999E-2,13.010999999999999,13,0,1E-3,13.000999999999999,13,0,2E-3,13.002000000000001,13,0,5.0000000000000001E-3,13.005000000000001,13,0,1E-3,13.000999999999999,13]
[13,48,null,null,null,null,null,null,null,null,null,null,null,null,null,null,null,null,null,null,null,null,null,null,null,null,2000,null,null,null,null,null,null,null,null,null,null,0,2000,null,null,null,null,null,null,null,null,null,null,0,2000,null,null,null,null,null,null,null,null,null,null,0,2000,null,null,null,null,null,null,null,null,null,null,0,2000,13,13,13,13,13,13,13,13,13,13,{"$f":"IF($P52=Constants!$B$2,RANK($CB52,$CB$6:$CB$64,1),\"-\")","v":"-"},"",{"$f":"IF($P52=Constants!$B$3,RANK($CB52,$CB$6:$CB$64,1),\"-\")","v":"-"},"",{"$f":"IF($P52=Constants!$B$4,RANK($CB52,$CB$6:$CB$64,1),\"-\")","v":"-"},"",{"$f":"IF($O52=Constants!$C$2,RANK($CB52,$CB$6:$CB$64,1),\"-\")","v":"-"},"",{"$f":"IF($O52=Constants!$C$3,RANK($CB52,$CB$6:$CB$64,1),\"-\")","v":"-"},"",{"$f":"IF($O52=Constants!$C$4,RANK($CB52,$CB$6:$CB$64,1),\"-\")","v":"-"},"",{"$f":"IF($G52=Constants!$D$4,RANK($CB52,$CB$6:$CB$64,1),\"-\")","v":"-"}," ",{"$f":"IF($G52=Constants!$D$2,RANK($CB52,$CB$6:$CB$64,1),\"-\")","v":"-"}," "," ",0,0,null,0,8.9999999999999993E-3,13.009,13,0,0.01,13.01,13,0,1.0999999999999999E-2,13.010999999999999,13,0,5.0000000000000001E-3,13.005000000000001,13,0,4.0000000000000001E-3,13.004,13,0,6.0000000000000001E-3,13.006,13,0,4.0000000000000001E-3,13.004,13,null,null,0,8.9999999999999993E-3,13.009,13,0,0.01,13.01,13,0,1.0999999999999999E-2,13.010999999999999,13,0,5.0000000000000001E-3,13.005000000000001,13,0,4.0000000000000001E-3,13.004,13,0,6.0000000000000001E-3,13.006,13,0,4.0000000000000001E-3,13.004,13,null,0,8.9999999999999993E-3,13.009,13,0,8.9999999999999993E-3,13.009,13,0,1.0999999999999999E-2,13.010999999999999,13,0,5.0000000000000001E-3,13.005000000000001,13,0,4.0000000000000001E-3,13.004,13,0,6.0000000000000001E-3,13.006,13,0,4.0000000000000001E-3,13.004,13,null,null,null,0,"NO",2000,"YES",null,0,8.9999999999999993E-3,13.009,13,0,8.9999999999999993E-3,13.009,13,0,1.0999999999999999E-2,13.010999999999999,13,0,3.0000000000000001E-3,13.003,13,0,4.0000000000000001E-3,13.004,13,0,6.0000000000000001E-3,13.006,13,0,2E-3,13.002000000000001,13,null,null,0,8.9999999999999993E-3,13.009,13,0,7.0000000000000001E-3,13.007,13,0,1.0999999999999999E-2,13.010999999999999,13,0,1E-3,13.000999999999999,13,0,2E-3,13.002000000000001,13,0,5.0000000000000001E-3,13.005000000000001,13,0,1E-3,13.000999999999999,13]
[13,49,null,null,null,null,null,null,null,null,null,null,null,null,null,null,null,null,null,null,null,null,null,null,null,null,2000,null,null,null,null,null,null,null,null,null,null,0,2000,null,null,null,null,null,null,null,null,null,null,0,2000,null,null,null,null,null,null,null,null,null,null,0,2000,null,null,null,null,null,null,null,null,null,null,0,2000,13,13,13,13,13,13,13,13,13,13,{"$f":"IF($P53=Constants!$B$2,RANK($CB53,$CB$6:$CB$64,1),\"-\")","v":"-"},"",{"$f":"IF($P53=Constants!$B$3,RANK($CB53,$CB$6:$CB$64,1),\"-\")","v":"-"},"",{"$f":"IF($P53=Constants!$B$4,RANK($CB53,$CB$6:$CB$64,1),\"-\")","v":"-"},"",{"$f":"IF($O53=Constants!$C$2,RANK($CB53,$CB$6:$CB$64,1),\"-\")","v":"-"},"",{"$f":"IF($O53=Constants!$C$3,RANK($CB53,$CB$6:$CB$64,1),\"-\")","v":"-"},"",{"$f":"IF($O53=Constants!$C$4,RANK($CB53,$CB$6:$CB$64,1),\"-\")","v":"-"},"",{"$f":"IF($G53=Constants!$D$4,RANK($CB53,$CB$6:$CB$64,1),\"-\")","v":"-"}," ",{"$f":"IF($G53=Constants!$D$2,RANK($CB53,$CB$6:$CB$64,1),\"-\")","v":"-"}," "," ",0,0,null,0,8.9999999999999993E-3,13.009,13,0,0.01,13.01,13,0,1.0999999999999999E-2,13.010999999999999,13,0,5.0000000000000001E-3,13.005000000000001,13,0,4.0000000000000001E-3,13.004,13,0,6.0000000000000001E-3,13.006,13,0,4.0000000000000001E-3,13.004,13,null,null,0,8.9999999999999993E-3,13.009,13,0,0.01,13.01,13,0,1.0999999999999999E-2,13.010999999999999,13,0,5.0000000000000001E-3,13.005000000000001,13,0,4.0000000000000001E-3,13.004,13,0,6.0000000000000001E-3,13.006,13,0,4.0000000000000001E-3,13.004,13,null,0,8.9999999999999993E-3,13.009,13,0,8.9999999999999993E-3,13.009,13,0,1.0999999999999999E-2,13.010999999999999,13,0,5.0000000000000001E-3,13.005000000000001,13,0,4.0000000000000001E-3,13.004,13,0,6.0000000000000001E-3,13.006,13,0,4.0000000000000001E-3,13.004,13,null,null,null,0,"NO",2000,"YES",null,0,8.9999999999999993E-3,13.009,13,0,8.9999999999999993E-3,13.009,13,0,1.0999999999999999E-2,13.010999999999999,13,0,3.0000000000000001E-3,13.003,13,0,4.0000000000000001E-3,13.004,13,0,6.0000000000000001E-3,13.006,13,0,2E-3,13.002000000000001,13,null,null,0,8.9999999999999993E-3,13.009,13,0,7.0000000000000001E-3,13.007,13,0,1.0999999999999999E-2,13.010999999999999,13,0,1E-3,13.000999999999999,13,0,2E-3,13.002000000000001,13,0,5.0000000000000001E-3,13.005000000000001,13,0,1E-3,13.000999999999999,13]
[13,50,null,null,null,null,null,null,null,null,null,null,null,null,null,null,null,null,null,null,null,null,null,null,null,null,2000,null,null,null,null,null,null,null,null,null,null,0,2000,null,null,null,null,null,null,null,null,null,null,0,2000,null,null,null,null,null,null,null,null,null,null,0,2000,null,null,null,null,null,null,null,null,null,null,0,2000,13,13,13,13,13,13,13,13,13,13,{"$f":"IF($P54=Constants!$B$2,RANK($CB54,$CB$6:$CB$64,1),\"-\")","v":"-"},"",{"$f":"IF($P54=Constants!$B$3,RANK($CB54,$CB$6:$CB$64,1),\"-\")","v":"-"},"",{"$f":"IF($P54=Constants!$B$4,RANK($CB54,$CB$6:$CB$64,1),\"-\")","v":"-"},"",{"$f":"IF($O54=Constants!$C$2,RANK($CB54,$CB$6:$CB$64,1),\"-\")","v":"-"},"",{"$f":"IF($O54=Constants!$C$3,RANK($CB54,$CB$6:$CB$64,1),\"-\")","v":"-"},"",{"$f":"IF($O54=Constants!$C$4,RANK($CB54,$CB$6:$CB$64,1),\"-\")","v":"-"},"",{"$f":"IF($G54=Constants!$D$4,RANK($CB54,$CB$6:$CB$64,1),\"-\")","v":"-"}," ",{"$f":"IF($G54=Constants!$D$2,RANK($CB54,$CB$6:$CB$64,1),\"-\")","v":"-"}," "," ",0,0,null,0,8.9999999999999993E-3,13.009,13,0,0.01,13.01,13,0,1.0999999999999999E-2,13.010999999999999,13,0,5.0000000000000001E-3,13.005000000000001,13,0,4.0000000000000001E-3,13.004,13,0,6.0000000000000001E-3,13.006,13,0,4.0000000000000001E-3,13.004,13,null,null,0,8.9999999999999993E-3,13.009,13,0,0.01,13.01,13,0,1.0999999999999999E-2,13.010999999999999,13,0,5.0000000000000001E-3,13.005000000000001,13,0,4.0000000000000001E-3,13.004,13,0,6.0000000000000001E-3,13.006,13,0,4.0000000000000001E-3,13.004,13,null,0,8.9999999999999993E-3,13.009,13,0,8.9999999999999993E-3,13.009,13,0,1.0999999999999999E-2,13.010999999999999,13,0,5.0000000000000001E-3,13.005000000000001,13,0,4.0000000000000001E-3,13.004,13,0,6.0000000000000001E-3,13.006,13,0,4.0000000000000001E-3,13.004,13,null,null,null,0,"NO",2000,"YES",null,0,8.9999999999999993E-3,13.009,13,0,8.9999999999999993E-3,13.009,13,0,1.0999999999999999E-2,13.010999999999999,13,0,3.0000000000000001E-3,13.003,13,0,4.0000000000000001E-3,13.004,13,0,6.0000000000000001E-3,13.006,13,0,2E-3,13.002000000000001,13,null,null,0,8.9999999999999993E-3,13.009,13,0,7.0000000000000001E-3,13.007,13,0,1.0999999999999999E-2,13.010999999999999,13,0,1E-3,13.000999999999999,13,0,2E-3,13.002000000000001,13,0,5.0000000000000001E-3,13.005000000000001,13,0,1E-3,13.000999999999999,13]
[13,51,null,null,null,null,null,null,null,null,null,null,null,null,null,null,null,null,null,null,null,null,null,null,null,null,2000,null,null,null,null,null,null,null,null,null,null,0,2000,null,null,null,null,null,null,null,null,null,null,0,2000,null,null,null,null,null,null,null,null,null,null,0,2000,null,null,null,null,null,null,null,null,null,null,0,2000,13,13,13,13,13,13,13,13,13,13,{"$f":"IF($P55=Constants!$B$2,RANK($CB55,$CB$6:$CB$64,1),\"-\")","v":"-"},"",{"$f":"IF($P55=Constants!$B$3,RANK($CB55,$CB$6:$CB$64,1),\"-\")","v":"-"},"",{"$f":"IF($P55=Constants!$B$4,RANK($CB55,$CB$6:$CB$64,1),\"-\")","v":"-"},"",{"$f":"IF($O55=Constants!$C$2,RANK($CB55,$CB$6:$CB$64,1),\"-\")","v":"-"},"",{"$f":"IF($O55=Constants!$C$3,RANK($CB55,$CB$6:$CB$64,1),\"-\")","v":"-"},"",{"$f":"IF($O55=Constants!$C$4,RANK($CB55,$CB$6:$CB$64,1),\"-\")","v":"-"},"",{"$f":"IF($G55=Constants!$D$4,RANK($CB55,$CB$6:$CB$64,1),\"-\")","v":"-"}," ",{"$f":"IF($G55=Constants!$D$2,RANK($CB55,$CB$6:$CB$64,1),\"-\")","v":"-"}," "," ",0,0,null,0,8.9999999999999993E-3,13.009,13,0,0.01,13.01,13,0,1.0999999999999999E-2,13.010999999999999,13,0,5.0000000000000001E-3,13.005000000000001,13,0,4.0000000000000001E-3,13.004,13,0,6.0000000000000001E-3,13.006,13,0,4.0000000000000001E-3,13.004,13,null,null,0,8.9999999999999993E-3,13.009,13,0,0.01,13.01,13,0,1.0999999999999999E-2,13.010999999999999,13,0,5.0000000000000001E-3,13.005000000000001,13,0,4.0000000000000001E-3,13.004,13,0,6.0000000000000001E-3,13.006,13,0,4.0000000000000001E-3,13.004,13,null,0,8.9999999999999993E-3,13.009,13,0,8.9999999999999993E-3,13.009,13,0,1.0999999999999999E-2,13.010999999999999,13,0,5.0000000000000001E-3,13.005000000000001,13,0,4.0000000000000001E-3,13.004,13,0,6.0000000000000001E-3,13.006,13,0,4.0000000000000001E-3,13.004,13,null,null,null,0,"NO",2000,"YES",null,0,8.9999999999999993E-3,13.009,13,0,8.9999999999999993E-3,13.009,13,0,1.0999999999999999E-2,13.010999999999999,13,0,3.0000000000000001E-3,13.003,13,0,4.0000000000000001E-3,13.004,13,0,6.0000000000000001E-3,13.006,13,0,2E-3,13.002000000000001,13,null,null,0,8.9999999999999993E-3,13.009,13,0,7.0000000000000001E-3,13.007,13,0,1.0999999999999999E-2,13.010999999999999,13,0,1E-3,13.000999999999999,13,0,2E-3,13.002000000000001,13,0,5.0000000000000001E-3,13.005000000000001,13,0,1E-3,13.000999999999999,13]
[13,52,null,null,null,null,null,null,null,null,null,null,null,null,null,null,null,null,null,null,null,null,null,null,null,null,2000,null,null,null,null,null,null,null,null,null,null,0,2000,null,null,null,null,null,null,null,null,null,null,0,2000,null,null,null,null,null,null,null,null,null,null,0,2000,null,null,null,null,null,null,null,null,null,null,0,2000,13,13,13,13,13,13,13,13,13,13,{"$f":"IF($P56=Constants!$B$2,RANK($CB56,$CB$6:$CB$64,1),\"-\")","v":"-"},"",{"$f":"IF($P56=Constants!$B$3,RANK($CB56,$CB$6:$CB$64,1),\"-\")","v":"-"},"",{"$f":"IF($P56=Constants!$B$4,RANK($CB56,$CB$6:$CB$64,1),\"-\")","v":"-"},"",{"$f":"IF($O56=Constants!$C$2,RANK($CB56,$CB$6:$CB$64,1),\"-\")","v":"-"},"",{"$f":"IF($O56=Constants!$C$3,RANK($CB56,$CB$6:$CB$64,1),\"-\")","v":"-"},"",{"$f":"IF($O56=Constants!$C$4,RANK($CB56,$CB$6:$CB$64,1),\"-\")","v":"-"},"",{"$f":"IF($G56=Constants!$D$4,RANK($CB56,$CB$6:$CB$64,1),\"-\")","v":"-"}," ",{"$f":"IF($G56=Constants!$D$2,RANK($CB56,$CB$6:$CB$64,1),\"-\")","v":"-"}," "," ",0,0,null,0,8.9999999999999993E-3,13.009,13,0,0.01,13.01,13,0,1.0999999999999999E-2,13.010999999999999,13,0,5.0000000000000001E-3,13.005000000000001,13,0,4.0000000000000001E-3,13.004,13,0,6.0000000000000001E-3,13.006,13,0,4.0000000000000001E-3,13.004,13,null,null,0,8.9999999999999993E-3,13.009,13,0,0.01,13.01,13,0,1.0999999999999999E-2,13.010999999999999,13,0,5.0000000000000001E-3,13.005000000000001,13,0,4.0000000000000001E-3,13.004,13,0,6.0000000000000001E-3,13.006,13,0,4.0000000000000001E-3,13.004,13,null,0,8.9999999999999993E-3,13.009,13,0,8.9999999999999993E-3,13.009,13,0,1.0999999999999999E-2,13.010999999999999,13,0,5.0000000000000001E-3,13.005000000000001,13,0,4.0000000000000001E-3,13.004,13,0,6.0000000000000001E-3,13.006,13,0,4.0000000000000001E-3,13.004,13,null,null,null,0,"NO",2000,"YES",null,0,8.9999999999999993E-3,13.009,13,0,8.9999999999999993E-3,13.009,13,0,1.0999999999999999E-2,13.010999999999999,13,0,3.0000000000000001E-3,13.003,13,0,4.0000000000000001E-3,13.004,13,0,6.0000000000000001E-3,13.006,13,0,2E-3,13.002000000000001,13,null,null,0,8.9999999999999993E-3,13.009,13,0,7.0000000000000001E-3,13.007,13,0,1.0999999999999999E-2,13.010999999999999,13,0,1E-3,13.000999999999999,13,0,2E-3,13.002000000000001,13,0,5.0000000000000001E-3,13.005000000000001,13,0,1E-3,13.000999999999999,13]
[13,53,null,null,null,null,null,null,null,null,null,null,null,null,null,null,null,null,null,null,null,null,null,null,null,null,2000,null,null,null,null,null,null,null,null,null,null,0,2000,null,null,null,null,null,null,null,null,null,null,0,2000,null,null,null,null,null,null,null,null,null,null,0,2000,null,null,null,null,null,null,null,null,null,null,0,2000,13,13,13,13,13,13,13,13,13,13,{"$f":"IF($P57=Constants!$B$2,RANK($CB57,$CB$6:$CB$64,1),\"-\")","v":"-"},"",{"$f":"IF($P57=Constants!$B$3,RANK($CB57,$CB$6:$CB$64,1),\"-\")","v":"-"},"",{"$f":"IF($P57=Constants!$B$4,RANK($CB57,$CB$6:$CB$64,1),\"-\")","v":"-"},"",{"$f":"IF($O57=Constants!$C$2,RANK($CB57,$CB$6:$CB$64,1),\"-\")","v":"-"},"",{"$f":"IF($O57=Constants!$C$3,RANK($CB57,$CB$6:$CB$64,1),\"-\")","v":"-"},"",{"$f":"IF($O57=Constants!$C$4,RANK($CB57,$CB$6:$CB$64,1),\"-\")","v":"-"},"",{"$f":"IF($G57=Constants!$D$4,RANK($CB57,$CB$6:$CB$64,1),\"-\")","v":"-"}," ",{"$f":"IF($G57=Constants!$D$2,RANK($CB57,$CB$6:$CB$64,1),\"-\")","v":"-"}," "," ",0,0,null,0,8.9999999999999993E-3,13.009,13,0,0.01,13.01,13,0,1.0999999999999999E-2,13.010999999999999,13,0,5.0000000000000001E-3,13.005000000000001,13,0,4.0000000000000001E-3,13.004,13,0,6.0000000000000001E-3,13.006,13,0,4.0000000000000001E-3,13.004,13,null,null,0,8.9999999999999993E-3,13.009,13,0,0.01,13.01,13,0,1.0999999999999999E-2,13.010999999999999,13,0,5.0000000000000001E-3,13.005000000000001,13,0,4.0000000000000001E-3,13.004,13,0,6.0000000000000001E-3,13.006,13,0,4.0000000000000001E-3,13.004,13,null,0,8.9999999999999993E-3,13.009,13,0,8.9999999999999993E-3,13.009,13,0,1.0999999999999999E-2,13.010999999999999,13,0,5.0000000000000001E-3,13.005000000000001,13,0,4.0000000000000001E-3,13.004,13,0,6.0000000000000001E-3,13.006,13,0,4.0000000000000001E-3,13.004,13,null,null,null,0,"NO",2000,"YES",null,0,8.9999999999999993E-3,13.009,13,0,8.9999999999999993E-3,13.009,13,0,1.0999999999999999E-2,13.010999999999999,13,0,3.0000000000000001E-3,13.003,13,0,4.0000000000000001E-3,13.004,13,0,6.0000000000000001E-3,13.006,13,0,2E-3,13.002000000000001,13,null,null,0,8.9999999999999993E-3,13.009,13,0,7.0000000000000001E-3,13.007,13,0,1.0999999999999999E-2,13.010999999999999,13,0,1E-3,13.000999999999999,13,0,2E-3,13.002000000000001,13,0,5.0000000000000001E-3,13.005000000000001,13,0,1E-3,13.000999999999999,13]
[13,54,null,null,null,null,null,null,null,null,null,null,null,null,null,null,null,null,null,null,null,null,null,null,null,null,2000,null,null,null,null,null,null,null,null,null,null,0,2000,null,null,null,null,null,null,null,null,null,null,0,2000,null,null,null,null,null,null,null,null,null,null,0,2000,null,null,null,null,null,null,null,null,null,null,0,2000,13,13,13,13,13,13,13,13,13,13,{"$f":"IF($P58=Constants!$B$2,RANK($CB58,$CB$6:$CB$64,1),\"-\")","v":"-"},"",{"$f":"IF($P58=Constants!$B$3,RANK($CB58,$CB$6:$CB$64,1),\"-\")","v":"-"},"",{"$f":"IF($P58=Constants!$B$4,RANK($CB58,$CB$6:$CB$64,1),\"-\")","v":"-"},"",{"$f":"IF($O58=Constants!$C$2,RANK($CB58,$CB$6:$CB$64,1),\"-\")","v":"-"},"",{"$f":"IF($O58=Constants!$C$3,RANK($CB58,$CB$6:$CB$64,1),\"-\")","v":"-"},"",{"$f":"IF($O58=Constants!$C$4,RANK($CB58,$CB$6:$CB$64,1),\"-\")","v":"-"},"",{"$f":"IF($G58=Constants!$D$4,RANK($CB58,$CB$6:$CB$64,1),\"-\")","v":"-"}," ",{"$f":"IF($G58=Constants!$D$2,RANK($CB58,$CB$6:$CB$64,1),\"-\")","v":"-"}," "," ",0,0,null,0,8.9999999999999993E-3,13.009,13,0,0.01,13.01,13,0,1.0999999999999999E-2,13.010999999999999,13,0,5.0000000000000001E-3,13.005000000000001,13,0,4.0000000000000001E-3,13.004,13,0,6.0000000000000001E-3,13.006,13,0,4.0000000000000001E-3,13.004,13,null,null,0,8.9999999999999993E-3,13.009,13,0,0.01,13.01,13,0,1.0999999999999999E-2,13.010999999999999,13,0,5.0000000000000001E-3,13.005000000000001,13,0,4.0000000000000001E-3,13.004,13,0,6.0000000000000001E-3,13.006,13,0,4.0000000000000001E-3,13.004,13,null,0,8.9999999999999993E-3,13.009,13,0,8.9999999999999993E-3,13.009,13,0,1.0999999999999999E-2,13.010999999999999,13,0,5.0000000000000001E-3,13.005000000000001,13,0,4.0000000000000001E-3,13.004,13,0,6.0000000000000001E-3,13.006,13,0,4.0000000000000001E-3,13.004,13,null,null,null,0,"NO",2000,"YES",null,0,8.9999999999999993E-3,13.009,13,0,8.9999999999999993E-3,13.009,13,0,1.0999999999999999E-2,13.010999999999999,13,0,3.0000000000000001E-3,13.003,13,0,4.0000000000000001E-3,13.004,13,0,6.0000000000000001E-3,13.006,13,0,2E-3,13.002000000000001,13,null,null,0,8.9999999999999993E-3,13.009,13,0,7.0000000000000001E-3,13.007,13,0,1.0999999999999999E-2,13.010999999999999,13,0,1E-3,13.000999999999999,13,0,2E-3,13.002000000000001,13,0,5.0000000000000001E-3,13.005000000000001,13,0,1E-3,13.000999999999999,13]
[13,55,null,null,null,null,null,null,null,null,null,null,null,null,null,null,null,null,null,null,null,null,null,null,null,null,2000,null,null,null,null,null,null,null,null,null,null,0,2000,null,null,null,null,null,null,null,null,null,null,0,2000,null,null,null,null,null,null,null,null,null,null,0,2000,null,null,null,null,null,null,null,null,null,null,0,2000,13,13,13,13,13,13,13,13,13,13,{"$f":"IF($P59=Constants!$B$2,RANK($CB59,$CB$6:$CB$64,1),\"-\")","v":"-"},"",{"$f":"IF($P59=Constants!$B$3,RANK($CB59,$CB$6:$CB$64,1),\"-\")","v":"-"},"",{"$f":"IF($P59=Constants!$B$4,RANK($CB59,$CB$6:$CB$64,1),\"-\")","v":"-"},"",{"$f":"IF($O59=Constants!$C$2,RANK($CB59,$CB$6:$CB$64,1),\"-\")","v":"-"},"",{"$f":"IF($O59=Constants!$C$3,RANK($CB59,$CB$6:$CB$64,1),\"-\")","v":"-"},"",{"$f":"IF($O59=Constants!$C$4,RANK($CB59,$CB$6:$CB$64,1),\"-\")","v":"-"},"",{"$f":"IF($G59=Constants!$D$4,RANK($CB59,$CB$6:$CB$64,1),\"-\")","v":"-"}," ",{"$f":"IF($G59=Constants!$D$2,RANK($CB59,$CB$6:$CB$64,1),\"-\")","v":"-"}," "," ",0,0,null,0,8.9999999999999993E-3,13.009,13,0,0.01,13.01,13,0,1.0999999999999999E-2,13.010999999999999,13,0,5.0000000000000001E-3,13.005000000000001,13,0,4.0000000000000001E-3,13.004,13,0,6.0000000000000001E-3,13.006,13,0,4.0000000000000001E-3,13.004,13,null,null,0,8.9999999999999993E-3,13.009,13,0,0.01,13.01,13,0,1.0999999999999999E-2,13.010999999999999,13,0,5.0000000000000001E-3,13.005000000000001,13,0,4.0000000000000001E-3,13.004,13,0,6.0000000000000001E-3,13.006,13,0,4.0000000000000001E-3,13.004,13,null,0,8.9999999999999993E-3,13.009,13,0,8.9999999999999993E-3,13.009,13,0,1.0999999999999999E-2,13.010999999999999,13,0,5.0000000000000001E-3,13.005000000000001,13,0,4.0000000000000001E-3,13.004,13,0,6.0000000000000001E-3,13.006,13,0,4.0000000000000001E-3,13.004,13,null,null,null,0,"NO",2000,"YES",null,0,8.9999999999999993E-3,13.009,13,0,8.9999999999999993E-3,13.009,13,0,1.0999999999999999E-2,13.010999999999999,13,0,3.0000000000000001E-3,13.003,13,0,4.0000000000000001E-3,13.004,13,0,6.0000000000000001E-3,13.006,13,0,2E-3,13.002000000000001,13,null,null,0,8.9999999999999993E-3,13.009,13,0,7.0000000000000001E-3,13.007,13,0,1.0999999999999999E-2,13.010999999999999,13,0,1E-3,13.000999999999999,13,0,2E-3,13.002000000000001,13,0,5.0000000000000001E-3,13.005000000000001,13,0,1E-3,13.000999999999999,13]
[13,56,null,null,null,null,null,null,null,null,null,null,null,null,null,null,null,null,null,null,null,null,null,null,null,null,2000,null,null,null,null,null,null,null,null,null,null,0,2000,null,null,null,null,null,null,null,null,null,null,0,2000,null,null,null,null,null,null,null,null,null,null,0,2000,null,null,null,null,null,null,null,null,null,null,0,2000,13,13,13,13,13,13,13,13,13,13,{"$f":"IF($P60=Constants!$B$2,RANK($CB60,$CB$6:$CB$64,1),\"-\")","v":"-"},"",{"$f":"IF($P60=Constants!$B$3,RANK($CB60,$CB$6:$CB$64,1),\"-\")","v":"-"},"",{"$f":"IF($P60=Constants!$B$4,RANK($CB60,$CB$6:$CB$64,1),\"-\")","v":"-"},"",{"$f":"IF($O60=Constants!$C$2,RANK($CB60,$CB$6:$CB$64,1),\"-\")","v":"-"},"",{"$f":"IF($O60=Constants!$C$3,RANK($CB60,$CB$6:$CB$64,1),\"-\")","v":"-"},"",{"$f":"IF($O60=Constants!$C$4,RANK($CB60,$CB$6:$CB$64,1),\"-\")","v":"-"},"",{"$f":"IF($G60=Constants!$D$4,RANK($CB60,$CB$6:$CB$64,1),\"-\")","v":"-"}," ",{"$f":"IF($G60=Constants!$D$2,RANK($CB60,$CB$6:$CB$64,1),\"-\")","v":"-"}," "," ",0,0,null,0,8.9999999999999993E-3,13.009,13,0,0.01,13.01,13,0,1.0999999999999999E-2,13.010999999999999,13,0,5.0000000000000001E-3,13.005000000000001,13,0,4.0000000000000001E-3,13.004,13,0,6.0000000000000001E-3,13.006,13,0,4.0000000000000001E-3,13.004,13,null,null,0,8.9999999999999993E-3,13.009,13,0,0.01,13.01,13,0,1.0999999999999999E-2,13.010999999999999,13,0,5.0000000000000001E-3,13.005000000000001,13,0,4.0000000000000001E-3,13.004,13,0,6.0000000000000001E-3,13.006,13,0,4.0000000000000001E-3,13.004,13,null,0,8.9999999999999993E-3,13.009,13,0,8.9999999999999993E-3,13.009,13,0,1.0999999999999999E-2,13.010999999999999,13,0,5.0000000000000001E-3,13.005000000000001,13,0,4.0000000000000001E-3,13.004,13,0,6.0000000000000001E-3,13.006,13,0,4.0000000000000001E-3,13.004,13,null,null,null,0,"NO",2000,"YES",null,0,8.9999999999999993E-3,13.009,13,0,8.9999999999999993E-3,13.009,13,0,1.0999999999999999E-2,13.010999999999999,13,0,3.0000000000000001E-3,13.003,13,0,4.0000000000000001E-3,13.004,13,0,6.0000000000000001E-3,13.006,13,0,2E-3,13.002000000000001,13,null,null,0,8.9999999999999993E-3,13.009,13,0,7.0000000000000001E-3,13.007,13,0,1.0999999999999999E-2,13.010999999999999,13,0,1E-3,13.000999999999999,13,0,2E-3,13.002000000000001,13,0,5.0000000000000001E-3,13.005000000000001,13,0,1E-3,13.000999999999999,13]
[13,57,null,null,null,null,null,null,null,null,null,null,null,null,null,null,null,null,null,null,null,null,null,null,null,null,2000,null,null,null,null,null,null,null,null,null,null,0,2000,null,null,null,null,null,null,null,null,null,null,0,2000,null,null,null,null,null,null,null,null,null,null,0,2000,null,null,null,null,null,null,null,null,null,null,0,2000,13,13,13,13,13,13,13,13,13,13,{"$f":"IF($P61=Constants!$B$2,RANK($CB61,$CB$6:$CB$64,1),\"-\")","v":"-"},"",{"$f":"IF($P61=Constants!$B$3,RANK($CB61,$CB$6:$CB$64,1),\"-\")","v":"-"},"",{"$f":"IF($P61=Constants!$B$4,RANK($CB61,$CB$6:$CB$64,1),\"-\")","v":"-"},"",{"$f":"IF($O61=Constants!$C$2,RANK($CB61,$CB$6:$CB$64,1),\"-\")","v":"-"},"",{"$f":"IF($O61=Constants!$C$3,RANK($CB61,$CB$6:$CB$64,1),\"-\")","v":"-"},"",{"$f":"IF($O61=Constants!$C$4,RANK($CB61,$CB$6:$CB$64,1),\"-\")","v":"-"},"",{"$f":"IF($G61=Constants!$D$4,RANK($CB61,$CB$6:$CB$64,1),\"-\")","v":"-"}," ",{"$f":"IF($G61=Constants!$D$2,RANK($CB61,$CB$6:$CB$64,1),\"-\")","v":"-"}," "," ",0,0,null,0,8.9999999999999993E-3,13.009,13,0,0.01,13.01,13,0,1.0999999999999999E-2,13.010999999999999,13,0,5.0000000000000001E-3,13.005000000000001,13,0,4.0000000000000001E-3,13.004,13,0,6.0000000000000001E-3,13.006,13,0,4.0000000000000001E-3,13.004,13,null,null,0,8.9999999999999993E-3,13.009,13,0,0.01,13.01,13,0,1.0999999999999999E-2,13.010999999999999,13,0,5.0000000000000001E-3,13.005000000000001,13,0,4.0000000000000001E-3,13.004,13,0,6.0000000000000001E-3,13.006,13,0,4.0000000000000001E-3,13.004,13,null,0,8.9999999999999993E-3,13.009,13,0,8.9999999999999993E-3,13.009,13,0,1.0999999999999999E-2,13.010999999999999,13,0,5.0000000000000001E-3,13.005000000000001,13,0,4.0000000000000001E-3,13.004,13,0,6.0000000000000001E-3,13.006,13,0,4.0000000000000001E-3,13.004,13,null,null,null,0,"NO",2000,"YES",null,0,8.9999999999999993E-3,13.009,13,0,8.9999999999999993E-3,13.009,13,0,1.0999999999999999E-2,13.010999999999999,13,0,3.0000000000000001E-3,13.003,13,0,4.0000000000000001E-3,13.004,13,0,6.0000000000000001E-3,13.006,13,0,2E-3,13.002000000000001,13,null,null,0,8.9999999999999993E-3,13.009,13,0,7.0000000000000001E-3,13.007,13,0,1.0999999999999999E-2,13.010999999999999,13,0,1E-3,13.000999999999999,13,0,2E-3,13.002000000000001,13,0,5.0000000000000001E-3,13.005000000000001,13,0,1E-3,13.000999999999999,13]
[13,58,null,null,null,null,null,null,null,null,null,null,null,null,null,null,null,null,null,null,null,null,null,null,null,null,2000,null,null,null,null,null,null,null,null,null,null,0,2000,null,null,null,null,null,null,null,null,null,null,0,2000,null,null,null,null,null,null,null,null,null,null,0,2000,null,null,null,null,null,null,null,null,null,null,0,2000,13,13,13,13,13,13,13,13,13,13,{"$f":"IF($P62=Constants!$B$2,RANK($CB62,$CB$6:$CB$64,1),\"-\")","v":"-"},"",{"$f":"IF($P62=Constants!$B$3,RANK($CB62,$CB$6:$CB$64,1),\"-\")","v":"-"},"",{"$f":"IF($P62=Constants!$B$4,RANK($CB62,$CB$6:$CB$64,1),\"-\")","v":"-"},"",{"$f":"IF($O62=Constants!$C$2,RANK($CB62,$CB$6:$CB$64,1),\"-\")","v":"-"},"",{"$f":"IF($O62=Constants!$C$3,RANK($CB62,$CB$6:$CB$64,1),\"-\")","v":"-"},"",{"$f":"IF($O62=Constants!$C$4,RANK($CB62,$CB$6:$CB$64,1),\"-\")","v":"-"},"",{"$f":"IF($G62=Constants!$D$4,RANK($CB62,$CB$6:$CB$64,1),\"-\")","v":"-"}," ",{"$f":"IF($G62=Constants!$D$2,RANK($CB62,$CB$6:$CB$64,1),\"-\")","v":"-"}," "," ",0,0,null,0,8.9999999999999993E-3,13.009,13,0,0.01,13.01,13,0,1.0999999999999999E-2,13.010999999999999,13,0,5.0000000000000001E-3,13.005000000000001,13,0,4.0000000000000001E-3,13.004,13,0,6.0000000000000001E-3,13.006,13,0,4.0000000000000001E-3,13.004,13,null,null,0,8.9999999999999993E-3,13.009,13,0,0.01,13.01,13,0,1.0999999999999999E-2,13.010999999999999,13,0,5.0000000000000001E-3,13.005000000000001,13,0,4.0000000000000001E-3,13.004,13,0,6.0000000000000001E-3,13.006,13,0,4.0000000000000001E-3,13.004,13,null,0,8.9999999999999993E-3,13.009,13,0,8.9999999999999993E-3,13.009,13,0,1.0999999999999999E-2,13.010999999999999,13,0,5.0000000000000001E-3,13.005000000000001,13,0,4.0000000000000001E-3,13.004,13,0,6.0000000000000001E-3,13.006,13,0,4.0000000000000001E-3,13.004,13,null,null,null,0,"NO",2000,"YES",null,0,8.9999999999999993E-3,13.009,13,0,8.9999999999999993E-3,13.009,13,0,1.0999999999999999E-2,13.010999999999999,13,0,3.0000000000000001E-3,13.003,13,0,4.0000000000000001E-3,13.004,13,0,6.0000000000000001E-3,13.006,13,0,2E-3,13.002000000000001,13,null,null,0,8.9999999999999993E-3,13.009,13,0,7.0000000000000001E-3,13.007,13,0,1.0999999999999999E-2,13.010999999999999,13,0,1E-3,13.000999999999999,13,0,2E-3,13.002000000000001,13,0,5.0000000000000001E-3,13.005000000000001,13,0,1E-3,13.000999999999999,13]
[13,59,null,null,null,null,null,null,null,null,null,null,null,null,null,null,null,null,null,null,null,null,null,null,null,null,2000,null,null,null,null,null,null,null,null,null,null,0,2000,null,null,null,null,null,null,null,null,null,null,0,2000,null,null,null,null,null,null,null,null,null,null,0,2000,null,null,null,null,null,null,null,null,null,null,0,2000,null,null,null,13,13,13,13,13,13,13,{"$f":"IF($P63=Constants!$B$2,RANK($CB63,$CB$6:$CB$64,1),\"-\")","v":"-"},"",{"$f":"IF($P63=Constants!$B$3,RANK($CB63,$CB$6:$CB$64,1),\"-\")","v":"-"},"",{"$f":"IF($P63=Constants!$B$4,RANK($CB63,$CB$6:$CB$64,1),\"-\")","v":"-"},"",{"$f":"IF($O63=Constants!$C$2,RANK($CB63,$CB$6:$CB$64,1),\"-\")","v":"-"},"",{"$f":"IF($O63=Constants!$C$3,RANK($CB63,$CB$6:$CB$64,1),\"-\")","v":"-"},"",{"$f":"IF($O63=Constants!$C$4,RANK($CB63,$CB$6:$CB$64,1),\"-\")","v":"-"},"",{"$f":"IF($G63=Constants!$D$4,RANK($CB63,$CB$6:$CB$64,1),\"-\")","v":"-"}," ",{"$f":"IF($G63=Constants!$D$2,RANK($CB63,$CB$6:$CB$64,1),\"-\")","v":"-"}," "," ",0,0,null,0,8.9999999999999993E-3,13.009,13,0,0.01,13.01,13,0,1.0999999999999999E-2,13.010999999999999,13,0,5.0000000000000001E-3,13.005000000000001,13,0,4.0000000000000001E-3,13.004,13,0,6.0000000000000001E-3,13.006,13,0,4.0000000000000001E-3,13.004,13,null,null,0,8.9999999999999993E-3,13.009,13,0,0.01,{"$f":"EI63+EK63","v":13.01},13,0,1.0999999999999999E-2,{"$f":"EM63+EO63","v":13.010999999999999},13,0,5.0000000000000001E-3,{"$f":"EQ63+ES63","v":13.005000000000001},13,0,4.0000000000000001E-3,{"$f":"EU63+EW63","v":13.004},13,0,6.0000000000000001E-3,{"$f":"EY63+FA63","v":13.006},13,0,4.0000000000000001E-3,{"$f":"FC63+FE63","v":13.004},13,null,0,8.9999999999999993E-3,13.009,13,0,8.9999999999999993E-3,{"$f":"FL63+FN63","v":13.009},13,0,1.0999999999999999E-2,{"$f":"FP63+FR63","v":13.010999999999999},13,0,5.0000000000000001E-3,{"$f":"FT63+FV63","v":13.005000000000001},13,0,4.0000000000000001E-3,{"$f":"FX63+FZ63","v":13.004},13,0,6.0000000000000001E-3,{"$f":"GB63+GD63","v":13.006},13,0,4.0000000000000001E-3,{"$f":"GF63+GH63","v":13.004},13,null,null,null,0,"NO",2000,"YES",null,0,8.9999999999999993E-3,13.009,13,0,8.9999999999999993E-3,{"$f":"GV63+GX63","v":13.009},13,0,1.0999999999999999E-2,{"$f":"GZ63+HB63","v":13.010999999999999},13,0,3.0000000000000001E-3,{"$f":"HD63+HF63","v":13.003},13,0,4.0000000000000001E-3,{"$f":"HH63+HJ63","v":13.004},13,0,6.0000000000000001E-3,{"$f":"HL63+HN63","v":13.006},13,0,2E-3,{"$f":"HP63+HR63","v":13.002000000000001},13,null,null,0,8.9999999999999993E-3,13.009,13,0,7.0000000000000001E-3,{"$f":"HZ63+IB63","v":13.007},13,0,1.0999999999999999E-2,{"$f":"ID63+IF63","v":13.010999999999999},13,0,1E-3,{"$f":"IH63+IJ63","v":13.000999999999999},13,0,2E-3,{"$f":"IL63+IN63","v":13.002000000000001},13,0,5.0000000000000001E-3,{"$f":"IP63+IR63","v":13.005000000000001},13,0,1E-3,{"$f":"IT63+IV63","v":13.000999999999999},13]
[13,60,null,null,null,null,null,null,null,null,null,null,null,null,null,null,null,null,null,null,null,null,null,null,null,null,2000,null,null,null,null,null,null,null,null,null,null,0,2000,null,null,null,null,null,null,null,null,null,null,0,2000,null,null,null,null,null,null,null,null,null,null,0,2000,null,null,null,null,null,null,null,null,null,null,0,2000,null,null,null,13,13,13,13,13,13,13,{"$f":"IF($O64=Constants!$B$2,RANK($CB64,$CB$6:$CB$64,1),\"-\")","v":"-"},"",{"$f":"IF($O64=Constants!$B$3,RANK($CB64,$CB$6:$CB$64,1),\"-\")","v":"-"},"",{"$f":"IF($O64=Constants!$B$4,RANK($CB64,$CB$6:$CB$64,1),\"-\")","v":"-"},"",{"$f":"IF($O64=Constants!$C$2,RANK($CB64,$CB$6:$CB$64,1),\"-\")","v":"-"},"",{"$f":"IF($O64=Constants!$C$3,RANK($CB64,$CB$6:$CB$64,1),\"-\")","v":"-"},"",{"$f":"IF($O64=Constants!$C$4,RANK($CB64,$CB$6:$CB$64,1),\"-\")","v":"-"},"",{"$f":"IF($G64=Constants!$D$4,RANK($CB64,$CB$6:$CB$64,1),\"-\")","v":"-"}," ",{"$f":"IF($G64=Constants!$D$2,RANK($CB64,$CB$6:$CB$64,1),\"-\")","v":"-"}," "," ",0,0,null,0,8.9999999999999993E-3,13.009,13,0,0.01,13.01,13,0,1.0999999999999999E-2,13.010999999999999,13,0,5.0000000000000001E-3,13.005000000000001,13,0,4.0000000000000001E-3,13.004,13,0,6.0000000000000001E-3,13.006,13,0,4.0000000000000001E-3,13.004,13,null,null,0,8.9999999999999993E-3,13.009,13,0,0.01,{"$f":"EI64+EK64","v":13.01},13,0,1.0999999999999999E-2,{"$f":"EM64+EO64","v":13.010999999999999},13,0,5.0000000000000001E-3,{"$f":"EQ64+ES64","v":13.005000000000001},13,0,4.0000000000000001E-3,{"$f":"EU64+EW64","v":13.004},13,0,6.0000000000000001E-3,{"$f":"EY64+FA64","v":13.006},13,0,4.0000000000000001E-3,{"$f":"FC64+FE64","v":13.004},13,null,0,8.9999999999999993E-3,13.009,13,0,8.9999999999999993E-3,{"$f":"FL64+FN64","v":13.009},13,0,1.0999999999999999E-2,{"$f":"FP64+FR64","v":13.010999999999999},13,0,5.0000000000000001E-3,{"$f":"FT64+FV64","v":13.005000000000001},13,0,4.0000000000000001E-3,{"$f":"FX64+FZ64","v":13.004},13,0,6.0000000000000001E-3,{"$f":"GB64+GD64","v":13.006},13,0,4.0000000000000001E-3,{"$f":"GF64+GH64","v":13.004},13,null,null,null,0,"NO",2000,"YES",null,0,8.9999999999999993E-3,13.009,13,0,8.9999999999999993E-3,{"$f":"GV64+GX64","v":13.009},13,0,1.0999999999999999E-2,{"$f":"GZ64+HB64","v":13.010999999999999},13,0,3.0000000000000001E-3,{"$f":"HD64+HF64","v":13.003},13,0,4.0000000000000001E-3,{"$f":"HH64+HJ64","v":13.004},13,0,6.0000000000000001E-3,{"$f":"HL64+HN64","v":13.006},13,0,2E-3,{"$f":"HP64+HR64","v":13.002000000000001},13,null,null,0,8.9999999999999993E-3,13.009,13,0,7.0000000000000001E-3,{"$f":"HZ64+IB64","v":13.007},13,0,1.0999999999999999E-2,{"$f":"ID64+IF64","v":13.010999999999999},13,0,1E-3,{"$f":"IH64+IJ64","v":13.000999999999999},13,0,2E-3,{"$f":"IL64+IN64","v":13.002000000000001},13,0,5.0000000000000001E-3,{"$f":"IP64+IR64","v":13.005000000000001},13,0,1E-3,{"$f":"IT64+IV64","v":13.000999999999999},13]

{"sheet":"All Finishing Order","index":2,"n_rows":1008,"n_cols":104,"rows_kept":1008,"cut":false,"hidden":false,"merged":[[2,74,3,74],[2,101,3,101],[2,89,3,89],[2,90,3,90],[2,91,3,91],[2,98,3,98],[2,99,3,99],[2,100,3,100],[2,94,3,94],[2,95,3,95],[2,96,3,96],[2,97,3,97],[2,92,3,92],[2,93,3,93],[2,80,2,84],[2,8,2,12],[2,13,3,13],[2,15,3,15],[2,16,2,25],[2,26,3,26],[2,27,2,36],[2,85,3,85],[2,87,3,87],[2,88,3,88],[2,86,3,86],[2,51,2,60],[2,61,3,61],[2,62,3,62],[2,75,2,79],[2,39,2,48],[2,49,3,49],[2,50,3,50],[2,37,3,37],[2,38,3,38],[2,63,2,72],[2,73,3,73]]}
[null,null,null,{"$f":"'All Running Order'!D1","v":"J B Taylor"}]
[null,null,null,{"$f":"'All Running Order'!D2","v":"2026-03-15"}]
[null,null,null,null,null,null,null,null,"START HILL",null,null,null,null,"Ret/NS",null,"BTRDA CLASS","ROUND 1: HILL NO. ",null,null,null,null,null,null,null,null,null,"ROUND TOTAL","ROUND 2: HILL NO. ",null,null,null,null,null,null,null,null,null,"ROUND TOTAL","SUB TOTAL","ROUND 3: HILL NO. ",null,null,null,null,null,null,null,null,null,"ROUND TOTAL","SUB TOTAL","ROUND 4: HILL NO. ",null,null,null,null,null,null,null,null,null,"ROUND TOTAL","SUB TOTAL","ROUND 5: HILL NO. ",null,null,null,null,null,null,null,null,null,"ROUND TOTAL","GRAND TOTAL","POSITION AFTER ROUND",null,null,null,null,"Round position pre-calculation",null,null,null,null,{"$f":"CONCATENATE(,\"CLASS\",\" \",Constants!$B$2)","v":"CLASS Red"},{"$f":"'All Running Order'!CI3:CI4","v":"Position in Red CLASS"},{"$f":"'All Running Order'!CJ3:CJ4","v":"CLASS Blue"},{"$f":"'All Running Order'!CK3:CK4","v":"Position in Blue CLASS"},{"$f":"'All Running Order'!CL3:CL4","v":"Rookie CLASS"},{"$f":"'All Running Order'!CM3:CM4","v":"Position in Rookie CLASS"},{"$f":"'All Running Order'!CN3:CN4","v":"750-A CLASS"},{"$f":"'All Running Order'!CO3:CO4","v":"Position in 750-A CLASS"},{"$f":"'All Running Order'!CP3:CP4","v":"750-B CLASS"},{"$f":"'All Running Order'!CQ3:CQ4","v":"Position in 750-B CLASS"},{"$f":"'All Running Order'!CR3:CR4","v":"750-N CLASS"},{"$f":"'All Running Order'!CS3:CS4","v":"Position in 750-N CLASS"},{"$f":"'All Running Order'!CT3:CT4","v":"Post-Historic Class"},{"$f":"'All Running Order'!CU3:CU4","v":"Position in Post Historic CLASS"},{"$f":"'All Running Order'!CV3:CV4","v":"Live Class"},{"$f":"'All Running Order'!CW3:CW4","v":"Position in Live CLASS"},{"$f":"'All Running Order'!CX3:CX4","v":"POSITION IN CLASS"}]
[null,"NO.","DRIVER","PASSENGER","CAR","CC","Live/IRS","Tyres",1,2,3,4,5,null,"Club CLASS",null,"1","2","3","4","5","6","7","8","9","10",null,"1","2","3","4","5","6","7","8","9","10",null,null,"1","2","3","4","5","6","7","8","9","10",null,null,"1","2","3","4","5","6","7","8","9","10",null,null,"1","2","3","4","5","6","7","8","9","10",null,null,1,2,3,4,5,1,2,3,4,5,null,null,null,null,null,null,null,null,null,null,null,null,null,null,null,null,null,{"$f":"'All Running Order'!CY3:CY4","v":"Class"},{"$f":"'All Running Order'!CZ3:CZ4","v":"Type"}]
[null,null,"Best score",null,null,null,null,null,null,null,null,null,null,null,null,"N/A",{"$f":"'All Running Order'!Q5","v":0},{"$f":"'All Running Order'!R5","v":0},{"$f":"'All Running Order'!S5","v":0},{"$f":"'All Running Order'!T5","v":0},{"$f":"'All Running Order'!U5","v":1},{"$f":"'All Running Order'!V5","v":1},{"$f":"'All Running Order'!W5","v":0},{"$f":"'All Running Order'!X5","v":0},{"$f":"'All Running Order'!Y5","v":0},{"$f":"'All Running Order'!Z5","v":0},{"$f":"'All Running Order'!AA5","v":2},{"$f":"'All Running Order'!AB5","v":0},{"$f":"'All Running Order'!AC5","v":0},{"$f":"'All Running Order'!AD5","v":0},{"$f":"'All Running Order'!AE5","v":1},{"$f":"'All Running Order'!AF5","v":0},{"$f":"'All Running Order'!AG5","v":0},{"$f":"'All Running Order'!AH5","v":0},{"$f":"'All Running Order'!AI5","v":0},{"$f":"'All Running Order'!AJ5","v":0},{"$f":"'All Running Order'!AK5","v":0},{"$f":"'All Running Order'!AL5","v":1},{"$f":"'All Running Order'!AM5","v":3},{"$f":"'All Running Order'!AN5","v":0},{"$f":"'All Running Order'!AO5","v":0},{"$f":"'All Running Order'!AP5","v":0},{"$f":"'All Running Order'!AQ5","v":0},{"$f":"'All Running Order'!AR5","v":0},{"$f":"'All Running Order'!AS5","v":0},{"$f":"'All Running Order'!AT5","v":0},{"$f":"'All Running Order'!AU5","v":0},{"$f":"'All Running Order'!AV5","v":0},{"$f":"'All Running Order'!AW5","v":0},{"$f":"'All Running Order'!AX5","v":0},{"$f":"'All Running Order'!AY5","v":3},{"$f":"'All Running Order'!AZ5","v":0},{"$f":"'All Running Order'!BA5","v":0},{"$f":"'All Running Order'!BB5","v":0},{"$f":"'All Running Order'!BC5","v":0},{"$f":"'All Running Order'!BD5","v":0},{"$f":"'All Running Order'!BE5","v":0},{"$f":"'All Running Order'!BF5","v":0},{"$f":"'All Running Order'!BG5","v":0},{"$f":"'All Running Order'!BH5","v":0},{"$f":"'All Running Order'!BI5","v":0},{"$f":"'All Running Order'!BJ5","v":0},{"$f":"'All Running Order'!BK5","v":3},{"$f":"'All Running Order'!BL5","v":0},{"$f":"'All Running Order'!BM5","v":0},{"$f":"'All Running Order'!BN5","v":0},{"$f":"'All Running Order'!BO5","v":0},{"$f":"'All Running Order'!BP5","v":0},{"$f":"'All Running Order'!BQ5","v":0},{"$f":"'All Running Order'!BR5","v":0},{"$f":"'All Running Order'!BS5","v":0},{"$f":"'All Running Order'!BT5","v":0},{"$f":"'All Running Order'!BU5","v":0},{"$f":"'All Running Order'!BV5","v":0},{"$f":"'All Running Order'!BW5","v":3}]
[1,{"$f":"IFERROR(VLOOKUP($A6,'All Running Order'!$A$6:$CZ$64,B$102,FALSE),\"\")","v":1},{"$f":"IFERROR(VLOOKUP($A6,'All Running Order'!$A$6:$CZ$64,C$102,FALSE),\"\")","v":"Stuart Beare"},{"$f":"IFERROR(VLOOKUP($A6,'All Running Order'!$A$6:$CZ$64,D$102,FALSE),\"\")","v":"Sue Underwood"},{"$f":"IFERROR(VLOOKUP($A6,'All Running Order'!$A$6:$CZ$64,E$102,FALSE),\"\")","v":"Sherpa Indy"},{"$f":"IFERROR(VLOOKUP($A6,'All Running Order'!$A$6:$CZ$64,F$102,FALSE),\"\")","v":0},{"$f":"IFERROR(VLOOKUP($A6,'All Running Order'!$A$6:$CZ$64,G$102,FALSE),\"\")","v":"IRS"},{"$f":"IFERROR(VLOOKUP($A6,'All Running Order'!$A$6:$CZ$64,H$102,FALSE),\"\")","v":"Yes"},{"$f":"IFERROR(VLOOKUP($A6,'All Running Order'!$A$6:$CZ$64,I$102,FALSE),\"\")","v":0},{"$f":"IFERROR(VLOOKUP($A6,'All Running Order'!$A$6:$CZ$64,J$102,FALSE),\"\")","v":0},{"$f":"IFERROR(VLOOKUP($A6,'All Running Order'!$A$6:$CZ$64,K$102,FALSE),\"\")","v":0},{"$f":"IFERROR(VLOOKUP($A6,'All Running Order'!$A$6:$CZ$64,L$102,FALSE),\"\")","v":0},{"$f":"IFERROR(VLOOKUP($A6,'All Running Order'!$A$6:$CZ$64,M$102,FALSE),\"\")","v":0},{"$f":"IFERROR(VLOOKUP($A6,'All Running Order'!$A$6:$CZ$64,N$102,FALSE),\"\")","v":0},{"$f":"IFERROR(VLOOKUP($A6,'All Running Order'!$A$6:$CZ$64,O$102,FALSE),\"\")","v":0},{"$f":"IFERROR(VLOOKUP($A6,'All Running Order'!$A$6:$CZ$64,P$102,FALSE),\"\")","v":"Red"},{"$f":"IFERROR(VLOOKUP($A6,'All Running Order'!$A$6:$CZ$64,Q$102,FALSE),\"\")","v":0},{"$f":"IFERROR(VLOOKUP($A6,'All Running Order'!$A$6:$CZ$64,R$102,FALSE),\"\")","v":0},{"$f":"IFERROR(VLOOKUP($A6,'All Running Order'!$A$6:$CZ$64,S$102,FALSE),\"\")","v":1},{"$f":"IFERROR(VLOOKUP($A6,'All Running Order'!$A$6:$CZ$64,T$102,FALSE),\"\")","v":0},{"$f":"IFERROR(VLOOKUP($A6,'All Running Order'!$A$6:$CZ$64,U$102,FALSE),\"\")","v":1},{"$f":"IFERROR(VLOOKUP($A6,'All Running Order'!$A$6:$CZ$64,V$102,FALSE),\"\")","v":2},{"$f":"IFERROR(VLOOKUP($A6,'All Running Order'!$A$6:$CZ$64,W$102,FALSE),\"\")","v":0},{"$f":"IFERROR(VLOOKUP($A6,'All Running Order'!$A$6:$CZ$64,X$102,FALSE),\"\")","v":0},{"$f":"IFERROR(VLOOKUP($A6,'All Running Order'!$A$6:$CZ$64,Y$102,FALSE),\"\")","v":0},{"$f":"IFERROR(VLOOKUP($A6,'All Running Order'!$A$6:$CZ$64,Z$102,FALSE),\"\")","v":0},{"$f":"IFERROR(VLOOKUP($A6,'All Running Order'!$A$6:$CZ$64,AA$102,FALSE),\"\")","v":4},{"$f":"IFERROR(VLOOKUP($A6,'All Running Order'!$A$6:$CZ$64,AB$102,FALSE),\"\")","v":0},{"$f":"IFERROR(VLOOKUP($A6,'All Running Order'!$A$6:$CZ$64,AC$102,FALSE),\"\")","v":0},{"$f":"IFERROR(VLOOKUP($A6,'All Running Order'!$A$6:$CZ$64,AD$102,FALSE),\"\")","v":0},{"$f":"IFERROR(VLOOKUP($A6,'All Running Order'!$A$6:$CZ$64,AE$102,FALSE),\"\")","v":1},{"$f":"IFERROR(VLOOKUP($A6,'All Running Order'!$A$6:$CZ$64,AF$102,FALSE),\"\")","v":1},{"$f":"IFERROR(VLOOKUP($A6,'All Running Order'!$A$6:$CZ$64,AG$102,FALSE),\"\")","v":0},{"$f":"IFERROR(VLOOKUP($A6,'All Running Order'!$A$6:$CZ$64,AH$102,FALSE),\"\")","v":0},{"$f":"IFERROR(VLOOKUP($A6,'All Running Order'!$A$6:$CZ$64,AI$102,FALSE),\"\")","v":0},{"$f":"IFERROR(VLOOKUP($A6,'All Running Order'!$A$6:$CZ$64,AJ$102,FALSE),\"\")","v":0},{"$f":"IFERROR(VLOOKUP($A6,'All Running Order'!$A$6:$CZ$64,AK$102,FALSE),\"\")","v":0},{"$f":"IFERROR(VLOOKUP($A6,'All Running Order'!$A$6:$CZ$64,AL$102,FALSE),\"\")","v":2},{"$f":"IFERROR(VLOOKUP($A6,'All Running Order'!$A$6:$CZ$64,AM$102,FALSE),\"\")","v":6},{"$f":"IFERROR(VLOOKUP($A6,'All Running Order'!$A$6:$CZ$64,AN$102,FALSE),\"\")","v":0},{"$f":"IFERROR(VLOOKUP($A6,'All Running Order'!$A$6:$CZ$64,AO$102,FALSE),\"\")","v":2},{"$f":"IFERROR(VLOOKUP($A6,'All Running Order'!$A$6:$CZ$64,AP$102,FALSE),\"\")","v":0},{"$f":"IFERROR(VLOOKUP($A6,'All Running Order'!$A$6:$CZ$64,AQ$102,FALSE),\"\")","v":1},{"$f":"IFERROR(VLOOKUP($A6,'All Running Order'!$A$6:$CZ$64,AR$102,FALSE),\"\")","v":0},{"$f":"IFERROR(VLOOKUP($A6,'All Running Order'!$A$6:$CZ$64,AS$102,FALSE),\"\")","v":0},{"$f":"IFERROR(VLOOKUP($A6,'All Running Order'!$A$6:$CZ$64,AT$102,FALSE),\"\")","v":0},{"$f":"IFERROR(VLOOKUP($A6,'All Running Order'!$A$6:$CZ$64,AU$102,FALSE),\"\")","v":0},{"$f":"IFERROR(VLOOKUP($A6,'All Running Order'!$A$6:$CZ$64,AV$102,FALSE),\"\")","v":0},{"$f":"IFERROR(VLOOKUP($A6,'All Running Order'!$A$6:$CZ$64,AW$102,FALSE),\"\")","v":0},{"$f":"IFERROR(VLOOKUP($A6,'All Running Order'!$A$6:$CZ$64,AX$102,FALSE),\"\")","v":3},{"$f":"IFERROR(VLOOKUP($A6,'All Running Order'!$A$6:$CZ$64,AY$102,FALSE),\"\")","v":9},{"$f":"IFERROR(VLOOKUP($A6,'All Running Order'!$A$6:$CZ$64,AZ$102,FALSE),\"\")","v":0},{"$f":"IFERROR(VLOOKUP($A6,'All Running Order'!$A$6:$CZ$64,BA$102,FALSE),\"\")","v":0},{"$f":"IFERROR(VLOOKUP($A6,'All Running Order'!$A$6:$CZ$64,BB$102,FALSE),\"\")","v":0},{"$f":"IFERROR(VLOOKUP($A6,'All Running Order'!$A$6:$CZ$64,BC$102,FALSE),\"\")","v":1},{"$f":"IFERROR(VLOOKUP($A6,'All Running Order'!$A$6:$CZ$64,BD$102,FALSE),\"\")","v":0},{"$f":"IFERROR(VLOOKUP($A6,'All Running Order'!$A$6:$CZ$64,BE$102,FALSE),\"\")","v":0},{"$f":"IFERROR(VLOOKUP($A6,'All Running Order'!$A$6:$CZ$64,BF$102,FALSE),\"\")","v":0},{"$f":"IFERROR(VLOOKUP($A6,'All Running Order'!$A$6:$CZ$64,BG$102,FALSE),\"\")","v":0},{"$f":"IFERROR(VLOOKUP($A6,'All Running Order'!$A$6:$CZ$64,BH$102,FALSE),\"\")","v":0},{"$f":"IFERROR(VLOOKUP($A6,'All Running Order'!$A$6:$CZ$64,BI$102,FALSE),\"\")","v":0},{"$f":"IFERROR(VLOOKUP($A6,'All Running Order'!$A$6:$CZ$64,BJ$102,FALSE),\"\")","v":1},{"$f":"IFERROR(VLOOKUP($A6,'All Running Order'!$A$6:$CZ$64,BK$102,FALSE),\"\")","v":10},{"$f":"IFERROR(VLOOKUP($A6,'All Running Order'!$A$6:$CZ$64,BL$102,FALSE),\"\")","v":0},{"$f":"IFERROR(VLOOKUP($A6,'All Running Order'!$A$6:$CZ$64,BM$102,FALSE),\"\")","v":0},{"$f":"IFERROR(VLOOKUP($A6,'All Running Order'!$A$6:$CZ$64,BN$102,FALSE),\"\")","v":0},{"$f":"IFERROR(VLOOKUP($A6,'All Running Order'!$A$6:$CZ$64,BO$102,FALSE),\"\")","v":0},{"$f":"IFERROR(VLOOKUP($A6,'All Running Order'!$A$6:$CZ$64,BP$102,FALSE),\"\")","v":0},{"$f":"IFERROR(VLOOKUP($A6,'All Running Order'!$A$6:$CZ$64,BQ$102,FALSE),\"\")","v":0},{"$f":"IFERROR(VLOOKUP($A6,'All Running Order'!$A$6:$CZ$64,BR$102,FALSE),\"\")","v":0},{"$f":"IFERROR(VLOOKUP($A6,'All Running Order'!$A$6:$CZ$64,BS$102,FALSE),\"\")","v":0},{"$f":"IFERROR(VLOOKUP($A6,'All Running Order'!$A$6:$CZ$64,BT$102,FALSE),\"\")","v":0},{"$f":"IFERROR(VLOOKUP($A6,'All Running Order'!$A$6:$CZ$64,BU$102,FALSE),\"\")","v":0},{"$f":"IFERROR(VLOOKUP($A6,'All Running Order'!$A$6:$CZ$64,BV$102,FALSE),\"\")","v":0},{"$f":"IFERROR(VLOOKUP($A6,'All Running Order'!$A$6:$CZ$64,BW$102,FALSE),\"\")","v":10},{"$f":"IFERROR(VLOOKUP($A6,'All Running Order'!$A$6:$CZ$64,BX$102,FALSE),\"\")","v":1},{"$f":"IFERROR(VLOOKUP($A6,'All Running Order'!$A$6:$CZ$64,BY$102,FALSE),\"\")","v":1},{"$f":"IFERROR(VLOOKUP($A6,'All Running Order'!$A$6:$CZ$64,BZ$102,FALSE),\"\")","v":3},{"$f":"IFERROR(VLOOKUP($A6,'All Running Order'!$A$6:$CZ$64,CA$102,FALSE),\"\")","v":1},{"$f":"IFERROR(VLOOKUP($A6,'All Running Order'!$A$6:$CZ$64,CB$102,FALSE),\"\")","v":1},{"$f":"IFERROR(VLOOKUP($A6,'All Running Order'!$A$6:$CZ$64,CC$102,FALSE),\"\")","v":1},{"$f":"IFERROR(VLOOKUP($A6,'All Running Order'!$A$6:$CZ$64,CD$102,FALSE),\"\")","v":1},{"$f":"IFERROR(VLOOKUP($A6,'All Running Order'!$A$6:$CZ$64,CE$102,FALSE),\"\")","v":3},{"$f":"IFERROR(VLOOKUP($A6,'All Running Order'!$A$6:$CZ$64,CF$102,FALSE),\"\")","v":1},{"$f":"IFERROR(VLOOKUP($A6,'All Running Order'!$A$6:$CZ$64,CG$102,FALSE),\"\")","v":1},{"$f":"IFERROR(VLOOKUP($A6,'All Running Order'!$A$6:$CZ$64,CH$102,FALSE),\"\")","v":1},{"$f":"IFERROR(VLOOKUP($A6,'All Running Order'!$A$6:$CZ$64,CI$102,FALSE),\"\")","v":""},{"$f":"IFERROR(VLOOKUP($A6,'All Running Order'!$A$6:$CZ$64,CJ$102,FALSE),\"\")","v":"-"},{"$f":"IFERROR(VLOOKUP($A6,'All Running Order'!$A$6:$CZ$64,CK$102,FALSE),\"\")","v":""},{"$f":"IFERROR(VLOOKUP($A6,'All Running Order'!$A$6:$CZ$64,CL$102,FALSE),\"\")","v":"-"},{"$f":"IFERROR(VLOOKUP($A6,'All Running Order'!$A$6:$CZ$64,CM$102,FALSE),\"\")","v":""},{"$f":"IFERROR(VLOOKUP($A6,'All Running Order'!$A$6:$CZ$64,CN$102,FALSE),\"\")","v":"-"},{"$f":"IFERROR(VLOOKUP($A6,'All Running Order'!$A$6:$CZ$64,CO$102,FALSE),\"\")","v":""},{"$f":"IFERROR(VLOOKUP($A6,'All Running Order'!$A$6:$CZ$64,CP$102,FALSE),\"\")","v":"-"},{"$f":"IFERROR(VLOOKUP($A6,'All Running Order'!$A$6:$CZ$64,CQ$102,FALSE),\"\")","v":""},{"$f":"IFERROR(VLOOKUP($A6,'All Running Order'!$A$6:$CZ$64,CR$102,FALSE),\"\")","v":"-"},{"$f":"IFERROR(VLOOKUP($A6,'All Running Order'!$A$6:$CZ$64,CS$102,FALSE),\"\")","v":""},{"$f":"IFERROR(VLOOKUP($A6,'All Running Order'!$A$6:$CZ$64,CT$102,FALSE),\"\")","v":"-"},{"$f":"IFERROR(VLOOKUP($A6,'All Running Order'!$A$6:$CZ$64,CU$102,FALSE),\"\")","v":" "},{"$f":"IFERROR(VLOOKUP($A6,'All Running Order'!$A$6:$CZ$64,CV$102,FALSE),\"\")","v":"-"},{"$f":"IFERROR(VLOOKUP($A6,'All Running Order'!$A$6:$CZ$64,CW$102,FALSE),\"\")","v":" "},{"$f":"IFERROR(VLOOKUP($A6,'All Running Order'!$A$6:$CZ$64,CX$102,FALSE),\"\")","v":" "},{"$f":"IFERROR(VLOOKUP($A6,'All Running Order'!$A$6:$CZ$64,CY$102,FALSE),\"\")","v":"Red"},{"$f":"IFERROR(VLOOKUP($A6,'All Running Order'!$A$6:$CZ$64,CZ$102,FALSE),\"\")","v":"IRS"}]
[2,{"$f":"IFERROR(VLOOKUP($A7,'All Running Order'!$A$6:$CZ$64,B$102,FALSE),\"\")","v":5},{"$f":"IFERROR(VLOOKUP($A7,'All Running Order'!$A$6:$CZ$64,C$102,FALSE),\"\")","v":"Ian Wright"},{"$f":"IFERROR(VLOOKUP($A7,'All Running Order'!$A$6:$CZ$64,D$102,FALSE),\"\")","v":"Chris Taylor"},{"$f":"IFERROR(VLOOKUP($A7,'All Running Order'!$A$6:$CZ$64,E$102,FALSE),\"\")","v":"Sherpa Indy"},{"$f":"IFERROR(VLOOKUP($A7,'All Running Order'!$A$6:$CZ$64,F$102,FALSE),\"\")","v":0},{"$f":"IFERROR(VLOOKUP($A7,'All Running Order'!$A$6:$CZ$64,G$102,FALSE),\"\")","v":"IRS"},{"$f":"IFERROR(VLOOKUP($A7,'All Running Order'!$A$6:$CZ$64,H$102,FALSE),\"\")","v":"Yes"},{"$f":"IFERROR(VLOOKUP($A7,'All Running Order'!$A$6:$CZ$64,I$102,FALSE),\"\")","v":0},{"$f":"IFERROR(VLOOKUP($A7,'All Running Order'!$A$6:$CZ$64,J$102,FALSE),\"\")","v":0},{"$f":"IFERROR(VLOOKUP($A7,'All Running Order'!$A$6:$CZ$64,K$102,FALSE),\"\")","v":0},{"$f":"IFERROR(VLOOKUP($A7,'All Running Order'!$A$6:$CZ$64,L$102,FALSE),\"\")","v":0},{"$f":"IFERROR(VLOOKUP($A7,'All Running Order'!$A$6:$CZ$64,M$102,FALSE),\"\")","v":0},{"$f":"IFERROR(VLOOKUP($A7,'All Running Order'!$A$6:$CZ$64,N$102,FALSE),\"\")","v":0},{"$f":"IFERROR(VLOOKUP($A7,'All Running Order'!$A$6:$CZ$64,O$102,FALSE),\"\")","v":0},{"$f":"IFERROR(VLOOKUP($A7,'All Running Order'!$A$6:$CZ$64,P$102,FALSE),\"\")","v":"Red"},{"$f":"IFERROR(VLOOKUP($A7,'All Running Order'!$A$6:$CZ$64,Q$102,FALSE),\"\")","v":0},{"$f":"IFERROR(VLOOKUP($A7,'All Running Order'!$A$6:$CZ$64,R$102,FALSE),\"\")","v":1},{"$f":"IFERROR(VLOOKUP($A7,'All Running Order'!$A$6:$CZ$64,S$102,FALSE),\"\")","v":2},{"$f":"IFERROR(VLOOKUP($A7,'All Running Order'!$A$6:$CZ$64,T$102,FALSE),\"\")","v":0},{"$f":"IFERROR(VLOOKUP($A7,'All Running Order'!$A$6:$CZ$64,U$102,FALSE),\"\")","v":2},{"$f":"IFERROR(VLOOKUP($A7,'All Running Order'!$A$6:$CZ$64,V$102,FALSE),\"\")","v":1},{"$f":"IFERROR(VLOOKUP($A7,'All Running Order'!$A$6:$CZ$64,W$102,FALSE),\"\")","v":0},{"$f":"IFERROR(VLOOKUP($A7,'All Running Order'!$A$6:$CZ$64,X$102,FALSE),\"\")","v":0},{"$f":"IFERROR(VLOOKUP($A7,'All Running Order'!$A$6:$CZ$64,Y$102,FALSE),\"\")","v":0},{"$f":"IFERROR(VLOOKUP($A7,'All Running Order'!$A$6:$CZ$64,Z$102,FALSE),\"\")","v":0},{"$f":"IFERROR(VLOOKUP($A7,'All Running Order'!$A$6:$CZ$64,AA$102,FALSE),\"\")","v":6},{"$f":"IFERROR(VLOOKUP($A7,'All Running Order'!$A$6:$CZ$64,AB$102,FALSE),\"\")","v":0},{"$f":"IFERROR(VLOOKUP($A7,'All Running Order'!$A$6:$CZ$64,AC$102,FALSE),\"\")","v":0},{"$f":"IFERROR(VLOOKUP($A7,'All Running Order'!$A$6:$CZ$64,AD$102,FALSE),\"\")","v":0},{"$f":"IFERROR(VLOOKUP($A7,'All Running Order'!$A$6:$CZ$64,AE$102,FALSE),\"\")","v":1},{"$f":"IFERROR(VLOOKUP($A7,'All Running Order'!$A$6:$CZ$64,AF$102,FALSE),\"\")","v":1},{"$f":"IFERROR(VLOOKUP($A7,'All Running Order'!$A$6:$CZ$64,AG$102,FALSE),\"\")","v":0},{"$f":"IFERROR(VLOOKUP($A7,'All Running Order'!$A$6:$CZ$64,AH$102,FALSE),\"\")","v":0},{"$f":"IFERROR(VLOOKUP($A7,'All Running Order'!$A$6:$CZ$64,AI$102,FALSE),\"\")","v":0},{"$f":"IFERROR(VLOOKUP($A7,'All Running Order'!$A$6:$CZ$64,AJ$102,FALSE),\"\")","v":0},{"$f":"IFERROR(VLOOKUP($A7,'All Running Order'!$A$6:$CZ$64,AK$102,FALSE),\"\")","v":0},{"$f":"IFERROR(VLOOKUP($A7,'All Running Order'!$A$6:$CZ$64,AL$102,FALSE),\"\")","v":2},{"$f":"IFERROR(VLOOKUP($A7,'All Running Order'!$A$6:$CZ$64,AM$102,FALSE),\"\")","v":8},{"$f":"IFERROR(VLOOKUP($A7,'All Running Order'!$A$6:$CZ$64,AN$102,FALSE),\"\")","v":0},{"$f":"IFERROR(VLOOKUP($A7,'All Running Order'!$A$6:$CZ$64,AO$102,FALSE),\"\")","v":0},{"$f":"IFERROR(VLOOKUP($A7,'All Running Order'!$A$6:$CZ$64,AP$102,FALSE),\"\")","v":0},{"$f":"IFERROR(VLOOKUP($A7,'All Running Order'!$A$6:$CZ$64,AQ$102,FALSE),\"\")","v":0},{"$f":"IFERROR(VLOOKUP($A7,'All Running Order'!$A$6:$CZ$64,AR$102,FALSE),\"\")","v":0},{"$f":"IFERROR(VLOOKUP($A7,'All Running Order'!$A$6:$CZ$64,AS$102,FALSE),\"\")","v":0},{"$f":"IFERROR(VLOOKUP($A7,'All Running Order'!$A$6:$CZ$64,AT$102,FALSE),\"\")","v":0},{"$f":"IFERROR(VLOOKUP($A7,'All Running Order'!$A$6:$CZ$64,AU$102,FALSE),\"\")","v":0},{"$f":"IFERROR(VLOOKUP($A7,'All Running Order'!$A$6:$CZ$64,AV$102,FALSE),\"\")","v":0},{"$f":"IFERROR(VLOOKUP($A7,'All Running Order'!$A$6:$CZ$64,AW$102,FALSE),\"\")","v":0},{"$f":"IFERROR(VLOOKUP($A7,'All Running Order'!$A$6:$CZ$64,AX$102,FALSE),\"\")","v":0},{"$f":"IFERROR(VLOOKUP($A7,'All Running Order'!$A$6:$CZ$64,AY$102,FALSE),\"\")","v":8},{"$f":"IFERROR(VLOOKUP($A7,'All Running Order'!$A$6:$CZ$64,AZ$102,FALSE),\"\")","v":0},{"$f":"IFERROR(VLOOKUP($A7,'All Running Order'!$A$6:$CZ$64,BA$102,FALSE),\"\")","v":2},{"$f":"IFERROR(VLOOKUP($A7,'All Running Order'!$A$6:$CZ$64,BB$102,FALSE),\"\")","v":2},{"$f":"IFERROR(VLOOKUP($A7,'All Running Order'!$A$6:$CZ$64,BC$102,FALSE),\"\")","v":0},{"$f":"IFERROR(VLOOKUP($A7,'All Running Order'!$A$6:$CZ$64,BD$102,FALSE),\"\")","v":2},{"$f":"IFERROR(VLOOKUP($A7,'All Running Order'!$A$6:$CZ$64,BE$102,FALSE),\"\")","v":0},{"$f":"IFERROR(VLOOKUP($A7,'All Running Order'!$A$6:$CZ$64,BF$102,FALSE),\"\")","v":0},{"$f":"IFERROR(VLOOKUP($A7,'All Running Order'!$A$6:$CZ$64,BG$102,FALSE),\"\")","v":0},{"$f":"IFERROR(VLOOKUP($A7,'All Running Order'!$A$6:$CZ$64,BH$102,FALSE),\"\")","v":0},{"$f":"IFERROR(VLOOKUP($A7,'All Running Order'!$A$6:$CZ$64,BI$102,FALSE),\"\")","v":0},{"$f":"IFERROR(VLOOKUP($A7,'All Running Order'!$A$6:$CZ$64,BJ$102,FALSE),\"\")","v":6},{"$f":"IFERROR(VLOOKUP($A7,'All Running Order'!$A$6:$CZ$64,BK$102,FALSE),\"\")","v":14},{"$f":"IFERROR(VLOOKUP($A7,'All Running Order'!$A$6:$CZ$64,BL$102,FALSE),\"\")","v":0},{"$f":"IFERROR(VLOOKUP($A7,'All Running Order'!$A$6:$CZ$64,BM$102,FALSE),\"\")","v":0},{"$f":"IFERROR(VLOOKUP($A7,'All Running Order'!$A$6:$CZ$64,BN$102,FALSE),\"\")","v":0},{"$f":"IFERROR(VLOOKUP($A7,'All Running Order'!$A$6:$CZ$64,BO$102,FALSE),\"\")","v":0},{"$f":"IFERROR(VLOOKUP($A7,'All Running Order'!$A$6:$CZ$64,BP$102,FALSE),\"\")","v":0},{"$f":"IFERROR(VLOOKUP($A7,'All Running Order'!$A$6:$CZ$64,BQ$102,FALSE),\"\")","v":0},{"$f":"IFERROR(VLOOKUP($A7,'All Running Order'!$A$6:$CZ$64,BR$102,FALSE),\"\")","v":0},{"$f":"IFERROR(VLOOKUP($A7,'All Running Order'!$A$6:$CZ$64,BS$102,FALSE),\"\")","v":0},{"$f":"IFERROR(VLOOKUP($A7,'All Running Order'!$A$6:$CZ$64,BT$102,FALSE),\"\")","v":0},{"$f":"IFERROR(VLOOKUP($A7,'All Running Order'!$A$6:$CZ$64,BU$102,FALSE),\"\")","v":0},{"$f":"IFERROR(VLOOKUP($A7,'All Running Order'!$A$6:$CZ$64,BV$102,FALSE),\"\")","v":0},{"$f":"IFERROR(VLOOKUP($A7,'All Running Order'!$A$6:$CZ$64,BW$102,FALSE),\"\")","v":14},{"$f":"IFERROR(VLOOKUP($A7,'All Running Order'!$A$6:$CZ$64,BX$102,FALSE),\"\")","v":4},{"$f":"IFERROR(VLOOKUP($A7,'All Running Order'!$A$6:$CZ$64,BY$102,FALSE),\"\")","v":2},{"$f":"IFERROR(VLOOKUP($A7,'All Running Order'!$A$6:$CZ$64,BZ$102,FALSE),\"\")","v":1},{"$f":"IFERROR(VLOOKUP($A7,'All Running Order'!$A$6:$CZ$64,CA$102,FALSE),\"\")","v":2},{"$f":"IFERROR(VLOOKUP($A7,'All Running Order'!$A$6:$CZ$64,CB$102,FALSE),\"\")","v":2},{"$f":"IFERROR(VLOOKUP($A7,'All Running Order'!$A$6:$CZ$64,CC$102,FALSE),\"\")","v":4},{"$f":"IFERROR(VLOOKUP($A7,'All Running Order'!$A$6:$CZ$64,CD$102,FALSE),\"\")","v":2},{"$f":"IFERROR(VLOOKUP($A7,'All Running Order'!$A$6:$CZ$64,CE$102,FALSE),\"\")","v":1},{"$f":"IFERROR(VLOOKUP($A7,'All Running Order'!$A$6:$CZ$64,CF$102,FALSE),\"\")","v":2},{"$f":"IFERROR(VLOOKUP($A7,'All Running Order'!$A$6:$CZ$64,CG$102,FALSE),\"\")","v":2},{"$f":"IFERROR(VLOOKUP($A7,'All Running Order'!$A$6:$CZ$64,CH$102,FALSE),\"\")","v":2},{"$f":"IFERROR(VLOOKUP($A7,'All Running Order'!$A$6:$CZ$64,CI$102,FALSE),\"\")","v":""},{"$f":"IFERROR(VLOOKUP($A7,'All Running Order'!$A$6:$CZ$64,CJ$102,FALSE),\"\")","v":"-"},{"$f":"IFERROR(VLOOKUP($A7,'All Running Order'!$A$6:$CZ$64,CK$102,FALSE),\"\")","v":""},{"$f":"IFERROR(VLOOKUP($A7,'All Running Order'!$A$6:$CZ$64,CL$102,FALSE),\"\")","v":"-"},{"$f":"IFERROR(VLOOKUP($A7,'All Running Order'!$A$6:$CZ$64,CM$102,FALSE),\"\")","v":""},{"$f":"IFERROR(VLOOKUP($A7,'All Running Order'!$A$6:$CZ$64,CN$102,FALSE),\"\")","v":"-"},{"$f":"IFERROR(VLOOKUP($A7,'All Running Order'!$A$6:$CZ$64,CO$102,FALSE),\"\")","v":""},{"$f":"IFERROR(VLOOKUP($A7,'All Running Order'!$A$6:$CZ$64,CP$102,FALSE),\"\")","v":"-"},{"$f":"IFERROR(VLOOKUP($A7,'All Running Order'!$A$6:$CZ$64,CQ$102,FALSE),\"\")","v":""},{"$f":"IFERROR(VLOOKUP($A7,'All Running Order'!$A$6:$CZ$64,CR$102,FALSE),\"\")","v":"-"},{"$f":"IFERROR(VLOOKUP($A7,'All Running Order'!$A$6:$CZ$64,CS$102,FALSE),\"\")","v":""},{"$f":"IFERROR(VLOOKUP($A7,'All Running Order'!$A$6:$CZ$64,CT$102,FALSE),\"\")","v":"-"},{"$f":"IFERROR(VLOOKUP($A7,'All Running Order'!$A$6:$CZ$64,CU$102,FALSE),\"\")","v":" "},{"$f":"IFERROR(VLOOKUP($A7,'All Running Order'!$A$6:$CZ$64,CV$102,FALSE),\"\")","v":"-"},{"$f":"IFERROR(VLOOKUP($A7,'All Running Order'!$A$6:$CZ$64,CW$102,FALSE),\"\")","v":" "},{"$f":"IFERROR(VLOOKUP($A7,'All Running Order'!$A$6:$CZ$64,CX$102,FALSE),\"\")","v":" "},{"$f":"IFERROR(VLOOKUP($A7,'All Running Order'!$A$6:$CZ$64,CY$102,FALSE),\"\")","v":"Red"},{"$f":"IFERROR(VLOOKUP($A7,'All Running Order'!$A$6:$CZ$64,CZ$102,FALSE),\"\")","v":"IRS"}]
[3,{"$f":"IFERROR(VLOOKUP($A8,'All Running Order'!$A$6:$CZ$64,B$102,FALSE),\"\")","v":9},{"$f":"IFERROR(VLOOKUP($A8,'All Running Order'!$A$6:$CZ$64,C$102,FALSE),\"\")","v":"Sam Beare"},{"$f":"IFERROR(VLOOKUP($A8,'All Running Order'!$A$6:$CZ$64,D$102,FALSE),\"\")","v":"Jemima Beare"},{"$f":"IFERROR(VLOOKUP($A8,'All Running Order'!$A$6:$CZ$64,E$102,FALSE),\"\")","v":"Sherpa"},{"$f":"IFERROR(VLOOKUP($A8,'All Running Order'!$A$6:$CZ$64,F$102,FALSE),\"\")","v":0},{"$f":"IFERROR(VLOOKUP($A8,'All Running Order'!$A$6:$CZ$64,G$102,FALSE),\"\")","v":"Live"},{"$f":"IFERROR(VLOOKUP($A8,'All Running Order'!$A$6:$CZ$64,H$102,FALSE),\"\")","v":"Yes"},{"$f":"IFERROR(VLOOKUP($A8,'All Running Order'!$A$6:$CZ$64,I$102,FALSE),\"\")","v":0},{"$f":"IFERROR(VLOOKUP($A8,'All Running Order'!$A$6:$CZ$64,J$102,FALSE),\"\")","v":0},{"$f":"IFERROR(VLOOKUP($A8,'All Running Order'!$A$6:$CZ$64,K$102,FALSE),\"\")","v":0},{"$f":"IFERROR(VLOOKUP($A8,'All Running Order'!$A$6:$CZ$64,L$102,FALSE),\"\")","v":0},{"$f":"IFERROR(VLOOKUP($A8,'All Running Order'!$A$6:$CZ$64,M$102,FALSE),\"\")","v":0},{"$f":"IFERROR(VLOOKUP($A8,'All Running Order'!$A$6:$CZ$64,N$102,FALSE),\"\")","v":0},{"$f":"IFERROR(VLOOKUP($A8,'All Running Order'!$A$6:$CZ$64,O$102,FALSE),\"\")","v":0},{"$f":"IFERROR(VLOOKUP($A8,'All Running Order'!$A$6:$CZ$64,P$102,FALSE),\"\")","v":"Red"},{"$f":"IFERROR(VLOOKUP($A8,'All Running Order'!$A$6:$CZ$64,Q$102,FALSE),\"\")","v":0},{"$f":"IFERROR(VLOOKUP($A8,'All Running Order'!$A$6:$CZ$64,R$102,FALSE),\"\")","v":0},{"$f":"IFERROR(VLOOKUP($A8,'All Running Order'!$A$6:$CZ$64,S$102,FALSE),\"\")","v":2},{"$f":"IFERROR(VLOOKUP($A8,'All Running Order'!$A$6:$CZ$64,T$102,FALSE),\"\")","v":0},{"$f":"IFERROR(VLOOKUP($A8,'All Running Order'!$A$6:$CZ$64,U$102,FALSE),\"\")","v":1},{"$f":"IFERROR(VLOOKUP($A8,'All Running Order'!$A$6:$CZ$64,V$102,FALSE),\"\")","v":2},{"$f":"IFERROR(VLOOKUP($A8,'All Running Order'!$A$6:$CZ$64,W$102,FALSE),\"\")","v":0},{"$f":"IFERROR(VLOOKUP($A8,'All Running Order'!$A$6:$CZ$64,X$102,FALSE),\"\")","v":0},{"$f":"IFERROR(VLOOKUP($A8,'All Running Order'!$A$6:$CZ$64,Y$102,FALSE),\"\")","v":0},{"$f":"IFERROR(VLOOKUP($A8,'All Running Order'!$A$6:$CZ$64,Z$102,FALSE),\"\")","v":0},{"$f":"IFERROR(VLOOKUP($A8,'All Running Order'!$A$6:$CZ$64,AA$102,FALSE),\"\")","v":5},{"$f":"IFERROR(VLOOKUP($A8,'All Running Order'!$A$6:$CZ$64,AB$102,FALSE),\"\")","v":0},{"$f":"IFERROR(VLOOKUP($A8,'All Running Order'!$A$6:$CZ$64,AC$102,FALSE),\"\")","v":0},{"$f":"IFERROR(VLOOKUP($A8,'All Running Order'!$A$6:$CZ$64,AD$102,FALSE),\"\")","v":0},{"$f":"IFERROR(VLOOKUP($A8,'All Running Order'!$A$6:$CZ$64,AE$102,FALSE),\"\")","v":1},{"$f":"IFERROR(VLOOKUP($A8,'All Running Order'!$A$6:$CZ$64,AF$102,FALSE),\"\")","v":1},{"$f":"IFERROR(VLOOKUP($A8,'All Running Order'!$A$6:$CZ$64,AG$102,FALSE),\"\")","v":1},{"$f":"IFERROR(VLOOKUP($A8,'All Running Order'!$A$6:$CZ$64,AH$102,FALSE),\"\")","v":0},{"$f":"IFERROR(VLOOKUP($A8,'All Running Order'!$A$6:$CZ$64,AI$102,FALSE),\"\")","v":0},{"$f":"IFERROR(VLOOKUP($A8,'All Running Order'!$A$6:$CZ$64,AJ$102,FALSE),\"\")","v":0},{"$f":"IFERROR(VLOOKUP($A8,'All Running Order'!$A$6:$CZ$64,AK$102,FALSE),\"\")","v":0},{"$f":"IFERROR(VLOOKUP($A8,'All Running Order'!$A$6:$CZ$64,AL$102,FALSE),\"\")","v":3},{"$f":"IFERROR(VLOOKUP($A8,'All Running Order'!$A$6:$CZ$64,AM$102,FALSE),\"\")","v":8},{"$f":"IFERROR(VLOOKUP($A8,'All Running Order'!$A$6:$CZ$64,AN$102,FALSE),\"\")","v":0},{"$f":"IFERROR(VLOOKUP($A8,'All Running Order'!$A$6:$CZ$64,AO$102,FALSE),\"\")","v":0},{"$f":"IFERROR(VLOOKUP($A8,'All Running Order'!$A$6:$CZ$64,AP$102,FALSE),\"\")","v":0},{"$f":"IFERROR(VLOOKUP($A8,'All Running Order'!$A$6:$CZ$64,AQ$102,FALSE),\"\")","v":0},{"$f":"IFERROR(VLOOKUP($A8,'All Running Order'!$A$6:$CZ$64,AR$102,FALSE),\"\")","v":0},{"$f":"IFERROR(VLOOKUP($A8,'All Running Order'!$A$6:$CZ$64,AS$102,FALSE),\"\")","v":0},{"$f":"IFERROR(VLOOKUP($A8,'All Running Order'!$A$6:$CZ$64,AT$102,FALSE),\"\")","v":0},{"$f":"IFERROR(VLOOKUP($A8,'All Running Order'!$A$6:$CZ$64,AU$102,FALSE),\"\")","v":0},{"$f":"IFERROR(VLOOKUP($A8,'All Running Order'!$A$6:$CZ$64,AV$102,FALSE),\"\")","v":0},{"$f":"IFERROR(VLOOKUP($A8,'All Running Order'!$A$6:$CZ$64,AW$102,FALSE),\"\")","v":0},{"$f":"IFERROR(VLOOKUP($A8,'All Running Order'!$A$6:$CZ$64,AX$102,FALSE),\"\")","v":0},{"$f":"IFERROR(VLOOKUP($A8,'All Running Order'!$A$6:$CZ$64,AY$102,FALSE),\"\")","v":8},{"$f":"IFERROR(VLOOKUP($A8,'All Running Order'!$A$6:$CZ$64,AZ$102,FALSE),\"\")","v":0},{"$f":"IFERROR(VLOOKUP($A8,'All Running Order'!$A$6:$CZ$64,BA$102,FALSE),\"\")","v":0},{"$f":"IFERROR(VLOOKUP($A8,'All Running Order'!$A$6:$CZ$64,BB$102,FALSE),\"\")","v":0},{"$f":"IFERROR(VLOOKUP($A8,'All Running Order'!$A$6:$CZ$64,BC$102,FALSE),\"\")","v":10},{"$f":"IFERROR(VLOOKUP($A8,'All Running Order'!$A$6:$CZ$64,BD$102,FALSE),\"\")","v":0},{"$f":"IFERROR(VLOOKUP($A8,'All Running Order'!$A$6:$CZ$64,BE$102,FALSE),\"\")","v":0},{"$f":"IFERROR(VLOOKUP($A8,'All Running Order'!$A$6:$CZ$64,BF$102,FALSE),\"\")","v":0},{"$f":"IFERROR(VLOOKUP($A8,'All Running Order'!$A$6:$CZ$64,BG$102,FALSE),\"\")","v":0},{"$f":"IFERROR(VLOOKUP($A8,'All Running Order'!$A$6:$CZ$64,BH$102,FALSE),\"\")","v":0},{"$f":"IFERROR(VLOOKUP($A8,'All Running Order'!$A$6:$CZ$64,BI$102,FALSE),\"\")","v":0},{"$f":"IFERROR(VLOOKUP($A8,'All Running Order'!$A$6:$CZ$64,BJ$102,FALSE),\"\")","v":10},{"$f":"IFERROR(VLOOKUP($A8,'All Running Order'!$A$6:$CZ$64,BK$102,FALSE),\"\")","v":18},{"$f":"IFERROR(VLOOKUP($A8,'All Running Order'!$A$6:$CZ$64,BL$102,FALSE),\"\")","v":0},{"$f":"IFERROR(VLOOKUP($A8,'All Running Order'!$A$6:$CZ$64,BM$102,FALSE),\"\")","v":0},{"$f":"IFERROR(VLOOKUP($A8,'All Running Order'!$A$6:$CZ$64,BN$102,FALSE),\"\")","v":0},{"$f":"IFERROR(VLOOKUP($A8,'All Running Order'!$A$6:$CZ$64,BO$102,FALSE),\"\")","v":0},{"$f":"IFERROR(VLOOKUP($A8,'All Running Order'!$A$6:$CZ$64,BP$102,FALSE),\"\")","v":0},{"$f":"IFERROR(VLOOKUP($A8,'All Running Order'!$A$6:$CZ$64,BQ$102,FALSE),\"\")","v":0},{"$f":"IFERROR(VLOOKUP($A8,'All Running Order'!$A$6:$CZ$64,BR$102,FALSE),\"\")","v":0},{"$f":"IFERROR(VLOOKUP($A8,'All Running Order'!$A$6:$CZ$64,BS$102,FALSE),\"\")","v":0},{"$f":"IFERROR(VLOOKUP($A8,'All Running Order'!$A$6:$CZ$64,BT$102,FALSE),\"\")","v":0},{"$f":"IFERROR(VLOOKUP($A8,'All Running Order'!$A$6:$CZ$64,BU$102,FALSE),\"\")","v":0},{"$f":"IFERROR(VLOOKUP($A8,'All Running Order'!$A$6:$CZ$64,BV$102,FALSE),\"\")","v":0},{"$f":"IFERROR(VLOOKUP($A8,'All Running Order'!$A$6:$CZ$64,BW$102,FALSE),\"\")","v":18},{"$f":"IFERROR(VLOOKUP($A8,'All Running Order'!$A$6:$CZ$64,BX$102,FALSE),\"\")","v":3},{"$f":"IFERROR(VLOOKUP($A8,'All Running Order'!$A$6:$CZ$64,BY$102,FALSE),\"\")","v":2},{"$f":"IFERROR(VLOOKUP($A8,'All Running Order'!$A$6:$CZ$64,BZ$102,FALSE),\"\")","v":1},{"$f":"IFERROR(VLOOKUP($A8,'All Running Order'!$A$6:$CZ$64,CA$102,FALSE),\"\")","v":3},{"$f":"IFERROR(VLOOKUP($A8,'All Running Order'!$A$6:$CZ$64,CB$102,FALSE),\"\")","v":3},{"$f":"IFERROR(VLOOKUP($A8,'All Running Order'!$A$6:$CZ$64,CC$102,FALSE),\"\")","v":3},{"$f":"IFERROR(VLOOKUP($A8,'All Running Order'!$A$6:$CZ$64,CD$102,FALSE),\"\")","v":2},{"$f":"IFERROR(VLOOKUP($A8,'All Running Order'!$A$6:$CZ$64,CE$102,FALSE),\"\")","v":1},{"$f":"IFERROR(VLOOKUP($A8,'All Running Order'!$A$6:$CZ$64,CF$102,FALSE),\"\")","v":3},{"$f":"IFERROR(VLOOKUP($A8,'All Running Order'!$A$6:$CZ$64,CG$102,FALSE),\"\")","v":3},{"$f":"IFERROR(VLOOKUP($A8,'All Running Order'!$A$6:$CZ$64,CH$102,FALSE),\"\")","v":3},{"$f":"IFERROR(VLOOKUP($A8,'All Running Order'!$A$6:$CZ$64,CI$102,FALSE),\"\")","v":""},{"$f":"IFERROR(VLOOKUP($A8,'All Running Order'!$A$6:$CZ$64,CJ$102,FALSE),\"\")","v":"-"},{"$f":"IFERROR(VLOOKUP($A8,'All Running Order'!$A$6:$CZ$64,CK$102,FALSE),\"\")","v":""},{"$f":"IFERROR(VLOOKUP($A8,'All Running Order'!$A$6:$CZ$64,CL$102,FALSE),\"\")","v":"-"},{"$f":"IFERROR(VLOOKUP($A8,'All Running Order'!$A$6:$CZ$64,CM$102,FALSE),\"\")","v":""},{"$f":"IFERROR(VLOOKUP($A8,'All Running Order'!$A$6:$CZ$64,CN$102,FALSE),\"\")","v":"-"},{"$f":"IFERROR(VLOOKUP($A8,'All Running Order'!$A$6:$CZ$64,CO$102,FALSE),\"\")","v":""},{"$f":"IFERROR(VLOOKUP($A8,'All Running Order'!$A$6:$CZ$64,CP$102,FALSE),\"\")","v":"-"},{"$f":"IFERROR(VLOOKUP($A8,'All Running Order'!$A$6:$CZ$64,CQ$102,FALSE),\"\")","v":""},{"$f":"IFERROR(VLOOKUP($A8,'All Running Order'!$A$6:$CZ$64,CR$102,FALSE),\"\")","v":"-"},{"$f":"IFERROR(VLOOKUP($A8,'All Running Order'!$A$6:$CZ$64,CS$102,FALSE),\"\")","v":""},{"$f":"IFERROR(VLOOKUP($A8,'All Running Order'!$A$6:$CZ$64,CT$102,FALSE),\"\")","v":"-"},{"$f":"IFERROR(VLOOKUP($A8,'All Running Order'!$A$6:$CZ$64,CU$102,FALSE),\"\")","v":" "},{"$f":"IFERROR(VLOOKUP($A8,'All Running Order'!$A$6:$CZ$64,CV$102,FALSE),\"\")","v":3},{"$f":"IFERROR(VLOOKUP($A8,'All Running Order'!$A$6:$CZ$64,CW$102,FALSE),\"\")","v":" "},{"$f":"IFERROR(VLOOKUP($A8,'All Running Order'!$A$6:$CZ$64,CX$102,FALSE),\"\")","v":" "},{"$f":"IFERROR(VLOOKUP($A8,'All Running Order'!$A$6:$CZ$64,CY$102,FALSE),\"\")","v":"Red"},{"$f":"IFERROR(VLOOKUP($A8,'All Running Order'!$A$6:$CZ$64,CZ$102,FALSE),\"\")","v":"Live"}]
[4,{"$f":"IFERROR(VLOOKUP($A9,'All Running Order'!$A$6:$CZ$64,B$102,FALSE),\"\")","v":8},{"$f":"IFERROR(VLOOKUP($A9,'All Running Order'!$A$6:$CZ$64,C$102,FALSE),\"\")","v":"Tom Bricknell"},{"$f":"IFERROR(VLOOKUP($A9,'All Running Order'!$A$6:$CZ$64,D$102,FALSE),\"\")","v":"Andy Beveridge"},{"$f":"IFERROR(VLOOKUP($A9,'All Running Order'!$A$6:$CZ$64,E$102,FALSE),\"\")","v":"Crossle "},{"$f":"IFERROR(VLOOKUP($A9,'All Running Order'!$A$6:$CZ$64,F$102,FALSE),\"\")","v":0},{"$f":"IFERROR(VLOOKUP($A9,'All Running Order'!$A$6:$CZ$64,G$102,FALSE),\"\")","v":"IRS"},{"$f":"IFERROR(VLOOKUP($A9,'All Running Order'!$A$6:$CZ$64,H$102,FALSE),\"\")","v":"Yes"},{"$f":"IFERROR(VLOOKUP($A9,'All Running Order'!$A$6:$CZ$64,I$102,FALSE),\"\")","v":0},{"$f":"IFERROR(VLOOKUP($A9,'All Running Order'!$A$6:$CZ$64,J$102,FALSE),\"\")","v":0},{"$f":"IFERROR(VLOOKUP($A9,'All Running Order'!$A$6:$CZ$64,K$102,FALSE),\"\")","v":0},{"$f":"IFERROR(VLOOKUP($A9,'All Running Order'!$A$6:$CZ$64,L$102,FALSE),\"\")","v":0},{"$f":"IFERROR(VLOOKUP($A9,'All Running Order'!$A$6:$CZ$64,M$102,FALSE),\"\")","v":0},{"$f":"IFERROR(VLOOKUP($A9,'All Running Order'!$A$6:$CZ$64,N$102,FALSE),\"\")","v":0},{"$f":"IFERROR(VLOOKUP($A9,'All Running Order'!$A$6:$CZ$64,O$102,FALSE),\"\")","v":0},{"$f":"IFERROR(VLOOKUP($A9,'All Running Order'!$A$6:$CZ$64,P$102,FALSE),\"\")","v":"Red"},{"$f":"IFERROR(VLOOKUP($A9,'All Running Order'!$A$6:$CZ$64,Q$102,FALSE),\"\")","v":0},{"$f":"IFERROR(VLOOKUP($A9,'All Running Order'!$A$6:$CZ$64,R$102,FALSE),\"\")","v":0},{"$f":"IFERROR(VLOOKUP($A9,'All Running Order'!$A$6:$CZ$64,S$102,FALSE),\"\")","v":0},{"$f":"IFERROR(VLOOKUP($A9,'All Running Order'!$A$6:$CZ$64,T$102,FALSE),\"\")","v":5},{"$f":"IFERROR(VLOOKUP($A9,'All Running Order'!$A$6:$CZ$64,U$102,FALSE),\"\")","v":2},{"$f":"IFERROR(VLOOKUP($A9,'All Running Order'!$A$6:$CZ$64,V$102,FALSE),\"\")","v":2},{"$f":"IFERROR(VLOOKUP($A9,'All Running Order'!$A$6:$CZ$64,W$102,FALSE),\"\")","v":0},{"$f":"IFERROR(VLOOKUP($A9,'All Running Order'!$A$6:$CZ$64,X$102,FALSE),\"\")","v":0},{"$f":"IFERROR(VLOOKUP($A9,'All Running Order'!$A$6:$CZ$64,Y$102,FALSE),\"\")","v":0},{"$f":"IFERROR(VLOOKUP($A9,'All Running Order'!$A$6:$CZ$64,Z$102,FALSE),\"\")","v":0},{"$f":"IFERROR(VLOOKUP($A9,'All Running Order'!$A$6:$CZ$64,AA$102,FALSE),\"\")","v":9},{"$f":"IFERROR(VLOOKUP($A9,'All Running Order'!$A$6:$CZ$64,AB$102,FALSE),\"\")","v":0},{"$f":"IFERROR(VLOOKUP($A9,'All Running Order'!$A$6:$CZ$64,AC$102,FALSE),\"\")","v":0},{"$f":"IFERROR(VLOOKUP($A9,'All Running Order'!$A$6:$CZ$64,AD$102,FALSE),\"\")","v":0},{"$f":"IFERROR(VLOOKUP($A9,'All Running Order'!$A$6:$CZ$64,AE$102,FALSE),\"\")","v":1},{"$f":"IFERROR(VLOOKUP($A9,'All Running Order'!$A$6:$CZ$64,AF$102,FALSE),\"\")","v":0},{"$f":"IFERROR(VLOOKUP($A9,'All Running Order'!$A$6:$CZ$64,AG$102,FALSE),\"\")","v":0},{"$f":"IFERROR(VLOOKUP($A9,'All Running Order'!$A$6:$CZ$64,AH$102,FALSE),\"\")","v":0},{"$f":"IFERROR(VLOOKUP($A9,'All Running Order'!$A$6:$CZ$64,AI$102,FALSE),\"\")","v":0},{"$f":"IFERROR(VLOOKUP($A9,'All Running Order'!$A$6:$CZ$64,AJ$102,FALSE),\"\")","v":0},{"$f":"IFERROR(VLOOKUP($A9,'All Running Order'!$A$6:$CZ$64,AK$102,FALSE),\"\")","v":0},{"$f":"IFERROR(VLOOKUP($A9,'All Running Order'!$A$6:$CZ$64,AL$102,FALSE),\"\")","v":1},{"$f":"IFERROR(VLOOKUP($A9,'All Running Order'!$A$6:$CZ$64,AM$102,FALSE),\"\")","v":10},{"$f":"IFERROR(VLOOKUP($A9,'All Running Order'!$A$6:$CZ$64,AN$102,FALSE),\"\")","v":3},{"$f":"IFERROR(VLOOKUP($A9,'All Running Order'!$A$6:$CZ$64,AO$102,FALSE),\"\")","v":0},{"$f":"IFERROR(VLOOKUP($A9,'All Running Order'!$A$6:$CZ$64,AP$102,FALSE),\"\")","v":0},{"$f":"IFERROR(VLOOKUP($A9,'All Running Order'!$A$6:$CZ$64,AQ$102,FALSE),\"\")","v":1},{"$f":"IFERROR(VLOOKUP($A9,'All Running Order'!$A$6:$CZ$64,AR$102,FALSE),\"\")","v":0},{"$f":"IFERROR(VLOOKUP($A9,'All Running Order'!$A$6:$CZ$64,AS$102,FALSE),\"\")","v":0},{"$f":"IFERROR(VLOOKUP($A9,'All Running Order'!$A$6:$CZ$64,AT$102,FALSE),\"\")","v":0},{"$f":"IFERROR(VLOOKUP($A9,'All Running Order'!$A$6:$CZ$64,AU$102,FALSE),\"\")","v":0},{"$f":"IFERROR(VLOOKUP($A9,'All Running Order'!$A$6:$CZ$64,AV$102,FALSE),\"\")","v":0},{"$f":"IFERROR(VLOOKUP($A9,'All Running Order'!$A$6:$CZ$64,AW$102,FALSE),\"\")","v":0},{"$f":"IFERROR(VLOOKUP($A9,'All Running Order'!$A$6:$CZ$64,AX$102,FALSE),\"\")","v":4},{"$f":"IFERROR(VLOOKUP($A9,'All Running Order'!$A$6:$CZ$64,AY$102,FALSE),\"\")","v":14},{"$f":"IFERROR(VLOOKUP($A9,'All Running Order'!$A$6:$CZ$64,AZ$102,FALSE),\"\")","v":0},{"$f":"IFERROR(VLOOKUP($A9,'All Running Order'!$A$6:$CZ$64,BA$102,FALSE),\"\")","v":2},{"$f":"IFERROR(VLOOKUP($A9,'All Running Order'!$A$6:$CZ$64,BB$102,FALSE),\"\")","v":2},{"$f":"IFERROR(VLOOKUP($A9,'All Running Order'!$A$6:$CZ$64,BC$102,FALSE),\"\")","v":0},{"$f":"IFERROR(VLOOKUP($A9,'All Running Order'!$A$6:$CZ$64,BD$102,FALSE),\"\")","v":0},{"$f":"IFERROR(VLOOKUP($A9,'All Running Order'!$A$6:$CZ$64,BE$102,FALSE),\"\")","v":0},{"$f":"IFERROR(VLOOKUP($A9,'All Running Order'!$A$6:$CZ$64,BF$102,FALSE),\"\")","v":0},{"$f":"IFERROR(VLOOKUP($A9,'All Running Order'!$A$6:$CZ$64,BG$102,FALSE),\"\")","v":0},{"$f":"IFERROR(VLOOKUP($A9,'All Running Order'!$A$6:$CZ$64,BH$102,FALSE),\"\")","v":0},{"$f":"IFERROR(VLOOKUP($A9,'All Running Order'!$A$6:$CZ$64,BI$102,FALSE),\"\")","v":0},{"$f":"IFERROR(VLOOKUP($A9,'All Running Order'!$A$6:$CZ$64,BJ$102,FALSE),\"\")","v":4},{"$f":"IFERROR(VLOOKUP($A9,'All Running Order'!$A$6:$CZ$64,BK$102,FALSE),\"\")","v":18},{"$f":"IFERROR(VLOOKUP($A9,'All Running Order'!$A$6:$CZ$64,BL$102,FALSE),\"\")","v":0},{"$f":"IFERROR(VLOOKUP($A9,'All Running Order'!$A$6:$CZ$64,BM$102,FALSE),\"\")","v":0},{"$f":"IFERROR(VLOOKUP($A9,'All Running Order'!$A$6:$CZ$64,BN$102,FALSE),\"\")","v":0},{"$f":"IFERROR(VLOOKUP($A9,'All Running Order'!$A$6:$CZ$64,BO$102,FALSE),\"\")","v":0},{"$f":"IFERROR(VLOOKUP($A9,'All Running Order'!$A$6:$CZ$64,BP$102,FALSE),\"\")","v":0},{"$f":"IFERROR(VLOOKUP($A9,'All Running Order'!$A$6:$CZ$64,BQ$102,FALSE),\"\")","v":0},{"$f":"IFERROR(VLOOKUP($A9,'All Running Order'!$A$6:$CZ$64,BR$102,FALSE),\"\")","v":0},{"$f":"IFERROR(VLOOKUP($A9,'All Running Order'!$A$6:$CZ$64,BS$102,FALSE),\"\")","v":0},{"$f":"IFERROR(VLOOKUP($A9,'All Running Order'!$A$6:$CZ$64,BT$102,FALSE),\"\")","v":0},{"$f":"IFERROR(VLOOKUP($A9,'All Running Order'!$A$6:$CZ$64,BU$102,FALSE),\"\")","v":0},{"$f":"IFERROR(VLOOKUP($A9,'All Running Order'!$A$6:$CZ$64,BV$102,FALSE),\"\")","v":0},{"$f":"IFERROR(VLOOKUP($A9,'All Running Order'!$A$6:$CZ$64,BW$102,FALSE),\"\")","v":18},{"$f":"IFERROR(VLOOKUP($A9,'All Running Order'!$A$6:$CZ$64,BX$102,FALSE),\"\")","v":6},{"$f":"IFERROR(VLOOKUP($A9,'All Running Order'!$A$6:$CZ$64,BY$102,FALSE),\"\")","v":4},{"$f":"IFERROR(VLOOKUP($A9,'All Running Order'!$A$6:$CZ$64,BZ$102,FALSE),\"\")","v":4},{"$f":"IFERROR(VLOOKUP($A9,'All Running Order'!$A$6:$CZ$64,CA$102,FALSE),\"\")","v":4},{"$f":"IFERROR(VLOOKUP($A9,'All Running Order'!$A$6:$CZ$64,CB$102,FALSE),\"\")","v":4},{"$f":"IFERROR(VLOOKUP($A9,'All Running Order'!$A$6:$CZ$64,CC$102,FALSE),\"\")","v":6},{"$f":"IFERROR(VLOOKUP($A9,'All Running Order'!$A$6:$CZ$64,CD$102,FALSE),\"\")","v":4},{"$f":"IFERROR(VLOOKUP($A9,'All Running Order'!$A$6:$CZ$64,CE$102,FALSE),\"\")","v":4},{"$f":"IFERROR(VLOOKUP($A9,'All Running Order'!$A$6:$CZ$64,CF$102,FALSE),\"\")","v":3},{"$f":"IFERROR(VLOOKUP($A9,'All Running Order'!$A$6:$CZ$64,CG$102,FALSE),\"\")","v":3},{"$f":"IFERROR(VLOOKUP($A9,'All Running Order'!$A$6:$CZ$64,CH$102,FALSE),\"\")","v":4},{"$f":"IFERROR(VLOOKUP($A9,'All Running Order'!$A$6:$CZ$64,CI$102,FALSE),\"\")","v":""},{"$f":"IFERROR(VLOOKUP($A9,'All Running Order'!$A$6:$CZ$64,CJ$102,FALSE),\"\")","v":"-"},{"$f":"IFERROR(VLOOKUP($A9,'All Running Order'!$A$6:$CZ$64,CK$102,FALSE),\"\")","v":""},{"$f":"IFERROR(VLOOKUP($A9,'All Running Order'!$A$6:$CZ$64,CL$102,FALSE),\"\")","v":"-"},{"$f":"IFERROR(VLOOKUP($A9,'All Running Order'!$A$6:$CZ$64,CM$102,FALSE),\"\")","v":""},{"$f":"IFERROR(VLOOKUP($A9,'All Running Order'!$A$6:$CZ$64,CN$102,FALSE),\"\")","v":"-"},{"$f":"IFERROR(VLOOKUP($A9,'All Running Order'!$A$6:$CZ$64,CO$102,FALSE),\"\")","v":""},{"$f":"IFERROR(VLOOKUP($A9,'All Running Order'!$A$6:$CZ$64,CP$102,FALSE),\"\")","v":"-"},{"$f":"IFERROR(VLOOKUP($A9,'All Running Order'!$A$6:$CZ$64,CQ$102,FALSE),\"\")","v":""},{"$f":"IFERROR(VLOOKUP($A9,'All Running Order'!$A$6:$CZ$64,CR$102,FALSE),\"\")","v":"-"},{"$f":"IFERROR(VLOOKUP($A9,'All Running Order'!$A$6:$CZ$64,CS$102,FALSE),\"\")","v":""},{"$f":"IFERROR(VLOOKUP($A9,'All Running Order'!$A$6:$CZ$64,CT$102,FALSE),\"\")","v":"-"},{"$f":"IFERROR(VLOOKUP($A9,'All Running Order'!$A$6:$CZ$64,CU$102,FALSE),\"\")","v":" "},{"$f":"IFERROR(VLOOKUP($A9,'All Running Order'!$A$6:$CZ$64,CV$102,FALSE),\"\")","v":"-"},{"$f":"IFERROR(VLOOKUP($A9,'All Running Order'!$A$6:$CZ$64,CW$102,FALSE),\"\")","v":" "},{"$f":"IFERROR(VLOOKUP($A9,'All Running Order'!$A$6:$CZ$64,CX$102,FALSE),\"\")","v":" "},{"$f":"IFERROR(VLOOKUP($A9,'All Running Order'!$A$6:$CZ$64,CY$102,FALSE),\"\")","v":"Red"},{"$f":"IFERROR(VLOOKUP($A9,'All Running Order'!$A$6:$CZ$64,CZ$102,FALSE),\"\")","v":"IRS"}]
[5,{"$f":"IFERROR(VLOOKUP($A10,'All Running Order'!$A$6:$CZ$64,B$102,FALSE),\"\")","v":3},{"$f":"IFERROR(VLOOKUP($A10,'All Running Order'!$A$6:$CZ$64,C$102,FALSE),\"\")","v":"George Barnes"},{"$f":"IFERROR(VLOOKUP($A10,'All Running Order'!$A$6:$CZ$64,D$102,FALSE),\"\")","v":"Rob Uryc"},{"$f":"IFERROR(VLOOKUP($A10,'All Running Order'!$A$6:$CZ$64,E$102,FALSE),\"\")","v":"Sherpa"},{"$f":"IFERROR(VLOOKUP($A10,'All Running Order'!$A$6:$CZ$64,F$102,FALSE),\"\")","v":0},{"$f":"IFERROR(VLOOKUP($A10,'All Running Order'!$A$6:$CZ$64,G$102,FALSE),\"\")","v":"Live"},{"$f":"IFERROR(VLOOKUP($A10,'All Running Order'!$A$6:$CZ$64,H$102,FALSE),\"\")","v":"Yes"},{"$f":"IFERROR(VLOOKUP($A10,'All Running Order'!$A$6:$CZ$64,I$102,FALSE),\"\")","v":0},{"$f":"IFERROR(VLOOKUP($A10,'All Running Order'!$A$6:$CZ$64,J$102,FALSE),\"\")","v":0},{"$f":"IFERROR(VLOOKUP($A10,'All Running Order'!$A$6:$CZ$64,K$102,FALSE),\"\")","v":0},{"$f":"IFERROR(VLOOKUP($A10,'All Running Order'!$A$6:$CZ$64,L$102,FALSE),\"\")","v":0},{"$f":"IFERROR(VLOOKUP($A10,'All Running Order'!$A$6:$CZ$64,M$102,FALSE),\"\")","v":0},{"$f":"IFERROR(VLOOKUP($A10,'All Running Order'!$A$6:$CZ$64,N$102,FALSE),\"\")","v":0},{"$f":"IFERROR(VLOOKUP($A10,'All Running Order'!$A$6:$CZ$64,O$102,FALSE),\"\")","v":0},{"$f":"IFERROR(VLOOKUP($A10,'All Running Order'!$A$6:$CZ$64,P$102,FALSE),\"\")","v":"Red"},{"$f":"IFERROR(VLOOKUP($A10,'All Running Order'!$A$6:$CZ$64,Q$102,FALSE),\"\")","v":0},{"$f":"IFERROR(VLOOKUP($A10,'All Running Order'!$A$6:$CZ$64,R$102,FALSE),\"\")","v":0},{"$f":"IFERROR(VLOOKUP($A10,'All Running Order'!$A$6:$CZ$64,S$102,FALSE),\"\")","v":2},{"$f":"IFERROR(VLOOKUP($A10,'All Running Order'!$A$6:$CZ$64,T$102,FALSE),\"\")","v":0},{"$f":"IFERROR(VLOOKUP($A10,'All Running Order'!$A$6:$CZ$64,U$102,FALSE),\"\")","v":1},{"$f":"IFERROR(VLOOKUP($A10,'All Running Order'!$A$6:$CZ$64,V$102,FALSE),\"\")","v":1},{"$f":"IFERROR(VLOOKUP($A10,'All Running Order'!$A$6:$CZ$64,W$102,FALSE),\"\")","v":0},{"$f":"IFERROR(VLOOKUP($A10,'All Running Order'!$A$6:$CZ$64,X$102,FALSE),\"\")","v":0},{"$f":"IFERROR(VLOOKUP($A10,'All Running Order'!$A$6:$CZ$64,Y$102,FALSE),\"\")","v":0},{"$f":"IFERROR(VLOOKUP($A10,'All Running Order'!$A$6:$CZ$64,Z$102,FALSE),\"\")","v":0},{"$f":"IFERROR(VLOOKUP($A10,'All Running Order'!$A$6:$CZ$64,AA$102,FALSE),\"\")","v":4},{"$f":"IFERROR(VLOOKUP($A10,'All Running Order'!$A$6:$CZ$64,AB$102,FALSE),\"\")","v":0},{"$f":"IFERROR(VLOOKUP($A10,'All Running Order'!$A$6:$CZ$64,AC$102,FALSE),\"\")","v":0},{"$f":"IFERROR(VLOOKUP($A10,'All Running Order'!$A$6:$CZ$64,AD$102,FALSE),\"\")","v":1},{"$f":"IFERROR(VLOOKUP($A10,'All Running Order'!$A$6:$CZ$64,AE$102,FALSE),\"\")","v":1},{"$f":"IFERROR(VLOOKUP($A10,'All Running Order'!$A$6:$CZ$64,AF$102,FALSE),\"\")","v":6},{"$f":"IFERROR(VLOOKUP($A10,'All Running Order'!$A$6:$CZ$64,AG$102,FALSE),\"\")","v":0},{"$f":"IFERROR(VLOOKUP($A10,'All Running Order'!$A$6:$CZ$64,AH$102,FALSE),\"\")","v":0},{"$f":"IFERROR(VLOOKUP($A10,'All Running Order'!$A$6:$CZ$64,AI$102,FALSE),\"\")","v":0},{"$f":"IFERROR(VLOOKUP($A10,'All Running Order'!$A$6:$CZ$64,AJ$102,FALSE),\"\")","v":0},{"$f":"IFERROR(VLOOKUP($A10,'All Running Order'!$A$6:$CZ$64,AK$102,FALSE),\"\")","v":0},{"$f":"IFERROR(VLOOKUP($A10,'All Running Order'!$A$6:$CZ$64,AL$102,FALSE),\"\")","v":8},{"$f":"IFERROR(VLOOKUP($A10,'All Running Order'!$A$6:$CZ$64,AM$102,FALSE),\"\")","v":12},{"$f":"IFERROR(VLOOKUP($A10,'All Running Order'!$A$6:$CZ$64,AN$102,FALSE),\"\")","v":0},{"$f":"IFERROR(VLOOKUP($A10,'All Running Order'!$A$6:$CZ$64,AO$102,FALSE),\"\")","v":2},{"$f":"IFERROR(VLOOKUP($A10,'All Running Order'!$A$6:$CZ$64,AP$102,FALSE),\"\")","v":0},{"$f":"IFERROR(VLOOKUP($A10,'All Running Order'!$A$6:$CZ$64,AQ$102,FALSE),\"\")","v":1},{"$f":"IFERROR(VLOOKUP($A10,'All Running Order'!$A$6:$CZ$64,AR$102,FALSE),\"\")","v":0},{"$f":"IFERROR(VLOOKUP($A10,'All Running Order'!$A$6:$CZ$64,AS$102,FALSE),\"\")","v":0},{"$f":"IFERROR(VLOOKUP($A10,'All Running Order'!$A$6:$CZ$64,AT$102,FALSE),\"\")","v":0},{"$f":"IFERROR(VLOOKUP($A10,'All Running Order'!$A$6:$CZ$64,AU$102,FALSE),\"\")","v":0},{"$f":"IFERROR(VLOOKUP($A10,'All Running Order'!$A$6:$CZ$64,AV$102,FALSE),\"\")","v":0},{"$f":"IFERROR(VLOOKUP($A10,'All Running Order'!$A$6:$CZ$64,AW$102,FALSE),\"\")","v":0},{"$f":"IFERROR(VLOOKUP($A10,'All Running Order'!$A$6:$CZ$64,AX$102,FALSE),\"\")","v":3},{"$f":"IFERROR(VLOOKUP($A10,'All Running Order'!$A$6:$CZ$64,AY$102,FALSE),\"\")","v":15},{"$f":"IFERROR(VLOOKUP($A10,'All Running Order'!$A$6:$CZ$64,AZ$102,FALSE),\"\")","v":0},{"$f":"IFERROR(VLOOKUP($A10,'All Running Order'!$A$6:$CZ$64,BA$102,FALSE),\"\")","v":2},{"$f":"IFERROR(VLOOKUP($A10,'All Running Order'!$A$6:$CZ$64,BB$102,FALSE),\"\")","v":0},{"$f":"IFERROR(VLOOKUP($A10,'All Running Order'!$A$6:$CZ$64,BC$102,FALSE),\"\")","v":1},{"$f":"IFERROR(VLOOKUP($A10,'All Running Order'!$A$6:$CZ$64,BD$102,FALSE),\"\")","v":1},{"$f":"IFERROR(VLOOKUP($A10,'All Running Order'!$A$6:$CZ$64,BE$102,FALSE),\"\")","v":0},{"$f":"IFERROR(VLOOKUP($A10,'All Running Order'!$A$6:$CZ$64,BF$102,FALSE),\"\")","v":0},{"$f":"IFERROR(VLOOKUP($A10,'All Running Order'!$A$6:$CZ$64,BG$102,FALSE),\"\")","v":0},{"$f":"IFERROR(VLOOKUP($A10,'All Running Order'!$A$6:$CZ$64,BH$102,FALSE),\"\")","v":0},{"$f":"IFERROR(VLOOKUP($A10,'All Running Order'!$A$6:$CZ$64,BI$102,FALSE),\"\")","v":0},{"$f":"IFERROR(VLOOKUP($A10,'All Running Order'!$A$6:$CZ$64,BJ$102,FALSE),\"\")","v":4},{"$f":"IFERROR(VLOOKUP($A10,'All Running Order'!$A$6:$CZ$64,BK$102,FALSE),\"\")","v":19},{"$f":"IFERROR(VLOOKUP($A10,'All Running Order'!$A$6:$CZ$64,BL$102,FALSE),\"\")","v":0},{"$f":"IFERROR(VLOOKUP($A10,'All Running Order'!$A$6:$CZ$64,BM$102,FALSE),\"\")","v":0},{"$f":"IFERROR(VLOOKUP($A10,'All Running Order'!$A$6:$CZ$64,BN$102,FALSE),\"\")","v":0},{"$f":"IFERROR(VLOOKUP($A10,'All Running Order'!$A$6:$CZ$64,BO$102,FALSE),\"\")","v":0},{"$f":"IFERROR(VLOOKUP($A10,'All Running Order'!$A$6:$CZ$64,BP$102,FALSE),\"\")","v":0},{"$f":"IFERROR(VLOOKUP($A10,'All Running Order'!$A$6:$CZ$64,BQ$102,FALSE),\"\")","v":0},{"$f":"IFERROR(VLOOKUP($A10,'All Running Order'!$A$6:$CZ$64,BR$102,FALSE),\"\")","v":0},{"$f":"IFERROR(VLOOKUP($A10,'All Running Order'!$A$6:$CZ$64,BS$102,FALSE),\"\")","v":0},{"$f":"IFERROR(VLOOKUP($A10,'All Running Order'!$A$6:$CZ$64,BT$102,FALSE),\"\")","v":0},{"$f":"IFERROR(VLOOKUP($A10,'All Running Order'!$A$6:$CZ$64,BU$102,FALSE),\"\")","v":0},{"$f":"IFERROR(VLOOKUP($A10,'All Running Order'!$A$6:$CZ$64,BV$102,FALSE),\"\")","v":0},{"$f":"IFERROR(VLOOKUP($A10,'All Running Order'!$A$6:$CZ$64,BW$102,FALSE),\"\")","v":19},{"$f":"IFERROR(VLOOKUP($A10,'All Running Order'!$A$6:$CZ$64,BX$102,FALSE),\"\")","v":1},{"$f":"IFERROR(VLOOKUP($A10,'All Running Order'!$A$6:$CZ$64,BY$102,FALSE),\"\")","v":5},{"$f":"IFERROR(VLOOKUP($A10,'All Running Order'!$A$6:$CZ$64,BZ$102,FALSE),\"\")","v":5},{"$f":"IFERROR(VLOOKUP($A10,'All Running Order'!$A$6:$CZ$64,CA$102,FALSE),\"\")","v":5},{"$f":"IFERROR(VLOOKUP($A10,'All Running Order'!$A$6:$CZ$64,CB$102,FALSE),\"\")","v":5},{"$f":"IFERROR(VLOOKUP($A10,'All Running Order'!$A$6:$CZ$64,CC$102,FALSE),\"\")","v":1},{"$f":"IFERROR(VLOOKUP($A10,'All Running Order'!$A$6:$CZ$64,CD$102,FALSE),\"\")","v":5},{"$f":"IFERROR(VLOOKUP($A10,'All Running Order'!$A$6:$CZ$64,CE$102,FALSE),\"\")","v":5},{"$f":"IFERROR(VLOOKUP($A10,'All Running Order'!$A$6:$CZ$64,CF$102,FALSE),\"\")","v":5},{"$f":"IFERROR(VLOOKUP($A10,'All Running Order'!$A$6:$CZ$64,CG$102,FALSE),\"\")","v":5},{"$f":"IFERROR(VLOOKUP($A10,'All Running Order'!$A$6:$CZ$64,CH$102,FALSE),\"\")","v":5},{"$f":"IFERROR(VLOOKUP($A10,'All Running Order'!$A$6:$CZ$64,CI$102,FALSE),\"\")","v":""},{"$f":"IFERROR(VLOOKUP($A10,'All Running Order'!$A$6:$CZ$64,CJ$102,FALSE),\"\")","v":"-"},{"$f":"IFERROR(VLOOKUP($A10,'All Running Order'!$A$6:$CZ$64,CK$102,FALSE),\"\")","v":""},{"$f":"IFERROR(VLOOKUP($A10,'All Running Order'!$A$6:$CZ$64,CL$102,FALSE),\"\")","v":"-"},{"$f":"IFERROR(VLOOKUP($A10,'All Running Order'!$A$6:$CZ$64,CM$102,FALSE),\"\")","v":""},{"$f":"IFERROR(VLOOKUP($A10,'All Running Order'!$A$6:$CZ$64,CN$102,FALSE),\"\")","v":"-"},{"$f":"IFERROR(VLOOKUP($A10,'All Running Order'!$A$6:$CZ$64,CO$102,FALSE),\"\")","v":""},{"$f":"IFERROR(VLOOKUP($A10,'All Running Order'!$A$6:$CZ$64,CP$102,FALSE),\"\")","v":"-"},{"$f":"IFERROR(VLOOKUP($A10,'All Running Order'!$A$6:$CZ$64,CQ$102,FALSE),\"\")","v":""},{"$f":"IFERROR(VLOOKUP($A10,'All Running Order'!$A$6:$CZ$64,CR$102,FALSE),\"\")","v":"-"},{"$f":"IFERROR(VLOOKUP($A10,'All Running Order'!$A$6:$CZ$64,CS$102,FALSE),\"\")","v":""},{"$f":"IFERROR(VLOOKUP($A10,'All Running Order'!$A$6:$CZ$64,CT$102,FALSE),\"\")","v":"-"},{"$f":"IFERROR(VLOOKUP($A10,'All Running Order'!$A$6:$CZ$64,CU$102,FALSE),\"\")","v":" "},{"$f":"IFERROR(VLOOKUP($A10,'All Running Order'!$A$6:$CZ$64,CV$102,FALSE),\"\")","v":5},{"$f":"IFERROR(VLOOKUP($A10,'All Running Order'!$A$6:$CZ$64,CW$102,FALSE),\"\")","v":" "},{"$f":"IFERROR(VLOOKUP($A10,'All Running Order'!$A$6:$CZ$64,CX$102,FALSE),\"\")","v":" "},{"$f":"IFERROR(VLOOKUP($A10,'All Running Order'!$A$6:$CZ$64,CY$102,FALSE),\"\")","v":"Red"},{"$f":"IFERROR(VLOOKUP($A10,'All Running Order'!$A$6:$CZ$64,CZ$102,FALSE),\"\")","v":"Live"}]
[6,{"$f":"IFERROR(VLOOKUP($A11,'All Running Order'!$A$6:$CZ$64,B$102,FALSE),\"\")","v":6},{"$f":"IFERROR(VLOOKUP($A11,'All Running Order'!$A$6:$CZ$64,C$102,FALSE),\"\")","v":"Peter Fensom"},{"$f":"IFERROR(VLOOKUP($A11,'All Running Order'!$A$6:$CZ$64,D$102,FALSE),\"\")","v":"Liz Fensom"},{"$f":"IFERROR(VLOOKUP($A11,'All Running Order'!$A$6:$CZ$64,E$102,FALSE),\"\")","v":"Hamilton"},{"$f":"IFERROR(VLOOKUP($A11,'All Running Order'!$A$6:$CZ$64,F$102,FALSE),\"\")","v":0},{"$f":"IFERROR(VLOOKUP($A11,'All Running Order'!$A$6:$CZ$64,G$102,FALSE),\"\")","v":"IRS"},{"$f":"IFERROR(VLOOKUP($A11,'All Running Order'!$A$6:$CZ$64,H$102,FALSE),\"\")","v":"Yes"},{"$f":"IFERROR(VLOOKUP($A11,'All Running Order'!$A$6:$CZ$64,I$102,FALSE),\"\")","v":0},{"$f":"IFERROR(VLOOKUP($A11,'All Running Order'!$A$6:$CZ$64,J$102,FALSE),\"\")","v":0},{"$f":"IFERROR(VLOOKUP($A11,'All Running Order'!$A$6:$CZ$64,K$102,FALSE),\"\")","v":0},{"$f":"IFERROR(VLOOKUP($A11,'All Running Order'!$A$6:$CZ$64,L$102,FALSE),\"\")","v":0},{"$f":"IFERROR(VLOOKUP($A11,'All Running Order'!$A$6:$CZ$64,M$102,FALSE),\"\")","v":0},{"$f":"IFERROR(VLOOKUP($A11,'All Running Order'!$A$6:$CZ$64,N$102,FALSE),\"\")","v":0},{"$f":"IFERROR(VLOOKUP($A11,'All Running Order'!$A$6:$CZ$64,O$102,FALSE),\"\")","v":0},{"$f":"IFERROR(VLOOKUP($A11,'All Running Order'!$A$6:$CZ$64,P$102,FALSE),\"\")","v":"Red"},{"$f":"IFERROR(VLOOKUP($A11,'All Running Order'!$A$6:$CZ$64,Q$102,FALSE),\"\")","v":0},{"$f":"IFERROR(VLOOKUP($A11,'All Running Order'!$A$6:$CZ$64,R$102,FALSE),\"\")","v":2},{"$f":"IFERROR(VLOOKUP($A11,'All Running Order'!$A$6:$CZ$64,S$102,FALSE),\"\")","v":2},{"$f":"IFERROR(VLOOKUP($A11,'All Running Order'!$A$6:$CZ$64,T$102,FALSE),\"\")","v":0},{"$f":"IFERROR(VLOOKUP($A11,'All Running Order'!$A$6:$CZ$64,U$102,FALSE),\"\")","v":2},{"$f":"IFERROR(VLOOKUP($A11,'All Running Order'!$A$6:$CZ$64,V$102,FALSE),\"\")","v":1},{"$f":"IFERROR(VLOOKUP($A11,'All Running Order'!$A$6:$CZ$64,W$102,FALSE),\"\")","v":0},{"$f":"IFERROR(VLOOKUP($A11,'All Running Order'!$A$6:$CZ$64,X$102,FALSE),\"\")","v":0},{"$f":"IFERROR(VLOOKUP($A11,'All Running Order'!$A$6:$CZ$64,Y$102,FALSE),\"\")","v":0},{"$f":"IFERROR(VLOOKUP($A11,'All Running Order'!$A$6:$CZ$64,Z$102,FALSE),\"\")","v":0},{"$f":"IFERROR(VLOOKUP($A11,'All Running Order'!$A$6:$CZ$64,AA$102,FALSE),\"\")","v":7},{"$f":"IFERROR(VLOOKUP($A11,'All Running Order'!$A$6:$CZ$64,AB$102,FALSE),\"\")","v":0},{"$f":"IFERROR(VLOOKUP($A11,'All Running Order'!$A$6:$CZ$64,AC$102,FALSE),\"\")","v":0},{"$f":"IFERROR(VLOOKUP($A11,'All Running Order'!$A$6:$CZ$64,AD$102,FALSE),\"\")","v":2},{"$f":"IFERROR(VLOOKUP($A11,'All Running Order'!$A$6:$CZ$64,AE$102,FALSE),\"\")","v":4},{"$f":"IFERROR(VLOOKUP($A11,'All Running Order'!$A$6:$CZ$64,AF$102,FALSE),\"\")","v":2},{"$f":"IFERROR(VLOOKUP($A11,'All Running Order'!$A$6:$CZ$64,AG$102,FALSE),\"\")","v":0},{"$f":"IFERROR(VLOOKUP($A11,'All Running Order'!$A$6:$CZ$64,AH$102,FALSE),\"\")","v":0},{"$f":"IFERROR(VLOOKUP($A11,'All Running Order'!$A$6:$CZ$64,AI$102,FALSE),\"\")","v":0},{"$f":"IFERROR(VLOOKUP($A11,'All Running Order'!$A$6:$CZ$64,AJ$102,FALSE),\"\")","v":0},{"$f":"IFERROR(VLOOKUP($A11,'All Running Order'!$A$6:$CZ$64,AK$102,FALSE),\"\")","v":0},{"$f":"IFERROR(VLOOKUP($A11,'All Running Order'!$A$6:$CZ$64,AL$102,FALSE),\"\")","v":8},{"$f":"IFERROR(VLOOKUP($A11,'All Running Order'!$A$6:$CZ$64,AM$102,FALSE),\"\")","v":15},{"$f":"IFERROR(VLOOKUP($A11,'All Running Order'!$A$6:$CZ$64,AN$102,FALSE),\"\")","v":0},{"$f":"IFERROR(VLOOKUP($A11,'All Running Order'!$A$6:$CZ$64,AO$102,FALSE),\"\")","v":2},{"$f":"IFERROR(VLOOKUP($A11,'All Running Order'!$A$6:$CZ$64,AP$102,FALSE),\"\")","v":2},{"$f":"IFERROR(VLOOKUP($A11,'All Running Order'!$A$6:$CZ$64,AQ$102,FALSE),\"\")","v":1},{"$f":"IFERROR(VLOOKUP($A11,'All Running Order'!$A$6:$CZ$64,AR$102,FALSE),\"\")","v":0},{"$f":"IFERROR(VLOOKUP($A11,'All Running Order'!$A$6:$CZ$64,AS$102,FALSE),\"\")","v":0},{"$f":"IFERROR(VLOOKUP($A11,'All Running Order'!$A$6:$CZ$64,AT$102,FALSE),\"\")","v":0},{"$f":"IFERROR(VLOOKUP($A11,'All Running Order'!$A$6:$CZ$64,AU$102,FALSE),\"\")","v":0},{"$f":"IFERROR(VLOOKUP($A11,'All Running Order'!$A$6:$CZ$64,AV$102,FALSE),\"\")","v":0},{"$f":"IFERROR(VLOOKUP($A11,'All Running Order'!$A$6:$CZ$64,AW$102,FALSE),\"\")","v":0},{"$f":"IFERROR(VLOOKUP($A11,'All Running Order'!$A$6:$CZ$64,AX$102,FALSE),\"\")","v":5},{"$f":"IFERROR(VLOOKUP($A11,'All Running Order'!$A$6:$CZ$64,AY$102,FALSE),\"\")","v":20},{"$f":"IFERROR(VLOOKUP($A11,'All Running Order'!$A$6:$CZ$64,AZ$102,FALSE),\"\")","v":12},{"$f":"IFERROR(VLOOKUP($A11,'All Running Order'!$A$6:$CZ$64,BA$102,FALSE),\"\")","v":2},{"$f":"IFERROR(VLOOKUP($A11,'All Running Order'!$A$6:$CZ$64,BB$102,FALSE),\"\")","v":2},{"$f":"IFERROR(VLOOKUP($A11,'All Running Order'!$A$6:$CZ$64,BC$102,FALSE),\"\")","v":2},{"$f":"IFERROR(VLOOKUP($A11,'All Running Order'!$A$6:$CZ$64,BD$102,FALSE),\"\")","v":2},{"$f":"IFERROR(VLOOKUP($A11,'All Running Order'!$A$6:$CZ$64,BE$102,FALSE),\"\")","v":0},{"$f":"IFERROR(VLOOKUP($A11,'All Running Order'!$A$6:$CZ$64,BF$102,FALSE),\"\")","v":0},{"$f":"IFERROR(VLOOKUP($A11,'All Running Order'!$A$6:$CZ$64,BG$102,FALSE),\"\")","v":0},{"$f":"IFERROR(VLOOKUP($A11,'All Running Order'!$A$6:$CZ$64,BH$102,FALSE),\"\")","v":0},{"$f":"IFERROR(VLOOKUP($A11,'All Running Order'!$A$6:$CZ$64,BI$102,FALSE),\"\")","v":0},{"$f":"IFERROR(VLOOKUP($A11,'All Running Order'!$A$6:$CZ$64,BJ$102,FALSE),\"\")","v":20},{"$f":"IFERROR(VLOOKUP($A11,'All Running Order'!$A$6:$CZ$64,BK$102,FALSE),\"\")","v":40},{"$f":"IFERROR(VLOOKUP($A11,'All Running Order'!$A$6:$CZ$64,BL$102,FALSE),\"\")","v":0},{"$f":"IFERROR(VLOOKUP($A11,'All Running Order'!$A$6:$CZ$64,BM$102,FALSE),\"\")","v":0},{"$f":"IFERROR(VLOOKUP($A11,'All Running Order'!$A$6:$CZ$64,BN$102,FALSE),\"\")","v":0},{"$f":"IFERROR(VLOOKUP($A11,'All Running Order'!$A$6:$CZ$64,BO$102,FALSE),\"\")","v":0},{"$f":"IFERROR(VLOOKUP($A11,'All Running Order'!$A$6:$CZ$64,BP$102,FALSE),\"\")","v":0},{"$f":"IFERROR(VLOOKUP($A11,'All Running Order'!$A$6:$CZ$64,BQ$102,FALSE),\"\")","v":0},{"$f":"IFERROR(VLOOKUP($A11,'All Running Order'!$A$6:$CZ$64,BR$102,FALSE),\"\")","v":0},{"$f":"IFERROR(VLOOKUP($A11,'All Running Order'!$A$6:$CZ$64,BS$102,FALSE),\"\")","v":0},{"$f":"IFERROR(VLOOKUP($A11,'All Running Order'!$A$6:$CZ$64,BT$102,FALSE),\"\")","v":0},{"$f":"IFERROR(VLOOKUP($A11,'All Running Order'!$A$6:$CZ$64,BU$102,FALSE),\"\")","v":0},{"$f":"IFERROR(VLOOKUP($A11,'All Running Order'!$A$6:$CZ$64,BV$102,FALSE),\"\")","v":0},{"$f":"IFERROR(VLOOKUP($A11,'All Running Order'!$A$6:$CZ$64,BW$102,FALSE),\"\")","v":40},{"$f":"IFERROR(VLOOKUP($A11,'All Running Order'!$A$6:$CZ$64,BX$102,FALSE),\"\")","v":5},{"$f":"IFERROR(VLOOKUP($A11,'All Running Order'!$A$6:$CZ$64,BY$102,FALSE),\"\")","v":6},{"$f":"IFERROR(VLOOKUP($A11,'All Running Order'!$A$6:$CZ$64,BZ$102,FALSE),\"\")","v":6},{"$f":"IFERROR(VLOOKUP($A11,'All Running Order'!$A$6:$CZ$64,CA$102,FALSE),\"\")","v":6},{"$f":"IFERROR(VLOOKUP($A11,'All Running Order'!$A$6:$CZ$64,CB$102,FALSE),\"\")","v":6},{"$f":"IFERROR(VLOOKUP($A11,'All Running Order'!$A$6:$CZ$64,CC$102,FALSE),\"\")","v":5},{"$f":"IFERROR(VLOOKUP($A11,'All Running Order'!$A$6:$CZ$64,CD$102,FALSE),\"\")","v":6},{"$f":"IFERROR(VLOOKUP($A11,'All Running Order'!$A$6:$CZ$64,CE$102,FALSE),\"\")","v":6},{"$f":"IFERROR(VLOOKUP($A11,'All Running Order'!$A$6:$CZ$64,CF$102,FALSE),\"\")","v":6},{"$f":"IFERROR(VLOOKUP($A11,'All Running Order'!$A$6:$CZ$64,CG$102,FALSE),\"\")","v":6},{"$f":"IFERROR(VLOOKUP($A11,'All Running Order'!$A$6:$CZ$64,CH$102,FALSE),\"\")","v":6},{"$f":"IFERROR(VLOOKUP($A11,'All Running Order'!$A$6:$CZ$64,CI$102,FALSE),\"\")","v":""},{"$f":"IFERROR(VLOOKUP($A11,'All Running Order'!$A$6:$CZ$64,CJ$102,FALSE),\"\")","v":"-"},{"$f":"IFERROR(VLOOKUP($A11,'All Running Order'!$A$6:$CZ$64,CK$102,FALSE),\"\")","v":""},{"$f":"IFERROR(VLOOKUP($A11,'All Running Order'!$A$6:$CZ$64,CL$102,FALSE),\"\")","v":"-"},{"$f":"IFERROR(VLOOKUP($A11,'All Running Order'!$A$6:$CZ$64,CM$102,FALSE),\"\")","v":""},{"$f":"IFERROR(VLOOKUP($A11,'All Running Order'!$A$6:$CZ$64,CN$102,FALSE),\"\")","v":"-"},{"$f":"IFERROR(VLOOKUP($A11,'All Running Order'!$A$6:$CZ$64,CO$102,FALSE),\"\")","v":""},{"$f":"IFERROR(VLOOKUP($A11,'All Running Order'!$A$6:$CZ$64,CP$102,FALSE),\"\")","v":"-"},{"$f":"IFERROR(VLOOKUP($A11,'All Running Order'!$A$6:$CZ$64,CQ$102,FALSE),\"\")","v":""},{"$f":"IFERROR(VLOOKUP($A11,'All Running Order'!$A$6:$CZ$64,CR$102,FALSE),\"\")","v":"-"},{"$f":"IFERROR(VLOOKUP($A11,'All Running Order'!$A$6:$CZ$64,CS$102,FALSE),\"\")","v":""},{"$f":"IFERROR(VLOOKUP($A11,'All Running Order'!$A$6:$CZ$64,CT$102,FALSE),\"\")","v":"-"},{"$f":"IFERROR(VLOOKUP($A11,'All Running Order'!$A$6:$CZ$64,CU$102,FALSE),\"\")","v":" "},{"$f":"IFERROR(VLOOKUP($A11,'All Running Order'!$A$6:$CZ$64,CV$102,FALSE),\"\")","v":"-"},{"$f":"IFERROR(VLOOKUP($A11,'All Running Order'!$A$6:$CZ$64,CW$102,FALSE),\"\")","v":" "},{"$f":"IFERROR(VLOOKUP($A11,'All Running Order'!$A$6:$CZ$64,CX$102,FALSE),\"\")","v":" "},{"$f":"IFERROR(VLOOKUP($A11,'All Running Order'!$A$6:$CZ$64,CY$102,FALSE),\"\")","v":"Red"},{"$f":"IFERROR(VLOOKUP($A11,'All Running Order'!$A$6:$CZ$64,CZ$102,FALSE),\"\")","v":"IRS"}]
[7,{"$f":"IFERROR(VLOOKUP($A12,'All Running Order'!$A$6:$CZ$64,B$102,FALSE),\"\")","v":12},{"$f":"IFERROR(VLOOKUP($A12,'All Running Order'!$A$6:$CZ$64,C$102,FALSE),\"\")","v":"Stephen Barnes"},{"$f":"IFERROR(VLOOKUP($A12,'All Running Order'!$A$6:$CZ$64,D$102,FALSE),\"\")","v":"John Miller"},{"$f":"IFERROR(VLOOKUP($A12,'All Running Order'!$A$6:$CZ$64,E$102,FALSE),\"\")","v":"Sherpa"},{"$f":"IFERROR(VLOOKUP($A12,'All Running Order'!$A$6:$CZ$64,F$102,FALSE),\"\")","v":0},{"$f":"IFERROR(VLOOKUP($A12,'All Running Order'!$A$6:$CZ$64,G$102,FALSE),\"\")","v":"Live"},{"$f":"IFERROR(VLOOKUP($A12,'All Running Order'!$A$6:$CZ$64,H$102,FALSE),\"\")","v":"Yes"},{"$f":"IFERROR(VLOOKUP($A12,'All Running Order'!$A$6:$CZ$64,I$102,FALSE),\"\")","v":0},{"$f":"IFERROR(VLOOKUP($A12,'All Running Order'!$A$6:$CZ$64,J$102,FALSE),\"\")","v":0},{"$f":"IFERROR(VLOOKUP($A12,'All Running Order'!$A$6:$CZ$64,K$102,FALSE),\"\")","v":0},{"$f":"IFERROR(VLOOKUP($A12,'All Running Order'!$A$6:$CZ$64,L$102,FALSE),\"\")","v":0},{"$f":"IFERROR(VLOOKUP($A12,'All Running Order'!$A$6:$CZ$64,M$102,FALSE),\"\")","v":0},{"$f":"IFERROR(VLOOKUP($A12,'All Running Order'!$A$6:$CZ$64,N$102,FALSE),\"\")","v":0},{"$f":"IFERROR(VLOOKUP($A12,'All Running Order'!$A$6:$CZ$64,O$102,FALSE),\"\")","v":0},{"$f":"IFERROR(VLOOKUP($A12,'All Running Order'!$A$6:$CZ$64,P$102,FALSE),\"\")","v":"Red"},{"$f":"IFERROR(VLOOKUP($A12,'All Running Order'!$A$6:$CZ$64,Q$102,FALSE),\"\")","v":0},{"$f":"IFERROR(VLOOKUP($A12,'All Running Order'!$A$6:$CZ$64,R$102,FALSE),\"\")","v":2},{"$f":"IFERROR(VLOOKUP($A12,'All Running Order'!$A$6:$CZ$64,S$102,FALSE),\"\")","v":0},{"$f":"IFERROR(VLOOKUP($A12,'All Running Order'!$A$6:$CZ$64,T$102,FALSE),\"\")","v":0},{"$f":"IFERROR(VLOOKUP($A12,'All Running Order'!$A$6:$CZ$64,U$102,FALSE),\"\")","v":5},{"$f":"IFERROR(VLOOKUP($A12,'All Running Order'!$A$6:$CZ$64,V$102,FALSE),\"\")","v":2},{"$f":"IFERROR(VLOOKUP($A12,'All Running Order'!$A$6:$CZ$64,W$102,FALSE),\"\")","v":0},{"$f":"IFERROR(VLOOKUP($A12,'All Running Order'!$A$6:$CZ$64,X$102,FALSE),\"\")","v":0},{"$f":"IFERROR(VLOOKUP($A12,'All Running Order'!$A$6:$CZ$64,Y$102,FALSE),\"\")","v":0},{"$f":"IFERROR(VLOOKUP($A12,'All Running Order'!$A$6:$CZ$64,Z$102,FALSE),\"\")","v":0},{"$f":"IFERROR(VLOOKUP($A12,'All Running Order'!$A$6:$CZ$64,AA$102,FALSE),\"\")","v":9},{"$f":"IFERROR(VLOOKUP($A12,'All Running Order'!$A$6:$CZ$64,AB$102,FALSE),\"\")","v":12},{"$f":"IFERROR(VLOOKUP($A12,'All Running Order'!$A$6:$CZ$64,AC$102,FALSE),\"\")","v":2},{"$f":"IFERROR(VLOOKUP($A12,'All Running Order'!$A$6:$CZ$64,AD$102,FALSE),\"\")","v":0},{"$f":"IFERROR(VLOOKUP($A12,'All Running Order'!$A$6:$CZ$64,AE$102,FALSE),\"\")","v":2},{"$f":"IFERROR(VLOOKUP($A12,'All Running Order'!$A$6:$CZ$64,AF$102,FALSE),\"\")","v":2},{"$f":"IFERROR(VLOOKUP($A12,'All Running Order'!$A$6:$CZ$64,AG$102,FALSE),\"\")","v":2},{"$f":"IFERROR(VLOOKUP($A12,'All Running Order'!$A$6:$CZ$64,AH$102,FALSE),\"\")","v":0},{"$f":"IFERROR(VLOOKUP($A12,'All Running Order'!$A$6:$CZ$64,AI$102,FALSE),\"\")","v":0},{"$f":"IFERROR(VLOOKUP($A12,'All Running Order'!$A$6:$CZ$64,AJ$102,FALSE),\"\")","v":0},{"$f":"IFERROR(VLOOKUP($A12,'All Running Order'!$A$6:$CZ$64,AK$102,FALSE),\"\")","v":0},{"$f":"IFERROR(VLOOKUP($A12,'All Running Order'!$A$6:$CZ$64,AL$102,FALSE),\"\")","v":20},{"$f":"IFERROR(VLOOKUP($A12,'All Running Order'!$A$6:$CZ$64,AM$102,FALSE),\"\")","v":29},{"$f":"IFERROR(VLOOKUP($A12,'All Running Order'!$A$6:$CZ$64,AN$102,FALSE),\"\")","v":3},{"$f":"IFERROR(VLOOKUP($A12,'All Running Order'!$A$6:$CZ$64,AO$102,FALSE),\"\")","v":2},{"$f":"IFERROR(VLOOKUP($A12,'All Running Order'!$A$6:$CZ$64,AP$102,FALSE),\"\")","v":0},{"$f":"IFERROR(VLOOKUP($A12,'All Running Order'!$A$6:$CZ$64,AQ$102,FALSE),\"\")","v":3},{"$f":"IFERROR(VLOOKUP($A12,'All Running Order'!$A$6:$CZ$64,AR$102,FALSE),\"\")","v":2},{"$f":"IFERROR(VLOOKUP($A12,'All Running Order'!$A$6:$CZ$64,AS$102,FALSE),\"\")","v":0},{"$f":"IFERROR(VLOOKUP($A12,'All Running Order'!$A$6:$CZ$64,AT$102,FALSE),\"\")","v":0},{"$f":"IFERROR(VLOOKUP($A12,'All Running Order'!$A$6:$CZ$64,AU$102,FALSE),\"\")","v":0},{"$f":"IFERROR(VLOOKUP($A12,'All Running Order'!$A$6:$CZ$64,AV$102,FALSE),\"\")","v":0},{"$f":"IFERROR(VLOOKUP($A12,'All Running Order'!$A$6:$CZ$64,AW$102,FALSE),\"\")","v":0},{"$f":"IFERROR(VLOOKUP($A12,'All Running Order'!$A$6:$CZ$64,AX$102,FALSE),\"\")","v":10},{"$f":"IFERROR(VLOOKUP($A12,'All Running Order'!$A$6:$CZ$64,AY$102,FALSE),\"\")","v":39},{"$f":"IFERROR(VLOOKUP($A12,'All Running Order'!$A$6:$CZ$64,AZ$102,FALSE),\"\")","v":2},{"$f":"IFERROR(VLOOKUP($A12,'All Running Order'!$A$6:$CZ$64,BA$102,FALSE),\"\")","v":2},{"$f":"IFERROR(VLOOKUP($A12,'All Running Order'!$A$6:$CZ$64,BB$102,FALSE),\"\")","v":1},{"$f":"IFERROR(VLOOKUP($A12,'All Running Order'!$A$6:$CZ$64,BC$102,FALSE),\"\")","v":0},{"$f":"IFERROR(VLOOKUP($A12,'All Running Order'!$A$6:$CZ$64,BD$102,FALSE),\"\")","v":2},{"$f":"IFERROR(VLOOKUP($A12,'All Running Order'!$A$6:$CZ$64,BE$102,FALSE),\"\")","v":5},{"$f":"IFERROR(VLOOKUP($A12,'All Running Order'!$A$6:$CZ$64,BF$102,FALSE),\"\")","v":0},{"$f":"IFERROR(VLOOKUP($A12,'All Running Order'!$A$6:$CZ$64,BG$102,FALSE),\"\")","v":0},{"$f":"IFERROR(VLOOKUP($A12,'All Running Order'!$A$6:$CZ$64,BH$102,FALSE),\"\")","v":0},{"$f":"IFERROR(VLOOKUP($A12,'All Running Order'!$A$6:$CZ$64,BI$102,FALSE),\"\")","v":0},{"$f":"IFERROR(VLOOKUP($A12,'All Running Order'!$A$6:$CZ$64,BJ$102,FALSE),\"\")","v":12},{"$f":"IFERROR(VLOOKUP($A12,'All Running Order'!$A$6:$CZ$64,BK$102,FALSE),\"\")","v":51},{"$f":"IFERROR(VLOOKUP($A12,'All Running Order'!$A$6:$CZ$64,BL$102,FALSE),\"\")","v":0},{"$f":"IFERROR(VLOOKUP($A12,'All Running Order'!$A$6:$CZ$64,BM$102,FALSE),\"\")","v":0},{"$f":"IFERROR(VLOOKUP($A12,'All Running Order'!$A$6:$CZ$64,BN$102,FALSE),\"\")","v":0},{"$f":"IFERROR(VLOOKUP($A12,'All Running Order'!$A$6:$CZ$64,BO$102,FALSE),\"\")","v":0},{"$f":"IFERROR(VLOOKUP($A12,'All Running Order'!$A$6:$CZ$64,BP$102,FALSE),\"\")","v":0},{"$f":"IFERROR(VLOOKUP($A12,'All Running Order'!$A$6:$CZ$64,BQ$102,FALSE),\"\")","v":0},{"$f":"IFERROR(VLOOKUP($A12,'All Running Order'!$A$6:$CZ$64,BR$102,FALSE),\"\")","v":0},{"$f":"IFERROR(VLOOKUP($A12,'All Running Order'!$A$6:$CZ$64,BS$102,FALSE),\"\")","v":0},{"$f":"IFERROR(VLOOKUP($A12,'All Running Order'!$A$6:$CZ$64,BT$102,FALSE),\"\")","v":0},{"$f":"IFERROR(VLOOKUP($A12,'All Running Order'!$A$6:$CZ$64,BU$102,FALSE),\"\")","v":0},{"$f":"IFERROR(VLOOKUP($A12,'All Running Order'!$A$6:$CZ$64,BV$102,FALSE),\"\")","v":0},{"$f":"IFERROR(VLOOKUP($A12,'All Running Order'!$A$6:$CZ$64,BW$102,FALSE),\"\")","v":51},{"$f":"IFERROR(VLOOKUP($A12,'All Running Order'!$A$6:$CZ$64,BX$102,FALSE),\"\")","v":6},{"$f":"IFERROR(VLOOKUP($A12,'All Running Order'!$A$6:$CZ$64,BY$102,FALSE),\"\")","v":7},{"$f":"IFERROR(VLOOKUP($A12,'All Running Order'!$A$6:$CZ$64,BZ$102,FALSE),\"\")","v":7},{"$f":"IFERROR(VLOOKUP($A12,'All Running Order'!$A$6:$CZ$64,CA$102,FALSE),\"\")","v":7},{"$f":"IFERROR(VLOOKUP($A12,'All Running Order'!$A$6:$CZ$64,CB$102,FALSE),\"\")","v":7},{"$f":"IFERROR(VLOOKUP($A12,'All Running Order'!$A$6:$CZ$64,CC$102,FALSE),\"\")","v":6},{"$f":"IFERROR(VLOOKUP($A12,'All Running Order'!$A$6:$CZ$64,CD$102,FALSE),\"\")","v":7},{"$f":"IFERROR(VLOOKUP($A12,'All Running Order'!$A$6:$CZ$64,CE$102,FALSE),\"\")","v":7},{"$f":"IFERROR(VLOOKUP($A12,'All Running Order'!$A$6:$CZ$64,CF$102,FALSE),\"\")","v":7},{"$f":"IFERROR(VLOOKUP($A12,'All Running Order'!$A$6:$CZ$64,CG$102,FALSE),\"\")","v":7},{"$f":"IFERROR(VLOOKUP($A12,'All Running Order'!$A$6:$CZ$64,CH$102,FALSE),\"\")","v":""},{"$f":"IFERROR(VLOOKUP($A12,'All Running Order'!$A$6:$CZ$64,CI$102,FALSE),\"\")","v":""},{"$f":"IFERROR(VLOOKUP($A12,'All Running Order'!$A$6:$CZ$64,CJ$102,FALSE),\"\")","v":""},{"$f":"IFERROR(VLOOKUP($A12,'All Running Order'!$A$6:$CZ$64,CK$102,FALSE),\"\")","v":""},{"$f":"IFERROR(VLOOKUP($A12,'All Running Order'!$A$6:$CZ$64,CL$102,FALSE),\"\")","v":""},{"$f":"IFERROR(VLOOKUP($A12,'All Running Order'!$A$6:$CZ$64,CM$102,FALSE),\"\")","v":""},{"$f":"IFERROR(VLOOKUP($A12,'All Running Order'!$A$6:$CZ$64,CN$102,FALSE),\"\")","v":""},{"$f":"IFERROR(VLOOKUP($A12,'All Running Order'!$A$6:$CZ$64,CO$102,FALSE),\"\")","v":""},{"$f":"IFERROR(VLOOKUP($A12,'All Running Order'!$A$6:$CZ$64,CP$102,FALSE),\"\")","v":""},{"$f":"IFERROR(VLOOKUP($A12,'All Running Order'!$A$6:$CZ$64,CQ$102,FALSE),\"\")","v":""},{"$f":"IFERROR(VLOOKUP($A12,'All Running Order'!$A$6:$CZ$64,CR$102,FALSE),\"\")","v":""},{"$f":"IFERROR(VLOOKUP($A12,'All Running Order'!$A$6:$CZ$64,CS$102,FALSE),\"\")","v":""},{"$f":"IFERROR(VLOOKUP($A12,'All Running Order'!$A$6:$CZ$64,CT$102,FALSE),\"\")","v":""},{"$f":"IFERROR(VLOOKUP($A12,'All Running Order'!$A$6:$CZ$64,CU$102,FALSE),\"\")","v":" "},{"$f":"IFERROR(VLOOKUP($A12,'All Running Order'!$A$6:$CZ$64,CV$102,FALSE),\"\")","v":""},{"$f":"IFERROR(VLOOKUP($A12,'All Running Order'!$A$6:$CZ$64,CW$102,FALSE),\"\")","v":" "},{"$f":"IFERROR(VLOOKUP($A12,'All Running Order'!$A$6:$CZ$64,CX$102,FALSE),\"\")","v":" "},{"$f":"IFERROR(VLOOKUP($A12,'All Running Order'!$A$6:$CZ$64,CY$102,FALSE),\"\")","v":"Red"},{"$f":"IFERROR(VLOOKUP($A12,'All Running Order'!$A$6:$CZ$64,CZ$102,FALSE),\"\")","v":"Live"}]
[8,{"$f":"IFERROR(VLOOKUP($A13,'All Running Order'!$A$6:$CZ$64,B$102,FALSE),\"\")","v":11},{"$f":"IFERROR(VLOOKUP($A13,'All Running Order'!$A$6:$CZ$64,C$102,FALSE),\"\")","v":"Jamie Bartholomew"},{"$f":"IFERROR(VLOOKUP($A13,'All Running Order'!$A$6:$CZ$64,D$102,FALSE),\"\")","v":"Fiona Bartholomew"},{"$f":"IFERROR(VLOOKUP($A13,'All Running Order'!$A$6:$CZ$64,E$102,FALSE),\"\")","v":"Avonova"},{"$f":"IFERROR(VLOOKUP($A13,'All Running Order'!$A$6:$CZ$64,F$102,FALSE),\"\")","v":0},{"$f":"IFERROR(VLOOKUP($A13,'All Running Order'!$A$6:$CZ$64,G$102,FALSE),\"\")","v":"Live"},{"$f":"IFERROR(VLOOKUP($A13,'All Running Order'!$A$6:$CZ$64,H$102,FALSE),\"\")","v":"Yes"},{"$f":"IFERROR(VLOOKUP($A13,'All Running Order'!$A$6:$CZ$64,I$102,FALSE),\"\")","v":0},{"$f":"IFERROR(VLOOKUP($A13,'All Running Order'!$A$6:$CZ$64,J$102,FALSE),\"\")","v":0},{"$f":"IFERROR(VLOOKUP($A13,'All Running Order'!$A$6:$CZ$64,K$102,FALSE),\"\")","v":0},{"$f":"IFERROR(VLOOKUP($A13,'All Running Order'!$A$6:$CZ$64,L$102,FALSE),\"\")","v":0},{"$f":"IFERROR(VLOOKUP($A13,'All Running Order'!$A$6:$CZ$64,M$102,FALSE),\"\")","v":0},{"$f":"IFERROR(VLOOKUP($A13,'All Running Order'!$A$6:$CZ$64,N$102,FALSE),\"\")","v":0},{"$f":"IFERROR(VLOOKUP($A13,'All Running Order'!$A$6:$CZ$64,O$102,FALSE),\"\")","v":0},{"$f":"IFERROR(VLOOKUP($A13,'All Running Order'!$A$6:$CZ$64,P$102,FALSE),\"\")","v":"Rookie"},{"$f":"IFERROR(VLOOKUP($A13,'All Running Order'!$A$6:$CZ$64,Q$102,FALSE),\"\")","v":8},{"$f":"IFERROR(VLOOKUP($A13,'All Running Order'!$A$6:$CZ$64,R$102,FALSE),\"\")","v":0},{"$f":"IFERROR(VLOOKUP($A13,'All Running Order'!$A$6:$CZ$64,S$102,FALSE),\"\")","v":4},{"$f":"IFERROR(VLOOKUP($A13,'All Running Order'!$A$6:$CZ$64,T$102,FALSE),\"\")","v":1},{"$f":"IFERROR(VLOOKUP($A13,'All Running Order'!$A$6:$CZ$64,U$102,FALSE),\"\")","v":5},{"$f":"IFERROR(VLOOKUP($A13,'All Running Order'!$A$6:$CZ$64,V$102,FALSE),\"\")","v":2},{"$f":"IFERROR(VLOOKUP($A13,'All Running Order'!$A$6:$CZ$64,W$102,FALSE),\"\")","v":0},{"$f":"IFERROR(VLOOKUP($A13,'All Running Order'!$A$6:$CZ$64,X$102,FALSE),\"\")","v":0},{"$f":"IFERROR(VLOOKUP($A13,'All Running Order'!$A$6:$CZ$64,Y$102,FALSE),\"\")","v":0},{"$f":"IFERROR(VLOOKUP($A13,'All Running Order'!$A$6:$CZ$64,Z$102,FALSE),\"\")","v":0},{"$f":"IFERROR(VLOOKUP($A13,'All Running Order'!$A$6:$CZ$64,AA$102,FALSE),\"\")","v":20},{"$f":"IFERROR(VLOOKUP($A13,'All Running Order'!$A$6:$CZ$64,AB$102,FALSE),\"\")","v":0},{"$f":"IFERROR(VLOOKUP($A13,'All Running Order'!$A$6:$CZ$64,AC$102,FALSE),\"\")","v":0},{"$f":"IFERROR(VLOOKUP($A13,'All Running Order'!$A$6:$CZ$64,AD$102,FALSE),\"\")","v":2},{"$f":"IFERROR(VLOOKUP($A13,'All Running Order'!$A$6:$CZ$64,AE$102,FALSE),\"\")","v":2},{"$f":"IFERROR(VLOOKUP($A13,'All Running Order'!$A$6:$CZ$64,AF$102,FALSE),\"\")","v":5},{"$f":"IFERROR(VLOOKUP($A13,'All Running Order'!$A$6:$CZ$64,AG$102,FALSE),\"\")","v":11},{"$f":"IFERROR(VLOOKUP($A13,'All Running Order'!$A$6:$CZ$64,AH$102,FALSE),\"\")","v":0},{"$f":"IFERROR(VLOOKUP($A13,'All Running Order'!$A$6:$CZ$64,AI$102,FALSE),\"\")","v":0},{"$f":"IFERROR(VLOOKUP($A13,'All Running Order'!$A$6:$CZ$64,AJ$102,FALSE),\"\")","v":0},{"$f":"IFERROR(VLOOKUP($A13,'All Running Order'!$A$6:$CZ$64,AK$102,FALSE),\"\")","v":0},{"$f":"IFERROR(VLOOKUP($A13,'All Running Order'!$A$6:$CZ$64,AL$102,FALSE),\"\")","v":20},{"$f":"IFERROR(VLOOKUP($A13,'All Running Order'!$A$6:$CZ$64,AM$102,FALSE),\"\")","v":40},{"$f":"IFERROR(VLOOKUP($A13,'All Running Order'!$A$6:$CZ$64,AN$102,FALSE),\"\")","v":0},{"$f":"IFERROR(VLOOKUP($A13,'All Running Order'!$A$6:$CZ$64,AO$102,FALSE),\"\")","v":8},{"$f":"IFERROR(VLOOKUP($A13,'All Running Order'!$A$6:$CZ$64,AP$102,FALSE),\"\")","v":2},{"$f":"IFERROR(VLOOKUP($A13,'All Running Order'!$A$6:$CZ$64,AQ$102,FALSE),\"\")","v":10},{"$f":"IFERROR(VLOOKUP($A13,'All Running Order'!$A$6:$CZ$64,AR$102,FALSE),\"\")","v":5},{"$f":"IFERROR(VLOOKUP($A13,'All Running Order'!$A$6:$CZ$64,AS$102,FALSE),\"\")","v":11},{"$f":"IFERROR(VLOOKUP($A13,'All Running Order'!$A$6:$CZ$64,AT$102,FALSE),\"\")","v":0},{"$f":"IFERROR(VLOOKUP($A13,'All Running Order'!$A$6:$CZ$64,AU$102,FALSE),\"\")","v":0},{"$f":"IFERROR(VLOOKUP($A13,'All Running Order'!$A$6:$CZ$64,AV$102,FALSE),\"\")","v":0},{"$f":"IFERROR(VLOOKUP($A13,'All Running Order'!$A$6:$CZ$64,AW$102,FALSE),\"\")","v":0},{"$f":"IFERROR(VLOOKUP($A13,'All Running Order'!$A$6:$CZ$64,AX$102,FALSE),\"\")","v":36},{"$f":"IFERROR(VLOOKUP($A13,'All Running Order'!$A$6:$CZ$64,AY$102,FALSE),\"\")","v":76},{"$f":"IFERROR(VLOOKUP($A13,'All Running Order'!$A$6:$CZ$64,AZ$102,FALSE),\"\")","v":0},{"$f":"IFERROR(VLOOKUP($A13,'All Running Order'!$A$6:$CZ$64,BA$102,FALSE),\"\")","v":2},{"$f":"IFERROR(VLOOKUP($A13,'All Running Order'!$A$6:$CZ$64,BB$102,FALSE),\"\")","v":2},{"$f":"IFERROR(VLOOKUP($A13,'All Running Order'!$A$6:$CZ$64,BC$102,FALSE),\"\")","v":4},{"$f":"IFERROR(VLOOKUP($A13,'All Running Order'!$A$6:$CZ$64,BD$102,FALSE),\"\")","v":2},{"$f":"IFERROR(VLOOKUP($A13,'All Running Order'!$A$6:$CZ$64,BE$102,FALSE),\"\")","v":4},{"$f":"IFERROR(VLOOKUP($A13,'All Running Order'!$A$6:$CZ$64,BF$102,FALSE),\"\")","v":0},{"$f":"IFERROR(VLOOKUP($A13,'All Running Order'!$A$6:$CZ$64,BG$102,FALSE),\"\")","v":0},{"$f":"IFERROR(VLOOKUP($A13,'All Running Order'!$A$6:$CZ$64,BH$102,FALSE),\"\")","v":0},{"$f":"IFERROR(VLOOKUP($A13,'All Running Order'!$A$6:$CZ$64,BI$102,FALSE),\"\")","v":0},{"$f":"IFERROR(VLOOKUP($A13,'All Running Order'!$A$6:$CZ$64,BJ$102,FALSE),\"\")","v":14},{"$f":"IFERROR(VLOOKUP($A13,'All Running Order'!$A$6:$CZ$64,BK$102,FALSE),\"\")","v":90},{"$f":"IFERROR(VLOOKUP($A13,'All Running Order'!$A$6:$CZ$64,BL$102,FALSE),\"\")","v":0},{"$f":"IFERROR(VLOOKUP($A13,'All Running Order'!$A$6:$CZ$64,BM$102,FALSE),\"\")","v":0},{"$f":"IFERROR(VLOOKUP($A13,'All Running Order'!$A$6:$CZ$64,BN$102,FALSE),\"\")","v":0},{"$f":"IFERROR(VLOOKUP($A13,'All Running Order'!$A$6:$CZ$64,BO$102,FALSE),\"\")","v":0},{"$f":"IFERROR(VLOOKUP($A13,'All Running Order'!$A$6:$CZ$64,BP$102,FALSE),\"\")","v":0},{"$f":"IFERROR(VLOOKUP($A13,'All Running Order'!$A$6:$CZ$64,BQ$102,FALSE),\"\")","v":0},{"$f":"IFERROR(VLOOKUP($A13,'All Running Order'!$A$6:$CZ$64,BR$102,FALSE),\"\")","v":0},{"$f":"IFERROR(VLOOKUP($A13,'All Running Order'!$A$6:$CZ$64,BS$102,FALSE),\"\")","v":0},{"$f":"IFERROR(VLOOKUP($A13,'All Running Order'!$A$6:$CZ$64,BT$102,FALSE),\"\")","v":0},{"$f":"IFERROR(VLOOKUP($A13,'All Running Order'!$A$6:$CZ$64,BU$102,FALSE),\"\")","v":0},{"$f":"IFERROR(VLOOKUP($A13,'All Running Order'!$A$6:$CZ$64,BV$102,FALSE),\"\")","v":0},{"$f":"IFERROR(VLOOKUP($A13,'All Running Order'!$A$6:$CZ$64,BW$102,FALSE),\"\")","v":90},{"$f":"IFERROR(VLOOKUP($A13,'All Running Order'!$A$6:$CZ$64,BX$102,FALSE),\"\")","v":8},{"$f":"IFERROR(VLOOKUP($A13,'All Running Order'!$A$6:$CZ$64,BY$102,FALSE),\"\")","v":8},{"$f":"IFERROR(VLOOKUP($A13,'All Running Order'!$A$6:$CZ$64,BZ$102,FALSE),\"\")","v":8},{"$f":"IFERROR(VLOOKUP($A13,'All Running Order'!$A$6:$CZ$64,CA$102,FALSE),\"\")","v":8},{"$f":"IFERROR(VLOOKUP($A13,'All Running Order'!$A$6:$CZ$64,CB$102,FALSE),\"\")","v":8},{"$f":"IFERROR(VLOOKUP($A13,'All Running Order'!$A$6:$CZ$64,CC$102,FALSE),\"\")","v":8},{"$f":"IFERROR(VLOOKUP($A13,'All Running Order'!$A$6:$CZ$64,CD$102,FALSE),\"\")","v":8},{"$f":"IFERROR(VLOOKUP($A13,'All Running Order'!$A$6:$CZ$64,CE$102,FALSE),\"\")","v":8},{"$f":"IFERROR(VLOOKUP($A13,'All Running Order'!$A$6:$CZ$64,CF$102,FALSE),\"\")","v":8},{"$f":"IFERROR(VLOOKUP($A13,'All Running Order'!$A$6:$CZ$64,CG$102,FALSE),\"\")","v":8},{"$f":"IFERROR(VLOOKUP($A13,'All Running Order'!$A$6:$CZ$64,CH$102,FALSE),\"\")","v":"-"},{"$f":"IFERROR(VLOOKUP($A13,'All Running Order'!$A$6:$CZ$64,CI$102,FALSE),\"\")","v":""},{"$f":"IFERROR(VLOOKUP($A13,'All Running Order'!$A$6:$CZ$64,CJ$102,FALSE),\"\")","v":"-"},{"$f":"IFERROR(VLOOKUP($A13,'All Running Order'!$A$6:$CZ$64,CK$102,FALSE),\"\")","v":""},{"$f":"IFERROR(VLOOKUP($A13,'All Running Order'!$A$6:$CZ$64,CL$102,FALSE),\"\")","v":8},{"$f":"IFERROR(VLOOKUP($A13,'All Running Order'!$A$6:$CZ$64,CM$102,FALSE),\"\")","v":""},{"$f":"IFERROR(VLOOKUP($A13,'All Running Order'!$A$6:$CZ$64,CN$102,FALSE),\"\")","v":"-"},{"$f":"IFERROR(VLOOKUP($A13,'All Running Order'!$A$6:$CZ$64,CO$102,FALSE),\"\")","v":""},{"$f":"IFERROR(VLOOKUP($A13,'All Running Order'!$A$6:$CZ$64,CP$102,FALSE),\"\")","v":"-"},{"$f":"IFERROR(VLOOKUP($A13,'All Running Order'!$A$6:$CZ$64,CQ$102,FALSE),\"\")","v":""},{"$f":"IFERROR(VLOOKUP($A13,'All Running Order'!$A$6:$CZ$64,CR$102,FALSE),\"\")","v":"-"},{"$f":"IFERROR(VLOOKUP($A13,'All Running Order'!$A$6:$CZ$64,CS$102,FALSE),\"\")","v":""},{"$f":"IFERROR(VLOOKUP($A13,'All Running Order'!$A$6:$CZ$64,CT$102,FALSE),\"\")","v":"-"},{"$f":"IFERROR(VLOOKUP($A13,'All Running Order'!$A$6:$CZ$64,CU$102,FALSE),\"\")","v":" "},{"$f":"IFERROR(VLOOKUP($A13,'All Running Order'!$A$6:$CZ$64,CV$102,FALSE),\"\")","v":8},{"$f":"IFERROR(VLOOKUP($A13,'All Running Order'!$A$6:$CZ$64,CW$102,FALSE),\"\")","v":" "},{"$f":"IFERROR(VLOOKUP($A13,'All Running Order'!$A$6:$CZ$64,CX$102,FALSE),\"\")","v":" "},{"$f":"IFERROR(VLOOKUP($A13,'All Running Order'!$A$6:$CZ$64,CY$102,FALSE),\"\")","v":"Rookie"},{"$f":"IFERROR(VLOOKUP($A13,'All Running Order'!$A$6:$CZ$64,CZ$102,FALSE),\"\")","v":"Live"}]
[9,{"$f":"IFERROR(VLOOKUP($A14,'All Running Order'!$A$6:$CZ$64,B$102,FALSE),\"\")","v":7},{"$f":"IFERROR(VLOOKUP($A14,'All Running Order'!$A$6:$CZ$64,C$102,FALSE),\"\")","v":"Ian Brooks"},{"$f":"IFERROR(VLOOKUP($A14,'All Running Order'!$A$6:$CZ$64,D$102,FALSE),\"\")","v":"Matt Sunderland"},{"$f":"IFERROR(VLOOKUP($A14,'All Running Order'!$A$6:$CZ$64,E$102,FALSE),\"\")","v":"Sabson"},{"$f":"IFERROR(VLOOKUP($A14,'All Running Order'!$A$6:$CZ$64,F$102,FALSE),\"\")","v":0},{"$f":"IFERROR(VLOOKUP($A14,'All Running Order'!$A$6:$CZ$64,G$102,FALSE),\"\")","v":"Live"},{"$f":"IFERROR(VLOOKUP($A14,'All Running Order'!$A$6:$CZ$64,H$102,FALSE),\"\")","v":"Yes"},{"$f":"IFERROR(VLOOKUP($A14,'All Running Order'!$A$6:$CZ$64,I$102,FALSE),\"\")","v":0},{"$f":"IFERROR(VLOOKUP($A14,'All Running Order'!$A$6:$CZ$64,J$102,FALSE),\"\")","v":0},{"$f":"IFERROR(VLOOKUP($A14,'All Running Order'!$A$6:$CZ$64,K$102,FALSE),\"\")","v":0},{"$f":"IFERROR(VLOOKUP($A14,'All Running Order'!$A$6:$CZ$64,L$102,FALSE),\"\")","v":0},{"$f":"IFERROR(VLOOKUP($A14,'All Running Order'!$A$6:$CZ$64,M$102,FALSE),\"\")","v":0},{"$f":"IFERROR(VLOOKUP($A14,'All Running Order'!$A$6:$CZ$64,N$102,FALSE),\"\")","v":0},{"$f":"IFERROR(VLOOKUP($A14,'All Running Order'!$A$6:$CZ$64,O$102,FALSE),\"\")","v":0},{"$f":"IFERROR(VLOOKUP($A14,'All Running Order'!$A$6:$CZ$64,P$102,FALSE),\"\")","v":"Rookie"},{"$f":"IFERROR(VLOOKUP($A14,'All Running Order'!$A$6:$CZ$64,Q$102,FALSE),\"\")","v":8},{"$f":"IFERROR(VLOOKUP($A14,'All Running Order'!$A$6:$CZ$64,R$102,FALSE),\"\")","v":2},{"$f":"IFERROR(VLOOKUP($A14,'All Running Order'!$A$6:$CZ$64,S$102,FALSE),\"\")","v":2},{"$f":"IFERROR(VLOOKUP($A14,'All Running Order'!$A$6:$CZ$64,T$102,FALSE),\"\")","v":5},{"$f":"IFERROR(VLOOKUP($A14,'All Running Order'!$A$6:$CZ$64,U$102,FALSE),\"\")","v":9},{"$f":"IFERROR(VLOOKUP($A14,'All Running Order'!$A$6:$CZ$64,V$102,FALSE),\"\")","v":8},{"$f":"IFERROR(VLOOKUP($A14,'All Running Order'!$A$6:$CZ$64,W$102,FALSE),\"\")","v":0},{"$f":"IFERROR(VLOOKUP($A14,'All Running Order'!$A$6:$CZ$64,X$102,FALSE),\"\")","v":0},{"$f":"IFERROR(VLOOKUP($A14,'All Running Order'!$A$6:$CZ$64,Y$102,FALSE),\"\")","v":0},{"$f":"IFERROR(VLOOKUP($A14,'All Running Order'!$A$6:$CZ$64,Z$102,FALSE),\"\")","v":0},{"$f":"IFERROR(VLOOKUP($A14,'All Running Order'!$A$6:$CZ$64,AA$102,FALSE),\"\")","v":34},{"$f":"IFERROR(VLOOKUP($A14,'All Running Order'!$A$6:$CZ$64,AB$102,FALSE),\"\")","v":8},{"$f":"IFERROR(VLOOKUP($A14,'All Running Order'!$A$6:$CZ$64,AC$102,FALSE),\"\")","v":3},{"$f":"IFERROR(VLOOKUP($A14,'All Running Order'!$A$6:$CZ$64,AD$102,FALSE),\"\")","v":4},{"$f":"IFERROR(VLOOKUP($A14,'All Running Order'!$A$6:$CZ$64,AE$102,FALSE),\"\")","v":9},{"$f":"IFERROR(VLOOKUP($A14,'All Running Order'!$A$6:$CZ$64,AF$102,FALSE),\"\")","v":9},{"$f":"IFERROR(VLOOKUP($A14,'All Running Order'!$A$6:$CZ$64,AG$102,FALSE),\"\")","v":1},{"$f":"IFERROR(VLOOKUP($A14,'All Running Order'!$A$6:$CZ$64,AH$102,FALSE),\"\")","v":0},{"$f":"IFERROR(VLOOKUP($A14,'All Running Order'!$A$6:$CZ$64,AI$102,FALSE),\"\")","v":0},{"$f":"IFERROR(VLOOKUP($A14,'All Running Order'!$A$6:$CZ$64,AJ$102,FALSE),\"\")","v":0},{"$f":"IFERROR(VLOOKUP($A14,'All Running Order'!$A$6:$CZ$64,AK$102,FALSE),\"\")","v":0},{"$f":"IFERROR(VLOOKUP($A14,'All Running Order'!$A$6:$CZ$64,AL$102,FALSE),\"\")","v":34},{"$f":"IFERROR(VLOOKUP($A14,'All Running Order'!$A$6:$CZ$64,AM$102,FALSE),\"\")","v":68},{"$f":"IFERROR(VLOOKUP($A14,'All Running Order'!$A$6:$CZ$64,AN$102,FALSE),\"\")","v":2},{"$f":"IFERROR(VLOOKUP($A14,'All Running Order'!$A$6:$CZ$64,AO$102,FALSE),\"\")","v":8},{"$f":"IFERROR(VLOOKUP($A14,'All Running Order'!$A$6:$CZ$64,AP$102,FALSE),\"\")","v":4},{"$f":"IFERROR(VLOOKUP($A14,'All Running Order'!$A$6:$CZ$64,AQ$102,FALSE),\"\")","v":6},{"$f":"IFERROR(VLOOKUP($A14,'All Running Order'!$A$6:$CZ$64,AR$102,FALSE),\"\")","v":10},{"$f":"IFERROR(VLOOKUP($A14,'All Running Order'!$A$6:$CZ$64,AS$102,FALSE),\"\")","v":11},{"$f":"IFERROR(VLOOKUP($A14,'All Running Order'!$A$6:$CZ$64,AT$102,FALSE),\"\")","v":0},{"$f":"IFERROR(VLOOKUP($A14,'All Running Order'!$A$6:$CZ$64,AU$102,FALSE),\"\")","v":0},{"$f":"IFERROR(VLOOKUP($A14,'All Running Order'!$A$6:$CZ$64,AV$102,FALSE),\"\")","v":0},{"$f":"IFERROR(VLOOKUP($A14,'All Running Order'!$A$6:$CZ$64,AW$102,FALSE),\"\")","v":0},{"$f":"IFERROR(VLOOKUP($A14,'All Running Order'!$A$6:$CZ$64,AX$102,FALSE),\"\")","v":41},{"$f":"IFERROR(VLOOKUP($A14,'All Running Order'!$A$6:$CZ$64,AY$102,FALSE),\"\")","v":109},{"$f":"IFERROR(VLOOKUP($A14,'All Running Order'!$A$6:$CZ$64,AZ$102,FALSE),\"\")","v":2},{"$f":"IFERROR(VLOOKUP($A14,'All Running Order'!$A$6:$CZ$64,BA$102,FALSE),\"\")","v":11},{"$f":"IFERROR(VLOOKUP($A14,'All Running Order'!$A$6:$CZ$64,BB$102,FALSE),\"\")","v":2},{"$f":"IFERROR(VLOOKUP($A14,'All Running Order'!$A$6:$CZ$64,BC$102,FALSE),\"\")","v":10},{"$f":"IFERROR(VLOOKUP($A14,'All Running Order'!$A$6:$CZ$64,BD$102,FALSE),\"\")","v":10},{"$f":"IFERROR(VLOOKUP($A14,'All Running Order'!$A$6:$CZ$64,BE$102,FALSE),\"\")","v":11},{"$f":"IFERROR(VLOOKUP($A14,'All Running Order'!$A$6:$CZ$64,BF$102,FALSE),\"\")","v":0},{"$f":"IFERROR(VLOOKUP($A14,'All Running Order'!$A$6:$CZ$64,BG$102,FALSE),\"\")","v":0},{"$f":"IFERROR(VLOOKUP($A14,'All Running Order'!$A$6:$CZ$64,BH$102,FALSE),\"\")","v":0},{"$f":"IFERROR(VLOOKUP($A14,'All Running Order'!$A$6:$CZ$64,BI$102,FALSE),\"\")","v":0},{"$f":"IFERROR(VLOOKUP($A14,'All Running Order'!$A$6:$CZ$64,BJ$102,FALSE),\"\")","v":46},{"$f":"IFERROR(VLOOKUP($A14,'All Running Order'!$A$6:$CZ$64,BK$102,FALSE),\"\")","v":155},{"$f":"IFERROR(VLOOKUP($A14,'All Running Order'!$A$6:$CZ$64,BL$102,FALSE),\"\")","v":0},{"$f":"IFERROR(VLOOKUP($A14,'All Running Order'!$A$6:$CZ$64,BM$102,FALSE),\"\")","v":0},{"$f":"IFERROR(VLOOKUP($A14,'All Running Order'!$A$6:$CZ$64,BN$102,FALSE),\"\")","v":0},{"$f":"IFERROR(VLOOKUP($A14,'All Running Order'!$A$6:$CZ$64,BO$102,FALSE),\"\")","v":0},{"$f":"IFERROR(VLOOKUP($A14,'All Running Order'!$A$6:$CZ$64,BP$102,FALSE),\"\")","v":0},{"$f":"IFERROR(VLOOKUP($A14,'All Running Order'!$A$6:$CZ$64,BQ$102,FALSE),\"\")","v":0},{"$f":"IFERROR(VLOOKUP($A14,'All Running Order'!$A$6:$CZ$64,BR$102,FALSE),\"\")","v":0},{"$f":"IFERROR(VLOOKUP($A14,'All Running Order'!$A$6:$CZ$64,BS$102,FALSE),\"\")","v":0},{"$f":"IFERROR(VLOOKUP($A14,'All Running Order'!$A$6:$CZ$64,BT$102,FALSE),\"\")","v":0},{"$f":"IFERROR(VLOOKUP($A14,'All Running Order'!$A$6:$CZ$64,BU$102,FALSE),\"\")","v":0},{"$f":"IFERROR(VLOOKUP($A14,'All Running Order'!$A$6:$CZ$64,BV$102,FALSE),\"\")","v":0},{"$f":"IFERROR(VLOOKUP($A14,'All Running Order'!$A$6:$CZ$64,BW$102,FALSE),\"\")","v":155},{"$f":"IFERROR(VLOOKUP($A14,'All Running Order'!$A$6:$CZ$64,BX$102,FALSE),\"\")","v":9},{"$f":"IFERROR(VLOOKUP($A14,'All Running Order'!$A$6:$CZ$64,BY$102,FALSE),\"\")","v":9},{"$f":"IFERROR(VLOOKUP($A14,'All Running Order'!$A$6:$CZ$64,BZ$102,FALSE),\"\")","v":9},{"$f":"IFERROR(VLOOKUP($A14,'All Running Order'!$A$6:$CZ$64,CA$102,FALSE),\"\")","v":9},{"$f":"IFERROR(VLOOKUP($A14,'All Running Order'!$A$6:$CZ$64,CB$102,FALSE),\"\")","v":9},{"$f":"IFERROR(VLOOKUP($A14,'All Running Order'!$A$6:$CZ$64,CC$102,FALSE),\"\")","v":9},{"$f":"IFERROR(VLOOKUP($A14,'All Running Order'!$A$6:$CZ$64,CD$102,FALSE),\"\")","v":9},{"$f":"IFERROR(VLOOKUP($A14,'All Running Order'!$A$6:$CZ$64,CE$102,FALSE),\"\")","v":9},{"$f":"IFERROR(VLOOKUP($A14,'All Running Order'!$A$6:$CZ$64,CF$102,FALSE),\"\")","v":9},{"$f":"IFERROR(VLOOKUP($A14,'All Running Order'!$A$6:$CZ$64,CG$102,FALSE),\"\")","v":9},{"$f":"IFERROR(VLOOKUP($A14,'All Running Order'!$A$6:$CZ$64,CH$102,FALSE),\"\")","v":"-"},{"$f":"IFERROR(VLOOKUP($A14,'All Running Order'!$A$6:$CZ$64,CI$102,FALSE),\"\")","v":""},{"$f":"IFERROR(VLOOKUP($A14,'All Running Order'!$A$6:$CZ$64,CJ$102,FALSE),\"\")","v":"-"},{"$f":"IFERROR(VLOOKUP($A14,'All Running Order'!$A$6:$CZ$64,CK$102,FALSE),\"\")","v":""},{"$f":"IFERROR(VLOOKUP($A14,'All Running Order'!$A$6:$CZ$64,CL$102,FALSE),\"\")","v":9},{"$f":"IFERROR(VLOOKUP($A14,'All Running Order'!$A$6:$CZ$64,CM$102,FALSE),\"\")","v":""},{"$f":"IFERROR(VLOOKUP($A14,'All Running Order'!$A$6:$CZ$64,CN$102,FALSE),\"\")","v":"-"},{"$f":"IFERROR(VLOOKUP($A14,'All Running Order'!$A$6:$CZ$64,CO$102,FALSE),\"\")","v":""},{"$f":"IFERROR(VLOOKUP($A14,'All Running Order'!$A$6:$CZ$64,CP$102,FALSE),\"\")","v":"-"},{"$f":"IFERROR(VLOOKUP($A14,'All Running Order'!$A$6:$CZ$64,CQ$102,FALSE),\"\")","v":""},{"$f":"IFERROR(VLOOKUP($A14,'All Running Order'!$A$6:$CZ$64,CR$102,FALSE),\"\")","v":"-"},{"$f":"IFERROR(VLOOKUP($A14,'All Running Order'!$A$6:$CZ$64,CS$102,FALSE),\"\")","v":""},{"$f":"IFERROR(VLOOKUP($A14,'All Running Order'!$A$6:$CZ$64,CT$102,FALSE),\"\")","v":"-"},{"$f":"IFERROR(VLOOKUP($A14,'All Running Order'!$A$6:$CZ$64,CU$102,FALSE),\"\")","v":" "},{"$f":"IFERROR(VLOOKUP($A14,'All Running Order'!$A$6:$CZ$64,CV$102,FALSE),\"\")","v":9},{"$f":"IFERROR(VLOOKUP($A14,'All Running Order'!$A$6:$CZ$64,CW$102,FALSE),\"\")","v":" "},{"$f":"IFERROR(VLOOKUP($A14,'All Running Order'!$A$6:$CZ$64,CX$102,FALSE),\"\")","v":" "},{"$f":"IFERROR(VLOOKUP($A14,'All Running Order'!$A$6:$CZ$64,CY$102,FALSE),\"\")","v":"Rookie"},{"$f":"IFERROR(VLOOKUP($A14,'All Running Order'!$A$6:$CZ$64,CZ$102,FALSE),\"\")","v":"Live"}]
[10,{"$f":"IFERROR(VLOOKUP($A15,'All Running Order'!$A$6:$CZ$64,B$102,FALSE),\"\")","v":4},{"$f":"IFERROR(VLOOKUP($A15,'All Running Order'!$A$6:$CZ$64,C$102,FALSE),\"\")","v":"Trevor Wood"},{"$f":"IFERROR(VLOOKUP($A15,'All Running Order'!$A$6:$CZ$64,D$102,FALSE),\"\")","v":"Ralph Brown"},{"$f":"IFERROR(VLOOKUP($A15,'All Running Order'!$A$6:$CZ$64,E$102,FALSE),\"\")","v":"MSR"},{"$f":"IFERROR(VLOOKUP($A15,'All Running Order'!$A$6:$CZ$64,F$102,FALSE),\"\")","v":0},{"$f":"IFERROR(VLOOKUP($A15,'All Running Order'!$A$6:$CZ$64,G$102,FALSE),\"\")","v":"IRS"},{"$f":"IFERROR(VLOOKUP($A15,'All Running Order'!$A$6:$CZ$64,H$102,FALSE),\"\")","v":"Yes"},{"$f":"IFERROR(VLOOKUP($A15,'All Running Order'!$A$6:$CZ$64,I$102,FALSE),\"\")","v":0},{"$f":"IFERROR(VLOOKUP($A15,'All Running Order'!$A$6:$CZ$64,J$102,FALSE),\"\")","v":0},{"$f":"IFERROR(VLOOKUP($A15,'All Running Order'!$A$6:$CZ$64,K$102,FALSE),\"\")","v":0},{"$f":"IFERROR(VLOOKUP($A15,'All Running Order'!$A$6:$CZ$64,L$102,FALSE),\"\")","v":0},{"$f":"IFERROR(VLOOKUP($A15,'All Running Order'!$A$6:$CZ$64,M$102,FALSE),\"\")","v":0},{"$f":"IFERROR(VLOOKUP($A15,'All Running Order'!$A$6:$CZ$64,N$102,FALSE),\"\")","v":0},{"$f":"IFERROR(VLOOKUP($A15,'All Running Order'!$A$6:$CZ$64,O$102,FALSE),\"\")","v":0},{"$f":"IFERROR(VLOOKUP($A15,'All Running Order'!$A$6:$CZ$64,P$102,FALSE),\"\")","v":"Rookie"},{"$f":"IFERROR(VLOOKUP($A15,'All Running Order'!$A$6:$CZ$64,Q$102,FALSE),\"\")","v":9},{"$f":"IFERROR(VLOOKUP($A15,'All Running Order'!$A$6:$CZ$64,R$102,FALSE),\"\")","v":2},{"$f":"IFERROR(VLOOKUP($A15,'All Running Order'!$A$6:$CZ$64,S$102,FALSE),\"\")","v":8},{"$f":"IFERROR(VLOOKUP($A15,'All Running Order'!$A$6:$CZ$64,T$102,FALSE),\"\")","v":9},{"$f":"IFERROR(VLOOKUP($A15,'All Running Order'!$A$6:$CZ$64,U$102,FALSE),\"\")","v":10},{"$f":"IFERROR(VLOOKUP($A15,'All Running Order'!$A$6:$CZ$64,V$102,FALSE),\"\")","v":8},{"$f":"IFERROR(VLOOKUP($A15,'All Running Order'!$A$6:$CZ$64,W$102,FALSE),\"\")","v":0},{"$f":"IFERROR(VLOOKUP($A15,'All Running Order'!$A$6:$CZ$64,X$102,FALSE),\"\")","v":0},{"$f":"IFERROR(VLOOKUP($A15,'All Running Order'!$A$6:$CZ$64,Y$102,FALSE),\"\")","v":0},{"$f":"IFERROR(VLOOKUP($A15,'All Running Order'!$A$6:$CZ$64,Z$102,FALSE),\"\")","v":0},{"$f":"IFERROR(VLOOKUP($A15,'All Running Order'!$A$6:$CZ$64,AA$102,FALSE),\"\")","v":46},{"$f":"IFERROR(VLOOKUP($A15,'All Running Order'!$A$6:$CZ$64,AB$102,FALSE),\"\")","v":5},{"$f":"IFERROR(VLOOKUP($A15,'All Running Order'!$A$6:$CZ$64,AC$102,FALSE),\"\")","v":2},{"$f":"IFERROR(VLOOKUP($A15,'All Running Order'!$A$6:$CZ$64,AD$102,FALSE),\"\")","v":3},{"$f":"IFERROR(VLOOKUP($A15,'All Running Order'!$A$6:$CZ$64,AE$102,FALSE),\"\")","v":10},{"$f":"IFERROR(VLOOKUP($A15,'All Running Order'!$A$6:$CZ$64,AF$102,FALSE),\"\")","v":11},{"$f":"IFERROR(VLOOKUP($A15,'All Running Order'!$A$6:$CZ$64,AG$102,FALSE),\"\")","v":8},{"$f":"IFERROR(VLOOKUP($A15,'All Running Order'!$A$6:$CZ$64,AH$102,FALSE),\"\")","v":0},{"$f":"IFERROR(VLOOKUP($A15,'All Running Order'!$A$6:$CZ$64,AI$102,FALSE),\"\")","v":0},{"$f":"IFERROR(VLOOKUP($A15,'All Running Order'!$A$6:$CZ$64,AJ$102,FALSE),\"\")","v":0},{"$f":"IFERROR(VLOOKUP($A15,'All Running Order'!$A$6:$CZ$64,AK$102,FALSE),\"\")","v":0},{"$f":"IFERROR(VLOOKUP($A15,'All Running Order'!$A$6:$CZ$64,AL$102,FALSE),\"\")","v":39},{"$f":"IFERROR(VLOOKUP($A15,'All Running Order'!$A$6:$CZ$64,AM$102,FALSE),\"\")","v":85},{"$f":"IFERROR(VLOOKUP($A15,'All Running Order'!$A$6:$CZ$64,AN$102,FALSE),\"\")","v":6},{"$f":"IFERROR(VLOOKUP($A15,'All Running Order'!$A$6:$CZ$64,AO$102,FALSE),\"\")","v":9},{"$f":"IFERROR(VLOOKUP($A15,'All Running Order'!$A$6:$CZ$64,AP$102,FALSE),\"\")","v":2},{"$f":"IFERROR(VLOOKUP($A15,'All Running Order'!$A$6:$CZ$64,AQ$102,FALSE),\"\")","v":9},{"$f":"IFERROR(VLOOKUP($A15,'All Running Order'!$A$6:$CZ$64,AR$102,FALSE),\"\")","v":10},{"$f":"IFERROR(VLOOKUP($A15,'All Running Order'!$A$6:$CZ$64,AS$102,FALSE),\"\")","v":11},{"$f":"IFERROR(VLOOKUP($A15,'All Running Order'!$A$6:$CZ$64,AT$102,FALSE),\"\")","v":0},{"$f":"IFERROR(VLOOKUP($A15,'All Running Order'!$A$6:$CZ$64,AU$102,FALSE),\"\")","v":0},{"$f":"IFERROR(VLOOKUP($A15,'All Running Order'!$A$6:$CZ$64,AV$102,FALSE),\"\")","v":0},{"$f":"IFERROR(VLOOKUP($A15,'All Running Order'!$A$6:$CZ$64,AW$102,FALSE),\"\")","v":0},{"$f":"IFERROR(VLOOKUP($A15,'All Running Order'!$A$6:$CZ$64,AX$102,FALSE),\"\")","v":47},{"$f":"IFERROR(VLOOKUP($A15,'All Running Order'!$A$6:$CZ$64,AY$102,FALSE),\"\")","v":132},{"$f":"IFERROR(VLOOKUP($A15,'All Running Order'!$A$6:$CZ$64,AZ$102,FALSE),\"\")","v":8},{"$f":"IFERROR(VLOOKUP($A15,'All Running Order'!$A$6:$CZ$64,BA$102,FALSE),\"\")","v":11},{"$f":"IFERROR(VLOOKUP($A15,'All Running Order'!$A$6:$CZ$64,BB$102,FALSE),\"\")","v":3},{"$f":"IFERROR(VLOOKUP($A15,'All Running Order'!$A$6:$CZ$64,BC$102,FALSE),\"\")","v":9},{"$f":"IFERROR(VLOOKUP($A15,'All Running Order'!$A$6:$CZ$64,BD$102,FALSE),\"\")","v":11},{"$f":"IFERROR(VLOOKUP($A15,'All Running Order'!$A$6:$CZ$64,BE$102,FALSE),\"\")","v":11},{"$f":"IFERROR(VLOOKUP($A15,'All Running Order'!$A$6:$CZ$64,BF$102,FALSE),\"\")","v":0},{"$f":"IFERROR(VLOOKUP($A15,'All Running Order'!$A$6:$CZ$64,BG$102,FALSE),\"\")","v":0},{"$f":"IFERROR(VLOOKUP($A15,'All Running Order'!$A$6:$CZ$64,BH$102,FALSE),\"\")","v":0},{"$f":"IFERROR(VLOOKUP($A15,'All Running Order'!$A$6:$CZ$64,BI$102,FALSE),\"\")","v":0},{"$f":"IFERROR(VLOOKUP($A15,'All Running Order'!$A$6:$CZ$64,BJ$102,FALSE),\"\")","v":53},{"$f":"IFERROR(VLOOKUP($A15,'All Running Order'!$A$6:$CZ$64,BK$102,FALSE),\"\")","v":185},{"$f":"IFERROR(VLOOKUP($A15,'All Running Order'!$A$6:$CZ$64,BL$102,FALSE),\"\")","v":0},{"$f":"IFERROR(VLOOKUP($A15,'All Running Order'!$A$6:$CZ$64,BM$102,FALSE),\"\")","v":0},{"$f":"IFERROR(VLOOKUP($A15,'All Running Order'!$A$6:$CZ$64,BN$102,FALSE),\"\")","v":0},{"$f":"IFERROR(VLOOKUP($A15,'All Running Order'!$A$6:$CZ$64,BO$102,FALSE),\"\")","v":0},{"$f":"IFERROR(VLOOKUP($A15,'All Running Order'!$A$6:$CZ$64,BP$102,FALSE),\"\")","v":0},{"$f":"IFERROR(VLOOKUP($A15,'All Running Order'!$A$6:$CZ$64,BQ$102,FALSE),\"\")","v":0},{"$f":"IFERROR(VLOOKUP($A15,'All Running Order'!$A$6:$CZ$64,BR$102,FALSE),\"\")","v":0},{"$f":"IFERROR(VLOOKUP($A15,'All Running Order'!$A$6:$CZ$64,BS$102,FALSE),\"\")","v":0},{"$f":"IFERROR(VLOOKUP($A15,'All Running Order'!$A$6:$CZ$64,BT$102,FALSE),\"\")","v":0},{"$f":"IFERROR(VLOOKUP($A15,'All Running Order'!$A$6:$CZ$64,BU$102,FALSE),\"\")","v":0},{"$f":"IFERROR(VLOOKUP($A15,'All Running Order'!$A$6:$CZ$64,BV$102,FALSE),\"\")","v":0},{"$f":"IFERROR(VLOOKUP($A15,'All Running Order'!$A$6:$CZ$64,BW$102,FALSE),\"\")","v":185},{"$f":"IFERROR(VLOOKUP($A15,'All Running Order'!$A$6:$CZ$64,BX$102,FALSE),\"\")","v":10},{"$f":"IFERROR(VLOOKUP($A15,'All Running Order'!$A$6:$CZ$64,BY$102,FALSE),\"\")","v":10},{"$f":"IFERROR(VLOOKUP($A15,'All Running Order'!$A$6:$CZ$64,BZ$102,FALSE),\"\")","v":10},{"$f":"IFERROR(VLOOKUP($A15,'All Running Order'!$A$6:$CZ$64,CA$102,FALSE),\"\")","v":10},{"$f":"IFERROR(VLOOKUP($A15,'All Running Order'!$A$6:$CZ$64,CB$102,FALSE),\"\")","v":10},{"$f":"IFERROR(VLOOKUP($A15,'All Running Order'!$A$6:$CZ$64,CC$102,FALSE),\"\")","v":10},{"$f":"IFERROR(VLOOKUP($A15,'All Running Order'!$A$6:$CZ$64,CD$102,FALSE),\"\")","v":10},{"$f":"IFERROR(VLOOKUP($A15,'All Running Order'!$A$6:$CZ$64,CE$102,FALSE),\"\")","v":10},{"$f":"IFERROR(VLOOKUP($A15,'All Running Order'!$A$6:$CZ$64,CF$102,FALSE),\"\")","v":10},{"$f":"IFERROR(VLOOKUP($A15,'All Running Order'!$A$6:$CZ$64,CG$102,FALSE),\"\")","v":10},{"$f":"IFERROR(VLOOKUP($A15,'All Running Order'!$A$6:$CZ$64,CH$102,FALSE),\"\")","v":"-"},{"$f":"IFERROR(VLOOKUP($A15,'All Running Order'!$A$6:$CZ$64,CI$102,FALSE),\"\")","v":""},{"$f":"IFERROR(VLOOKUP($A15,'All Running Order'!$A$6:$CZ$64,CJ$102,FALSE),\"\")","v":"-"},{"$f":"IFERROR(VLOOKUP($A15,'All Running Order'!$A$6:$CZ$64,CK$102,FALSE),\"\")","v":""},{"$f":"IFERROR(VLOOKUP($A15,'All Running Order'!$A$6:$CZ$64,CL$102,FALSE),\"\")","v":10},{"$f":"IFERROR(VLOOKUP($A15,'All Running Order'!$A$6:$CZ$64,CM$102,FALSE),\"\")","v":""},{"$f":"IFERROR(VLOOKUP($A15,'All Running Order'!$A$6:$CZ$64,CN$102,FALSE),\"\")","v":"-"},{"$f":"IFERROR(VLOOKUP($A15,'All Running Order'!$A$6:$CZ$64,CO$102,FALSE),\"\")","v":""},{"$f":"IFERROR(VLOOKUP($A15,'All Running Order'!$A$6:$CZ$64,CP$102,FALSE),\"\")","v":"-"},{"$f":"IFERROR(VLOOKUP($A15,'All Running Order'!$A$6:$CZ$64,CQ$102,FALSE),\"\")","v":""},{"$f":"IFERROR(VLOOKUP($A15,'All Running Order'!$A$6:$CZ$64,CR$102,FALSE),\"\")","v":"-"},{"$f":"IFERROR(VLOOKUP($A15,'All Running Order'!$A$6:$CZ$64,CS$102,FALSE),\"\")","v":""},{"$f":"IFERROR(VLOOKUP($A15,'All Running Order'!$A$6:$CZ$64,CT$102,FALSE),\"\")","v":"-"},{"$f":"IFERROR(VLOOKUP($A15,'All Running Order'!$A$6:$CZ$64,CU$102,FALSE),\"\")","v":" "},{"$f":"IFERROR(VLOOKUP($A15,'All Running Order'!$A$6:$CZ$64,CV$102,FALSE),\"\")","v":"-"},{"$f":"IFERROR(VLOOKUP($A15,'All Running Order'!$A$6:$CZ$64,CW$102,FALSE),\"\")","v":" "},{"$f":"IFERROR(VLOOKUP($A15,'All Running Order'!$A$6:$CZ$64,CX$102,FALSE),\"\")","v":" "},{"$f":"IFERROR(VLOOKUP($A15,'All Running Order'!$A$6:$CZ$64,CY$102,FALSE),\"\")","v":"Rookie"},{"$f":"IFERROR(VLOOKUP($A15,'All Running Order'!$A$6:$CZ$64,CZ$102,FALSE),\"\")","v":"IRS"}]
[11,{"$f":"IFERROR(VLOOKUP($A16,'All Running Order'!$A$6:$CZ$64,B$102,FALSE),\"\")","v":2},{"$f":"IFERROR(VLOOKUP($A16,'All Running Order'!$A$6:$CZ$64,C$102,FALSE),\"\")","v":"Darren Underwood"},{"$f":"IFERROR(VLOOKUP($A16,'All Running Order'!$A$6:$CZ$64,D$102,FALSE),\"\")","v":"Sue Underwood"},{"$f":"IFERROR(VLOOKUP($A16,'All Running Order'!$A$6:$CZ$64,E$102,FALSE),\"\")","v":"Crossle "},{"$f":"IFERROR(VLOOKUP($A16,'All Running Order'!$A$6:$CZ$64,F$102,FALSE),\"\")","v":0},{"$f":"IFERROR(VLOOKUP($A16,'All Running Order'!$A$6:$CZ$64,G$102,FALSE),\"\")","v":"IRS"},{"$f":"IFERROR(VLOOKUP($A16,'All Running Order'!$A$6:$CZ$64,H$102,FALSE),\"\")","v":"Yes"},{"$f":"IFERROR(VLOOKUP($A16,'All Running Order'!$A$6:$CZ$64,I$102,FALSE),\"\")","v":0},{"$f":"IFERROR(VLOOKUP($A16,'All Running Order'!$A$6:$CZ$64,J$102,FALSE),\"\")","v":0},{"$f":"IFERROR(VLOOKUP($A16,'All Running Order'!$A$6:$CZ$64,K$102,FALSE),\"\")","v":0},{"$f":"IFERROR(VLOOKUP($A16,'All Running Order'!$A$6:$CZ$64,L$102,FALSE),\"\")","v":0},{"$f":"IFERROR(VLOOKUP($A16,'All Running Order'!$A$6:$CZ$64,M$102,FALSE),\"\")","v":0},{"$f":"IFERROR(VLOOKUP($A16,'All Running Order'!$A$6:$CZ$64,N$102,FALSE),\"\")","v":"Ret/NS"},{"$f":"IFERROR(VLOOKUP($A16,'All Running Order'!$A$6:$CZ$64,O$102,FALSE),\"\")","v":0},{"$f":"IFERROR(VLOOKUP($A16,'All Running Order'!$A$6:$CZ$64,P$102,FALSE),\"\")","v":"Blue"},{"$f":"IFERROR(VLOOKUP($A16,'All Running Order'!$A$6:$CZ$64,Q$102,FALSE),\"\")","v":0},{"$f":"IFERROR(VLOOKUP($A16,'All Running Order'!$A$6:$CZ$64,R$102,FALSE),\"\")","v":0},{"$f":"IFERROR(VLOOKUP($A16,'All Running Order'!$A$6:$CZ$64,S$102,FALSE),\"\")","v":0},{"$f":"IFERROR(VLOOKUP($A16,'All Running Order'!$A$6:$CZ$64,T$102,FALSE),\"\")","v":0},{"$f":"IFERROR(VLOOKUP($A16,'All Running Order'!$A$6:$CZ$64,U$102,FALSE),\"\")","v":0},{"$f":"IFERROR(VLOOKUP($A16,'All Running Order'!$A$6:$CZ$64,V$102,FALSE),\"\")","v":0},{"$f":"IFERROR(VLOOKUP($A16,'All Running Order'!$A$6:$CZ$64,W$102,FALSE),\"\")","v":0},{"$f":"IFERROR(VLOOKUP($A16,'All Running Order'!$A$6:$CZ$64,X$102,FALSE),\"\")","v":0},{"$f":"IFERROR(VLOOKUP($A16,'All Running Order'!$A$6:$CZ$64,Y$102,FALSE),\"\")","v":0},{"$f":"IFERROR(VLOOKUP($A16,'All Running Order'!$A$6:$CZ$64,Z$102,FALSE),\"\")","v":0},{"$f":"IFERROR(VLOOKUP($A16,'All Running Order'!$A$6:$CZ$64,AA$102,FALSE),\"\")","v":1000},{"$f":"IFERROR(VLOOKUP($A16,'All Running Order'!$A$6:$CZ$64,AB$102,FALSE),\"\")","v":0},{"$f":"IFERROR(VLOOKUP($A16,'All Running Order'!$A$6:$CZ$64,AC$102,FALSE),\"\")","v":0},{"$f":"IFERROR(VLOOKUP($A16,'All Running Order'!$A$6:$CZ$64,AD$102,FALSE),\"\")","v":0},{"$f":"IFERROR(VLOOKUP($A16,'All Running Order'!$A$6:$CZ$64,AE$102,FALSE),\"\")","v":0},{"$f":"IFERROR(VLOOKUP($A16,'All Running Order'!$A$6:$CZ$64,AF$102,FALSE),\"\")","v":0},{"$f":"IFERROR(VLOOKUP($A16,'All Running Order'!$A$6:$CZ$64,AG$102,FALSE),\"\")","v":0},{"$f":"IFERROR(VLOOKUP($A16,'All Running Order'!$A$6:$CZ$64,AH$102,FALSE),\"\")","v":0},{"$f":"IFERROR(VLOOKUP($A16,'All Running Order'!$A$6:$CZ$64,AI$102,FALSE),\"\")","v":0},{"$f":"IFERROR(VLOOKUP($A16,'All Running Order'!$A$6:$CZ$64,AJ$102,FALSE),\"\")","v":0},{"$f":"IFERROR(VLOOKUP($A16,'All Running Order'!$A$6:$CZ$64,AK$102,FALSE),\"\")","v":0},{"$f":"IFERROR(VLOOKUP($A16,'All Running Order'!$A$6:$CZ$64,AL$102,FALSE),\"\")","v":0},{"$f":"IFERROR(VLOOKUP($A16,'All Running Order'!$A$6:$CZ$64,AM$102,FALSE),\"\")","v":1000},{"$f":"IFERROR(VLOOKUP($A16,'All Running Order'!$A$6:$CZ$64,AN$102,FALSE),\"\")","v":0},{"$f":"IFERROR(VLOOKUP($A16,'All Running Order'!$A$6:$CZ$64,AO$102,FALSE),\"\")","v":0},{"$f":"IFERROR(VLOOKUP($A16,'All Running Order'!$A$6:$CZ$64,AP$102,FALSE),\"\")","v":0},{"$f":"IFERROR(VLOOKUP($A16,'All Running Order'!$A$6:$CZ$64,AQ$102,FALSE),\"\")","v":0},{"$f":"IFERROR(VLOOKUP($A16,'All Running Order'!$A$6:$CZ$64,AR$102,FALSE),\"\")","v":0},{"$f":"IFERROR(VLOOKUP($A16,'All Running Order'!$A$6:$CZ$64,AS$102,FALSE),\"\")","v":0},{"$f":"IFERROR(VLOOKUP($A16,'All Running Order'!$A$6:$CZ$64,AT$102,FALSE),\"\")","v":0},{"$f":"IFERROR(VLOOKUP($A16,'All Running Order'!$A$6:$CZ$64,AU$102,FALSE),\"\")","v":0},{"$f":"IFERROR(VLOOKUP($A16,'All Running Order'!$A$6:$CZ$64,AV$102,FALSE),\"\")","v":0},{"$f":"IFERROR(VLOOKUP($A16,'All Running Order'!$A$6:$CZ$64,AW$102,FALSE),\"\")","v":0},{"$f":"IFERROR(VLOOKUP($A16,'All Running Order'!$A$6:$CZ$64,AX$102,FALSE),\"\")","v":0},{"$f":"IFERROR(VLOOKUP($A16,'All Running Order'!$A$6:$CZ$64,AY$102,FALSE),\"\")","v":1000},{"$f":"IFERROR(VLOOKUP($A16,'All Running Order'!$A$6:$CZ$64,AZ$102,FALSE),\"\")","v":0},{"$f":"IFERROR(VLOOKUP($A16,'All Running Order'!$A$6:$CZ$64,BA$102,FALSE),\"\")","v":0},{"$f":"IFERROR(VLOOKUP($A16,'All Running Order'!$A$6:$CZ$64,BB$102,FALSE),\"\")","v":0},{"$f":"IFERROR(VLOOKUP($A16,'All Running Order'!$A$6:$CZ$64,BC$102,FALSE),\"\")","v":0},{"$f":"IFERROR(VLOOKUP($A16,'All Running Order'!$A$6:$CZ$64,BD$102,FALSE),\"\")","v":0},{"$f":"IFERROR(VLOOKUP($A16,'All Running Order'!$A$6:$CZ$64,BE$102,FALSE),\"\")","v":0},{"$f":"IFERROR(VLOOKUP($A16,'All Running Order'!$A$6:$CZ$64,BF$102,FALSE),\"\")","v":0},{"$f":"IFERROR(VLOOKUP($A16,'All Running Order'!$A$6:$CZ$64,BG$102,FALSE),\"\")","v":0},{"$f":"IFERROR(VLOOKUP($A16,'All Running Order'!$A$6:$CZ$64,BH$102,FALSE),\"\")","v":0},{"$f":"IFERROR(VLOOKUP($A16,'All Running Order'!$A$6:$CZ$64,BI$102,FALSE),\"\")","v":0},{"$f":"IFERROR(VLOOKUP($A16,'All Running Order'!$A$6:$CZ$64,BJ$102,FALSE),\"\")","v":0},{"$f":"IFERROR(VLOOKUP($A16,'All Running Order'!$A$6:$CZ$64,BK$102,FALSE),\"\")","v":1000},{"$f":"IFERROR(VLOOKUP($A16,'All Running Order'!$A$6:$CZ$64,BL$102,FALSE),\"\")","v":0},{"$f":"IFERROR(VLOOKUP($A16,'All Running Order'!$A$6:$CZ$64,BM$102,FALSE),\"\")","v":0},{"$f":"IFERROR(VLOOKUP($A16,'All Running Order'!$A$6:$CZ$64,BN$102,FALSE),\"\")","v":0},{"$f":"IFERROR(VLOOKUP($A16,'All Running Order'!$A$6:$CZ$64,BO$102,FALSE),\"\")","v":0},{"$f":"IFERROR(VLOOKUP($A16,'All Running Order'!$A$6:$CZ$64,BP$102,FALSE),\"\")","v":0},{"$f":"IFERROR(VLOOKUP($A16,'All Running Order'!$A$6:$CZ$64,BQ$102,FALSE),\"\")","v":0},{"$f":"IFERROR(VLOOKUP($A16,'All Running Order'!$A$6:$CZ$64,BR$102,FALSE),\"\")","v":0},{"$f":"IFERROR(VLOOKUP($A16,'All Running Order'!$A$6:$CZ$64,BS$102,FALSE),\"\")","v":0},{"$f":"IFERROR(VLOOKUP($A16,'All Running Order'!$A$6:$CZ$64,BT$102,FALSE),\"\")","v":0},{"$f":"IFERROR(VLOOKUP($A16,'All Running Order'!$A$6:$CZ$64,BU$102,FALSE),\"\")","v":0},{"$f":"IFERROR(VLOOKUP($A16,'All Running Order'!$A$6:$CZ$64,BV$102,FALSE),\"\")","v":0},{"$f":"IFERROR(VLOOKUP($A16,'All Running Order'!$A$6:$CZ$64,BW$102,FALSE),\"\")","v":1000},{"$f":"IFERROR(VLOOKUP($A16,'All Running Order'!$A$6:$CZ$64,BX$102,FALSE),\"\")","v":11},{"$f":"IFERROR(VLOOKUP($A16,'All Running Order'!$A$6:$CZ$64,BY$102,FALSE),\"\")","v":11},{"$f":"IFERROR(VLOOKUP($A16,'All Running Order'!$A$6:$CZ$64,BZ$102,FALSE),\"\")","v":11},{"$f":"IFERROR(VLOOKUP($A16,'All Running Order'!$A$6:$CZ$64,CA$102,FALSE),\"\")","v":11},{"$f":"IFERROR(VLOOKUP($A16,'All Running Order'!$A$6:$CZ$64,CB$102,FALSE),\"\")","v":11},{"$f":"IFERROR(VLOOKUP($A16,'All Running Order'!$A$6:$CZ$64,CC$102,FALSE),\"\")","v":11},{"$f":"IFERROR(VLOOKUP($A16,'All Running Order'!$A$6:$CZ$64,CD$102,FALSE),\"\")","v":11},{"$f":"IFERROR(VLOOKUP($A16,'All Running Order'!$A$6:$CZ$64,CE$102,FALSE),\"\")","v":11},{"$f":"IFERROR(VLOOKUP($A16,'All Running Order'!$A$6:$CZ$64,CF$102,FALSE),\"\")","v":11},{"$f":"IFERROR(VLOOKUP($A16,'All Running Order'!$A$6:$CZ$64,CG$102,FALSE),\"\")","v":11},{"$f":"IFERROR(VLOOKUP($A16,'All Running Order'!$A$6:$CZ$64,CH$102,FALSE),\"\")","v":"-"},{"$f":"IFERROR(VLOOKUP($A16,'All Running Order'!$A$6:$CZ$64,CI$102,FALSE),\"\")","v":""},{"$f":"IFERROR(VLOOKUP($A16,'All Running Order'!$A$6:$CZ$64,CJ$102,FALSE),\"\")","v":11},{"$f":"IFERROR(VLOOKUP($A16,'All Running Order'!$A$6:$CZ$64,CK$102,FALSE),\"\")","v":""},{"$f":"IFERROR(VLOOKUP($A16,'All Running Order'!$A$6:$CZ$64,CL$102,FALSE),\"\")","v":"-"},{"$f":"IFERROR(VLOOKUP($A16,'All Running Order'!$A$6:$CZ$64,CM$102,FALSE),\"\")","v":""},{"$f":"IFERROR(VLOOKUP($A16,'All Running Order'!$A$6:$CZ$64,CN$102,FALSE),\"\")","v":"-"},{"$f":"IFERROR(VLOOKUP($A16,'All Running Order'!$A$6:$CZ$64,CO$102,FALSE),\"\")","v":""},{"$f":"IFERROR(VLOOKUP($A16,'All Running Order'!$A$6:$CZ$64,CP$102,FALSE),\"\")","v":"-"},{"$f":"IFERROR(VLOOKUP($A16,'All Running Order'!$A$6:$CZ$64,CQ$102,FALSE),\"\")","v":""},{"$f":"IFERROR(VLOOKUP($A16,'All Running Order'!$A$6:$CZ$64,CR$102,FALSE),\"\")","v":"-"},{"$f":"IFERROR(VLOOKUP($A16,'All Running Order'!$A$6:$CZ$64,CS$102,FALSE),\"\")","v":""},{"$f":"IFERROR(VLOOKUP($A16,'All Running Order'!$A$6:$CZ$64,CT$102,FALSE),\"\")","v":"-"},{"$f":"IFERROR(VLOOKUP($A16,'All Running Order'!$A$6:$CZ$64,CU$102,FALSE),\"\")","v":" "},{"$f":"IFERROR(VLOOKUP($A16,'All Running Order'!$A$6:$CZ$64,CV$102,FALSE),\"\")","v":"-"},{"$f":"IFERROR(VLOOKUP($A16,'All Running Order'!$A$6:$CZ$64,CW$102,FALSE),\"\")","v":" "},{"$f":"IFERROR(VLOOKUP($A16,'All Running Order'!$A$6:$CZ$64,CX$102,FALSE),\"\")","v":" "},{"$f":"IFERROR(VLOOKUP($A16,'All Running Order'!$A$6:$CZ$64,CY$102,FALSE),\"\")","v":"Blue"},{"$f":"IFERROR(VLOOKUP($A16,'All Running Order'!$A$6:$CZ$64,CZ$102,FALSE),\"\")","v":"IRS"}]
[12,{"$f":"IFERROR(VLOOKUP($A17,'All Running Order'!$A$6:$CZ$64,B$102,FALSE),\"\")","v":""},{"$f":"IFERROR(VLOOKUP($A17,'All Running Order'!$A$6:$CZ$64,C$102,FALSE),\"\")","v":""},{"$f":"IFERROR(VLOOKUP($A17,'All Running Order'!$A$6:$CZ$64,D$102,FALSE),\"\")","v":""},{"$f":"IFERROR(VLOOKUP($A17,'All Running Order'!$A$6:$CZ$64,E$102,FALSE),\"\")","v":""},{"$f":"IFERROR(VLOOKUP($A17,'All Running Order'!$A$6:$CZ$64,F$102,FALSE),\"\")","v":""},{"$f":"IFERROR(VLOOKUP($A17,'All Running Order'!$A$6:$CZ$64,G$102,FALSE),\"\")","v":""},{"$f":"IFERROR(VLOOKUP($A17,'All Running Order'!$A$6:$CZ$64,H$102,FALSE),\"\")","v":""},{"$f":"IFERROR(VLOOKUP($A17,'All Running Order'!$A$6:$CZ$64,I$102,FALSE),\"\")","v":""},{"$f":"IFERROR(VLOOKUP($A17,'All Running Order'!$A$6:$CZ$64,J$102,FALSE),\"\")","v":""},{"$f":"IFERROR(VLOOKUP($A17,'All Running Order'!$A$6:$CZ$64,K$102,FALSE),\"\")","v":""},{"$f":"IFERROR(VLOOKUP($A17,'All Running Order'!$A$6:$CZ$64,L$102,FALSE),\"\")","v":""},{"$f":"IFERROR(VLOOKUP($A17,'All Running Order'!$A$6:$CZ$64,M$102,FALSE),\"\")","v":""},{"$f":"IFERROR(VLOOKUP($A17,'All Running Order'!$A$6:$CZ$64,N$102,FALSE),\"\")","v":""},{"$f":"IFERROR(VLOOKUP($A17,'All Running Order'!$A$6:$CZ$64,O$102,FALSE),\"\")","v":""},{"$f":"IFERROR(VLOOKUP($A17,'All Running Order'!$A$6:$CZ$64,P$102,FALSE),\"\")","v":""},{"$f":"IFERROR(VLOOKUP($A17,'All Running Order'!$A$6:$CZ$64,Q$102,FALSE),\"\")","v":""},{"$f":"IFERROR(VLOOKUP($A17,'All Running Order'!$A$6:$CZ$64,R$102,FALSE),\"\")","v":""},{"$f":"IFERROR(VLOOKUP($A17,'All Running Order'!$A$6:$CZ$64,S$102,FALSE),\"\")","v":""},{"$f":"IFERROR(VLOOKUP($A17,'All Running Order'!$A$6:$CZ$64,T$102,FALSE),\"\")","v":""},{"$f":"IFERROR(VLOOKUP($A17,'All Running Order'!$A$6:$CZ$64,U$102,FALSE),\"\")","v":""},{"$f":"IFERROR(VLOOKUP($A17,'All Running Order'!$A$6:$CZ$64,V$102,FALSE),\"\")","v":""},{"$f":"IFERROR(VLOOKUP($A17,'All Running Order'!$A$6:$CZ$64,W$102,FALSE),\"\")","v":""},{"$f":"IFERROR(VLOOKUP($A17,'All Running Order'!$A$6:$CZ$64,X$102,FALSE),\"\")","v":""},{"$f":"IFERROR(VLOOKUP($A17,'All Running Order'!$A$6:$CZ$64,Y$102,FALSE),\"\")","v":""},{"$f":"IFERROR(VLOOKUP($A17,'All Running Order'!$A$6:$CZ$64,Z$102,FALSE),\"\")","v":""},{"$f":"IFERROR(VLOOKUP($A17,'All Running Order'!$A$6:$CZ$64,AA$102,FALSE),\"\")","v":""},{"$f":"IFERROR(VLOOKUP($A17,'All Running Order'!$A$6:$CZ$64,AB$102,FALSE),\"\")","v":""},{"$f":"IFERROR(VLOOKUP($A17,'All Running Order'!$A$6:$CZ$64,AC$102,FALSE),\"\")","v":""},{"$f":"IFERROR(VLOOKUP($A17,'All Running Order'!$A$6:$CZ$64,AD$102,FALSE),\"\")","v":""},{"$f":"IFERROR(VLOOKUP($A17,'All Running Order'!$A$6:$CZ$64,AE$102,FALSE),\"\")","v":""},{"$f":"IFERROR(VLOOKUP($A17,'All Running Order'!$A$6:$CZ$64,AF$102,FALSE),\"\")","v":""},{"$f":"IFERROR(VLOOKUP($A17,'All Running Order'!$A$6:$CZ$64,AG$102,FALSE),\"\")","v":""},{"$f":"IFERROR(VLOOKUP($A17,'All Running Order'!$A$6:$CZ$64,AH$102,FALSE),\"\")","v":""},{"$f":"IFERROR(VLOOKUP($A17,'All Running Order'!$A$6:$CZ$64,AI$102,FALSE),\"\")","v":""},{"$f":"IFERROR(VLOOKUP($A17,'All Running Order'!$A$6:$CZ$64,AJ$102,FALSE),\"\")","v":""},{"$f":"IFERROR(VLOOKUP($A17,'All Running Order'!$A$6:$CZ$64,AK$102,FALSE),\"\")","v":""},{"$f":"IFERROR(VLOOKUP($A17,'All Running Order'!$A$6:$CZ$64,AL$102,FALSE),\"\")","v":""},{"$f":"IFERROR(VLOOKUP($A17,'All Running Order'!$A$6:$CZ$64,AM$102,FALSE),\"\")","v":""},{"$f":"IFERROR(VLOOKUP($A17,'All Running Order'!$A$6:$CZ$64,AN$102,FALSE),\"\")","v":""},{"$f":"IFERROR(VLOOKUP($A17,'All Running Order'!$A$6:$CZ$64,AO$102,FALSE),\"\")","v":""},{"$f":"IFERROR(VLOOKUP($A17,'All Running Order'!$A$6:$CZ$64,AP$102,FALSE),\"\")","v":""},{"$f":"IFERROR(VLOOKUP($A17,'All Running Order'!$A$6:$CZ$64,AQ$102,FALSE),\"\")","v":""},{"$f":"IFERROR(VLOOKUP($A17,'All Running Order'!$A$6:$CZ$64,AR$102,FALSE),\"\")","v":""},{"$f":"IFERROR(VLOOKUP($A17,'All Running Order'!$A$6:$CZ$64,AS$102,FALSE),\"\")","v":""},{"$f":"IFERROR(VLOOKUP($A17,'All Running Order'!$A$6:$CZ$64,AT$102,FALSE),\"\")","v":""},{"$f":"IFERROR(VLOOKUP($A17,'All Running Order'!$A$6:$CZ$64,AU$102,FALSE),\"\")","v":""},{"$f":"IFERROR(VLOOKUP($A17,'All Running Order'!$A$6:$CZ$64,AV$102,FALSE),\"\")","v":""},{"$f":"IFERROR(VLOOKUP($A17,'All Running Order'!$A$6:$CZ$64,AW$102,FALSE),\"\")","v":""},{"$f":"IFERROR(VLOOKUP($A17,'All Running Order'!$A$6:$CZ$64,AX$102,FALSE),\"\")","v":""},{"$f":"IFERROR(VLOOKUP($A17,'All Running Order'!$A$6:$CZ$64,AY$102,FALSE),\"\")","v":""},{"$f":"IFERROR(VLOOKUP($A17,'All Running Order'!$A$6:$CZ$64,AZ$102,FALSE),\"\")","v":""},{"$f":"IFERROR(VLOOKUP($A17,'All Running Order'!$A$6:$CZ$64,BA$102,FALSE),\"\")","v":""},{"$f":"IFERROR(VLOOKUP($A17,'All Running Order'!$A$6:$CZ$64,BB$102,FALSE),\"\")","v":""},{"$f":"IFERROR(VLOOKUP($A17,'All Running Order'!$A$6:$CZ$64,BC$102,FALSE),\"\")","v":""},{"$f":"IFERROR(VLOOKUP($A17,'All Running Order'!$A$6:$CZ$64,BD$102,FALSE),\"\")","v":""},{"$f":"IFERROR(VLOOKUP($A17,'All Running Order'!$A$6:$CZ$64,BE$102,FALSE),\"\")","v":""},{"$f":"IFERROR(VLOOKUP($A17,'All Running Order'!$A$6:$CZ$64,BF$102,FALSE),\"\")","v":""},{"$f":"IFERROR(VLOOKUP($A17,'All Running Order'!$A$6:$CZ$64,BG$102,FALSE),\"\")","v":""},{"$f":"IFERROR(VLOOKUP($A17,'All Running Order'!$A$6:$CZ$64,BH$102,FALSE),\"\")","v":""},{"$f":"IFERROR(VLOOKUP($A17,'All Running Order'!$A$6:$CZ$64,BI$102,FALSE),\"\")","v":""},{"$f":"IFERROR(VLOOKUP($A17,'All Running Order'!$A$6:$CZ$64,BJ$102,FALSE),\"\")","v":""},{"$f":"IFERROR(VLOOKUP($A17,'All Running Order'!$A$6:$CZ$64,BK$102,FALSE),\"\")","v":""},{"$f":"IFERROR(VLOOKUP($A17,'All Running Order'!$A$6:$CZ$64,BL$102,FALSE),\"\")","v":""},{"$f":"IFERROR(VLOOKUP($A17,'All Running Order'!$A$6:$CZ$64,BM$102,FALSE),\"\")","v":""},{"$f":"IFERROR(VLOOKUP($A17,'All Running Order'!$A$6:$CZ$64,BN$102,FALSE),\"\")","v":""},{"$f":"IFERROR(VLOOKUP($A17,'All Running Order'!$A$6:$CZ$64,BO$102,FALSE),\"\")","v":""},{"$f":"IFERROR(VLOOKUP($A17,'All Running Order'!$A$6:$CZ$64,BP$102,FALSE),\"\")","v":""},{"$f":"IFERROR(VLOOKUP($A17,'All Running Order'!$A$6:$CZ$64,BQ$102,FALSE),\"\")","v":""},{"$f":"IFERROR(VLOOKUP($A17,'All Running Order'!$A$6:$CZ$64,BR$102,FALSE),\"\")","v":""},{"$f":"IFERROR(VLOOKUP($A17,'All Running Order'!$A$6:$CZ$64,BS$102,FALSE),\"\")","v":""},{"$f":"IFERROR(VLOOKUP($A17,'All Running Order'!$A$6:$CZ$64,BT$102,FALSE),\"\")","v":""},{"$f":"IFERROR(VLOOKUP($A17,'All Running Order'!$A$6:$CZ$64,BU$102,FALSE),\"\")","v":""},{"$f":"IFERROR(VLOOKUP($A17,'All Running Order'!$A$6:$CZ$64,BV$102,FALSE),\"\")","v":""},{"$f":"IFERROR(VLOOKUP($A17,'All Running Order'!$A$6:$CZ$64,BW$102,FALSE),\"\")","v":""},{"$f":"IFERROR(VLOOKUP($A17,'All Running Order'!$A$6:$CZ$64,BX$102,FALSE),\"\")","v":""},{"$f":"IFERROR(VLOOKUP($A17,'All Running Order'!$A$6:$CZ$64,BY$102,FALSE),\"\")","v":""},{"$f":"IFERROR(VLOOKUP($A17,'All Running Order'!$A$6:$CZ$64,BZ$102,FALSE),\"\")","v":""},{"$f":"IFERROR(VLOOKUP($A17,'All Running Order'!$A$6:$CZ$64,CA$102,FALSE),\"\")","v":""},{"$f":"IFERROR(VLOOKUP($A17,'All Running Order'!$A$6:$CZ$64,CB$102,FALSE),\"\")","v":""},{"$f":"IFERROR(VLOOKUP($A17,'All Running Order'!$A$6:$CZ$64,CC$102,FALSE),\"\")","v":""},{"$f":"IFERROR(VLOOKUP($A17,'All Running Order'!$A$6:$CZ$64,CD$102,FALSE),\"\")","v":""},{"$f":"IFERROR(VLOOKUP($A17,'All Running Order'!$A$6:$CZ$64,CE$102,FALSE),\"\")","v":""},{"$f":"IFERROR(VLOOKUP($A17,'All Running Order'!$A$6:$CZ$64,CF$102,FALSE),\"\")","v":""},{"$f":"IFERROR(VLOOKUP($A17,'All Running Order'!$A$6:$CZ$64,CG$102,FALSE),\"\")","v":""},{"$f":"IFERROR(VLOOKUP($A17,'All Running Order'!$A$6:$CZ$64,CH$102,FALSE),\"\")","v":""},{"$f":"IFERROR(VLOOKUP($A17,'All Running Order'!$A$6:$CZ$64,CI$102,FALSE),\"\")","v":""},{"$f":"IFERROR(VLOOKUP($A17,'All Running Order'!$A$6:$CZ$64,CJ$102,FALSE),\"\")","v":""},{"$f":"IFERROR(VLOOKUP($A17,'All Running Order'!$A$6:$CZ$64,CK$102,FALSE),\"\")","v":""},{"$f":"IFERROR(VLOOKUP($A17,'All Running Order'!$A$6:$CZ$64,CL$102,FALSE),\"\")","v":""},{"$f":"IFERROR(VLOOKUP($A17,'All Running Order'!$A$6:$CZ$64,CM$102,FALSE),\"\")","v":""},{"$f":"IFERROR(VLOOKUP($A17,'All Running Order'!$A$6:$CZ$64,CN$102,FALSE),\"\")","v":""},{"$f":"IFERROR(VLOOKUP($A17,'All Running Order'!$A$6:$CZ$64,CO$102,FALSE),\"\")","v":""},{"$f":"IFERROR(VLOOKUP($A17,'All Running Order'!$A$6:$CZ$64,CP$102,FALSE),\"\")","v":""},{"$f":"IFERROR(VLOOKUP($A17,'All Running Order'!$A$6:$CZ$64,CQ$102,FALSE),\"\")","v":""},{"$f":"IFERROR(VLOOKUP($A17,'All Running Order'!$A$6:$CZ$64,CR$102,FALSE),\"\")","v":""},{"$f":"IFERROR(VLOOKUP($A17,'All Running Order'!$A$6:$CZ$64,CS$102,FALSE),\"\")","v":""},{"$f":"IFERROR(VLOOKUP($A17,'All Running Order'!$A$6:$CZ$64,CT$102,FALSE),\"\")","v":""},{"$f":"IFERROR(VLOOKUP($A17,'All Running Order'!$A$6:$CZ$64,CU$102,FALSE),\"\")","v":""},{"$f":"IFERROR(VLOOKUP($A17,'All Running Order'!$A$6:$CZ$64,CV$102,FALSE),\"\")","v":""},{"$f":"IFERROR(VLOOKUP($A17,'All Running Order'!$A$6:$CZ$64,CW$102,FALSE),\"\")","v":""},{"$f":"IFERROR(VLOOKUP($A17,'All Running Order'!$A$6:$CZ$64,CX$102,FALSE),\"\")","v":""},{"$f":"IFERROR(VLOOKUP($A17,'All Running Order'!$A$6:$CZ$64,CY$102,FALSE),\"\")","v":""},{"$f":"IFERROR(VLOOKUP($A17,'All Running Order'!$A$6:$CZ$64,CZ$102,FALSE),\"\")","v":""}]
[13,{"$f":"IFERROR(VLOOKUP($A18,'All Running Order'!$A$6:$CZ$64,B$102,FALSE),\"\")","v":14},{"$f":"IFERROR(VLOOKUP($A18,'All Running Order'!$A$6:$CZ$64,C$102,FALSE),\"\")","v":0},{"$f":"IFERROR(VLOOKUP($A18,'All Running Order'!$A$6:$CZ$64,D$102,FALSE),\"\")","v":0},{"$f":"IFERROR(VLOOKUP($A18,'All Running Order'!$A$6:$CZ$64,E$102,FALSE),\"\")","v":0},{"$f":"IFERROR(VLOOKUP($A18,'All Running Order'!$A$6:$CZ$64,F$102,FALSE),\"\")","v":0},{"$f":"IFERROR(VLOOKUP($A18,'All Running Order'!$A$6:$CZ$64,G$102,FALSE),\"\")","v":0},{"$f":"IFERROR(VLOOKUP($A18,'All Running Order'!$A$6:$CZ$64,H$102,FALSE),\"\")","v":0},{"$f":"IFERROR(VLOOKUP($A18,'All Running Order'!$A$6:$CZ$64,I$102,FALSE),\"\")","v":0},{"$f":"IFERROR(VLOOKUP($A18,'All Running Order'!$A$6:$CZ$64,J$102,FALSE),\"\")","v":0},{"$f":"IFERROR(VLOOKUP($A18,'All Running Order'!$A$6:$CZ$64,K$102,FALSE),\"\")","v":0},{"$f":"IFERROR(VLOOKUP($A18,'All Running Order'!$A$6:$CZ$64,L$102,FALSE),\"\")","v":0},{"$f":"IFERROR(VLOOKUP($A18,'All Running Order'!$A$6:$CZ$64,M$102,FALSE),\"\")","v":0},{"$f":"IFERROR(VLOOKUP($A18,'All Running Order'!$A$6:$CZ$64,N$102,FALSE),\"\")","v":0},{"$f":"IFERROR(VLOOKUP($A18,'All Running Order'!$A$6:$CZ$64,O$102,FALSE),\"\")","v":0},{"$f":"IFERROR(VLOOKUP($A18,'All Running Order'!$A$6:$CZ$64,P$102,FALSE),\"\")","v":0},{"$f":"IFERROR(VLOOKUP($A18,'All Running Order'!$A$6:$CZ$64,Q$102,FALSE),\"\")","v":0},{"$f":"IFERROR(VLOOKUP($A18,'All Running Order'!$A$6:$CZ$64,R$102,FALSE),\"\")","v":0},{"$f":"IFERROR(VLOOKUP($A18,'All Running Order'!$A$6:$CZ$64,S$102,FALSE),\"\")","v":0},{"$f":"IFERROR(VLOOKUP($A18,'All Running Order'!$A$6:$CZ$64,T$102,FALSE),\"\")","v":0},{"$f":"IFERROR(VLOOKUP($A18,'All Running Order'!$A$6:$CZ$64,U$102,FALSE),\"\")","v":0},{"$f":"IFERROR(VLOOKUP($A18,'All Running Order'!$A$6:$CZ$64,V$102,FALSE),\"\")","v":0},{"$f":"IFERROR(VLOOKUP($A18,'All Running Order'!$A$6:$CZ$64,W$102,FALSE),\"\")","v":0},{"$f":"IFERROR(VLOOKUP($A18,'All Running Order'!$A$6:$CZ$64,X$102,FALSE),\"\")","v":0},{"$f":"IFERROR(VLOOKUP($A18,'All Running Order'!$A$6:$CZ$64,Y$102,FALSE),\"\")","v":0},{"$f":"IFERROR(VLOOKUP($A18,'All Running Order'!$A$6:$CZ$64,Z$102,FALSE),\"\")","v":0},{"$f":"IFERROR(VLOOKUP($A18,'All Running Order'!$A$6:$CZ$64,AA$102,FALSE),\"\")","v":2000},{"$f":"IFERROR(VLOOKUP($A18,'All Running Order'!$A$6:$CZ$64,AB$102,FALSE),\"\")","v":0},{"$f":"IFERROR(VLOOKUP($A18,'All Running Order'!$A$6:$CZ$64,AC$102,FALSE),\"\")","v":0},{"$f":"IFERROR(VLOOKUP($A18,'All Running Order'!$A$6:$CZ$64,AD$102,FALSE),\"\")","v":0},{"$f":"IFERROR(VLOOKUP($A18,'All Running Order'!$A$6:$CZ$64,AE$102,FALSE),\"\")","v":0},{"$f":"IFERROR(VLOOKUP($A18,'All Running Order'!$A$6:$CZ$64,AF$102,FALSE),\"\")","v":0},{"$f":"IFERROR(VLOOKUP($A18,'All Running Order'!$A$6:$CZ$64,AG$102,FALSE),\"\")","v":0},{"$f":"IFERROR(VLOOKUP($A18,'All Running Order'!$A$6:$CZ$64,AH$102,FALSE),\"\")","v":0},{"$f":"IFERROR(VLOOKUP($A18,'All Running Order'!$A$6:$CZ$64,AI$102,FALSE),\"\")","v":0},{"$f":"IFERROR(VLOOKUP($A18,'All Running Order'!$A$6:$CZ$64,AJ$102,FALSE),\"\")","v":0},{"$f":"IFERROR(VLOOKUP($A18,'All Running Order'!$A$6:$CZ$64,AK$102,FALSE),\"\")","v":0},{"$f":"IFERROR(VLOOKUP($A18,'All Running Order'!$A$6:$CZ$64,AL$102,FALSE),\"\")","v":0},{"$f":"IFERROR(VLOOKUP($A18,'All Running Order'!$A$6:$CZ$64,AM$102,FALSE),\"\")","v":2000},{"$f":"IFERROR(VLOOKUP($A18,'All Running Order'!$A$6:$CZ$64,AN$102,FALSE),\"\")","v":0},{"$f":"IFERROR(VLOOKUP($A18,'All Running Order'!$A$6:$CZ$64,AO$102,FALSE),\"\")","v":0},{"$f":"IFERROR(VLOOKUP($A18,'All Running Order'!$A$6:$CZ$64,AP$102,FALSE),\"\")","v":0},{"$f":"IFERROR(VLOOKUP($A18,'All Running Order'!$A$6:$CZ$64,AQ$102,FALSE),\"\")","v":0},{"$f":"IFERROR(VLOOKUP($A18,'All Running Order'!$A$6:$CZ$64,AR$102,FALSE),\"\")","v":0},{"$f":"IFERROR(VLOOKUP($A18,'All Running Order'!$A$6:$CZ$64,AS$102,FALSE),\"\")","v":0},{"$f":"IFERROR(VLOOKUP($A18,'All Running Order'!$A$6:$CZ$64,AT$102,FALSE),\"\")","v":0},{"$f":"IFERROR(VLOOKUP($A18,'All Running Order'!$A$6:$CZ$64,AU$102,FALSE),\"\")","v":0},{"$f":"IFERROR(VLOOKUP($A18,'All Running Order'!$A$6:$CZ$64,AV$102,FALSE),\"\")","v":0},{"$f":"IFERROR(VLOOKUP($A18,'All Running Order'!$A$6:$CZ$64,AW$102,FALSE),\"\")","v":0},{"$f":"IFERROR(VLOOKUP($A18,'All Running Order'!$A$6:$CZ$64,AX$102,FALSE),\"\")","v":0},{"$f":"IFERROR(VLOOKUP($A18,'All Running Order'!$A$6:$CZ$64,AY$102,FALSE),\"\")","v":2000},{"$f":"IFERROR(VLOOKUP($A18,'All Running Order'!$A$6:$CZ$64,AZ$102,FALSE),\"\")","v":0},{"$f":"IFERROR(VLOOKUP($A18,'All Running Order'!$A$6:$CZ$64,BA$102,FALSE),\"\")","v":0},{"$f":"IFERROR(VLOOKUP($A18,'All Running Order'!$A$6:$CZ$64,BB$102,FALSE),\"\")","v":0},{"$f":"IFERROR(VLOOKUP($A18,'All Running Order'!$A$6:$CZ$64,BC$102,FALSE),\"\")","v":0},{"$f":"IFERROR(VLOOKUP($A18,'All Running Order'!$A$6:$CZ$64,BD$102,FALSE),\"\")","v":0},{"$f":"IFERROR(VLOOKUP($A18,'All Running Order'!$A$6:$CZ$64,BE$102,FALSE),\"\")","v":0},{"$f":"IFERROR(VLOOKUP($A18,'All Running Order'!$A$6:$CZ$64,BF$102,FALSE),\"\")","v":0},{"$f":"IFERROR(VLOOKUP($A18,'All Running Order'!$A$6:$CZ$64,BG$102,FALSE),\"\")","v":0},{"$f":"IFERROR(VLOOKUP($A18,'All Running Order'!$A$6:$CZ$64,BH$102,FALSE),\"\")","v":0},{"$f":"IFERROR(VLOOKUP($A18,'All Running Order'!$A$6:$CZ$64,BI$102,FALSE),\"\")","v":0},{"$f":"IFERROR(VLOOKUP($A18,'All Running Order'!$A$6:$CZ$64,BJ$102,FALSE),\"\")","v":0},{"$f":"IFERROR(VLOOKUP($A18,'All Running Order'!$A$6:$CZ$64,BK$102,FALSE),\"\")","v":2000},{"$f":"IFERROR(VLOOKUP($A18,'All Running Order'!$A$6:$CZ$64,BL$102,FALSE),\"\")","v":0},{"$f":"IFERROR(VLOOKUP($A18,'All Running Order'!$A$6:$CZ$64,BM$102,FALSE),\"\")","v":0},{"$f":"IFERROR(VLOOKUP($A18,'All Running Order'!$A$6:$CZ$64,BN$102,FALSE),\"\")","v":0},{"$f":"IFERROR(VLOOKUP($A18,'All Running Order'!$A$6:$CZ$64,BO$102,FALSE),\"\")","v":0},{"$f":"IFERROR(VLOOKUP($A18,'All Running Order'!$A$6:$CZ$64,BP$102,FALSE),\"\")","v":0},{"$f":"IFERROR(VLOOKUP($A18,'All Running Order'!$A$6:$CZ$64,BQ$102,FALSE),\"\")","v":0},{"$f":"IFERROR(VLOOKUP($A18,'All Running Order'!$A$6:$CZ$64,BR$102,FALSE),\"\")","v":0},{"$f":"IFERROR(VLOOKUP($A18,'All Running Order'!$A$6:$CZ$64,BS$102,FALSE),\"\")","v":0},{"$f":"IFERROR(VLOOKUP($A18,'All Running Order'!$A$6:$CZ$64,BT$102,FALSE),\"\")","v":0},{"$f":"IFERROR(VLOOKUP($A18,'All Running Order'!$A$6:$CZ$64,BU$102,FALSE),\"\")","v":0},{"$f":"IFERROR(VLOOKUP($A18,'All Running Order'!$A$6:$CZ$64,BV$102,FALSE),\"\")","v":0},{"$f":"IFERROR(VLOOKUP($A18,'All Running Order'!$A$6:$CZ$64,BW$102,FALSE),\"\")","v":2000},{"$f":"IFERROR(VLOOKUP($A18,'All Running Order'!$A$6:$CZ$64,BX$102,FALSE),\"\")","v":13},{"$f":"IFERROR(VLOOKUP($A18,'All Running Order'!$A$6:$CZ$64,BY$102,FALSE),\"\")","v":13},{"$f":"IFERROR(VLOOKUP($A18,'All Running Order'!$A$6:$CZ$64,BZ$102,FALSE),\"\")","v":13},{"$f":"IFERROR(VLOOKUP($A18,'All Running Order'!$A$6:$CZ$64,CA$102,FALSE),\"\")","v":13},{"$f":"IFERROR(VLOOKUP($A18,'All Running Order'!$A$6:$CZ$64,CB$102,FALSE),\"\")","v":13},{"$f":"IFERROR(VLOOKUP($A18,'All Running Order'!$A$6:$CZ$64,CC$102,FALSE),\"\")","v":13},{"$f":"IFERROR(VLOOKUP($A18,'All Running Order'!$A$6:$CZ$64,CD$102,FALSE),\"\")","v":13},{"$f":"IFERROR(VLOOKUP($A18,'All Running Order'!$A$6:$CZ$64,CE$102,FALSE),\"\")","v":13},{"$f":"IFERROR(VLOOKUP($A18,'All Running Order'!$A$6:$CZ$64,CF$102,FALSE),\"\")","v":13},{"$f":"IFERROR(VLOOKUP($A18,'All Running Order'!$A$6:$CZ$64,CG$102,FALSE),\"\")","v":13},{"$f":"IFERROR(VLOOKUP($A18,'All Running Order'!$A$6:$CZ$64,CH$102,FALSE),\"\")","v":"-"},{"$f":"IFERROR(VLOOKUP($A18,'All Running Order'!$A$6:$CZ$64,CI$102,FALSE),\"\")","v":""},{"$f":"IFERROR(VLOOKUP($A18,'All Running Order'!$A$6:$CZ$64,CJ$102,FALSE),\"\")","v":"-"},{"$f":"IFERROR(VLOOKUP($A18,'All Running Order'!$A$6:$CZ$64,CK$102,FALSE),\"\")","v":""},{"$f":"IFERROR(VLOOKUP($A18,'All Running Order'!$A$6:$CZ$64,CL$102,FALSE),\"\")","v":"-"},{"$f":"IFERROR(VLOOKUP($A18,'All Running Order'!$A$6:$CZ$64,CM$102,FALSE),\"\")","v":""},{"$f":"IFERROR(VLOOKUP($A18,'All Running Order'!$A$6:$CZ$64,CN$102,FALSE),\"\")","v":"-"},{"$f":"IFERROR(VLOOKUP($A18,'All Running Order'!$A$6:$CZ$64,CO$102,FALSE),\"\")","v":""},{"$f":"IFERROR(VLOOKUP($A18,'All Running Order'!$A$6:$CZ$64,CP$102,FALSE),\"\")","v":"-"},{"$f":"IFERROR(VLOOKUP($A18,'All Running Order'!$A$6:$CZ$64,CQ$102,FALSE),\"\")","v":""},{"$f":"IFERROR(VLOOKUP($A18,'All Running Order'!$A$6:$CZ$64,CR$102,FALSE),\"\")","v":"-"},{"$f":"IFERROR(VLOOKUP($A18,'All Running Order'!$A$6:$CZ$64,CS$102,FALSE),\"\")","v":""},{"$f":"IFERROR(VLOOKUP($A18,'All Running Order'!$A$6:$CZ$64,CT$102,FALSE),\"\")","v":"-"},{"$f":"IFERROR(VLOOKUP($A18,'All Running Order'!$A$6:$CZ$64,CU$102,FALSE),\"\")","v":" "},{"$f":"IFERROR(VLOOKUP($A18,'All Running Order'!$A$6:$CZ$64,CV$102,FALSE),\"\")","v":"-"},{"$f":"IFERROR(VLOOKUP($A18,'All Running Order'!$A$6:$CZ$64,CW$102,FALSE),\"\")","v":" "},{"$f":"IFERROR(VLOOKUP($A18,'All Running Order'!$A$6:$CZ$64,CX$102,FALSE),\"\")","v":" "},{"$f":"IFERROR(VLOOKUP($A18,'All Running Order'!$A$6:$CZ$64,CY$102,FALSE),\"\")","v":0},{"$f":"IFERROR(VLOOKUP($A18,'All Running Order'!$A$6:$CZ$64,CZ$102,FALSE),\"\")","v":0}]
[14,{"$f":"IFERROR(VLOOKUP($A19,'All Running Order'!$A$6:$CZ$64,B$102,FALSE),\"\")","v":""},{"$f":"IFERROR(VLOOKUP($A19,'All Running Order'!$A$6:$CZ$64,C$102,FALSE),\"\")","v":""},{"$f":"IFERROR(VLOOKUP($A19,'All Running Order'!$A$6:$CZ$64,D$102,FALSE),\"\")","v":""},{"$f":"IFERROR(VLOOKUP($A19,'All Running Order'!$A$6:$CZ$64,E$102,FALSE),\"\")","v":""},{"$f":"IFERROR(VLOOKUP($A19,'All Running Order'!$A$6:$CZ$64,F$102,FALSE),\"\")","v":""},{"$f":"IFERROR(VLOOKUP($A19,'All Running Order'!$A$6:$CZ$64,G$102,FALSE),\"\")","v":""},{"$f":"IFERROR(VLOOKUP($A19,'All Running Order'!$A$6:$CZ$64,H$102,FALSE),\"\")","v":""},{"$f":"IFERROR(VLOOKUP($A19,'All Running Order'!$A$6:$CZ$64,I$102,FALSE),\"\")","v":""},{"$f":"IFERROR(VLOOKUP($A19,'All Running Order'!$A$6:$CZ$64,J$102,FALSE),\"\")","v":""},{"$f":"IFERROR(VLOOKUP($A19,'All Running Order'!$A$6:$CZ$64,K$102,FALSE),\"\")","v":""},{"$f":"IFERROR(VLOOKUP($A19,'All Running Order'!$A$6:$CZ$64,L$102,FALSE),\"\")","v":""},{"$f":"IFERROR(VLOOKUP($A19,'All Running Order'!$A$6:$CZ$64,M$102,FALSE),\"\")","v":""},{"$f":"IFERROR(VLOOKUP($A19,'All Running Order'!$A$6:$CZ$64,N$102,FALSE),\"\")","v":""},{"$f":"IFERROR(VLOOKUP($A19,'All Running Order'!$A$6:$CZ$64,O$102,FALSE),\"\")","v":""},{"$f":"IFERROR(VLOOKUP($A19,'All Running Order'!$A$6:$CZ$64,P$102,FALSE),\"\")","v":""},{"$f":"IFERROR(VLOOKUP($A19,'All Running Order'!$A$6:$CZ$64,Q$102,FALSE),\"\")","v":""},{"$f":"IFERROR(VLOOKUP($A19,'All Running Order'!$A$6:$CZ$64,R$102,FALSE),\"\")","v":""},{"$f":"IFERROR(VLOOKUP($A19,'All Running Order'!$A$6:$CZ$64,S$102,FALSE),\"\")","v":""},{"$f":"IFERROR(VLOOKUP($A19,'All Running Order'!$A$6:$CZ$64,T$102,FALSE),\"\")","v":""},{"$f":"IFERROR(VLOOKUP($A19,'All Running Order'!$A$6:$CZ$64,U$102,FALSE),\"\")","v":""},{"$f":"IFERROR(VLOOKUP($A19,'All Running Order'!$A$6:$CZ$64,V$102,FALSE),\"\")","v":""},{"$f":"IFERROR(VLOOKUP($A19,'All Running Order'!$A$6:$CZ$64,W$102,FALSE),\"\")","v":""},{"$f":"IFERROR(VLOOKUP($A19,'All Running Order'!$A$6:$CZ$64,X$102,FALSE),\"\")","v":""},{"$f":"IFERROR(VLOOKUP($A19,'All Running Order'!$A$6:$CZ$64,Y$102,FALSE),\"\")","v":""},{"$f":"IFERROR(VLOOKUP($A19,'All Running Order'!$A$6:$CZ$64,Z$102,FALSE),\"\")","v":""},{"$f":"IFERROR(VLOOKUP($A19,'All Running Order'!$A$6:$CZ$64,AA$102,FALSE),\"\")","v":""},{"$f":"IFERROR(VLOOKUP($A19,'All Running Order'!$A$6:$CZ$64,AB$102,FALSE),\"\")","v":""},{"$f":"IFERROR(VLOOKUP($A19,'All Running Order'!$A$6:$CZ$64,AC$102,FALSE),\"\")","v":""},{"$f":"IFERROR(VLOOKUP($A19,'All Running Order'!$A$6:$CZ$64,AD$102,FALSE),\"\")","v":""},{"$f":"IFERROR(VLOOKUP($A19,'All Running Order'!$A$6:$CZ$64,AE$102,FALSE),\"\")","v":""},{"$f":"IFERROR(VLOOKUP($A19,'All Running Order'!$A$6:$CZ$64,AF$102,FALSE),\"\")","v":""},{"$f":"IFERROR(VLOOKUP($A19,'All Running Order'!$A$6:$CZ$64,AG$102,FALSE),\"\")","v":""},{"$f":"IFERROR(VLOOKUP($A19,'All Running Order'!$A$6:$CZ$64,AH$102,FALSE),\"\")","v":""},{"$f":"IFERROR(VLOOKUP($A19,'All Running Order'!$A$6:$CZ$64,AI$102,FALSE),\"\")","v":""},{"$f":"IFERROR(VLOOKUP($A19,'All Running Order'!$A$6:$CZ$64,AJ$102,FALSE),\"\")","v":""},{"$f":"IFERROR(VLOOKUP($A19,'All Running Order'!$A$6:$CZ$64,AK$102,FALSE),\"\")","v":""},{"$f":"IFERROR(VLOOKUP($A19,'All Running Order'!$A$6:$CZ$64,AL$102,FALSE),\"\")","v":""},{"$f":"IFERROR(VLOOKUP($A19,'All Running Order'!$A$6:$CZ$64,AM$102,FALSE),\"\")","v":""},{"$f":"IFERROR(VLOOKUP($A19,'All Running Order'!$A$6:$CZ$64,AN$102,FALSE),\"\")","v":""},{"$f":"IFERROR(VLOOKUP($A19,'All Running Order'!$A$6:$CZ$64,AO$102,FALSE),\"\")","v":""},{"$f":"IFERROR(VLOOKUP($A19,'All Running Order'!$A$6:$CZ$64,AP$102,FALSE),\"\")","v":""},{"$f":"IFERROR(VLOOKUP($A19,'All Running Order'!$A$6:$CZ$64,AQ$102,FALSE),\"\")","v":""},{"$f":"IFERROR(VLOOKUP($A19,'All Running Order'!$A$6:$CZ$64,AR$102,FALSE),\"\")","v":""},{"$f":"IFERROR(VLOOKUP($A19,'All Running Order'!$A$6:$CZ$64,AS$102,FALSE),\"\")","v":""},{"$f":"IFERROR(VLOOKUP($A19,'All Running Order'!$A$6:$CZ$64,AT$102,FALSE),\"\")","v":""},{"$f":"IFERROR(VLOOKUP($A19,'All Running Order'!$A$6:$CZ$64,AU$102,FALSE),\"\")","v":""},{"$f":"IFERROR(VLOOKUP($A19,'All Running Order'!$A$6:$CZ$64,AV$102,FALSE),\"\")","v":""},{"$f":"IFERROR(VLOOKUP($A19,'All Running Order'!$A$6:$CZ$64,AW$102,FALSE),\"\")","v":""},{"$f":"IFERROR(VLOOKUP($A19,'All Running Order'!$A$6:$CZ$64,AX$102,FALSE),\"\")","v":""},{"$f":"IFERROR(VLOOKUP($A19,'All Running Order'!$A$6:$CZ$64,AY$102,FALSE),\"\")","v":""},{"$f":"IFERROR(VLOOKUP($A19,'All Running Order'!$A$6:$CZ$64,AZ$102,FALSE),\"\")","v":""},{"$f":"IFERROR(VLOOKUP($A19,'All Running Order'!$A$6:$CZ$64,BA$102,FALSE),\"\")","v":""},{"$f":"IFERROR(VLOOKUP($A19,'All Running Order'!$A$6:$CZ$64,BB$102,FALSE),\"\")","v":""},{"$f":"IFERROR(VLOOKUP($A19,'All Running Order'!$A$6:$CZ$64,BC$102,FALSE),\"\")","v":""},{"$f":"IFERROR(VLOOKUP($A19,'All Running Order'!$A$6:$CZ$64,BD$102,FALSE),\"\")","v":""},{"$f":"IFERROR(VLOOKUP($A19,'All Running Order'!$A$6:$CZ$64,BE$102,FALSE),\"\")","v":""},{"$f":"IFERROR(VLOOKUP($A19,'All Running Order'!$A$6:$CZ$64,BF$102,FALSE),\"\")","v":""},{"$f":"IFERROR(VLOOKUP($A19,'All Running Order'!$A$6:$CZ$64,BG$102,FALSE),\"\")","v":""},{"$f":"IFERROR(VLOOKUP($A19,'All Running Order'!$A$6:$CZ$64,BH$102,FALSE),\"\")","v":""},{"$f":"IFERROR(VLOOKUP($A19,'All Running Order'!$A$6:$CZ$64,BI$102,FALSE),\"\")","v":""},{"$f":"IFERROR(VLOOKUP($A19,'All Running Order'!$A$6:$CZ$64,BJ$102,FALSE),\"\")","v":""},{"$f":"IFERROR(VLOOKUP($A19,'All Running Order'!$A$6:$CZ$64,BK$102,FALSE),\"\")","v":""},{"$f":"IFERROR(VLOOKUP($A19,'All Running Order'!$A$6:$CZ$64,BL$102,FALSE),\"\")","v":""},{"$f":"IFERROR(VLOOKUP($A19,'All Running Order'!$A$6:$CZ$64,BM$102,FALSE),\"\")","v":""},{"$f":"IFERROR(VLOOKUP($A19,'All Running Order'!$A$6:$CZ$64,BN$102,FALSE),\"\")","v":""},{"$f":"IFERROR(VLOOKUP($A19,'All Running Order'!$A$6:$CZ$64,BO$102,FALSE),\"\")","v":""},{"$f":"IFERROR(VLOOKUP($A19,'All Running Order'!$A$6:$CZ$64,BP$102,FALSE),\"\")","v":""},{"$f":"IFERROR(VLOOKUP($A19,'All Running Order'!$A$6:$CZ$64,BQ$102,FALSE),\"\")","v":""},{"$f":"IFERROR(VLOOKUP($A19,'All Running Order'!$A$6:$CZ$64,BR$102,FALSE),\"\")","v":""},{"$f":"IFERROR(VLOOKUP($A19,'All Running Order'!$A$6:$CZ$64,BS$102,FALSE),\"\")","v":""},{"$f":"IFERROR(VLOOKUP($A19,'All Running Order'!$A$6:$CZ$64,BT$102,FALSE),\"\")","v":""},{"$f":"IFERROR(VLOOKUP($A19,'All Running Order'!$A$6:$CZ$64,BU$102,FALSE),\"\")","v":""},{"$f":"IFERROR(VLOOKUP($A19,'All Running Order'!$A$6:$CZ$64,BV$102,FALSE),\"\")","v":""},{"$f":"IFERROR(VLOOKUP($A19,'All Running Order'!$A$6:$CZ$64,BW$102,FALSE),\"\")","v":""},{"$f":"IFERROR(VLOOKUP($A19,'All Running Order'!$A$6:$CZ$64,BX$102,FALSE),\"\")","v":""},{"$f":"IFERROR(VLOOKUP($A19,'All Running Order'!$A$6:$CZ$64,BY$102,FALSE),\"\")","v":""},{"$f":"IFERROR(VLOOKUP($A19,'All Running Order'!$A$6:$CZ$64,BZ$102,FALSE),\"\")","v":""},{"$f":"IFERROR(VLOOKUP($A19,'All Running Order'!$A$6:$CZ$64,CA$102,FALSE),\"\")","v":""},{"$f":"IFERROR(VLOOKUP($A19,'All Running Order'!$A$6:$CZ$64,CB$102,FALSE),\"\")","v":""},{"$f":"IFERROR(VLOOKUP($A19,'All Running Order'!$A$6:$CZ$64,CC$102,FALSE),\"\")","v":""},{"$f":"IFERROR(VLOOKUP($A19,'All Running Order'!$A$6:$CZ$64,CD$102,FALSE),\"\")","v":""},{"$f":"IFERROR(VLOOKUP($A19,'All Running Order'!$A$6:$CZ$64,CE$102,FALSE),\"\")","v":""},{"$f":"IFERROR(VLOOKUP($A19,'All Running Order'!$A$6:$CZ$64,CF$102,FALSE),\"\")","v":""},{"$f":"IFERROR(VLOOKUP($A19,'All Running Order'!$A$6:$CZ$64,CG$102,FALSE),\"\")","v":""},{"$f":"IFERROR(VLOOKUP($A19,'All Running Order'!$A$6:$CZ$64,CH$102,FALSE),\"\")","v":""},{"$f":"IFERROR(VLOOKUP($A19,'All Running Order'!$A$6:$CZ$64,CI$102,FALSE),\"\")","v":""},{"$f":"IFERROR(VLOOKUP($A19,'All Running Order'!$A$6:$CZ$64,CJ$102,FALSE),\"\")","v":""},{"$f":"IFERROR(VLOOKUP($A19,'All Running Order'!$A$6:$CZ$64,CK$102,FALSE),\"\")","v":""},{"$f":"IFERROR(VLOOKUP($A19,'All Running Order'!$A$6:$CZ$64,CL$102,FALSE),\"\")","v":""},{"$f":"IFERROR(VLOOKUP($A19,'All Running Order'!$A$6:$CZ$64,CM$102,FALSE),\"\")","v":""},{"$f":"IFERROR(VLOOKUP($A19,'All Running Order'!$A$6:$CZ$64,CN$102,FALSE),\"\")","v":""},{"$f":"IFERROR(VLOOKUP($A19,'All Running Order'!$A$6:$CZ$64,CO$102,FALSE),\"\")","v":""},{"$f":"IFERROR(VLOOKUP($A19,'All Running Order'!$A$6:$CZ$64,CP$102,FALSE),\"\")","v":""},{"$f":"IFERROR(VLOOKUP($A19,'All Running Order'!$A$6:$CZ$64,CQ$102,FALSE),\"\")","v":""},{"$f":"IFERROR(VLOOKUP($A19,'All Running Order'!$A$6:$CZ$64,CR$102,FALSE),\"\")","v":""},{"$f":"IFERROR(VLOOKUP($A19,'All Running Order'!$A$6:$CZ$64,CS$102,FALSE),\"\")","v":""},{"$f":"IFERROR(VLOOKUP($A19,'All Running Order'!$A$6:$CZ$64,CT$102,FALSE),\"\")","v":""},{"$f":"IFERROR(VLOOKUP($A19,'All Running Order'!$A$6:$CZ$64,CU$102,FALSE),\"\")","v":""},{"$f":"IFERROR(VLOOKUP($A19,'All Running Order'!$A$6:$CZ$64,CV$102,FALSE),\"\")","v":""},{"$f":"IFERROR(VLOOKUP($A19,'All Running Order'!$A$6:$CZ$64,CW$102,FALSE),\"\")","v":""},{"$f":"IFERROR(VLOOKUP($A19,'All Running Order'!$A$6:$CZ$64,CX$102,FALSE),\"\")","v":""},{"$f":"IFERROR(VLOOKUP($A19,'All Running Order'!$A$6:$CZ$64,CY$102,FALSE),\"\")","v":""},{"$f":"IFERROR(VLOOKUP($A19,'All Running Order'!$A$6:$CZ$64,CZ$102,FALSE),\"\")","v":""}]
[15,{"$f":"IFERROR(VLOOKUP($A20,'All Running Order'!$A$6:$CZ$64,B$102,FALSE),\"\")","v":""},{"$f":"IFERROR(VLOOKUP($A20,'All Running Order'!$A$6:$CZ$64,C$102,FALSE),\"\")","v":""},{"$f":"IFERROR(VLOOKUP($A20,'All Running Order'!$A$6:$CZ$64,D$102,FALSE),\"\")","v":""},{"$f":"IFERROR(VLOOKUP($A20,'All Running Order'!$A$6:$CZ$64,E$102,FALSE),\"\")","v":""},{"$f":"IFERROR(VLOOKUP($A20,'All Running Order'!$A$6:$CZ$64,F$102,FALSE),\"\")","v":""},{"$f":"IFERROR(VLOOKUP($A20,'All Running Order'!$A$6:$CZ$64,G$102,FALSE),\"\")","v":""},{"$f":"IFERROR(VLOOKUP($A20,'All Running Order'!$A$6:$CZ$64,H$102,FALSE),\"\")","v":""},{"$f":"IFERROR(VLOOKUP($A20,'All Running Order'!$A$6:$CZ$64,I$102,FALSE),\"\")","v":""},{"$f":"IFERROR(VLOOKUP($A20,'All Running Order'!$A$6:$CZ$64,J$102,FALSE),\"\")","v":""},{"$f":"IFERROR(VLOOKUP($A20,'All Running Order'!$A$6:$CZ$64,K$102,FALSE),\"\")","v":""},{"$f":"IFERROR(VLOOKUP($A20,'All Running Order'!$A$6:$CZ$64,L$102,FALSE),\"\")","v":""},{"$f":"IFERROR(VLOOKUP($A20,'All Running Order'!$A$6:$CZ$64,M$102,FALSE),\"\")","v":""},{"$f":"IFERROR(VLOOKUP($A20,'All Running Order'!$A$6:$CZ$64,N$102,FALSE),\"\")","v":""},{"$f":"IFERROR(VLOOKUP($A20,'All Running Order'!$A$6:$CZ$64,O$102,FALSE),\"\")","v":""},{"$f":"IFERROR(VLOOKUP($A20,'All Running Order'!$A$6:$CZ$64,P$102,FALSE),\"\")","v":""},{"$f":"IFERROR(VLOOKUP($A20,'All Running Order'!$A$6:$CZ$64,Q$102,FALSE),\"\")","v":""},{"$f":"IFERROR(VLOOKUP($A20,'All Running Order'!$A$6:$CZ$64,R$102,FALSE),\"\")","v":""},{"$f":"IFERROR(VLOOKUP($A20,'All Running Order'!$A$6:$CZ$64,S$102,FALSE),\"\")","v":""},{"$f":"IFERROR(VLOOKUP($A20,'All Running Order'!$A$6:$CZ$64,T$102,FALSE),\"\")","v":""},{"$f":"IFERROR(VLOOKUP($A20,'All Running Order'!$A$6:$CZ$64,U$102,FALSE),\"\")","v":""},{"$f":"IFERROR(VLOOKUP($A20,'All Running Order'!$A$6:$CZ$64,V$102,FALSE),\"\")","v":""},{"$f":"IFERROR(VLOOKUP($A20,'All Running Order'!$A$6:$CZ$64,W$102,FALSE),\"\")","v":""},{"$f":"IFERROR(VLOOKUP($A20,'All Running Order'!$A$6:$CZ$64,X$102,FALSE),\"\")","v":""},{"$f":"IFERROR(VLOOKUP($A20,'All Running Order'!$A$6:$CZ$64,Y$102,FALSE),\"\")","v":""},{"$f":"IFERROR(VLOOKUP($A20,'All Running Order'!$A$6:$CZ$64,Z$102,FALSE),\"\")","v":""},{"$f":"IFERROR(VLOOKUP($A20,'All Running Order'!$A$6:$CZ$64,AA$102,FALSE),\"\")","v":""},{"$f":"IFERROR(VLOOKUP($A20,'All Running Order'!$A$6:$CZ$64,AB$102,FALSE),\"\")","v":""},{"$f":"IFERROR(VLOOKUP($A20,'All Running Order'!$A$6:$CZ$64,AC$102,FALSE),\"\")","v":""},{"$f":"IFERROR(VLOOKUP($A20,'All Running Order'!$A$6:$CZ$64,AD$102,FALSE),\"\")","v":""},{"$f":"IFERROR(VLOOKUP($A20,'All Running Order'!$A$6:$CZ$64,AE$102,FALSE),\"\")","v":""},{"$f":"IFERROR(VLOOKUP($A20,'All Running Order'!$A$6:$CZ$64,AF$102,FALSE),\"\")","v":""},{"$f":"IFERROR(VLOOKUP($A20,'All Running Order'!$A$6:$CZ$64,AG$102,FALSE),\"\")","v":""},{"$f":"IFERROR(VLOOKUP($A20,'All Running Order'!$A$6:$CZ$64,AH$102,FALSE),\"\")","v":""},{"$f":"IFERROR(VLOOKUP($A20,'All Running Order'!$A$6:$CZ$64,AI$102,FALSE),\"\")","v":""},{"$f":"IFERROR(VLOOKUP($A20,'All Running Order'!$A$6:$CZ$64,AJ$102,FALSE),\"\")","v":""},{"$f":"IFERROR(VLOOKUP($A20,'All Running Order'!$A$6:$CZ$64,AK$102,FALSE),\"\")","v":""},{"$f":"IFERROR(VLOOKUP($A20,'All Running Order'!$A$6:$CZ$64,AL$102,FALSE),\"\")","v":""},{"$f":"IFERROR(VLOOKUP($A20,'All Running Order'!$A$6:$CZ$64,AM$102,FALSE),\"\")","v":""},{"$f":"IFERROR(VLOOKUP($A20,'All Running Order'!$A$6:$CZ$64,AN$102,FALSE),\"\")","v":""},{"$f":"IFERROR(VLOOKUP($A20,'All Running Order'!$A$6:$CZ$64,AO$102,FALSE),\"\")","v":""},{"$f":"IFERROR(VLOOKUP($A20,'All Running Order'!$A$6:$CZ$64,AP$102,FALSE),\"\")","v":""},{"$f":"IFERROR(VLOOKUP($A20,'All Running Order'!$A$6:$CZ$64,AQ$102,FALSE),\"\")","v":""},{"$f":"IFERROR(VLOOKUP($A20,'All Running Order'!$A$6:$CZ$64,AR$102,FALSE),\"\")","v":""},{"$f":"IFERROR(VLOOKUP($A20,'All Running Order'!$A$6:$CZ$64,AS$102,FALSE),\"\")","v":""},{"$f":"IFERROR(VLOOKUP($A20,'All Running Order'!$A$6:$CZ$64,AT$102,FALSE),\"\")","v":""},{"$f":"IFERROR(VLOOKUP($A20,'All Running Order'!$A$6:$CZ$64,AU$102,FALSE),\"\")","v":""},{"$f":"IFERROR(VLOOKUP($A20,'All Running Order'!$A$6:$CZ$64,AV$102,FALSE),\"\")","v":""},{"$f":"IFERROR(VLOOKUP($A20,'All Running Order'!$A$6:$CZ$64,AW$102,FALSE),\"\")","v":""},{"$f":"IFERROR(VLOOKUP($A20,'All Running Order'!$A$6:$CZ$64,AX$102,FALSE),\"\")","v":""},{"$f":"IFERROR(VLOOKUP($A20,'All Running Order'!$A$6:$CZ$64,AY$102,FALSE),\"\")","v":""},{"$f":"IFERROR(VLOOKUP($A20,'All Running Order'!$A$6:$CZ$64,AZ$102,FALSE),\"\")","v":""},{"$f":"IFERROR(VLOOKUP($A20,'All Running Order'!$A$6:$CZ$64,BA$102,FALSE),\"\")","v":""},{"$f":"IFERROR(VLOOKUP($A20,'All Running Order'!$A$6:$CZ$64,BB$102,FALSE),\"\")","v":""},{"$f":"IFERROR(VLOOKUP($A20,'All Running Order'!$A$6:$CZ$64,BC$102,FALSE),\"\")","v":""},{"$f":"IFERROR(VLOOKUP($A20,'All Running Order'!$A$6:$CZ$64,BD$102,FALSE),\"\")","v":""},{"$f":"IFERROR(VLOOKUP($A20,'All Running Order'!$A$6:$CZ$64,BE$102,FALSE),\"\")","v":""},{"$f":"IFERROR(VLOOKUP($A20,'All Running Order'!$A$6:$CZ$64,BF$102,FALSE),\"\")","v":""},{"$f":"IFERROR(VLOOKUP($A20,'All Running Order'!$A$6:$CZ$64,BG$102,FALSE),\"\")","v":""},{"$f":"IFERROR(VLOOKUP($A20,'All Running Order'!$A$6:$CZ$64,BH$102,FALSE),\"\")","v":""},{"$f":"IFERROR(VLOOKUP($A20,'All Running Order'!$A$6:$CZ$64,BI$102,FALSE),\"\")","v":""},{"$f":"IFERROR(VLOOKUP($A20,'All Running Order'!$A$6:$CZ$64,BJ$102,FALSE),\"\")","v":""},{"$f":"IFERROR(VLOOKUP($A20,'All Running Order'!$A$6:$CZ$64,BK$102,FALSE),\"\")","v":""},{"$f":"IFERROR(VLOOKUP($A20,'All Running Order'!$A$6:$CZ$64,BL$102,FALSE),\"\")","v":""},{"$f":"IFERROR(VLOOKUP($A20,'All Running Order'!$A$6:$CZ$64,BM$102,FALSE),\"\")","v":""},{"$f":"IFERROR(VLOOKUP($A20,'All Running Order'!$A$6:$CZ$64,BN$102,FALSE),\"\")","v":""},{"$f":"IFERROR(VLOOKUP($A20,'All Running Order'!$A$6:$CZ$64,BO$102,FALSE),\"\")","v":""},{"$f":"IFERROR(VLOOKUP($A20,'All Running Order'!$A$6:$CZ$64,BP$102,FALSE),\"\")","v":""},{"$f":"IFERROR(VLOOKUP($A20,'All Running Order'!$A$6:$CZ$64,BQ$102,FALSE),\"\")","v":""},{"$f":"IFERROR(VLOOKUP($A20,'All Running Order'!$A$6:$CZ$64,BR$102,FALSE),\"\")","v":""},{"$f":"IFERROR(VLOOKUP($A20,'All Running Order'!$A$6:$CZ$64,BS$102,FALSE),\"\")","v":""},{"$f":"IFERROR(VLOOKUP($A20,'All Running Order'!$A$6:$CZ$64,BT$102,FALSE),\"\")","v":""},{"$f":"IFERROR(VLOOKUP($A20,'All Running Order'!$A$6:$CZ$64,BU$102,FALSE),\"\")","v":""},{"$f":"IFERROR(VLOOKUP($A20,'All Running Order'!$A$6:$CZ$64,BV$102,FALSE),\"\")","v":""},{"$f":"IFERROR(VLOOKUP($A20,'All Running Order'!$A$6:$CZ$64,BW$102,FALSE),\"\")","v":""},{"$f":"IFERROR(VLOOKUP($A20,'All Running Order'!$A$6:$CZ$64,BX$102,FALSE),\"\")","v":""},{"$f":"IFERROR(VLOOKUP($A20,'All Running Order'!$A$6:$CZ$64,BY$102,FALSE),\"\")","v":""},{"$f":"IFERROR(VLOOKUP($A20,'All Running Order'!$A$6:$CZ$64,BZ$102,FALSE),\"\")","v":""},{"$f":"IFERROR(VLOOKUP($A20,'All Running Order'!$A$6:$CZ$64,CA$102,FALSE),\"\")","v":""},{"$f":"IFERROR(VLOOKUP($A20,'All Running Order'!$A$6:$CZ$64,CB$102,FALSE),\"\")","v":""},{"$f":"IFERROR(VLOOKUP($A20,'All Running Order'!$A$6:$CZ$64,CC$102,FALSE),\"\")","v":""},{"$f":"IFERROR(VLOOKUP($A20,'All Running Order'!$A$6:$CZ$64,CD$102,FALSE),\"\")","v":""},{"$f":"IFERROR(VLOOKUP($A20,'All Running Order'!$A$6:$CZ$64,CE$102,FALSE),\"\")","v":""},{"$f":"IFERROR(VLOOKUP($A20,'All Running Order'!$A$6:$CZ$64,CF$102,FALSE),\"\")","v":""},{"$f":"IFERROR(VLOOKUP($A20,'All Running Order'!$A$6:$CZ$64,CG$102,FALSE),\"\")","v":""},{"$f":"IFERROR(VLOOKUP($A20,'All Running Order'!$A$6:$CZ$64,CH$102,FALSE),\"\")","v":""},{"$f":"IFERROR(VLOOKUP($A20,'All Running Order'!$A$6:$CZ$64,CI$102,FALSE),\"\")","v":""},{"$f":"IFERROR(VLOOKUP($A20,'All Running Order'!$A$6:$CZ$64,CJ$102,FALSE),\"\")","v":""},{"$f":"IFERROR(VLOOKUP($A20,'All Running Order'!$A$6:$CZ$64,CK$102,FALSE),\"\")","v":""},{"$f":"IFERROR(VLOOKUP($A20,'All Running Order'!$A$6:$CZ$64,CL$102,FALSE),\"\")","v":""},{"$f":"IFERROR(VLOOKUP($A20,'All Running Order'!$A$6:$CZ$64,CM$102,FALSE),\"\")","v":""},{"$f":"IFERROR(VLOOKUP($A20,'All Running Order'!$A$6:$CZ$64,CN$102,FALSE),\"\")","v":""},{"$f":"IFERROR(VLOOKUP($A20,'All Running Order'!$A$6:$CZ$64,CO$102,FALSE),\"\")","v":""},{"$f":"IFERROR(VLOOKUP($A20,'All Running Order'!$A$6:$CZ$64,CP$102,FALSE),\"\")","v":""},{"$f":"IFERROR(VLOOKUP($A20,'All Running Order'!$A$6:$CZ$64,CQ$102,FALSE),\"\")","v":""},{"$f":"IFERROR(VLOOKUP($A20,'All Running Order'!$A$6:$CZ$64,CR$102,FALSE),\"\")","v":""},{"$f":"IFERROR(VLOOKUP($A20,'All Running Order'!$A$6:$CZ$64,CS$102,FALSE),\"\")","v":""},{"$f":"IFERROR(VLOOKUP($A20,'All Running Order'!$A$6:$CZ$64,CT$102,FALSE),\"\")","v":""},{"$f":"IFERROR(VLOOKUP($A20,'All Running Order'!$A$6:$CZ$64,CU$102,FALSE),\"\")","v":""},{"$f":"IFERROR(VLOOKUP($A20,'All Running Order'!$A$6:$CZ$64,CV$102,FALSE),\"\")","v":""},{"$f":"IFERROR(VLOOKUP($A20,'All Running Order'!$A$6:$CZ$64,CW$102,FALSE),\"\")","v":""},{"$f":"IFERROR(VLOOKUP($A20,'All Running Order'!$A$6:$CZ$64,CX$102,FALSE),\"\")","v":""},{"$f":"IFERROR(VLOOKUP($A20,'All Running Order'!$A$6:$CZ$64,CY$102,FALSE),\"\")","v":""},{"$f":"IFERROR(VLOOKUP($A20,'All Running Order'!$A$6:$CZ$64,CZ$102,FALSE),\"\")","v":""}]
[16,{"$f":"IFERROR(VLOOKUP($A21,'All Running Order'!$A$6:$CZ$64,B$102,FALSE),\"\")","v":""},{"$f":"IFERROR(VLOOKUP($A21,'All Running Order'!$A$6:$CZ$64,C$102,FALSE),\"\")","v":""},{"$f":"IFERROR(VLOOKUP($A21,'All Running Order'!$A$6:$CZ$64,D$102,FALSE),\"\")","v":""},{"$f":"IFERROR(VLOOKUP($A21,'All Running Order'!$A$6:$CZ$64,E$102,FALSE),\"\")","v":""},{"$f":"IFERROR(VLOOKUP($A21,'All Running Order'!$A$6:$CZ$64,F$102,FALSE),\"\")","v":""},{"$f":"IFERROR(VLOOKUP($A21,'All Running Order'!$A$6:$CZ$64,G$102,FALSE),\"\")","v":""},{"$f":"IFERROR(VLOOKUP($A21,'All Running Order'!$A$6:$CZ$64,H$102,FALSE),\"\")","v":""},{"$f":"IFERROR(VLOOKUP($A21,'All Running Order'!$A$6:$CZ$64,I$102,FALSE),\"\")","v":""},{"$f":"IFERROR(VLOOKUP($A21,'All Running Order'!$A$6:$CZ$64,J$102,FALSE),\"\")","v":""},{"$f":"IFERROR(VLOOKUP($A21,'All Running Order'!$A$6:$CZ$64,K$102,FALSE),\"\")","v":""},{"$f":"IFERROR(VLOOKUP($A21,'All Running Order'!$A$6:$CZ$64,L$102,FALSE),\"\")","v":""},{"$f":"IFERROR(VLOOKUP($A21,'All Running Order'!$A$6:$CZ$64,M$102,FALSE),\"\")","v":""},{"$f":"IFERROR(VLOOKUP($A21,'All Running Order'!$A$6:$CZ$64,N$102,FALSE),\"\")","v":""},{"$f":"IFERROR(VLOOKUP($A21,'All Running Order'!$A$6:$CZ$64,O$102,FALSE),\"\")","v":""},{"$f":"IFERROR(VLOOKUP($A21,'All Running Order'!$A$6:$CZ$64,P$102,FALSE),\"\")","v":""},{"$f":"IFERROR(VLOOKUP($A21,'All Running Order'!$A$6:$CZ$64,Q$102,FALSE),\"\")","v":""},{"$f":"IFERROR(VLOOKUP($A21,'All Running Order'!$A$6:$CZ$64,R$102,FALSE),\"\")","v":""},{"$f":"IFERROR(VLOOKUP($A21,'All Running Order'!$A$6:$CZ$64,S$102,FALSE),\"\")","v":""},{"$f":"IFERROR(VLOOKUP($A21,'All Running Order'!$A$6:$CZ$64,T$102,FALSE),\"\")","v":""},{"$f":"IFERROR(VLOOKUP($A21,'All Running Order'!$A$6:$CZ$64,U$102,FALSE),\"\")","v":""},{"$f":"IFERROR(VLOOKUP($A21,'All Running Order'!$A$6:$CZ$64,V$102,FALSE),\"\")","v":""},{"$f":"IFERROR(VLOOKUP($A21,'All Running Order'!$A$6:$CZ$64,W$102,FALSE),\"\")","v":""},{"$f":"IFERROR(VLOOKUP($A21,'All Running Order'!$A$6:$CZ$64,X$102,FALSE),\"\")","v":""},{"$f":"IFERROR(VLOOKUP($A21,'All Running Order'!$A$6:$CZ$64,Y$102,FALSE),\"\")","v":""},{"$f":"IFERROR(VLOOKUP($A21,'All Running Order'!$A$6:$CZ$64,Z$102,FALSE),\"\")","v":""},{"$f":"IFERROR(VLOOKUP($A21,'All Running Order'!$A$6:$CZ$64,AA$102,FALSE),\"\")","v":""},{"$f":"IFERROR(VLOOKUP($A21,'All Running Order'!$A$6:$CZ$64,AB$102,FALSE),\"\")","v":""},{"$f":"IFERROR(VLOOKUP($A21,'All Running Order'!$A$6:$CZ$64,AC$102,FALSE),\"\")","v":""},{"$f":"IFERROR(VLOOKUP($A21,'All Running Order'!$A$6:$CZ$64,AD$102,FALSE),\"\")","v":""},{"$f":"IFERROR(VLOOKUP($A21,'All Running Order'!$A$6:$CZ$64,AE$102,FALSE),\"\")","v":""},{"$f":"IFERROR(VLOOKUP($A21,'All Running Order'!$A$6:$CZ$64,AF$102,FALSE),\"\")","v":""},{"$f":"IFERROR(VLOOKUP($A21,'All Running Order'!$A$6:$CZ$64,AG$102,FALSE),\"\")","v":""},{"$f":"IFERROR(VLOOKUP($A21,'All Running Order'!$A$6:$CZ$64,AH$102,FALSE),\"\")","v":""},{"$f":"IFERROR(VLOOKUP($A21,'All Running Order'!$A$6:$CZ$64,AI$102,FALSE),\"\")","v":""},{"$f":"IFERROR(VLOOKUP($A21,'All Running Order'!$A$6:$CZ$64,AJ$102,FALSE),\"\")","v":""},{"$f":"IFERROR(VLOOKUP($A21,'All Running Order'!$A$6:$CZ$64,AK$102,FALSE),\"\")","v":""},{"$f":"IFERROR(VLOOKUP($A21,'All Running Order'!$A$6:$CZ$64,AL$102,FALSE),\"\")","v":""},{"$f":"IFERROR(VLOOKUP($A21,'All Running Order'!$A$6:$CZ$64,AM$102,FALSE),\"\")","v":""},{"$f":"IFERROR(VLOOKUP($A21,'All Running Order'!$A$6:$CZ$64,AN$102,FALSE),\"\")","v":""},{"$f":"IFERROR(VLOOKUP($A21,'All Running Order'!$A$6:$CZ$64,AO$102,FALSE),\"\")","v":""},{"$f":"IFERROR(VLOOKUP($A21,'All Running Order'!$A$6:$CZ$64,AP$102,FALSE),\"\")","v":""},{"$f":"IFERROR(VLOOKUP($A21,'All Running Order'!$A$6:$CZ$64,AQ$102,FALSE),\"\")","v":""},{"$f":"IFERROR(VLOOKUP($A21,'All Running Order'!$A$6:$CZ$64,AR$102,FALSE),\"\")","v":""},{"$f":"IFERROR(VLOOKUP($A21,'All Running Order'!$A$6:$CZ$64,AS$102,FALSE),\"\")","v":""},{"$f":"IFERROR(VLOOKUP($A21,'All Running Order'!$A$6:$CZ$64,AT$102,FALSE),\"\")","v":""},{"$f":"IFERROR(VLOOKUP($A21,'All Running Order'!$A$6:$CZ$64,AU$102,FALSE),\"\")","v":""},{"$f":"IFERROR(VLOOKUP($A21,'All Running Order'!$A$6:$CZ$64,AV$102,FALSE),\"\")","v":""},{"$f":"IFERROR(VLOOKUP($A21,'All Running Order'!$A$6:$CZ$64,AW$102,FALSE),\"\")","v":""},{"$f":"IFERROR(VLOOKUP($A21,'All Running Order'!$A$6:$CZ$64,AX$102,FALSE),\"\")","v":""},{"$f":"IFERROR(VLOOKUP($A21,'All Running Order'!$A$6:$CZ$64,AY$102,FALSE),\"\")","v":""},{"$f":"IFERROR(VLOOKUP($A21,'All Running Order'!$A$6:$CZ$64,AZ$102,FALSE),\"\")","v":""},{"$f":"IFERROR(VLOOKUP($A21,'All Running Order'!$A$6:$CZ$64,BA$102,FALSE),\"\")","v":""},{"$f":"IFERROR(VLOOKUP($A21,'All Running Order'!$A$6:$CZ$64,BB$102,FALSE),\"\")","v":""},{"$f":"IFERROR(VLOOKUP($A21,'All Running Order'!$A$6:$CZ$64,BC$102,FALSE),\"\")","v":""},{"$f":"IFERROR(VLOOKUP($A21,'All Running Order'!$A$6:$CZ$64,BD$102,FALSE),\"\")","v":""},{"$f":"IFERROR(VLOOKUP($A21,'All Running Order'!$A$6:$CZ$64,BE$102,FALSE),\"\")","v":""},{"$f":"IFERROR(VLOOKUP($A21,'All Running Order'!$A$6:$CZ$64,BF$102,FALSE),\"\")","v":""},{"$f":"IFERROR(VLOOKUP($A21,'All Running Order'!$A$6:$CZ$64,BG$102,FALSE),\"\")","v":""},{"$f":"IFERROR(VLOOKUP($A21,'All Running Order'!$A$6:$CZ$64,BH$102,FALSE),\"\")","v":""},{"$f":"IFERROR(VLOOKUP($A21,'All Running Order'!$A$6:$CZ$64,BI$102,FALSE),\"\")","v":""},{"$f":"IFERROR(VLOOKUP($A21,'All Running Order'!$A$6:$CZ$64,BJ$102,FALSE),\"\")","v":""},{"$f":"IFERROR(VLOOKUP($A21,'All Running Order'!$A$6:$CZ$64,BK$102,FALSE),\"\")","v":""},{"$f":"IFERROR(VLOOKUP($A21,'All Running Order'!$A$6:$CZ$64,BL$102,FALSE),\"\")","v":""},{"$f":"IFERROR(VLOOKUP($A21,'All Running Order'!$A$6:$CZ$64,BM$102,FALSE),\"\")","v":""},{"$f":"IFERROR(VLOOKUP($A21,'All Running Order'!$A$6:$CZ$64,BN$102,FALSE),\"\")","v":""},{"$f":"IFERROR(VLOOKUP($A21,'All Running Order'!$A$6:$CZ$64,BO$102,FALSE),\"\")","v":""},{"$f":"IFERROR(VLOOKUP($A21,'All Running Order'!$A$6:$CZ$64,BP$102,FALSE),\"\")","v":""},{"$f":"IFERROR(VLOOKUP($A21,'All Running Order'!$A$6:$CZ$64,BQ$102,FALSE),\"\")","v":""},{"$f":"IFERROR(VLOOKUP($A21,'All Running Order'!$A$6:$CZ$64,BR$102,FALSE),\"\")","v":""},{"$f":"IFERROR(VLOOKUP($A21,'All Running Order'!$A$6:$CZ$64,BS$102,FALSE),\"\")","v":""},{"$f":"IFERROR(VLOOKUP($A21,'All Running Order'!$A$6:$CZ$64,BT$102,FALSE),\"\")","v":""},{"$f":"IFERROR(VLOOKUP($A21,'All Running Order'!$A$6:$CZ$64,BU$102,FALSE),\"\")","v":""},{"$f":"IFERROR(VLOOKUP($A21,'All Running Order'!$A$6:$CZ$64,BV$102,FALSE),\"\")","v":""},{"$f":"IFERROR(VLOOKUP($A21,'All Running Order'!$A$6:$CZ$64,BW$102,FALSE),\"\")","v":""},{"$f":"IFERROR(VLOOKUP($A21,'All Running Order'!$A$6:$CZ$64,BX$102,FALSE),\"\")","v":""},{"$f":"IFERROR(VLOOKUP($A21,'All Running Order'!$A$6:$CZ$64,BY$102,FALSE),\"\")","v":""},{"$f":"IFERROR(VLOOKUP($A21,'All Running Order'!$A$6:$CZ$64,BZ$102,FALSE),\"\")","v":""},{"$f":"IFERROR(VLOOKUP($A21,'All Running Order'!$A$6:$CZ$64,CA$102,FALSE),\"\")","v":""},{"$f":"IFERROR(VLOOKUP($A21,'All Running Order'!$A$6:$CZ$64,CB$102,FALSE),\"\")","v":""},{"$f":"IFERROR(VLOOKUP($A21,'All Running Order'!$A$6:$CZ$64,CC$102,FALSE),\"\")","v":""},{"$f":"IFERROR(VLOOKUP($A21,'All Running Order'!$A$6:$CZ$64,CD$102,FALSE),\"\")","v":""},{"$f":"IFERROR(VLOOKUP($A21,'All Running Order'!$A$6:$CZ$64,CE$102,FALSE),\"\")","v":""},{"$f":"IFERROR(VLOOKUP($A21,'All Running Order'!$A$6:$CZ$64,CF$102,FALSE),\"\")","v":""},{"$f":"IFERROR(VLOOKUP($A21,'All Running Order'!$A$6:$CZ$64,CG$102,FALSE),\"\")","v":""},{"$f":"IFERROR(VLOOKUP($A21,'All Running Order'!$A$6:$CZ$64,CH$102,FALSE),\"\")","v":""},{"$f":"IFERROR(VLOOKUP($A21,'All Running Order'!$A$6:$CZ$64,CI$102,FALSE),\"\")","v":""},{"$f":"IFERROR(VLOOKUP($A21,'All Running Order'!$A$6:$CZ$64,CJ$102,FALSE),\"\")","v":""},{"$f":"IFERROR(VLOOKUP($A21,'All Running Order'!$A$6:$CZ$64,CK$102,FALSE),\"\")","v":""},{"$f":"IFERROR(VLOOKUP($A21,'All Running Order'!$A$6:$CZ$64,CL$102,FALSE),\"\")","v":""},{"$f":"IFERROR(VLOOKUP($A21,'All Running Order'!$A$6:$CZ$64,CM$102,FALSE),\"\")","v":""},{"$f":"IFERROR(VLOOKUP($A21,'All Running Order'!$A$6:$CZ$64,CN$102,FALSE),\"\")","v":""},{"$f":"IFERROR(VLOOKUP($A21,'All Running Order'!$A$6:$CZ$64,CO$102,FALSE),\"\")","v":""},{"$f":"IFERROR(VLOOKUP($A21,'All Running Order'!$A$6:$CZ$64,CP$102,FALSE),\"\")","v":""},{"$f":"IFERROR(VLOOKUP($A21,'All Running Order'!$A$6:$CZ$64,CQ$102,FALSE),\"\")","v":""},{"$f":"IFERROR(VLOOKUP($A21,'All Running Order'!$A$6:$CZ$64,CR$102,FALSE),\"\")","v":""},{"$f":"IFERROR(VLOOKUP($A21,'All Running Order'!$A$6:$CZ$64,CS$102,FALSE),\"\")","v":""},{"$f":"IFERROR(VLOOKUP($A21,'All Running Order'!$A$6:$CZ$64,CT$102,FALSE),\"\")","v":""},{"$f":"IFERROR(VLOOKUP($A21,'All Running Order'!$A$6:$CZ$64,CU$102,FALSE),\"\")","v":""},{"$f":"IFERROR(VLOOKUP($A21,'All Running Order'!$A$6:$CZ$64,CV$102,FALSE),\"\")","v":""},{"$f":"IFERROR(VLOOKUP($A21,'All Running Order'!$A$6:$CZ$64,CW$102,FALSE),\"\")","v":""},{"$f":"IFERROR(VLOOKUP($A21,'All Running Order'!$A$6:$CZ$64,CX$102,FALSE),\"\")","v":""},{"$f":"IFERROR(VLOOKUP($A21,'All Running Order'!$A$6:$CZ$64,CY$102,FALSE),\"\")","v":""},{"$f":"IFERROR(VLOOKUP($A21,'All Running Order'!$A$6:$CZ$64,CZ$102,FALSE),\"\")","v":""}]
[17,{"$f":"IFERROR(VLOOKUP($A22,'All Running Order'!$A$6:$CZ$64,B$102,FALSE),\"\")","v":""},{"$f":"IFERROR(VLOOKUP($A22,'All Running Order'!$A$6:$CZ$64,C$102,FALSE),\"\")","v":""},{"$f":"IFERROR(VLOOKUP($A22,'All Running Order'!$A$6:$CZ$64,D$102,FALSE),\"\")","v":""},{"$f":"IFERROR(VLOOKUP($A22,'All Running Order'!$A$6:$CZ$64,E$102,FALSE),\"\")","v":""},{"$f":"IFERROR(VLOOKUP($A22,'All Running Order'!$A$6:$CZ$64,F$102,FALSE),\"\")","v":""},{"$f":"IFERROR(VLOOKUP($A22,'All Running Order'!$A$6:$CZ$64,G$102,FALSE),\"\")","v":""},{"$f":"IFERROR(VLOOKUP($A22,'All Running Order'!$A$6:$CZ$64,H$102,FALSE),\"\")","v":""},{"$f":"IFERROR(VLOOKUP($A22,'All Running Order'!$A$6:$CZ$64,I$102,FALSE),\"\")","v":""},{"$f":"IFERROR(VLOOKUP($A22,'All Running Order'!$A$6:$CZ$64,J$102,FALSE),\"\")","v":""},{"$f":"IFERROR(VLOOKUP($A22,'All Running Order'!$A$6:$CZ$64,K$102,FALSE),\"\")","v":""},{"$f":"IFERROR(VLOOKUP($A22,'All Running Order'!$A$6:$CZ$64,L$102,FALSE),\"\")","v":""},{"$f":"IFERROR(VLOOKUP($A22,'All Running Order'!$A$6:$CZ$64,M$102,FALSE),\"\")","v":""},{"$f":"IFERROR(VLOOKUP($A22,'All Running Order'!$A$6:$CZ$64,N$102,FALSE),\"\")","v":""},{"$f":"IFERROR(VLOOKUP($A22,'All Running Order'!$A$6:$CZ$64,O$102,FALSE),\"\")","v":""},{"$f":"IFERROR(VLOOKUP($A22,'All Running Order'!$A$6:$CZ$64,P$102,FALSE),\"\")","v":""},{"$f":"IFERROR(VLOOKUP($A22,'All Running Order'!$A$6:$CZ$64,Q$102,FALSE),\"\")","v":""},{"$f":"IFERROR(VLOOKUP($A22,'All Running Order'!$A$6:$CZ$64,R$102,FALSE),\"\")","v":""},{"$f":"IFERROR(VLOOKUP($A22,'All Running Order'!$A$6:$CZ$64,S$102,FALSE),\"\")","v":""},{"$f":"IFERROR(VLOOKUP($A22,'All Running Order'!$A$6:$CZ$64,T$102,FALSE),\"\")","v":""},{"$f":"IFERROR(VLOOKUP($A22,'All Running Order'!$A$6:$CZ$64,U$102,FALSE),\"\")","v":""},{"$f":"IFERROR(VLOOKUP($A22,'All Running Order'!$A$6:$CZ$64,V$102,FALSE),\"\")","v":""},{"$f":"IFERROR(VLOOKUP($A22,'All Running Order'!$A$6:$CZ$64,W$102,FALSE),\"\")","v":""},{"$f":"IFERROR(VLOOKUP($A22,'All Running Order'!$A$6:$CZ$64,X$102,FALSE),\"\")","v":""},{"$f":"IFERROR(VLOOKUP($A22,'All Running Order'!$A$6:$CZ$64,Y$102,FALSE),\"\")","v":""},{"$f":"IFERROR(VLOOKUP($A22,'All Running Order'!$A$6:$CZ$64,Z$102,FALSE),\"\")","v":""},{"$f":"IFERROR(VLOOKUP($A22,'All Running Order'!$A$6:$CZ$64,AA$102,FALSE),\"\")","v":""},{"$f":"IFERROR(VLOOKUP($A22,'All Running Order'!$A$6:$CZ$64,AB$102,FALSE),\"\")","v":""},{"$f":"IFERROR(VLOOKUP($A22,'All Running Order'!$A$6:$CZ$64,AC$102,FALSE),\"\")","v":""},{"$f":"IFERROR(VLOOKUP($A22,'All Running Order'!$A$6:$CZ$64,AD$102,FALSE),\"\")","v":""},{"$f":"IFERROR(VLOOKUP($A22,'All Running Order'!$A$6:$CZ$64,AE$102,FALSE),\"\")","v":""},{"$f":"IFERROR(VLOOKUP($A22,'All Running Order'!$A$6:$CZ$64,AF$102,FALSE),\"\")","v":""},{"$f":"IFERROR(VLOOKUP($A22,'All Running Order'!$A$6:$CZ$64,AG$102,FALSE),\"\")","v":""},{"$f":"IFERROR(VLOOKUP($A22,'All Running Order'!$A$6:$CZ$64,AH$102,FALSE),\"\")","v":""},{"$f":"IFERROR(VLOOKUP($A22,'All Running Order'!$A$6:$CZ$64,AI$102,FALSE),\"\")","v":""},{"$f":"IFERROR(VLOOKUP($A22,'All Running Order'!$A$6:$CZ$64,AJ$102,FALSE),\"\")","v":""},{"$f":"IFERROR(VLOOKUP($A22,'All Running Order'!$A$6:$CZ$64,AK$102,FALSE),\"\")","v":""},{"$f":"IFERROR(VLOOKUP($A22,'All Running Order'!$A$6:$CZ$64,AL$102,FALSE),\"\")","v":""},{"$f":"IFERROR(VLOOKUP($A22,'All Running Order'!$A$6:$CZ$64,AM$102,FALSE),\"\")","v":""},{"$f":"IFERROR(VLOOKUP($A22,'All Running Order'!$A$6:$CZ$64,AN$102,FALSE),\"\")","v":""},{"$f":"IFERROR(VLOOKUP($A22,'All Running Order'!$A$6:$CZ$64,AO$102,FALSE),\"\")","v":""},{"$f":"IFERROR(VLOOKUP($A22,'All Running Order'!$A$6:$CZ$64,AP$102,FALSE),\"\")","v":""},{"$f":"IFERROR(VLOOKUP($A22,'All Running Order'!$A$6:$CZ$64,AQ$102,FALSE),\"\")","v":""},{"$f":"IFERROR(VLOOKUP($A22,'All Running Order'!$A$6:$CZ$64,AR$102,FALSE),\"\")","v":""},{"$f":"IFERROR(VLOOKUP($A22,'All Running Order'!$A$6:$CZ$64,AS$102,FALSE),\"\")","v":""},{"$f":"IFERROR(VLOOKUP($A22,'All Running Order'!$A$6:$CZ$64,AT$102,FALSE),\"\")","v":""},{"$f":"IFERROR(VLOOKUP($A22,'All Running Order'!$A$6:$CZ$64,AU$102,FALSE),\"\")","v":""},{"$f":"IFERROR(VLOOKUP($A22,'All Running Order'!$A$6:$CZ$64,AV$102,FALSE),\"\")","v":""},{"$f":"IFERROR(VLOOKUP($A22,'All Running Order'!$A$6:$CZ$64,AW$102,FALSE),\"\")","v":""},{"$f":"IFERROR(VLOOKUP($A22,'All Running Order'!$A$6:$CZ$64,AX$102,FALSE),\"\")","v":""},{"$f":"IFERROR(VLOOKUP($A22,'All Running Order'!$A$6:$CZ$64,AY$102,FALSE),\"\")","v":""},{"$f":"IFERROR(VLOOKUP($A22,'All Running Order'!$A$6:$CZ$64,AZ$102,FALSE),\"\")","v":""},{"$f":"IFERROR(VLOOKUP($A22,'All Running Order'!$A$6:$CZ$64,BA$102,FALSE),\"\")","v":""},{"$f":"IFERROR(VLOOKUP($A22,'All Running Order'!$A$6:$CZ$64,BB$102,FALSE),\"\")","v":""},{"$f":"IFERROR(VLOOKUP($A22,'All Running Order'!$A$6:$CZ$64,BC$102,FALSE),\"\")","v":""},{"$f":"IFERROR(VLOOKUP($A22,'All Running Order'!$A$6:$CZ$64,BD$102,FALSE),\"\")","v":""},{"$f":"IFERROR(VLOOKUP($A22,'All Running Order'!$A$6:$CZ$64,BE$102,FALSE),\"\")","v":""},{"$f":"IFERROR(VLOOKUP($A22,'All Running Order'!$A$6:$CZ$64,BF$102,FALSE),\"\")","v":""},{"$f":"IFERROR(VLOOKUP($A22,'All Running Order'!$A$6:$CZ$64,BG$102,FALSE),\"\")","v":""},{"$f":"IFERROR(VLOOKUP($A22,'All Running Order'!$A$6:$CZ$64,BH$102,FALSE),\"\")","v":""},{"$f":"IFERROR(VLOOKUP($A22,'All Running Order'!$A$6:$CZ$64,BI$102,FALSE),\"\")","v":""},{"$f":"IFERROR(VLOOKUP($A22,'All Running Order'!$A$6:$CZ$64,BJ$102,FALSE),\"\")","v":""},{"$f":"IFERROR(VLOOKUP($A22,'All Running Order'!$A$6:$CZ$64,BK$102,FALSE),\"\")","v":""},{"$f":"IFERROR(VLOOKUP($A22,'All Running Order'!$A$6:$CZ$64,BL$102,FALSE),\"\")","v":""},{"$f":"IFERROR(VLOOKUP($A22,'All Running Order'!$A$6:$CZ$64,BM$102,FALSE),\"\")","v":""},{"$f":"IFERROR(VLOOKUP($A22,'All Running Order'!$A$6:$CZ$64,BN$102,FALSE),\"\")","v":""},{"$f":"IFERROR(VLOOKUP($A22,'All Running Order'!$A$6:$CZ$64,BO$102,FALSE),\"\")","v":""},{"$f":"IFERROR(VLOOKUP($A22,'All Running Order'!$A$6:$CZ$64,BP$102,FALSE),\"\")","v":""},{"$f":"IFERROR(VLOOKUP($A22,'All Running Order'!$A$6:$CZ$64,BQ$102,FALSE),\"\")","v":""},{"$f":"IFERROR(VLOOKUP($A22,'All Running Order'!$A$6:$CZ$64,BR$102,FALSE),\"\")","v":""},{"$f":"IFERROR(VLOOKUP($A22,'All Running Order'!$A$6:$CZ$64,BS$102,FALSE),\"\")","v":""},{"$f":"IFERROR(VLOOKUP($A22,'All Running Order'!$A$6:$CZ$64,BT$102,FALSE),\"\")","v":""},{"$f":"IFERROR(VLOOKUP($A22,'All Running Order'!$A$6:$CZ$64,BU$102,FALSE),\"\")","v":""},{"$f":"IFERROR(VLOOKUP($A22,'All Running Order'!$A$6:$CZ$64,BV$102,FALSE),\"\")","v":""},{"$f":"IFERROR(VLOOKUP($A22,'All Running Order'!$A$6:$CZ$64,BW$102,FALSE),\"\")","v":""},{"$f":"IFERROR(VLOOKUP($A22,'All Running Order'!$A$6:$CZ$64,BX$102,FALSE),\"\")","v":""},{"$f":"IFERROR(VLOOKUP($A22,'All Running Order'!$A$6:$CZ$64,BY$102,FALSE),\"\")","v":""},{"$f":"IFERROR(VLOOKUP($A22,'All Running Order'!$A$6:$CZ$64,BZ$102,FALSE),\"\")","v":""},{"$f":"IFERROR(VLOOKUP($A22,'All Running Order'!$A$6:$CZ$64,CA$102,FALSE),\"\")","v":""},{"$f":"IFERROR(VLOOKUP($A22,'All Running Order'!$A$6:$CZ$64,CB$102,FALSE),\"\")","v":""},{"$f":"IFERROR(VLOOKUP($A22,'All Running Order'!$A$6:$CZ$64,CC$102,FALSE),\"\")","v":""},{"$f":"IFERROR(VLOOKUP($A22,'All Running Order'!$A$6:$CZ$64,CD$102,FALSE),\"\")","v":""},{"$f":"IFERROR(VLOOKUP($A22,'All Running Order'!$A$6:$CZ$64,CE$102,FALSE),\"\")","v":""},{"$f":"IFERROR(VLOOKUP($A22,'All Running Order'!$A$6:$CZ$64,CF$102,FALSE),\"\")","v":""},{"$f":"IFERROR(VLOOKUP($A22,'All Running Order'!$A$6:$CZ$64,CG$102,FALSE),\"\")","v":""},{"$f":"IFERROR(VLOOKUP($A22,'All Running Order'!$A$6:$CZ$64,CH$102,FALSE),\"\")","v":""},{"$f":"IFERROR(VLOOKUP($A22,'All Running Order'!$A$6:$CZ$64,CI$102,FALSE),\"\")","v":""},{"$f":"IFERROR(VLOOKUP($A22,'All Running Order'!$A$6:$CZ$64,CJ$102,FALSE),\"\")","v":""},{"$f":"IFERROR(VLOOKUP($A22,'All Running Order'!$A$6:$CZ$64,CK$102,FALSE),\"\")","v":""},{"$f":"IFERROR(VLOOKUP($A22,'All Running Order'!$A$6:$CZ$64,CL$102,FALSE),\"\")","v":""},{"$f":"IFERROR(VLOOKUP($A22,'All Running Order'!$A$6:$CZ$64,CM$102,FALSE),\"\")","v":""},{"$f":"IFERROR(VLOOKUP($A22,'All Running Order'!$A$6:$CZ$64,CN$102,FALSE),\"\")","v":""},{"$f":"IFERROR(VLOOKUP($A22,'All Running Order'!$A$6:$CZ$64,CO$102,FALSE),\"\")","v":""},{"$f":"IFERROR(VLOOKUP($A22,'All Running Order'!$A$6:$CZ$64,CP$102,FALSE),\"\")","v":""},{"$f":"IFERROR(VLOOKUP($A22,'All Running Order'!$A$6:$CZ$64,CQ$102,FALSE),\"\")","v":""},{"$f":"IFERROR(VLOOKUP($A22,'All Running Order'!$A$6:$CZ$64,CR$102,FALSE),\"\")","v":""},{"$f":"IFERROR(VLOOKUP($A22,'All Running Order'!$A$6:$CZ$64,CS$102,FALSE),\"\")","v":""},{"$f":"IFERROR(VLOOKUP($A22,'All Running Order'!$A$6:$CZ$64,CT$102,FALSE),\"\")","v":""},{"$f":"IFERROR(VLOOKUP($A22,'All Running Order'!$A$6:$CZ$64,CU$102,FALSE),\"\")","v":""},{"$f":"IFERROR(VLOOKUP($A22,'All Running Order'!$A$6:$CZ$64,CV$102,FALSE),\"\")","v":""},{"$f":"IFERROR(VLOOKUP($A22,'All Running Order'!$A$6:$CZ$64,CW$102,FALSE),\"\")","v":""},{"$f":"IFERROR(VLOOKUP($A22,'All Running Order'!$A$6:$CZ$64,CX$102,FALSE),\"\")","v":""},{"$f":"IFERROR(VLOOKUP($A22,'All Running Order'!$A$6:$CZ$64,CY$102,FALSE),\"\")","v":""},{"$f":"IFERROR(VLOOKUP($A22,'All Running Order'!$A$6:$CZ$64,CZ$102,FALSE),\"\")","v":""}]
[18,{"$f":"IFERROR(VLOOKUP($A23,'All Running Order'!$A$6:$CZ$64,B$102,FALSE),\"\")","v":""},{"$f":"IFERROR(VLOOKUP($A23,'All Running Order'!$A$6:$CZ$64,C$102,FALSE),\"\")","v":""},{"$f":"IFERROR(VLOOKUP($A23,'All Running Order'!$A$6:$CZ$64,D$102,FALSE),\"\")","v":""},{"$f":"IFERROR(VLOOKUP($A23,'All Running Order'!$A$6:$CZ$64,E$102,FALSE),\"\")","v":""},{"$f":"IFERROR(VLOOKUP($A23,'All Running Order'!$A$6:$CZ$64,F$102,FALSE),\"\")","v":""},{"$f":"IFERROR(VLOOKUP($A23,'All Running Order'!$A$6:$CZ$64,G$102,FALSE),\"\")","v":""},{"$f":"IFERROR(VLOOKUP($A23,'All Running Order'!$A$6:$CZ$64,H$102,FALSE),\"\")","v":""},{"$f":"IFERROR(VLOOKUP($A23,'All Running Order'!$A$6:$CZ$64,I$102,FALSE),\"\")","v":""},{"$f":"IFERROR(VLOOKUP($A23,'All Running Order'!$A$6:$CZ$64,J$102,FALSE),\"\")","v":""},{"$f":"IFERROR(VLOOKUP($A23,'All Running Order'!$A$6:$CZ$64,K$102,FALSE),\"\")","v":""},{"$f":"IFERROR(VLOOKUP($A23,'All Running Order'!$A$6:$CZ$64,L$102,FALSE),\"\")","v":""},{"$f":"IFERROR(VLOOKUP($A23,'All Running Order'!$A$6:$CZ$64,M$102,FALSE),\"\")","v":""},{"$f":"IFERROR(VLOOKUP($A23,'All Running Order'!$A$6:$CZ$64,N$102,FALSE),\"\")","v":""},{"$f":"IFERROR(VLOOKUP($A23,'All Running Order'!$A$6:$CZ$64,O$102,FALSE),\"\")","v":""},{"$f":"IFERROR(VLOOKUP($A23,'All Running Order'!$A$6:$CZ$64,P$102,FALSE),\"\")","v":""},{"$f":"IFERROR(VLOOKUP($A23,'All Running Order'!$A$6:$CZ$64,Q$102,FALSE),\"\")","v":""},{"$f":"IFERROR(VLOOKUP($A23,'All Running Order'!$A$6:$CZ$64,R$102,FALSE),\"\")","v":""},{"$f":"IFERROR(VLOOKUP($A23,'All Running Order'!$A$6:$CZ$64,S$102,FALSE),\"\")","v":""},{"$f":"IFERROR(VLOOKUP($A23,'All Running Order'!$A$6:$CZ$64,T$102,FALSE),\"\")","v":""},{"$f":"IFERROR(VLOOKUP($A23,'All Running Order'!$A$6:$CZ$64,U$102,FALSE),\"\")","v":""},{"$f":"IFERROR(VLOOKUP($A23,'All Running Order'!$A$6:$CZ$64,V$102,FALSE),\"\")","v":""},{"$f":"IFERROR(VLOOKUP($A23,'All Running Order'!$A$6:$CZ$64,W$102,FALSE),\"\")","v":""},{"$f":"IFERROR(VLOOKUP($A23,'All Running Order'!$A$6:$CZ$64,X$102,FALSE),\"\")","v":""},{"$f":"IFERROR(VLOOKUP($A23,'All Running Order'!$A$6:$CZ$64,Y$102,FALSE),\"\")","v":""},{"$f":"IFERROR(VLOOKUP($A23,'All Running Order'!$A$6:$CZ$64,Z$102,FALSE),\"\")","v":""},{"$f":"IFERROR(VLOOKUP($A23,'All Running Order'!$A$6:$CZ$64,AA$102,FALSE),\"\")","v":""},{"$f":"IFERROR(VLOOKUP($A23,'All Running Order'!$A$6:$CZ$64,AB$102,FALSE),\"\")","v":""},{"$f":"IFERROR(VLOOKUP($A23,'All Running Order'!$A$6:$CZ$64,AC$102,FALSE),\"\")","v":""},{"$f":"IFERROR(VLOOKUP($A23,'All Running Order'!$A$6:$CZ$64,AD$102,FALSE),\"\")","v":""},{"$f":"IFERROR(VLOOKUP($A23,'All Running Order'!$A$6:$CZ$64,AE$102,FALSE),\"\")","v":""},{"$f":"IFERROR(VLOOKUP($A23,'All Running Order'!$A$6:$CZ$64,AF$102,FALSE),\"\")","v":""},{"$f":"IFERROR(VLOOKUP($A23,'All Running Order'!$A$6:$CZ$64,AG$102,FALSE),\"\")","v":""},{"$f":"IFERROR(VLOOKUP($A23,'All Running Order'!$A$6:$CZ$64,AH$102,FALSE),\"\")","v":""},{"$f":"IFERROR(VLOOKUP($A23,'All Running Order'!$A$6:$CZ$64,AI$102,FALSE),\"\")","v":""},{"$f":"IFERROR(VLOOKUP($A23,'All Running Order'!$A$6:$CZ$64,AJ$102,FALSE),\"\")","v":""},{"$f":"IFERROR(VLOOKUP($A23,'All Running Order'!$A$6:$CZ$64,AK$102,FALSE),\"\")","v":""},{"$f":"IFERROR(VLOOKUP($A23,'All Running Order'!$A$6:$CZ$64,AL$102,FALSE),\"\")","v":""},{"$f":"IFERROR(VLOOKUP($A23,'All Running Order'!$A$6:$CZ$64,AM$102,FALSE),\"\")","v":""},{"$f":"IFERROR(VLOOKUP($A23,'All Running Order'!$A$6:$CZ$64,AN$102,FALSE),\"\")","v":""},{"$f":"IFERROR(VLOOKUP($A23,'All Running Order'!$A$6:$CZ$64,AO$102,FALSE),\"\")","v":""},{"$f":"IFERROR(VLOOKUP($A23,'All Running Order'!$A$6:$CZ$64,AP$102,FALSE),\"\")","v":""},{"$f":"IFERROR(VLOOKUP($A23,'All Running Order'!$A$6:$CZ$64,AQ$102,FALSE),\"\")","v":""},{"$f":"IFERROR(VLOOKUP($A23,'All Running Order'!$A$6:$CZ$64,AR$102,FALSE),\"\")","v":""},{"$f":"IFERROR(VLOOKUP($A23,'All Running Order'!$A$6:$CZ$64,AS$102,FALSE),\"\")","v":""},{"$f":"IFERROR(VLOOKUP($A23,'All Running Order'!$A$6:$CZ$64,AT$102,FALSE),\"\")","v":""},{"$f":"IFERROR(VLOOKUP($A23,'All Running Order'!$A$6:$CZ$64,AU$102,FALSE),\"\")","v":""},{"$f":"IFERROR(VLOOKUP($A23,'All Running Order'!$A$6:$CZ$64,AV$102,FALSE),\"\")","v":""},{"$f":"IFERROR(VLOOKUP($A23,'All Running Order'!$A$6:$CZ$64,AW$102,FALSE),\"\")","v":""},{"$f":"IFERROR(VLOOKUP($A23,'All Running Order'!$A$6:$CZ$64,AX$102,FALSE),\"\")","v":""},{"$f":"IFERROR(VLOOKUP($A23,'All Running Order'!$A$6:$CZ$64,AY$102,FALSE),\"\")","v":""},{"$f":"IFERROR(VLOOKUP($A23,'All Running Order'!$A$6:$CZ$64,AZ$102,FALSE),\"\")","v":""},{"$f":"IFERROR(VLOOKUP($A23,'All Running Order'!$A$6:$CZ$64,BA$102,FALSE),\"\")","v":""},{"$f":"IFERROR(VLOOKUP($A23,'All Running Order'!$A$6:$CZ$64,BB$102,FALSE),\"\")","v":""},{"$f":"IFERROR(VLOOKUP($A23,'All Running Order'!$A$6:$CZ$64,BC$102,FALSE),\"\")","v":""},{"$f":"IFERROR(VLOOKUP($A23,'All Running Order'!$A$6:$CZ$64,BD$102,FALSE),\"\")","v":""},{"$f":"IFERROR(VLOOKUP($A23,'All Running Order'!$A$6:$CZ$64,BE$102,FALSE),\"\")","v":""},{"$f":"IFERROR(VLOOKUP($A23,'All Running Order'!$A$6:$CZ$64,BF$102,FALSE),\"\")","v":""},{"$f":"IFERROR(VLOOKUP($A23,'All Running Order'!$A$6:$CZ$64,BG$102,FALSE),\"\")","v":""},{"$f":"IFERROR(VLOOKUP($A23,'All Running Order'!$A$6:$CZ$64,BH$102,FALSE),\"\")","v":""},{"$f":"IFERROR(VLOOKUP($A23,'All Running Order'!$A$6:$CZ$64,BI$102,FALSE),\"\")","v":""},{"$f":"IFERROR(VLOOKUP($A23,'All Running Order'!$A$6:$CZ$64,BJ$102,FALSE),\"\")","v":""},{"$f":"IFERROR(VLOOKUP($A23,'All Running Order'!$A$6:$CZ$64,BK$102,FALSE),\"\")","v":""},{"$f":"IFERROR(VLOOKUP($A23,'All Running Order'!$A$6:$CZ$64,BL$102,FALSE),\"\")","v":""},{"$f":"IFERROR(VLOOKUP($A23,'All Running Order'!$A$6:$CZ$64,BM$102,FALSE),\"\")","v":""},{"$f":"IFERROR(VLOOKUP($A23,'All Running Order'!$A$6:$CZ$64,BN$102,FALSE),\"\")","v":""},{"$f":"IFERROR(VLOOKUP($A23,'All Running Order'!$A$6:$CZ$64,BO$102,FALSE),\"\")","v":""},{"$f":"IFERROR(VLOOKUP($A23,'All Running Order'!$A$6:$CZ$64,BP$102,FALSE),\"\")","v":""},{"$f":"IFERROR(VLOOKUP($A23,'All Running Order'!$A$6:$CZ$64,BQ$102,FALSE),\"\")","v":""},{"$f":"IFERROR(VLOOKUP($A23,'All Running Order'!$A$6:$CZ$64,BR$102,FALSE),\"\")","v":""},{"$f":"IFERROR(VLOOKUP($A23,'All Running Order'!$A$6:$CZ$64,BS$102,FALSE),\"\")","v":""},{"$f":"IFERROR(VLOOKUP($A23,'All Running Order'!$A$6:$CZ$64,BT$102,FALSE),\"\")","v":""},{"$f":"IFERROR(VLOOKUP($A23,'All Running Order'!$A$6:$CZ$64,BU$102,FALSE),\"\")","v":""},{"$f":"IFERROR(VLOOKUP($A23,'All Running Order'!$A$6:$CZ$64,BV$102,FALSE),\"\")","v":""},{"$f":"IFERROR(VLOOKUP($A23,'All Running Order'!$A$6:$CZ$64,BW$102,FALSE),\"\")","v":""},{"$f":"IFERROR(VLOOKUP($A23,'All Running Order'!$A$6:$CZ$64,BX$102,FALSE),\"\")","v":""},{"$f":"IFERROR(VLOOKUP($A23,'All Running Order'!$A$6:$CZ$64,BY$102,FALSE),\"\")","v":""},{"$f":"IFERROR(VLOOKUP($A23,'All Running Order'!$A$6:$CZ$64,BZ$102,FALSE),\"\")","v":""},{"$f":"IFERROR(VLOOKUP($A23,'All Running Order'!$A$6:$CZ$64,CA$102,FALSE),\"\")","v":""},{"$f":"IFERROR(VLOOKUP($A23,'All Running Order'!$A$6:$CZ$64,CB$102,FALSE),\"\")","v":""},{"$f":"IFERROR(VLOOKUP($A23,'All Running Order'!$A$6:$CZ$64,CC$102,FALSE),\"\")","v":""},{"$f":"IFERROR(VLOOKUP($A23,'All Running Order'!$A$6:$CZ$64,CD$102,FALSE),\"\")","v":""},{"$f":"IFERROR(VLOOKUP($A23,'All Running Order'!$A$6:$CZ$64,CE$102,FALSE),\"\")","v":""},{"$f":"IFERROR(VLOOKUP($A23,'All Running Order'!$A$6:$CZ$64,CF$102,FALSE),\"\")","v":""},{"$f":"IFERROR(VLOOKUP($A23,'All Running Order'!$A$6:$CZ$64,CG$102,FALSE),\"\")","v":""},{"$f":"IFERROR(VLOOKUP($A23,'All Running Order'!$A$6:$CZ$64,CH$102,FALSE),\"\")","v":""},{"$f":"IFERROR(VLOOKUP($A23,'All Running Order'!$A$6:$CZ$64,CI$102,FALSE),\"\")","v":""},{"$f":"IFERROR(VLOOKUP($A23,'All Running Order'!$A$6:$CZ$64,CJ$102,FALSE),\"\")","v":""},{"$f":"IFERROR(VLOOKUP($A23,'All Running Order'!$A$6:$CZ$64,CK$102,FALSE),\"\")","v":""},{"$f":"IFERROR(VLOOKUP($A23,'All Running Order'!$A$6:$CZ$64,CL$102,FALSE),\"\")","v":""},{"$f":"IFERROR(VLOOKUP($A23,'All Running Order'!$A$6:$CZ$64,CM$102,FALSE),\"\")","v":""},{"$f":"IFERROR(VLOOKUP($A23,'All Running Order'!$A$6:$CZ$64,CN$102,FALSE),\"\")","v":""},{"$f":"IFERROR(VLOOKUP($A23,'All Running Order'!$A$6:$CZ$64,CO$102,FALSE),\"\")","v":""},{"$f":"IFERROR(VLOOKUP($A23,'All Running Order'!$A$6:$CZ$64,CP$102,FALSE),\"\")","v":""},{"$f":"IFERROR(VLOOKUP($A23,'All Running Order'!$A$6:$CZ$64,CQ$102,FALSE),\"\")","v":""},{"$f":"IFERROR(VLOOKUP($A23,'All Running Order'!$A$6:$CZ$64,CR$102,FALSE),\"\")","v":""},{"$f":"IFERROR(VLOOKUP($A23,'All Running Order'!$A$6:$CZ$64,CS$102,FALSE),\"\")","v":""},{"$f":"IFERROR(VLOOKUP($A23,'All Running Order'!$A$6:$CZ$64,CT$102,FALSE),\"\")","v":""},{"$f":"IFERROR(VLOOKUP($A23,'All Running Order'!$A$6:$CZ$64,CU$102,FALSE),\"\")","v":""},{"$f":"IFERROR(VLOOKUP($A23,'All Running Order'!$A$6:$CZ$64,CV$102,FALSE),\"\")","v":""},{"$f":"IFERROR(VLOOKUP($A23,'All Running Order'!$A$6:$CZ$64,CW$102,FALSE),\"\")","v":""},{"$f":"IFERROR(VLOOKUP($A23,'All Running Order'!$A$6:$CZ$64,CX$102,FALSE),\"\")","v":""},{"$f":"IFERROR(VLOOKUP($A23,'All Running Order'!$A$6:$CZ$64,CY$102,FALSE),\"\")","v":""},{"$f":"IFERROR(VLOOKUP($A23,'All Running Order'!$A$6:$CZ$64,CZ$102,FALSE),\"\")","v":""}]
[19,{"$f":"IFERROR(VLOOKUP($A24,'All Running Order'!$A$6:$CZ$64,B$102,FALSE),\"\")","v":""},{"$f":"IFERROR(VLOOKUP($A24,'All Running Order'!$A$6:$CZ$64,C$102,FALSE),\"\")","v":""},{"$f":"IFERROR(VLOOKUP($A24,'All Running Order'!$A$6:$CZ$64,D$102,FALSE),\"\")","v":""},{"$f":"IFERROR(VLOOKUP($A24,'All Running Order'!$A$6:$CZ$64,E$102,FALSE),\"\")","v":""},{"$f":"IFERROR(VLOOKUP($A24,'All Running Order'!$A$6:$CZ$64,F$102,FALSE),\"\")","v":""},{"$f":"IFERROR(VLOOKUP($A24,'All Running Order'!$A$6:$CZ$64,G$102,FALSE),\"\")","v":""},{"$f":"IFERROR(VLOOKUP($A24,'All Running Order'!$A$6:$CZ$64,H$102,FALSE),\"\")","v":""},{"$f":"IFERROR(VLOOKUP($A24,'All Running Order'!$A$6:$CZ$64,I$102,FALSE),\"\")","v":""},{"$f":"IFERROR(VLOOKUP($A24,'All Running Order'!$A$6:$CZ$64,J$102,FALSE),\"\")","v":""},{"$f":"IFERROR(VLOOKUP($A24,'All Running Order'!$A$6:$CZ$64,K$102,FALSE),\"\")","v":""},{"$f":"IFERROR(VLOOKUP($A24,'All Running Order'!$A$6:$CZ$64,L$102,FALSE),\"\")","v":""},{"$f":"IFERROR(VLOOKUP($A24,'All Running Order'!$A$6:$CZ$64,M$102,FALSE),\"\")","v":""},{"$f":"IFERROR(VLOOKUP($A24,'All Running Order'!$A$6:$CZ$64,N$102,FALSE),\"\")","v":""},{"$f":"IFERROR(VLOOKUP($A24,'All Running Order'!$A$6:$CZ$64,O$102,FALSE),\"\")","v":""},{"$f":"IFERROR(VLOOKUP($A24,'All Running Order'!$A$6:$CZ$64,P$102,FALSE),\"\")","v":""},{"$f":"IFERROR(VLOOKUP($A24,'All Running Order'!$A$6:$CZ$64,Q$102,FALSE),\"\")","v":""},{"$f":"IFERROR(VLOOKUP($A24,'All Running Order'!$A$6:$CZ$64,R$102,FALSE),\"\")","v":""},{"$f":"IFERROR(VLOOKUP($A24,'All Running Order'!$A$6:$CZ$64,S$102,FALSE),\"\")","v":""},{"$f":"IFERROR(VLOOKUP($A24,'All Running Order'!$A$6:$CZ$64,T$102,FALSE),\"\")","v":""},{"$f":"IFERROR(VLOOKUP($A24,'All Running Order'!$A$6:$CZ$64,U$102,FALSE),\"\")","v":""},{"$f":"IFERROR(VLOOKUP($A24,'All Running Order'!$A$6:$CZ$64,V$102,FALSE),\"\")","v":""},{"$f":"IFERROR(VLOOKUP($A24,'All Running Order'!$A$6:$CZ$64,W$102,FALSE),\"\")","v":""},{"$f":"IFERROR(VLOOKUP($A24,'All Running Order'!$A$6:$CZ$64,X$102,FALSE),\"\")","v":""},{"$f":"IFERROR(VLOOKUP($A24,'All Running Order'!$A$6:$CZ$64,Y$102,FALSE),\"\")","v":""},{"$f":"IFERROR(VLOOKUP($A24,'All Running Order'!$A$6:$CZ$64,Z$102,FALSE),\"\")","v":""},{"$f":"IFERROR(VLOOKUP($A24,'All Running Order'!$A$6:$CZ$64,AA$102,FALSE),\"\")","v":""},{"$f":"IFERROR(VLOOKUP($A24,'All Running Order'!$A$6:$CZ$64,AB$102,FALSE),\"\")","v":""},{"$f":"IFERROR(VLOOKUP($A24,'All Running Order'!$A$6:$CZ$64,AC$102,FALSE),\"\")","v":""},{"$f":"IFERROR(VLOOKUP($A24,'All Running Order'!$A$6:$CZ$64,AD$102,FALSE),\"\")","v":""},{"$f":"IFERROR(VLOOKUP($A24,'All Running Order'!$A$6:$CZ$64,AE$102,FALSE),\"\")","v":""},{"$f":"IFERROR(VLOOKUP($A24,'All Running Order'!$A$6:$CZ$64,AF$102,FALSE),\"\")","v":""},{"$f":"IFERROR(VLOOKUP($A24,'All Running Order'!$A$6:$CZ$64,AG$102,FALSE),\"\")","v":""},{"$f":"IFERROR(VLOOKUP($A24,'All Running Order'!$A$6:$CZ$64,AH$102,FALSE),\"\")","v":""},{"$f":"IFERROR(VLOOKUP($A24,'All Running Order'!$A$6:$CZ$64,AI$102,FALSE),\"\")","v":""},{"$f":"IFERROR(VLOOKUP($A24,'All Running Order'!$A$6:$CZ$64,AJ$102,FALSE),\"\")","v":""},{"$f":"IFERROR(VLOOKUP($A24,'All Running Order'!$A$6:$CZ$64,AK$102,FALSE),\"\")","v":""},{"$f":"IFERROR(VLOOKUP($A24,'All Running Order'!$A$6:$CZ$64,AL$102,FALSE),\"\")","v":""},{"$f":"IFERROR(VLOOKUP($A24,'All Running Order'!$A$6:$CZ$64,AM$102,FALSE),\"\")","v":""},{"$f":"IFERROR(VLOOKUP($A24,'All Running Order'!$A$6:$CZ$64,AN$102,FALSE),\"\")","v":""},{"$f":"IFERROR(VLOOKUP($A24,'All Running Order'!$A$6:$CZ$64,AO$102,FALSE),\"\")","v":""},{"$f":"IFERROR(VLOOKUP($A24,'All Running Order'!$A$6:$CZ$64,AP$102,FALSE),\"\")","v":""},{"$f":"IFERROR(VLOOKUP($A24,'All Running Order'!$A$6:$CZ$64,AQ$102,FALSE),\"\")","v":""},{"$f":"IFERROR(VLOOKUP($A24,'All Running Order'!$A$6:$CZ$64,AR$102,FALSE),\"\")","v":""},{"$f":"IFERROR(VLOOKUP($A24,'All Running Order'!$A$6:$CZ$64,AS$102,FALSE),\"\")","v":""},{"$f":"IFERROR(VLOOKUP($A24,'All Running Order'!$A$6:$CZ$64,AT$102,FALSE),\"\")","v":""},{"$f":"IFERROR(VLOOKUP($A24,'All Running Order'!$A$6:$CZ$64,AU$102,FALSE),\"\")","v":""},{"$f":"IFERROR(VLOOKUP($A24,'All Running Order'!$A$6:$CZ$64,AV$102,FALSE),\"\")","v":""},{"$f":"IFERROR(VLOOKUP($A24,'All Running Order'!$A$6:$CZ$64,AW$102,FALSE),\"\")","v":""},{"$f":"IFERROR(VLOOKUP($A24,'All Running Order'!$A$6:$CZ$64,AX$102,FALSE),\"\")","v":""},{"$f":"IFERROR(VLOOKUP($A24,'All Running Order'!$A$6:$CZ$64,AY$102,FALSE),\"\")","v":""},{"$f":"IFERROR(VLOOKUP($A24,'All Running Order'!$A$6:$CZ$64,AZ$102,FALSE),\"\")","v":""},{"$f":"IFERROR(VLOOKUP($A24,'All Running Order'!$A$6:$CZ$64,BA$102,FALSE),\"\")","v":""},{"$f":"IFERROR(VLOOKUP($A24,'All Running Order'!$A$6:$CZ$64,BB$102,FALSE),\"\")","v":""},{"$f":"IFERROR(VLOOKUP($A24,'All Running Order'!$A$6:$CZ$64,BC$102,FALSE),\"\")","v":""},{"$f":"IFERROR(VLOOKUP($A24,'All Running Order'!$A$6:$CZ$64,BD$102,FALSE),\"\")","v":""},{"$f":"IFERROR(VLOOKUP($A24,'All Running Order'!$A$6:$CZ$64,BE$102,FALSE),\"\")","v":""},{"$f":"IFERROR(VLOOKUP($A24,'All Running Order'!$A$6:$CZ$64,BF$102,FALSE),\"\")","v":""},{"$f":"IFERROR(VLOOKUP($A24,'All Running Order'!$A$6:$CZ$64,BG$102,FALSE),\"\")","v":""},{"$f":"IFERROR(VLOOKUP($A24,'All Running Order'!$A$6:$CZ$64,BH$102,FALSE),\"\")","v":""},{"$f":"IFERROR(VLOOKUP($A24,'All Running Order'!$A$6:$CZ$64,BI$102,FALSE),\"\")","v":""},{"$f":"IFERROR(VLOOKUP($A24,'All Running Order'!$A$6:$CZ$64,BJ$102,FALSE),\"\")","v":""},{"$f":"IFERROR(VLOOKUP($A24,'All Running Order'!$A$6:$CZ$64,BK$102,FALSE),\"\")","v":""},{"$f":"IFERROR(VLOOKUP($A24,'All Running Order'!$A$6:$CZ$64,BL$102,FALSE),\"\")","v":""},{"$f":"IFERROR(VLOOKUP($A24,'All Running Order'!$A$6:$CZ$64,BM$102,FALSE),\"\")","v":""},{"$f":"IFERROR(VLOOKUP($A24,'All Running Order'!$A$6:$CZ$64,BN$102,FALSE),\"\")","v":""},{"$f":"IFERROR(VLOOKUP($A24,'All Running Order'!$A$6:$CZ$64,BO$102,FALSE),\"\")","v":""},{"$f":"IFERROR(VLOOKUP($A24,'All Running Order'!$A$6:$CZ$64,BP$102,FALSE),\"\")","v":""},{"$f":"IFERROR(VLOOKUP($A24,'All Running Order'!$A$6:$CZ$64,BQ$102,FALSE),\"\")","v":""},{"$f":"IFERROR(VLOOKUP($A24,'All Running Order'!$A$6:$CZ$64,BR$102,FALSE),\"\")","v":""},{"$f":"IFERROR(VLOOKUP($A24,'All Running Order'!$A$6:$CZ$64,BS$102,FALSE),\"\")","v":""},{"$f":"IFERROR(VLOOKUP($A24,'All Running Order'!$A$6:$CZ$64,BT$102,FALSE),\"\")","v":""},{"$f":"IFERROR(VLOOKUP($A24,'All Running Order'!$A$6:$CZ$64,BU$102,FALSE),\"\")","v":""},{"$f":"IFERROR(VLOOKUP($A24,'All Running Order'!$A$6:$CZ$64,BV$102,FALSE),\"\")","v":""},{"$f":"IFERROR(VLOOKUP($A24,'All Running Order'!$A$6:$CZ$64,BW$102,FALSE),\"\")","v":""},{"$f":"IFERROR(VLOOKUP($A24,'All Running Order'!$A$6:$CZ$64,BX$102,FALSE),\"\")","v":""},{"$f":"IFERROR(VLOOKUP($A24,'All Running Order'!$A$6:$CZ$64,BY$102,FALSE),\"\")","v":""},{"$f":"IFERROR(VLOOKUP($A24,'All Running Order'!$A$6:$CZ$64,BZ$102,FALSE),\"\")","v":""},{"$f":"IFERROR(VLOOKUP($A24,'All Running Order'!$A$6:$CZ$64,CA$102,FALSE),\"\")","v":""},{"$f":"IFERROR(VLOOKUP($A24,'All Running Order'!$A$6:$CZ$64,CB$102,FALSE),\"\")","v":""},{"$f":"IFERROR(VLOOKUP($A24,'All Running Order'!$A$6:$CZ$64,CC$102,FALSE),\"\")","v":""},{"$f":"IFERROR(VLOOKUP($A24,'All Running Order'!$A$6:$CZ$64,CD$102,FALSE),\"\")","v":""},{"$f":"IFERROR(VLOOKUP($A24,'All Running Order'!$A$6:$CZ$64,CE$102,FALSE),\"\")","v":""},{"$f":"IFERROR(VLOOKUP($A24,'All Running Order'!$A$6:$CZ$64,CF$102,FALSE),\"\")","v":""},{"$f":"IFERROR(VLOOKUP($A24,'All Running Order'!$A$6:$CZ$64,CG$102,FALSE),\"\")","v":""},{"$f":"IFERROR(VLOOKUP($A24,'All Running Order'!$A$6:$CZ$64,CH$102,FALSE),\"\")","v":""},{"$f":"IFERROR(VLOOKUP($A24,'All Running Order'!$A$6:$CZ$64,CI$102,FALSE),\"\")","v":""},{"$f":"IFERROR(VLOOKUP($A24,'All Running Order'!$A$6:$CZ$64,CJ$102,FALSE),\"\")","v":""},{"$f":"IFERROR(VLOOKUP($A24,'All Running Order'!$A$6:$CZ$64,CK$102,FALSE),\"\")","v":""},{"$f":"IFERROR(VLOOKUP($A24,'All Running Order'!$A$6:$CZ$64,CL$102,FALSE),\"\")","v":""},{"$f":"IFERROR(VLOOKUP($A24,'All Running Order'!$A$6:$CZ$64,CM$102,FALSE),\"\")","v":""},{"$f":"IFERROR(VLOOKUP($A24,'All Running Order'!$A$6:$CZ$64,CN$102,FALSE),\"\")","v":""},{"$f":"IFERROR(VLOOKUP($A24,'All Running Order'!$A$6:$CZ$64,CO$102,FALSE),\"\")","v":""},{"$f":"IFERROR(VLOOKUP($A24,'All Running Order'!$A$6:$CZ$64,CP$102,FALSE),\"\")","v":""},{"$f":"IFERROR(VLOOKUP($A24,'All Running Order'!$A$6:$CZ$64,CQ$102,FALSE),\"\")","v":""},{"$f":"IFERROR(VLOOKUP($A24,'All Running Order'!$A$6:$CZ$64,CR$102,FALSE),\"\")","v":""},{"$f":"IFERROR(VLOOKUP($A24,'All Running Order'!$A$6:$CZ$64,CS$102,FALSE),\"\")","v":""},{"$f":"IFERROR(VLOOKUP($A24,'All Running Order'!$A$6:$CZ$64,CT$102,FALSE),\"\")","v":""},{"$f":"IFERROR(VLOOKUP($A24,'All Running Order'!$A$6:$CZ$64,CU$102,FALSE),\"\")","v":""},{"$f":"IFERROR(VLOOKUP($A24,'All Running Order'!$A$6:$CZ$64,CV$102,FALSE),\"\")","v":""},{"$f":"IFERROR(VLOOKUP($A24,'All Running Order'!$A$6:$CZ$64,CW$102,FALSE),\"\")","v":""},{"$f":"IFERROR(VLOOKUP($A24,'All Running Order'!$A$6:$CZ$64,CX$102,FALSE),\"\")","v":""},{"$f":"IFERROR(VLOOKUP($A24,'All Running Order'!$A$6:$CZ$64,CY$102,FALSE),\"\")","v":""},{"$f":"IFERROR(VLOOKUP($A24,'All Running Order'!$A$6:$CZ$64,CZ$102,FALSE),\"\")","v":""}]
[20,{"$f":"IFERROR(VLOOKUP($A25,'All Running Order'!$A$6:$CZ$64,B$102,FALSE),\"\")","v":""},{"$f":"IFERROR(VLOOKUP($A25,'All Running Order'!$A$6:$CZ$64,C$102,FALSE),\"\")","v":""},{"$f":"IFERROR(VLOOKUP($A25,'All Running Order'!$A$6:$CZ$64,D$102,FALSE),\"\")","v":""},{"$f":"IFERROR(VLOOKUP($A25,'All Running Order'!$A$6:$CZ$64,E$102,FALSE),\"\")","v":""},{"$f":"IFERROR(VLOOKUP($A25,'All Running Order'!$A$6:$CZ$64,F$102,FALSE),\"\")","v":""},{"$f":"IFERROR(VLOOKUP($A25,'All Running Order'!$A$6:$CZ$64,G$102,FALSE),\"\")","v":""},{"$f":"IFERROR(VLOOKUP($A25,'All Running Order'!$A$6:$CZ$64,H$102,FALSE),\"\")","v":""},{"$f":"IFERROR(VLOOKUP($A25,'All Running Order'!$A$6:$CZ$64,I$102,FALSE),\"\")","v":""},{"$f":"IFERROR(VLOOKUP($A25,'All Running Order'!$A$6:$CZ$64,J$102,FALSE),\"\")","v":""},{"$f":"IFERROR(VLOOKUP($A25,'All Running Order'!$A$6:$CZ$64,K$102,FALSE),\"\")","v":""},{"$f":"IFERROR(VLOOKUP($A25,'All Running Order'!$A$6:$CZ$64,L$102,FALSE),\"\")","v":""},{"$f":"IFERROR(VLOOKUP($A25,'All Running Order'!$A$6:$CZ$64,M$102,FALSE),\"\")","v":""},{"$f":"IFERROR(VLOOKUP($A25,'All Running Order'!$A$6:$CZ$64,N$102,FALSE),\"\")","v":""},{"$f":"IFERROR(VLOOKUP($A25,'All Running Order'!$A$6:$CZ$64,O$102,FALSE),\"\")","v":""},{"$f":"IFERROR(VLOOKUP($A25,'All Running Order'!$A$6:$CZ$64,P$102,FALSE),\"\")","v":""},{"$f":"IFERROR(VLOOKUP($A25,'All Running Order'!$A$6:$CZ$64,Q$102,FALSE),\"\")","v":""},{"$f":"IFERROR(VLOOKUP($A25,'All Running Order'!$A$6:$CZ$64,R$102,FALSE),\"\")","v":""},{"$f":"IFERROR(VLOOKUP($A25,'All Running Order'!$A$6:$CZ$64,S$102,FALSE),\"\")","v":""},{"$f":"IFERROR(VLOOKUP($A25,'All Running Order'!$A$6:$CZ$64,T$102,FALSE),\"\")","v":""},{"$f":"IFERROR(VLOOKUP($A25,'All Running Order'!$A$6:$CZ$64,U$102,FALSE),\"\")","v":""},{"$f":"IFERROR(VLOOKUP($A25,'All Running Order'!$A$6:$CZ$64,V$102,FALSE),\"\")","v":""},{"$f":"IFERROR(VLOOKUP($A25,'All Running Order'!$A$6:$CZ$64,W$102,FALSE),\"\")","v":""},{"$f":"IFERROR(VLOOKUP($A25,'All Running Order'!$A$6:$CZ$64,X$102,FALSE),\"\")","v":""},{"$f":"IFERROR(VLOOKUP($A25,'All Running Order'!$A$6:$CZ$64,Y$102,FALSE),\"\")","v":""},{"$f":"IFERROR(VLOOKUP($A25,'All Running Order'!$A$6:$CZ$64,Z$102,FALSE),\"\")","v":""},{"$f":"IFERROR(VLOOKUP($A25,'All Running Order'!$A$6:$CZ$64,AA$102,FALSE),\"\")","v":""},{"$f":"IFERROR(VLOOKUP($A25,'All Running Order'!$A$6:$CZ$64,AB$102,FALSE),\"\")","v":""},{"$f":"IFERROR(VLOOKUP($A25,'All Running Order'!$A$6:$CZ$64,AC$102,FALSE),\"\")","v":""},{"$f":"IFERROR(VLOOKUP($A25,'All Running Order'!$A$6:$CZ$64,AD$102,FALSE),\"\")","v":""},{"$f":"IFERROR(VLOOKUP($A25,'All Running Order'!$A$6:$CZ$64,AE$102,FALSE),\"\")","v":""},{"$f":"IFERROR(VLOOKUP($A25,'All Running Order'!$A$6:$CZ$64,AF$102,FALSE),\"\")","v":""},{"$f":"IFERROR(VLOOKUP($A25,'All Running Order'!$A$6:$CZ$64,AG$102,FALSE),\"\")","v":""},{"$f":"IFERROR(VLOOKUP($A25,'All Running Order'!$A$6:$CZ$64,AH$102,FALSE),\"\")","v":""},{"$f":"IFERROR(VLOOKUP($A25,'All Running Order'!$A$6:$CZ$64,AI$102,FALSE),\"\")","v":""},{"$f":"IFERROR(VLOOKUP($A25,'All Running Order'!$A$6:$CZ$64,AJ$102,FALSE),\"\")","v":""},{"$f":"IFERROR(VLOOKUP($A25,'All Running Order'!$A$6:$CZ$64,AK$102,FALSE),\"\")","v":""},{"$f":"IFERROR(VLOOKUP($A25,'All Running Order'!$A$6:$CZ$64,AL$102,FALSE),\"\")","v":""},{"$f":"IFERROR(VLOOKUP($A25,'All Running Order'!$A$6:$CZ$64,AM$102,FALSE),\"\")","v":""},{"$f":"IFERROR(VLOOKUP($A25,'All Running Order'!$A$6:$CZ$64,AN$102,FALSE),\"\")","v":""},{"$f":"IFERROR(VLOOKUP($A25,'All Running Order'!$A$6:$CZ$64,AO$102,FALSE),\"\")","v":""},{"$f":"IFERROR(VLOOKUP($A25,'All Running Order'!$A$6:$CZ$64,AP$102,FALSE),\"\")","v":""},{"$f":"IFERROR(VLOOKUP($A25,'All Running Order'!$A$6:$CZ$64,AQ$102,FALSE),\"\")","v":""},{"$f":"IFERROR(VLOOKUP($A25,'All Running Order'!$A$6:$CZ$64,AR$102,FALSE),\"\")","v":""},{"$f":"IFERROR(VLOOKUP($A25,'All Running Order'!$A$6:$CZ$64,AS$102,FALSE),\"\")","v":""},{"$f":"IFERROR(VLOOKUP($A25,'All Running Order'!$A$6:$CZ$64,AT$102,FALSE),\"\")","v":""},{"$f":"IFERROR(VLOOKUP($A25,'All Running Order'!$A$6:$CZ$64,AU$102,FALSE),\"\")","v":""},{"$f":"IFERROR(VLOOKUP($A25,'All Running Order'!$A$6:$CZ$64,AV$102,FALSE),\"\")","v":""},{"$f":"IFERROR(VLOOKUP($A25,'All Running Order'!$A$6:$CZ$64,AW$102,FALSE),\"\")","v":""},{"$f":"IFERROR(VLOOKUP($A25,'All Running Order'!$A$6:$CZ$64,AX$102,FALSE),\"\")","v":""},{"$f":"IFERROR(VLOOKUP($A25,'All Running Order'!$A$6:$CZ$64,AY$102,FALSE),\"\")","v":""},{"$f":"IFERROR(VLOOKUP($A25,'All Running Order'!$A$6:$CZ$64,AZ$102,FALSE),\"\")","v":""},{"$f":"IFERROR(VLOOKUP($A25,'All Running Order'!$A$6:$CZ$64,BA$102,FALSE),\"\")","v":""},{"$f":"IFERROR(VLOOKUP($A25,'All Running Order'!$A$6:$CZ$64,BB$102,FALSE),\"\")","v":""},{"$f":"IFERROR(VLOOKUP($A25,'All Running Order'!$A$6:$CZ$64,BC$102,FALSE),\"\")","v":""},{"$f":"IFERROR(VLOOKUP($A25,'All Running Order'!$A$6:$CZ$64,BD$102,FALSE),\"\")","v":""},{"$f":"IFERROR(VLOOKUP($A25,'All Running Order'!$A$6:$CZ$64,BE$102,FALSE),\"\")","v":""},{"$f":"IFERROR(VLOOKUP($A25,'All Running Order'!$A$6:$CZ$64,BF$102,FALSE),\"\")","v":""},{"$f":"IFERROR(VLOOKUP($A25,'All Running Order'!$A$6:$CZ$64,BG$102,FALSE),\"\")","v":""},{"$f":"IFERROR(VLOOKUP($A25,'All Running Order'!$A$6:$CZ$64,BH$102,FALSE),\"\")","v":""},{"$f":"IFERROR(VLOOKUP($A25,'All Running Order'!$A$6:$CZ$64,BI$102,FALSE),\"\")","v":""},{"$f":"IFERROR(VLOOKUP($A25,'All Running Order'!$A$6:$CZ$64,BJ$102,FALSE),\"\")","v":""},{"$f":"IFERROR(VLOOKUP($A25,'All Running Order'!$A$6:$CZ$64,BK$102,FALSE),\"\")","v":""},{"$f":"IFERROR(VLOOKUP($A25,'All Running Order'!$A$6:$CZ$64,BL$102,FALSE),\"\")","v":""},{"$f":"IFERROR(VLOOKUP($A25,'All Running Order'!$A$6:$CZ$64,BM$102,FALSE),\"\")","v":""},{"$f":"IFERROR(VLOOKUP($A25,'All Running Order'!$A$6:$CZ$64,BN$102,FALSE),\"\")","v":""},{"$f":"IFERROR(VLOOKUP($A25,'All Running Order'!$A$6:$CZ$64,BO$102,FALSE),\"\")","v":""},{"$f":"IFERROR(VLOOKUP($A25,'All Running Order'!$A$6:$CZ$64,BP$102,FALSE),\"\")","v":""},{"$f":"IFERROR(VLOOKUP($A25,'All Running Order'!$A$6:$CZ$64,BQ$102,FALSE),\"\")","v":""},{"$f":"IFERROR(VLOOKUP($A25,'All Running Order'!$A$6:$CZ$64,BR$102,FALSE),\"\")","v":""},{"$f":"IFERROR(VLOOKUP($A25,'All Running Order'!$A$6:$CZ$64,BS$102,FALSE),\"\")","v":""},{"$f":"IFERROR(VLOOKUP($A25,'All Running Order'!$A$6:$CZ$64,BT$102,FALSE),\"\")","v":""},{"$f":"IFERROR(VLOOKUP($A25,'All Running Order'!$A$6:$CZ$64,BU$102,FALSE),\"\")","v":""},{"$f":"IFERROR(VLOOKUP($A25,'All Running Order'!$A$6:$CZ$64,BV$102,FALSE),\"\")","v":""},{"$f":"IFERROR(VLOOKUP($A25,'All Running Order'!$A$6:$CZ$64,BW$102,FALSE),\"\")","v":""},{"$f":"IFERROR(VLOOKUP($A25,'All Running Order'!$A$6:$CZ$64,BX$102,FALSE),\"\")","v":""},{"$f":"IFERROR(VLOOKUP($A25,'All Running Order'!$A$6:$CZ$64,BY$102,FALSE),\"\")","v":""},{"$f":"IFERROR(VLOOKUP($A25,'All Running Order'!$A$6:$CZ$64,BZ$102,FALSE),\"\")","v":""},{"$f":"IFERROR(VLOOKUP($A25,'All Running Order'!$A$6:$CZ$64,CA$102,FALSE),\"\")","v":""},{"$f":"IFERROR(VLOOKUP($A25,'All Running Order'!$A$6:$CZ$64,CB$102,FALSE),\"\")","v":""},{"$f":"IFERROR(VLOOKUP($A25,'All Running Order'!$A$6:$CZ$64,CC$102,FALSE),\"\")","v":""},{"$f":"IFERROR(VLOOKUP($A25,'All Running Order'!$A$6:$CZ$64,CD$102,FALSE),\"\")","v":""},{"$f":"IFERROR(VLOOKUP($A25,'All Running Order'!$A$6:$CZ$64,CE$102,FALSE),\"\")","v":""},{"$f":"IFERROR(VLOOKUP($A25,'All Running Order'!$A$6:$CZ$64,CF$102,FALSE),\"\")","v":""},{"$f":"IFERROR(VLOOKUP($A25,'All Running Order'!$A$6:$CZ$64,CG$102,FALSE),\"\")","v":""},{"$f":"IFERROR(VLOOKUP($A25,'All Running Order'!$A$6:$CZ$64,CH$102,FALSE),\"\")","v":""},{"$f":"IFERROR(VLOOKUP($A25,'All Running Order'!$A$6:$CZ$64,CI$102,FALSE),\"\")","v":""},{"$f":"IFERROR(VLOOKUP($A25,'All Running Order'!$A$6:$CZ$64,CJ$102,FALSE),\"\")","v":""},{"$f":"IFERROR(VLOOKUP($A25,'All Running Order'!$A$6:$CZ$64,CK$102,FALSE),\"\")","v":""},{"$f":"IFERROR(VLOOKUP($A25,'All Running Order'!$A$6:$CZ$64,CL$102,FALSE),\"\")","v":""},{"$f":"IFERROR(VLOOKUP($A25,'All Running Order'!$A$6:$CZ$64,CM$102,FALSE),\"\")","v":""},{"$f":"IFERROR(VLOOKUP($A25,'All Running Order'!$A$6:$CZ$64,CN$102,FALSE),\"\")","v":""},{"$f":"IFERROR(VLOOKUP($A25,'All Running Order'!$A$6:$CZ$64,CO$102,FALSE),\"\")","v":""},{"$f":"IFERROR(VLOOKUP($A25,'All Running Order'!$A$6:$CZ$64,CP$102,FALSE),\"\")","v":""},{"$f":"IFERROR(VLOOKUP($A25,'All Running Order'!$A$6:$CZ$64,CQ$102,FALSE),\"\")","v":""},{"$f":"IFERROR(VLOOKUP($A25,'All Running Order'!$A$6:$CZ$64,CR$102,FALSE),\"\")","v":""},{"$f":"IFERROR(VLOOKUP($A25,'All Running Order'!$A$6:$CZ$64,CS$102,FALSE),\"\")","v":""},{"$f":"IFERROR(VLOOKUP($A25,'All Running Order'!$A$6:$CZ$64,CT$102,FALSE),\"\")","v":""},{"$f":"IFERROR(VLOOKUP($A25,'All Running Order'!$A$6:$CZ$64,CU$102,FALSE),\"\")","v":""},{"$f":"IFERROR(VLOOKUP($A25,'All Running Order'!$A$6:$CZ$64,CV$102,FALSE),\"\")","v":""},{"$f":"IFERROR(VLOOKUP($A25,'All Running Order'!$A$6:$CZ$64,CW$102,FALSE),\"\")","v":""},{"$f":"IFERROR(VLOOKUP($A25,'All Running Order'!$A$6:$CZ$64,CX$102,FALSE),\"\")","v":""},{"$f":"IFERROR(VLOOKUP($A25,'All Running Order'!$A$6:$CZ$64,CY$102,FALSE),\"\")","v":""},{"$f":"IFERROR(VLOOKUP($A25,'All Running Order'!$A$6:$CZ$64,CZ$102,FALSE),\"\")","v":""}]
[21,{"$f":"IFERROR(VLOOKUP($A26,'All Running Order'!$A$6:$CZ$64,B$102,FALSE),\"\")","v":""},{"$f":"IFERROR(VLOOKUP($A26,'All Running Order'!$A$6:$CZ$64,C$102,FALSE),\"\")","v":""},{"$f":"IFERROR(VLOOKUP($A26,'All Running Order'!$A$6:$CZ$64,D$102,FALSE),\"\")","v":""},{"$f":"IFERROR(VLOOKUP($A26,'All Running Order'!$A$6:$CZ$64,E$102,FALSE),\"\")","v":""},{"$f":"IFERROR(VLOOKUP($A26,'All Running Order'!$A$6:$CZ$64,F$102,FALSE),\"\")","v":""},{"$f":"IFERROR(VLOOKUP($A26,'All Running Order'!$A$6:$CZ$64,G$102,FALSE),\"\")","v":""},{"$f":"IFERROR(VLOOKUP($A26,'All Running Order'!$A$6:$CZ$64,H$102,FALSE),\"\")","v":""},{"$f":"IFERROR(VLOOKUP($A26,'All Running Order'!$A$6:$CZ$64,I$102,FALSE),\"\")","v":""},{"$f":"IFERROR(VLOOKUP($A26,'All Running Order'!$A$6:$CZ$64,J$102,FALSE),\"\")","v":""},{"$f":"IFERROR(VLOOKUP($A26,'All Running Order'!$A$6:$CZ$64,K$102,FALSE),\"\")","v":""},{"$f":"IFERROR(VLOOKUP($A26,'All Running Order'!$A$6:$CZ$64,L$102,FALSE),\"\")","v":""},{"$f":"IFERROR(VLOOKUP($A26,'All Running Order'!$A$6:$CZ$64,M$102,FALSE),\"\")","v":""},{"$f":"IFERROR(VLOOKUP($A26,'All Running Order'!$A$6:$CZ$64,N$102,FALSE),\"\")","v":""},{"$f":"IFERROR(VLOOKUP($A26,'All Running Order'!$A$6:$CZ$64,O$102,FALSE),\"\")","v":""},{"$f":"IFERROR(VLOOKUP($A26,'All Running Order'!$A$6:$CZ$64,P$102,FALSE),\"\")","v":""},{"$f":"IFERROR(VLOOKUP($A26,'All Running Order'!$A$6:$CZ$64,Q$102,FALSE),\"\")","v":""},{"$f":"IFERROR(VLOOKUP($A26,'All Running Order'!$A$6:$CZ$64,R$102,FALSE),\"\")","v":""},{"$f":"IFERROR(VLOOKUP($A26,'All Running Order'!$A$6:$CZ$64,S$102,FALSE),\"\")","v":""},{"$f":"IFERROR(VLOOKUP($A26,'All Running Order'!$A$6:$CZ$64,T$102,FALSE),\"\")","v":""},{"$f":"IFERROR(VLOOKUP($A26,'All Running Order'!$A$6:$CZ$64,U$102,FALSE),\"\")","v":""},{"$f":"IFERROR(VLOOKUP($A26,'All Running Order'!$A$6:$CZ$64,V$102,FALSE),\"\")","v":""},{"$f":"IFERROR(VLOOKUP($A26,'All Running Order'!$A$6:$CZ$64,W$102,FALSE),\"\")","v":""},{"$f":"IFERROR(VLOOKUP($A26,'All Running Order'!$A$6:$CZ$64,X$102,FALSE),\"\")","v":""},{"$f":"IFERROR(VLOOKUP($A26,'All Running Order'!$A$6:$CZ$64,Y$102,FALSE),\"\")","v":""},{"$f":"IFERROR(VLOOKUP($A26,'All Running Order'!$A$6:$CZ$64,Z$102,FALSE),\"\")","v":""},{"$f":"IFERROR(VLOOKUP($A26,'All Running Order'!$A$6:$CZ$64,AA$102,FALSE),\"\")","v":""},{"$f":"IFERROR(VLOOKUP($A26,'All Running Order'!$A$6:$CZ$64,AB$102,FALSE),\"\")","v":""},{"$f":"IFERROR(VLOOKUP($A26,'All Running Order'!$A$6:$CZ$64,AC$102,FALSE),\"\")","v":""},{"$f":"IFERROR(VLOOKUP($A26,'All Running Order'!$A$6:$CZ$64,AD$102,FALSE),\"\")","v":""},{"$f":"IFERROR(VLOOKUP($A26,'All Running Order'!$A$6:$CZ$64,AE$102,FALSE),\"\")","v":""},{"$f":"IFERROR(VLOOKUP($A26,'All Running Order'!$A$6:$CZ$64,AF$102,FALSE),\"\")","v":""},{"$f":"IFERROR(VLOOKUP($A26,'All Running Order'!$A$6:$CZ$64,AG$102,FALSE),\"\")","v":""},{"$f":"IFERROR(VLOOKUP($A26,'All Running Order'!$A$6:$CZ$64,AH$102,FALSE),\"\")","v":""},{"$f":"IFERROR(VLOOKUP($A26,'All Running Order'!$A$6:$CZ$64,AI$102,FALSE),\"\")","v":""},{"$f":"IFERROR(VLOOKUP($A26,'All Running Order'!$A$6:$CZ$64,AJ$102,FALSE),\"\")","v":""},{"$f":"IFERROR(VLOOKUP($A26,'All Running Order'!$A$6:$CZ$64,AK$102,FALSE),\"\")","v":""},{"$f":"IFERROR(VLOOKUP($A26,'All Running Order'!$A$6:$CZ$64,AL$102,FALSE),\"\")","v":""},{"$f":"IFERROR(VLOOKUP($A26,'All Running Order'!$A$6:$CZ$64,AM$102,FALSE),\"\")","v":""},{"$f":"IFERROR(VLOOKUP($A26,'All Running Order'!$A$6:$CZ$64,AN$102,FALSE),\"\")","v":""},{"$f":"IFERROR(VLOOKUP($A26,'All Running Order'!$A$6:$CZ$64,AO$102,FALSE),\"\")","v":""},{"$f":"IFERROR(VLOOKUP($A26,'All Running Order'!$A$6:$CZ$64,AP$102,FALSE),\"\")","v":""},{"$f":"IFERROR(VLOOKUP($A26,'All Running Order'!$A$6:$CZ$64,AQ$102,FALSE),\"\")","v":""},{"$f":"IFERROR(VLOOKUP($A26,'All Running Order'!$A$6:$CZ$64,AR$102,FALSE),\"\")","v":""},{"$f":"IFERROR(VLOOKUP($A26,'All Running Order'!$A$6:$CZ$64,AS$102,FALSE),\"\")","v":""},{"$f":"IFERROR(VLOOKUP($A26,'All Running Order'!$A$6:$CZ$64,AT$102,FALSE),\"\")","v":""},{"$f":"IFERROR(VLOOKUP($A26,'All Running Order'!$A$6:$CZ$64,AU$102,FALSE),\"\")","v":""},{"$f":"IFERROR(VLOOKUP($A26,'All Running Order'!$A$6:$CZ$64,AV$102,FALSE),\"\")","v":""},{"$f":"IFERROR(VLOOKUP($A26,'All Running Order'!$A$6:$CZ$64,AW$102,FALSE),\"\")","v":""},{"$f":"IFERROR(VLOOKUP($A26,'All Running Order'!$A$6:$CZ$64,AX$102,FALSE),\"\")","v":""},{"$f":"IFERROR(VLOOKUP($A26,'All Running Order'!$A$6:$CZ$64,AY$102,FALSE),\"\")","v":""},{"$f":"IFERROR(VLOOKUP($A26,'All Running Order'!$A$6:$CZ$64,AZ$102,FALSE),\"\")","v":""},{"$f":"IFERROR(VLOOKUP($A26,'All Running Order'!$A$6:$CZ$64,BA$102,FALSE),\"\")","v":""},{"$f":"IFERROR(VLOOKUP($A26,'All Running Order'!$A$6:$CZ$64,BB$102,FALSE),\"\")","v":""},{"$f":"IFERROR(VLOOKUP($A26,'All Running Order'!$A$6:$CZ$64,BC$102,FALSE),\"\")","v":""},{"$f":"IFERROR(VLOOKUP($A26,'All Running Order'!$A$6:$CZ$64,BD$102,FALSE),\"\")","v":""},{"$f":"IFERROR(VLOOKUP($A26,'All Running Order'!$A$6:$CZ$64,BE$102,FALSE),\"\")","v":""},{"$f":"IFERROR(VLOOKUP($A26,'All Running Order'!$A$6:$CZ$64,BF$102,FALSE),\"\")","v":""},{"$f":"IFERROR(VLOOKUP($A26,'All Running Order'!$A$6:$CZ$64,BG$102,FALSE),\"\")","v":""},{"$f":"IFERROR(VLOOKUP($A26,'All Running Order'!$A$6:$CZ$64,BH$102,FALSE),\"\")","v":""},{"$f":"IFERROR(VLOOKUP($A26,'All Running Order'!$A$6:$CZ$64,BI$102,FALSE),\"\")","v":""},{"$f":"IFERROR(VLOOKUP($A26,'All Running Order'!$A$6:$CZ$64,BJ$102,FALSE),\"\")","v":""},{"$f":"IFERROR(VLOOKUP($A26,'All Running Order'!$A$6:$CZ$64,BK$102,FALSE),\"\")","v":""},{"$f":"IFERROR(VLOOKUP($A26,'All Running Order'!$A$6:$CZ$64,BL$102,FALSE),\"\")","v":""},{"$f":"IFERROR(VLOOKUP($A26,'All Running Order'!$A$6:$CZ$64,BM$102,FALSE),\"\")","v":""},{"$f":"IFERROR(VLOOKUP($A26,'All Running Order'!$A$6:$CZ$64,BN$102,FALSE),\"\")","v":""},{"$f":"IFERROR(VLOOKUP($A26,'All Running Order'!$A$6:$CZ$64,BO$102,FALSE),\"\")","v":""},{"$f":"IFERROR(VLOOKUP($A26,'All Running Order'!$A$6:$CZ$64,BP$102,FALSE),\"\")","v":""},{"$f":"IFERROR(VLOOKUP($A26,'All Running Order'!$A$6:$CZ$64,BQ$102,FALSE),\"\")","v":""},{"$f":"IFERROR(VLOOKUP($A26,'All Running Order'!$A$6:$CZ$64,BR$102,FALSE),\"\")","v":""},{"$f":"IFERROR(VLOOKUP($A26,'All Running Order'!$A$6:$CZ$64,BS$102,FALSE),\"\")","v":""},{"$f":"IFERROR(VLOOKUP($A26,'All Running Order'!$A$6:$CZ$64,BT$102,FALSE),\"\")","v":""},{"$f":"IFERROR(VLOOKUP($A26,'All Running Order'!$A$6:$CZ$64,BU$102,FALSE),\"\")","v":""},{"$f":"IFERROR(VLOOKUP($A26,'All Running Order'!$A$6:$CZ$64,BV$102,FALSE),\"\")","v":""},{"$f":"IFERROR(VLOOKUP($A26,'All Running Order'!$A$6:$CZ$64,BW$102,FALSE),\"\")","v":""},{"$f":"IFERROR(VLOOKUP($A26,'All Running Order'!$A$6:$CZ$64,BX$102,FALSE),\"\")","v":""},{"$f":"IFERROR(VLOOKUP($A26,'All Running Order'!$A$6:$CZ$64,BY$102,FALSE),\"\")","v":""},{"$f":"IFERROR(VLOOKUP($A26,'All Running Order'!$A$6:$CZ$64,BZ$102,FALSE),\"\")","v":""},{"$f":"IFERROR(VLOOKUP($A26,'All Running Order'!$A$6:$CZ$64,CA$102,FALSE),\"\")","v":""},{"$f":"IFERROR(VLOOKUP($A26,'All Running Order'!$A$6:$CZ$64,CB$102,FALSE),\"\")","v":""},{"$f":"IFERROR(VLOOKUP($A26,'All Running Order'!$A$6:$CZ$64,CC$102,FALSE),\"\")","v":""},{"$f":"IFERROR(VLOOKUP($A26,'All Running Order'!$A$6:$CZ$64,CD$102,FALSE),\"\")","v":""},{"$f":"IFERROR(VLOOKUP($A26,'All Running Order'!$A$6:$CZ$64,CE$102,FALSE),\"\")","v":""},{"$f":"IFERROR(VLOOKUP($A26,'All Running Order'!$A$6:$CZ$64,CF$102,FALSE),\"\")","v":""},{"$f":"IFERROR(VLOOKUP($A26,'All Running Order'!$A$6:$CZ$64,CG$102,FALSE),\"\")","v":""},{"$f":"IFERROR(VLOOKUP($A26,'All Running Order'!$A$6:$CZ$64,CH$102,FALSE),\"\")","v":""},{"$f":"IFERROR(VLOOKUP($A26,'All Running Order'!$A$6:$CZ$64,CI$102,FALSE),\"\")","v":""},{"$f":"IFERROR(VLOOKUP($A26,'All Running Order'!$A$6:$CZ$64,CJ$102,FALSE),\"\")","v":""},{"$f":"IFERROR(VLOOKUP($A26,'All Running Order'!$A$6:$CZ$64,CK$102,FALSE),\"\")","v":""},{"$f":"IFERROR(VLOOKUP($A26,'All Running Order'!$A$6:$CZ$64,CL$102,FALSE),\"\")","v":""},{"$f":"IFERROR(VLOOKUP($A26,'All Running Order'!$A$6:$CZ$64,CM$102,FALSE),\"\")","v":""},{"$f":"IFERROR(VLOOKUP($A26,'All Running Order'!$A$6:$CZ$64,CN$102,FALSE),\"\")","v":""},{"$f":"IFERROR(VLOOKUP($A26,'All Running Order'!$A$6:$CZ$64,CO$102,FALSE),\"\")","v":""},{"$f":"IFERROR(VLOOKUP($A26,'All Running Order'!$A$6:$CZ$64,CP$102,FALSE),\"\")","v":""},{"$f":"IFERROR(VLOOKUP($A26,'All Running Order'!$A$6:$CZ$64,CQ$102,FALSE),\"\")","v":""},{"$f":"IFERROR(VLOOKUP($A26,'All Running Order'!$A$6:$CZ$64,CR$102,FALSE),\"\")","v":""},{"$f":"IFERROR(VLOOKUP($A26,'All Running Order'!$A$6:$CZ$64,CS$102,FALSE),\"\")","v":""},{"$f":"IFERROR(VLOOKUP($A26,'All Running Order'!$A$6:$CZ$64,CT$102,FALSE),\"\")","v":""},{"$f":"IFERROR(VLOOKUP($A26,'All Running Order'!$A$6:$CZ$64,CU$102,FALSE),\"\")","v":""},{"$f":"IFERROR(VLOOKUP($A26,'All Running Order'!$A$6:$CZ$64,CV$102,FALSE),\"\")","v":""},{"$f":"IFERROR(VLOOKUP($A26,'All Running Order'!$A$6:$CZ$64,CW$102,FALSE),\"\")","v":""},{"$f":"IFERROR(VLOOKUP($A26,'All Running Order'!$A$6:$CZ$64,CX$102,FALSE),\"\")","v":""},{"$f":"IFERROR(VLOOKUP($A26,'All Running Order'!$A$6:$CZ$64,CY$102,FALSE),\"\")","v":""},{"$f":"IFERROR(VLOOKUP($A26,'All Running Order'!$A$6:$CZ$64,CZ$102,FALSE),\"\")","v":""}]
[22,{"$f":"IFERROR(VLOOKUP($A27,'All Running Order'!$A$6:$CZ$64,B$102,FALSE),\"\")","v":""},{"$f":"IFERROR(VLOOKUP($A27,'All Running Order'!$A$6:$CZ$64,C$102,FALSE),\"\")","v":""},{"$f":"IFERROR(VLOOKUP($A27,'All Running Order'!$A$6:$CZ$64,D$102,FALSE),\"\")","v":""},{"$f":"IFERROR(VLOOKUP($A27,'All Running Order'!$A$6:$CZ$64,E$102,FALSE),\"\")","v":""},{"$f":"IFERROR(VLOOKUP($A27,'All Running Order'!$A$6:$CZ$64,F$102,FALSE),\"\")","v":""},{"$f":"IFERROR(VLOOKUP($A27,'All Running Order'!$A$6:$CZ$64,G$102,FALSE),\"\")","v":""},{"$f":"IFERROR(VLOOKUP($A27,'All Running Order'!$A$6:$CZ$64,H$102,FALSE),\"\")","v":""},{"$f":"IFERROR(VLOOKUP($A27,'All Running Order'!$A$6:$CZ$64,I$102,FALSE),\"\")","v":""},{"$f":"IFERROR(VLOOKUP($A27,'All Running Order'!$A$6:$CZ$64,J$102,FALSE),\"\")","v":""},{"$f":"IFERROR(VLOOKUP($A27,'All Running Order'!$A$6:$CZ$64,K$102,FALSE),\"\")","v":""},{"$f":"IFERROR(VLOOKUP($A27,'All Running Order'!$A$6:$CZ$64,L$102,FALSE),\"\")","v":""},{"$f":"IFERROR(VLOOKUP($A27,'All Running Order'!$A$6:$CZ$64,M$102,FALSE),\"\")","v":""},{"$f":"IFERROR(VLOOKUP($A27,'All Running Order'!$A$6:$CZ$64,N$102,FALSE),\"\")","v":""},{"$f":"IFERROR(VLOOKUP($A27,'All Running Order'!$A$6:$CZ$64,O$102,FALSE),\"\")","v":""},{"$f":"IFERROR(VLOOKUP($A27,'All Running Order'!$A$6:$CZ$64,P$102,FALSE),\"\")","v":""},{"$f":"IFERROR(VLOOKUP($A27,'All Running Order'!$A$6:$CZ$64,Q$102,FALSE),\"\")","v":""},{"$f":"IFERROR(VLOOKUP($A27,'All Running Order'!$A$6:$CZ$64,R$102,FALSE),\"\")","v":""},{"$f":"IFERROR(VLOOKUP($A27,'All Running Order'!$A$6:$CZ$64,S$102,FALSE),\"\")","v":""},{"$f":"IFERROR(VLOOKUP($A27,'All Running Order'!$A$6:$CZ$64,T$102,FALSE),\"\")","v":""},{"$f":"IFERROR(VLOOKUP($A27,'All Running Order'!$A$6:$CZ$64,U$102,FALSE),\"\")","v":""},{"$f":"IFERROR(VLOOKUP($A27,'All Running Order'!$A$6:$CZ$64,V$102,FALSE),\"\")","v":""},{"$f":"IFERROR(VLOOKUP($A27,'All Running Order'!$A$6:$CZ$64,W$102,FALSE),\"\")","v":""},{"$f":"IFERROR(VLOOKUP($A27,'All Running Order'!$A$6:$CZ$64,X$102,FALSE),\"\")","v":""},{"$f":"IFERROR(VLOOKUP($A27,'All Running Order'!$A$6:$CZ$64,Y$102,FALSE),\"\")","v":""},{"$f":"IFERROR(VLOOKUP($A27,'All Running Order'!$A$6:$CZ$64,Z$102,FALSE),\"\")","v":""},{"$f":"IFERROR(VLOOKUP($A27,'All Running Order'!$A$6:$CZ$64,AA$102,FALSE),\"\")","v":""},{"$f":"IFERROR(VLOOKUP($A27,'All Running Order'!$A$6:$CZ$64,AB$102,FALSE),\"\")","v":""},{"$f":"IFERROR(VLOOKUP($A27,'All Running Order'!$A$6:$CZ$64,AC$102,FALSE),\"\")","v":""},{"$f":"IFERROR(VLOOKUP($A27,'All Running Order'!$A$6:$CZ$64,AD$102,FALSE),\"\")","v":""},{"$f":"IFERROR(VLOOKUP($A27,'All Running Order'!$A$6:$CZ$64,AE$102,FALSE),\"\")","v":""},{"$f":"IFERROR(VLOOKUP($A27,'All Running Order'!$A$6:$CZ$64,AF$102,FALSE),\"\")","v":""},{"$f":"IFERROR(VLOOKUP($A27,'All Running Order'!$A$6:$CZ$64,AG$102,FALSE),\"\")","v":""},{"$f":"IFERROR(VLOOKUP($A27,'All Running Order'!$A$6:$CZ$64,AH$102,FALSE),\"\")","v":""},{"$f":"IFERROR(VLOOKUP($A27,'All Running Order'!$A$6:$CZ$64,AI$102,FALSE),\"\")","v":""},{"$f":"IFERROR(VLOOKUP($A27,'All Running Order'!$A$6:$CZ$64,AJ$102,FALSE),\"\")","v":""},{"$f":"IFERROR(VLOOKUP($A27,'All Running Order'!$A$6:$CZ$64,AK$102,FALSE),\"\")","v":""},{"$f":"IFERROR(VLOOKUP($A27,'All Running Order'!$A$6:$CZ$64,AL$102,FALSE),\"\")","v":""},{"$f":"IFERROR(VLOOKUP($A27,'All Running Order'!$A$6:$CZ$64,AM$102,FALSE),\"\")","v":""},{"$f":"IFERROR(VLOOKUP($A27,'All Running Order'!$A$6:$CZ$64,AN$102,FALSE),\"\")","v":""},{"$f":"IFERROR(VLOOKUP($A27,'All Running Order'!$A$6:$CZ$64,AO$102,FALSE),\"\")","v":""},{"$f":"IFERROR(VLOOKUP($A27,'All Running Order'!$A$6:$CZ$64,AP$102,FALSE),\"\")","v":""},{"$f":"IFERROR(VLOOKUP($A27,'All Running Order'!$A$6:$CZ$64,AQ$102,FALSE),\"\")","v":""},{"$f":"IFERROR(VLOOKUP($A27,'All Running Order'!$A$6:$CZ$64,AR$102,FALSE),\"\")","v":""},{"$f":"IFERROR(VLOOKUP($A27,'All Running Order'!$A$6:$CZ$64,AS$102,FALSE),\"\")","v":""},{"$f":"IFERROR(VLOOKUP($A27,'All Running Order'!$A$6:$CZ$64,AT$102,FALSE),\"\")","v":""},{"$f":"IFERROR(VLOOKUP($A27,'All Running Order'!$A$6:$CZ$64,AU$102,FALSE),\"\")","v":""},{"$f":"IFERROR(VLOOKUP($A27,'All Running Order'!$A$6:$CZ$64,AV$102,FALSE),\"\")","v":""},{"$f":"IFERROR(VLOOKUP($A27,'All Running Order'!$A$6:$CZ$64,AW$102,FALSE),\"\")","v":""},{"$f":"IFERROR(VLOOKUP($A27,'All Running Order'!$A$6:$CZ$64,AX$102,FALSE),\"\")","v":""},{"$f":"IFERROR(VLOOKUP($A27,'All Running Order'!$A$6:$CZ$64,AY$102,FALSE),\"\")","v":""},{"$f":"IFERROR(VLOOKUP($A27,'All Running Order'!$A$6:$CZ$64,AZ$102,FALSE),\"\")","v":""},{"$f":"IFERROR(VLOOKUP($A27,'All Running Order'!$A$6:$CZ$64,BA$102,FALSE),\"\")","v":""},{"$f":"IFERROR(VLOOKUP($A27,'All Running Order'!$A$6:$CZ$64,BB$102,FALSE),\"\")","v":""},{"$f":"IFERROR(VLOOKUP($A27,'All Running Order'!$A$6:$CZ$64,BC$102,FALSE),\"\")","v":""},{"$f":"IFERROR(VLOOKUP($A27,'All Running Order'!$A$6:$CZ$64,BD$102,FALSE),\"\")","v":""},{"$f":"IFERROR(VLOOKUP($A27,'All Running Order'!$A$6:$CZ$64,BE$102,FALSE),\"\")","v":""},{"$f":"IFERROR(VLOOKUP($A27,'All Running Order'!$A$6:$CZ$64,BF$102,FALSE),\"\")","v":""},{"$f":"IFERROR(VLOOKUP($A27,'All Running Order'!$A$6:$CZ$64,BG$102,FALSE),\"\")","v":""},{"$f":"IFERROR(VLOOKUP($A27,'All Running Order'!$A$6:$CZ$64,BH$102,FALSE),\"\")","v":""},{"$f":"IFERROR(VLOOKUP($A27,'All Running Order'!$A$6:$CZ$64,BI$102,FALSE),\"\")","v":""},{"$f":"IFERROR(VLOOKUP($A27,'All Running Order'!$A$6:$CZ$64,BJ$102,FALSE),\"\")","v":""},{"$f":"IFERROR(VLOOKUP($A27,'All Running Order'!$A$6:$CZ$64,BK$102,FALSE),\"\")","v":""},{"$f":"IFERROR(VLOOKUP($A27,'All Running Order'!$A$6:$CZ$64,BL$102,FALSE),\"\")","v":""},{"$f":"IFERROR(VLOOKUP($A27,'All Running Order'!$A$6:$CZ$64,BM$102,FALSE),\"\")","v":""},{"$f":"IFERROR(VLOOKUP($A27,'All Running Order'!$A$6:$CZ$64,BN$102,FALSE),\"\")","v":""},{"$f":"IFERROR(VLOOKUP($A27,'All Running Order'!$A$6:$CZ$64,BO$102,FALSE),\"\")","v":""},{"$f":"IFERROR(VLOOKUP($A27,'All Running Order'!$A$6:$CZ$64,BP$102,FALSE),\"\")","v":""},{"$f":"IFERROR(VLOOKUP($A27,'All Running Order'!$A$6:$CZ$64,BQ$102,FALSE),\"\")","v":""},{"$f":"IFERROR(VLOOKUP($A27,'All Running Order'!$A$6:$CZ$64,BR$102,FALSE),\"\")","v":""},{"$f":"IFERROR(VLOOKUP($A27,'All Running Order'!$A$6:$CZ$64,BS$102,FALSE),\"\")","v":""},{"$f":"IFERROR(VLOOKUP($A27,'All Running Order'!$A$6:$CZ$64,BT$102,FALSE),\"\")","v":""},{"$f":"IFERROR(VLOOKUP($A27,'All Running Order'!$A$6:$CZ$64,BU$102,FALSE),\"\")","v":""},{"$f":"IFERROR(VLOOKUP($A27,'All Running Order'!$A$6:$CZ$64,BV$102,FALSE),\"\")","v":""},{"$f":"IFERROR(VLOOKUP($A27,'All Running Order'!$A$6:$CZ$64,BW$102,FALSE),\"\")","v":""},{"$f":"IFERROR(VLOOKUP($A27,'All Running Order'!$A$6:$CZ$64,BX$102,FALSE),\"\")","v":""},{"$f":"IFERROR(VLOOKUP($A27,'All Running Order'!$A$6:$CZ$64,BY$102,FALSE),\"\")","v":""},{"$f":"IFERROR(VLOOKUP($A27,'All Running Order'!$A$6:$CZ$64,BZ$102,FALSE),\"\")","v":""},{"$f":"IFERROR(VLOOKUP($A27,'All Running Order'!$A$6:$CZ$64,CA$102,FALSE),\"\")","v":""},{"$f":"IFERROR(VLOOKUP($A27,'All Running Order'!$A$6:$CZ$64,CB$102,FALSE),\"\")","v":""},{"$f":"IFERROR(VLOOKUP($A27,'All Running Order'!$A$6:$CZ$64,CC$102,FALSE),\"\")","v":""},{"$f":"IFERROR(VLOOKUP($A27,'All Running Order'!$A$6:$CZ$64,CD$102,FALSE),\"\")","v":""},{"$f":"IFERROR(VLOOKUP($A27,'All Running Order'!$A$6:$CZ$64,CE$102,FALSE),\"\")","v":""},{"$f":"IFERROR(VLOOKUP($A27,'All Running Order'!$A$6:$CZ$64,CF$102,FALSE),\"\")","v":""},{"$f":"IFERROR(VLOOKUP($A27,'All Running Order'!$A$6:$CZ$64,CG$102,FALSE),\"\")","v":""},{"$f":"IFERROR(VLOOKUP($A27,'All Running Order'!$A$6:$CZ$64,CH$102,FALSE),\"\")","v":""},{"$f":"IFERROR(VLOOKUP($A27,'All Running Order'!$A$6:$CZ$64,CI$102,FALSE),\"\")","v":""},{"$f":"IFERROR(VLOOKUP($A27,'All Running Order'!$A$6:$CZ$64,CJ$102,FALSE),\"\")","v":""},{"$f":"IFERROR(VLOOKUP($A27,'All Running Order'!$A$6:$CZ$64,CK$102,FALSE),\"\")","v":""},{"$f":"IFERROR(VLOOKUP($A27,'All Running Order'!$A$6:$CZ$64,CL$102,FALSE),\"\")","v":""},{"$f":"IFERROR(VLOOKUP($A27,'All Running Order'!$A$6:$CZ$64,CM$102,FALSE),\"\")","v":""},{"$f":"IFERROR(VLOOKUP($A27,'All Running Order'!$A$6:$CZ$64,CN$102,FALSE),\"\")","v":""},{"$f":"IFERROR(VLOOKUP($A27,'All Running Order'!$A$6:$CZ$64,CO$102,FALSE),\"\")","v":""},{"$f":"IFERROR(VLOOKUP($A27,'All Running Order'!$A$6:$CZ$64,CP$102,FALSE),\"\")","v":""},{"$f":"IFERROR(VLOOKUP($A27,'All Running Order'!$A$6:$CZ$64,CQ$102,FALSE),\"\")","v":""},{"$f":"IFERROR(VLOOKUP($A27,'All Running Order'!$A$6:$CZ$64,CR$102,FALSE),\"\")","v":""},{"$f":"IFERROR(VLOOKUP($A27,'All Running Order'!$A$6:$CZ$64,CS$102,FALSE),\"\")","v":""},{"$f":"IFERROR(VLOOKUP($A27,'All Running Order'!$A$6:$CZ$64,CT$102,FALSE),\"\")","v":""},{"$f":"IFERROR(VLOOKUP($A27,'All Running Order'!$A$6:$CZ$64,CU$102,FALSE),\"\")","v":""},{"$f":"IFERROR(VLOOKUP($A27,'All Running Order'!$A$6:$CZ$64,CV$102,FALSE),\"\")","v":""},{"$f":"IFERROR(VLOOKUP($A27,'All Running Order'!$A$6:$CZ$64,CW$102,FALSE),\"\")","v":""},{"$f":"IFERROR(VLOOKUP($A27,'All Running Order'!$A$6:$CZ$64,CX$102,FALSE),\"\")","v":""},{"$f":"IFERROR(VLOOKUP($A27,'All Running Order'!$A$6:$CZ$64,CY$102,FALSE),\"\")","v":""},{"$f":"IFERROR(VLOOKUP($A27,'All Running Order'!$A$6:$CZ$64,CZ$102,FALSE),\"\")","v":""}]
[23,{"$f":"IFERROR(VLOOKUP($A28,'All Running Order'!$A$6:$CZ$64,B$102,FALSE),\"\")","v":""},{"$f":"IFERROR(VLOOKUP($A28,'All Running Order'!$A$6:$CZ$64,C$102,FALSE),\"\")","v":""},{"$f":"IFERROR(VLOOKUP($A28,'All Running Order'!$A$6:$CZ$64,D$102,FALSE),\"\")","v":""},{"$f":"IFERROR(VLOOKUP($A28,'All Running Order'!$A$6:$CZ$64,E$102,FALSE),\"\")","v":""},{"$f":"IFERROR(VLOOKUP($A28,'All Running Order'!$A$6:$CZ$64,F$102,FALSE),\"\")","v":""},{"$f":"IFERROR(VLOOKUP($A28,'All Running Order'!$A$6:$CZ$64,G$102,FALSE),\"\")","v":""},{"$f":"IFERROR(VLOOKUP($A28,'All Running Order'!$A$6:$CZ$64,H$102,FALSE),\"\")","v":""},{"$f":"IFERROR(VLOOKUP($A28,'All Running Order'!$A$6:$CZ$64,I$102,FALSE),\"\")","v":""},{"$f":"IFERROR(VLOOKUP($A28,'All Running Order'!$A$6:$CZ$64,J$102,FALSE),\"\")","v":""},{"$f":"IFERROR(VLOOKUP($A28,'All Running Order'!$A$6:$CZ$64,K$102,FALSE),\"\")","v":""},{"$f":"IFERROR(VLOOKUP($A28,'All Running Order'!$A$6:$CZ$64,L$102,FALSE),\"\")","v":""},{"$f":"IFERROR(VLOOKUP($A28,'All Running Order'!$A$6:$CZ$64,M$102,FALSE),\"\")","v":""},{"$f":"IFERROR(VLOOKUP($A28,'All Running Order'!$A$6:$CZ$64,N$102,FALSE),\"\")","v":""},{"$f":"IFERROR(VLOOKUP($A28,'All Running Order'!$A$6:$CZ$64,O$102,FALSE),\"\")","v":""},{"$f":"IFERROR(VLOOKUP($A28,'All Running Order'!$A$6:$CZ$64,P$102,FALSE),\"\")","v":""},{"$f":"IFERROR(VLOOKUP($A28,'All Running Order'!$A$6:$CZ$64,Q$102,FALSE),\"\")","v":""},{"$f":"IFERROR(VLOOKUP($A28,'All Running Order'!$A$6:$CZ$64,R$102,FALSE),\"\")","v":""},{"$f":"IFERROR(VLOOKUP($A28,'All Running Order'!$A$6:$CZ$64,S$102,FALSE),\"\")","v":""},{"$f":"IFERROR(VLOOKUP($A28,'All Running Order'!$A$6:$CZ$64,T$102,FALSE),\"\")","v":""},{"$f":"IFERROR(VLOOKUP($A28,'All Running Order'!$A$6:$CZ$64,U$102,FALSE),\"\")","v":""},{"$f":"IFERROR(VLOOKUP($A28,'All Running Order'!$A$6:$CZ$64,V$102,FALSE),\"\")","v":""},{"$f":"IFERROR(VLOOKUP($A28,'All Running Order'!$A$6:$CZ$64,W$102,FALSE),\"\")","v":""},{"$f":"IFERROR(VLOOKUP($A28,'All Running Order'!$A$6:$CZ$64,X$102,FALSE),\"\")","v":""},{"$f":"IFERROR(VLOOKUP($A28,'All Running Order'!$A$6:$CZ$64,Y$102,FALSE),\"\")","v":""},{"$f":"IFERROR(VLOOKUP($A28,'All Running Order'!$A$6:$CZ$64,Z$102,FALSE),\"\")","v":""},{"$f":"IFERROR(VLOOKUP($A28,'All Running Order'!$A$6:$CZ$64,AA$102,FALSE),\"\")","v":""},{"$f":"IFERROR(VLOOKUP($A28,'All Running Order'!$A$6:$CZ$64,AB$102,FALSE),\"\")","v":""},{"$f":"IFERROR(VLOOKUP($A28,'All Running Order'!$A$6:$CZ$64,AC$102,FALSE),\"\")","v":""},{"$f":"IFERROR(VLOOKUP($A28,'All Running Order'!$A$6:$CZ$64,AD$102,FALSE),\"\")","v":""},{"$f":"IFERROR(VLOOKUP($A28,'All Running Order'!$A$6:$CZ$64,AE$102,FALSE),\"\")","v":""},{"$f":"IFERROR(VLOOKUP($A28,'All Running Order'!$A$6:$CZ$64,AF$102,FALSE),\"\")","v":""},{"$f":"IFERROR(VLOOKUP($A28,'All Running Order'!$A$6:$CZ$64,AG$102,FALSE),\"\")","v":""},{"$f":"IFERROR(VLOOKUP($A28,'All Running Order'!$A$6:$CZ$64,AH$102,FALSE),\"\")","v":""},{"$f":"IFERROR(VLOOKUP($A28,'All Running Order'!$A$6:$CZ$64,AI$102,FALSE),\"\")","v":""},{"$f":"IFERROR(VLOOKUP($A28,'All Running Order'!$A$6:$CZ$64,AJ$102,FALSE),\"\")","v":""},{"$f":"IFERROR(VLOOKUP($A28,'All Running Order'!$A$6:$CZ$64,AK$102,FALSE),\"\")","v":""},{"$f":"IFERROR(VLOOKUP($A28,'All Running Order'!$A$6:$CZ$64,AL$102,FALSE),\"\")","v":""},{"$f":"IFERROR(VLOOKUP($A28,'All Running Order'!$A$6:$CZ$64,AM$102,FALSE),\"\")","v":""},{"$f":"IFERROR(VLOOKUP($A28,'All Running Order'!$A$6:$CZ$64,AN$102,FALSE),\"\")","v":""},{"$f":"IFERROR(VLOOKUP($A28,'All Running Order'!$A$6:$CZ$64,AO$102,FALSE),\"\")","v":""},{"$f":"IFERROR(VLOOKUP($A28,'All Running Order'!$A$6:$CZ$64,AP$102,FALSE),\"\")","v":""},{"$f":"IFERROR(VLOOKUP($A28,'All Running Order'!$A$6:$CZ$64,AQ$102,FALSE),\"\")","v":""},{"$f":"IFERROR(VLOOKUP($A28,'All Running Order'!$A$6:$CZ$64,AR$102,FALSE),\"\")","v":""},{"$f":"IFERROR(VLOOKUP($A28,'All Running Order'!$A$6:$CZ$64,AS$102,FALSE),\"\")","v":""},{"$f":"IFERROR(VLOOKUP($A28,'All Running Order'!$A$6:$CZ$64,AT$102,FALSE),\"\")","v":""},{"$f":"IFERROR(VLOOKUP($A28,'All Running Order'!$A$6:$CZ$64,AU$102,FALSE),\"\")","v":""},{"$f":"IFERROR(VLOOKUP($A28,'All Running Order'!$A$6:$CZ$64,AV$102,FALSE),\"\")","v":""},{"$f":"IFERROR(VLOOKUP($A28,'All Running Order'!$A$6:$CZ$64,AW$102,FALSE),\"\")","v":""},{"$f":"IFERROR(VLOOKUP($A28,'All Running Order'!$A$6:$CZ$64,AX$102,FALSE),\"\")","v":""},{"$f":"IFERROR(VLOOKUP($A28,'All Running Order'!$A$6:$CZ$64,AY$102,FALSE),\"\")","v":""},{"$f":"IFERROR(VLOOKUP($A28,'All Running Order'!$A$6:$CZ$64,AZ$102,FALSE),\"\")","v":""},{"$f":"IFERROR(VLOOKUP($A28,'All Running Order'!$A$6:$CZ$64,BA$102,FALSE),\"\")","v":""},{"$f":"IFERROR(VLOOKUP($A28,'All Running Order'!$A$6:$CZ$64,BB$102,FALSE),\"\")","v":""},{"$f":"IFERROR(VLOOKUP($A28,'All Running Order'!$A$6:$CZ$64,BC$102,FALSE),\"\")","v":""},{"$f":"IFERROR(VLOOKUP($A28,'All Running Order'!$A$6:$CZ$64,BD$102,FALSE),\"\")","v":""},{"$f":"IFERROR(VLOOKUP($A28,'All Running Order'!$A$6:$CZ$64,BE$102,FALSE),\"\")","v":""},{"$f":"IFERROR(VLOOKUP($A28,'All Running Order'!$A$6:$CZ$64,BF$102,FALSE),\"\")","v":""},{"$f":"IFERROR(VLOOKUP($A28,'All Running Order'!$A$6:$CZ$64,BG$102,FALSE),\"\")","v":""},{"$f":"IFERROR(VLOOKUP($A28,'All Running Order'!$A$6:$CZ$64,BH$102,FALSE),\"\")","v":""},{"$f":"IFERROR(VLOOKUP($A28,'All Running Order'!$A$6:$CZ$64,BI$102,FALSE),\"\")","v":""},{"$f":"IFERROR(VLOOKUP($A28,'All Running Order'!$A$6:$CZ$64,BJ$102,FALSE),\"\")","v":""},{"$f":"IFERROR(VLOOKUP($A28,'All Running Order'!$A$6:$CZ$64,BK$102,FALSE),\"\")","v":""},{"$f":"IFERROR(VLOOKUP($A28,'All Running Order'!$A$6:$CZ$64,BL$102,FALSE),\"\")","v":""},{"$f":"IFERROR(VLOOKUP($A28,'All Running Order'!$A$6:$CZ$64,BM$102,FALSE),\"\")","v":""},{"$f":"IFERROR(VLOOKUP($A28,'All Running Order'!$A$6:$CZ$64,BN$102,FALSE),\"\")","v":""},{"$f":"IFERROR(VLOOKUP($A28,'All Running Order'!$A$6:$CZ$64,BO$102,FALSE),\"\")","v":""},{"$f":"IFERROR(VLOOKUP($A28,'All Running Order'!$A$6:$CZ$64,BP$102,FALSE),\"\")","v":""},{"$f":"IFERROR(VLOOKUP($A28,'All Running Order'!$A$6:$CZ$64,BQ$102,FALSE),\"\")","v":""},{"$f":"IFERROR(VLOOKUP($A28,'All Running Order'!$A$6:$CZ$64,BR$102,FALSE),\"\")","v":""},{"$f":"IFERROR(VLOOKUP($A28,'All Running Order'!$A$6:$CZ$64,BS$102,FALSE),\"\")","v":""},{"$f":"IFERROR(VLOOKUP($A28,'All Running Order'!$A$6:$CZ$64,BT$102,FALSE),\"\")","v":""},{"$f":"IFERROR(VLOOKUP($A28,'All Running Order'!$A$6:$CZ$64,BU$102,FALSE),\"\")","v":""},{"$f":"IFERROR(VLOOKUP($A28,'All Running Order'!$A$6:$CZ$64,BV$102,FALSE),\"\")","v":""},{"$f":"IFERROR(VLOOKUP($A28,'All Running Order'!$A$6:$CZ$64,BW$102,FALSE),\"\")","v":""},{"$f":"IFERROR(VLOOKUP($A28,'All Running Order'!$A$6:$CZ$64,BX$102,FALSE),\"\")","v":""},{"$f":"IFERROR(VLOOKUP($A28,'All Running Order'!$A$6:$CZ$64,BY$102,FALSE),\"\")","v":""},{"$f":"IFERROR(VLOOKUP($A28,'All Running Order'!$A$6:$CZ$64,BZ$102,FALSE),\"\")","v":""},{"$f":"IFERROR(VLOOKUP($A28,'All Running Order'!$A$6:$CZ$64,CA$102,FALSE),\"\")","v":""},{"$f":"IFERROR(VLOOKUP($A28,'All Running Order'!$A$6:$CZ$64,CB$102,FALSE),\"\")","v":""},{"$f":"IFERROR(VLOOKUP($A28,'All Running Order'!$A$6:$CZ$64,CC$102,FALSE),\"\")","v":""},{"$f":"IFERROR(VLOOKUP($A28,'All Running Order'!$A$6:$CZ$64,CD$102,FALSE),\"\")","v":""},{"$f":"IFERROR(VLOOKUP($A28,'All Running Order'!$A$6:$CZ$64,CE$102,FALSE),\"\")","v":""},{"$f":"IFERROR(VLOOKUP($A28,'All Running Order'!$A$6:$CZ$64,CF$102,FALSE),\"\")","v":""},{"$f":"IFERROR(VLOOKUP($A28,'All Running Order'!$A$6:$CZ$64,CG$102,FALSE),\"\")","v":""},{"$f":"IFERROR(VLOOKUP($A28,'All Running Order'!$A$6:$CZ$64,CH$102,FALSE),\"\")","v":""},{"$f":"IFERROR(VLOOKUP($A28,'All Running Order'!$A$6:$CZ$64,CI$102,FALSE),\"\")","v":""},{"$f":"IFERROR(VLOOKUP($A28,'All Running Order'!$A$6:$CZ$64,CJ$102,FALSE),\"\")","v":""},{"$f":"IFERROR(VLOOKUP($A28,'All Running Order'!$A$6:$CZ$64,CK$102,FALSE),\"\")","v":""},{"$f":"IFERROR(VLOOKUP($A28,'All Running Order'!$A$6:$CZ$64,CL$102,FALSE),\"\")","v":""},{"$f":"IFERROR(VLOOKUP($A28,'All Running Order'!$A$6:$CZ$64,CM$102,FALSE),\"\")","v":""},{"$f":"IFERROR(VLOOKUP($A28,'All Running Order'!$A$6:$CZ$64,CN$102,FALSE),\"\")","v":""},{"$f":"IFERROR(VLOOKUP($A28,'All Running Order'!$A$6:$CZ$64,CO$102,FALSE),\"\")","v":""},{"$f":"IFERROR(VLOOKUP($A28,'All Running Order'!$A$6:$CZ$64,CP$102,FALSE),\"\")","v":""},{"$f":"IFERROR(VLOOKUP($A28,'All Running Order'!$A$6:$CZ$64,CQ$102,FALSE),\"\")","v":""},{"$f":"IFERROR(VLOOKUP($A28,'All Running Order'!$A$6:$CZ$64,CR$102,FALSE),\"\")","v":""},{"$f":"IFERROR(VLOOKUP($A28,'All Running Order'!$A$6:$CZ$64,CS$102,FALSE),\"\")","v":""},{"$f":"IFERROR(VLOOKUP($A28,'All Running Order'!$A$6:$CZ$64,CT$102,FALSE),\"\")","v":""},{"$f":"IFERROR(VLOOKUP($A28,'All Running Order'!$A$6:$CZ$64,CU$102,FALSE),\"\")","v":""},{"$f":"IFERROR(VLOOKUP($A28,'All Running Order'!$A$6:$CZ$64,CV$102,FALSE),\"\")","v":""},{"$f":"IFERROR(VLOOKUP($A28,'All Running Order'!$A$6:$CZ$64,CW$102,FALSE),\"\")","v":""},{"$f":"IFERROR(VLOOKUP($A28,'All Running Order'!$A$6:$CZ$64,CX$102,FALSE),\"\")","v":""},{"$f":"IFERROR(VLOOKUP($A28,'All Running Order'!$A$6:$CZ$64,CY$102,FALSE),\"\")","v":""},{"$f":"IFERROR(VLOOKUP($A28,'All Running Order'!$A$6:$CZ$64,CZ$102,FALSE),\"\")","v":""}]
[24,{"$f":"IFERROR(VLOOKUP($A29,'All Running Order'!$A$6:$CZ$64,B$102,FALSE),\"\")","v":""},{"$f":"IFERROR(VLOOKUP($A29,'All Running Order'!$A$6:$CZ$64,C$102,FALSE),\"\")","v":""},{"$f":"IFERROR(VLOOKUP($A29,'All Running Order'!$A$6:$CZ$64,D$102,FALSE),\"\")","v":""},{"$f":"IFERROR(VLOOKUP($A29,'All Running Order'!$A$6:$CZ$64,E$102,FALSE),\"\")","v":""},{"$f":"IFERROR(VLOOKUP($A29,'All Running Order'!$A$6:$CZ$64,F$102,FALSE),\"\")","v":""},{"$f":"IFERROR(VLOOKUP($A29,'All Running Order'!$A$6:$CZ$64,G$102,FALSE),\"\")","v":""},{"$f":"IFERROR(VLOOKUP($A29,'All Running Order'!$A$6:$CZ$64,H$102,FALSE),\"\")","v":""},{"$f":"IFERROR(VLOOKUP($A29,'All Running Order'!$A$6:$CZ$64,I$102,FALSE),\"\")","v":""},{"$f":"IFERROR(VLOOKUP($A29,'All Running Order'!$A$6:$CZ$64,J$102,FALSE),\"\")","v":""},{"$f":"IFERROR(VLOOKUP($A29,'All Running Order'!$A$6:$CZ$64,K$102,FALSE),\"\")","v":""},{"$f":"IFERROR(VLOOKUP($A29,'All Running Order'!$A$6:$CZ$64,L$102,FALSE),\"\")","v":""},{"$f":"IFERROR(VLOOKUP($A29,'All Running Order'!$A$6:$CZ$64,M$102,FALSE),\"\")","v":""},{"$f":"IFERROR(VLOOKUP($A29,'All Running Order'!$A$6:$CZ$64,N$102,FALSE),\"\")","v":""},{"$f":"IFERROR(VLOOKUP($A29,'All Running Order'!$A$6:$CZ$64,O$102,FALSE),\"\")","v":""},{"$f":"IFERROR(VLOOKUP($A29,'All Running Order'!$A$6:$CZ$64,P$102,FALSE),\"\")","v":""},{"$f":"IFERROR(VLOOKUP($A29,'All Running Order'!$A$6:$CZ$64,Q$102,FALSE),\"\")","v":""},{"$f":"IFERROR(VLOOKUP($A29,'All Running Order'!$A$6:$CZ$64,R$102,FALSE),\"\")","v":""},{"$f":"IFERROR(VLOOKUP($A29,'All Running Order'!$A$6:$CZ$64,S$102,FALSE),\"\")","v":""},{"$f":"IFERROR(VLOOKUP($A29,'All Running Order'!$A$6:$CZ$64,T$102,FALSE),\"\")","v":""},{"$f":"IFERROR(VLOOKUP($A29,'All Running Order'!$A$6:$CZ$64,U$102,FALSE),\"\")","v":""},{"$f":"IFERROR(VLOOKUP($A29,'All Running Order'!$A$6:$CZ$64,V$102,FALSE),\"\")","v":""},{"$f":"IFERROR(VLOOKUP($A29,'All Running Order'!$A$6:$CZ$64,W$102,FALSE),\"\")","v":""},{"$f":"IFERROR(VLOOKUP($A29,'All Running Order'!$A$6:$CZ$64,X$102,FALSE),\"\")","v":""},{"$f":"IFERROR(VLOOKUP($A29,'All Running Order'!$A$6:$CZ$64,Y$102,FALSE),\"\")","v":""},{"$f":"IFERROR(VLOOKUP($A29,'All Running Order'!$A$6:$CZ$64,Z$102,FALSE),\"\")","v":""},{"$f":"IFERROR(VLOOKUP($A29,'All Running Order'!$A$6:$CZ$64,AA$102,FALSE),\"\")","v":""},{"$f":"IFERROR(VLOOKUP($A29,'All Running Order'!$A$6:$CZ$64,AB$102,FALSE),\"\")","v":""},{"$f":"IFERROR(VLOOKUP($A29,'All Running Order'!$A$6:$CZ$64,AC$102,FALSE),\"\")","v":""},{"$f":"IFERROR(VLOOKUP($A29,'All Running Order'!$A$6:$CZ$64,AD$102,FALSE),\"\")","v":""},{"$f":"IFERROR(VLOOKUP($A29,'All Running Order'!$A$6:$CZ$64,AE$102,FALSE),\"\")","v":""},{"$f":"IFERROR(VLOOKUP($A29,'All Running Order'!$A$6:$CZ$64,AF$102,FALSE),\"\")","v":""},{"$f":"IFERROR(VLOOKUP($A29,'All Running Order'!$A$6:$CZ$64,AG$102,FALSE),\"\")","v":""},{"$f":"IFERROR(VLOOKUP($A29,'All Running Order'!$A$6:$CZ$64,AH$102,FALSE),\"\")","v":""},{"$f":"IFERROR(VLOOKUP($A29,'All Running Order'!$A$6:$CZ$64,AI$102,FALSE),\"\")","v":""},{"$f":"IFERROR(VLOOKUP($A29,'All Running Order'!$A$6:$CZ$64,AJ$102,FALSE),\"\")","v":""},{"$f":"IFERROR(VLOOKUP($A29,'All Running Order'!$A$6:$CZ$64,AK$102,FALSE),\"\")","v":""},{"$f":"IFERROR(VLOOKUP($A29,'All Running Order'!$A$6:$CZ$64,AL$102,FALSE),\"\")","v":""},{"$f":"IFERROR(VLOOKUP($A29,'All Running Order'!$A$6:$CZ$64,AM$102,FALSE),\"\")","v":""},{"$f":"IFERROR(VLOOKUP($A29,'All Running Order'!$A$6:$CZ$64,AN$102,FALSE),\"\")","v":""},{"$f":"IFERROR(VLOOKUP($A29,'All Running Order'!$A$6:$CZ$64,AO$102,FALSE),\"\")","v":""},{"$f":"IFERROR(VLOOKUP($A29,'All Running Order'!$A$6:$CZ$64,AP$102,FALSE),\"\")","v":""},{"$f":"IFERROR(VLOOKUP($A29,'All Running Order'!$A$6:$CZ$64,AQ$102,FALSE),\"\")","v":""},{"$f":"IFERROR(VLOOKUP($A29,'All Running Order'!$A$6:$CZ$64,AR$102,FALSE),\"\")","v":""},{"$f":"IFERROR(VLOOKUP($A29,'All Running Order'!$A$6:$CZ$64,AS$102,FALSE),\"\")","v":""},{"$f":"IFERROR(VLOOKUP($A29,'All Running Order'!$A$6:$CZ$64,AT$102,FALSE),\"\")","v":""},{"$f":"IFERROR(VLOOKUP($A29,'All Running Order'!$A$6:$CZ$64,AU$102,FALSE),\"\")","v":""},{"$f":"IFERROR(VLOOKUP($A29,'All Running Order'!$A$6:$CZ$64,AV$102,FALSE),\"\")","v":""},{"$f":"IFERROR(VLOOKUP($A29,'All Running Order'!$A$6:$CZ$64,AW$102,FALSE),\"\")","v":""},{"$f":"IFERROR(VLOOKUP($A29,'All Running Order'!$A$6:$CZ$64,AX$102,FALSE),\"\")","v":""},{"$f":"IFERROR(VLOOKUP($A29,'All Running Order'!$A$6:$CZ$64,AY$102,FALSE),\"\")","v":""},{"$f":"IFERROR(VLOOKUP($A29,'All Running Order'!$A$6:$CZ$64,AZ$102,FALSE),\"\")","v":""},{"$f":"IFERROR(VLOOKUP($A29,'All Running Order'!$A$6:$CZ$64,BA$102,FALSE),\"\")","v":""},{"$f":"IFERROR(VLOOKUP($A29,'All Running Order'!$A$6:$CZ$64,BB$102,FALSE),\"\")","v":""},{"$f":"IFERROR(VLOOKUP($A29,'All Running Order'!$A$6:$CZ$64,BC$102,FALSE),\"\")","v":""},{"$f":"IFERROR(VLOOKUP($A29,'All Running Order'!$A$6:$CZ$64,BD$102,FALSE),\"\")","v":""},{"$f":"IFERROR(VLOOKUP($A29,'All Running Order'!$A$6:$CZ$64,BE$102,FALSE),\"\")","v":""},{"$f":"IFERROR(VLOOKUP($A29,'All Running Order'!$A$6:$CZ$64,BF$102,FALSE),\"\")","v":""},{"$f":"IFERROR(VLOOKUP($A29,'All Running Order'!$A$6:$CZ$64,BG$102,FALSE),\"\")","v":""},{"$f":"IFERROR(VLOOKUP($A29,'All Running Order'!$A$6:$CZ$64,BH$102,FALSE),\"\")","v":""},{"$f":"IFERROR(VLOOKUP($A29,'All Running Order'!$A$6:$CZ$64,BI$102,FALSE),\"\")","v":""},{"$f":"IFERROR(VLOOKUP($A29,'All Running Order'!$A$6:$CZ$64,BJ$102,FALSE),\"\")","v":""},{"$f":"IFERROR(VLOOKUP($A29,'All Running Order'!$A$6:$CZ$64,BK$102,FALSE),\"\")","v":""},{"$f":"IFERROR(VLOOKUP($A29,'All Running Order'!$A$6:$CZ$64,BL$102,FALSE),\"\")","v":""},{"$f":"IFERROR(VLOOKUP($A29,'All Running Order'!$A$6:$CZ$64,BM$102,FALSE),\"\")","v":""},{"$f":"IFERROR(VLOOKUP($A29,'All Running Order'!$A$6:$CZ$64,BN$102,FALSE),\"\")","v":""},{"$f":"IFERROR(VLOOKUP($A29,'All Running Order'!$A$6:$CZ$64,BO$102,FALSE),\"\")","v":""},{"$f":"IFERROR(VLOOKUP($A29,'All Running Order'!$A$6:$CZ$64,BP$102,FALSE),\"\")","v":""},{"$f":"IFERROR(VLOOKUP($A29,'All Running Order'!$A$6:$CZ$64,BQ$102,FALSE),\"\")","v":""},{"$f":"IFERROR(VLOOKUP($A29,'All Running Order'!$A$6:$CZ$64,BR$102,FALSE),\"\")","v":""},{"$f":"IFERROR(VLOOKUP($A29,'All Running Order'!$A$6:$CZ$64,BS$102,FALSE),\"\")","v":""},{"$f":"IFERROR(VLOOKUP($A29,'All Running Order'!$A$6:$CZ$64,BT$102,FALSE),\"\")","v":""},{"$f":"IFERROR(VLOOKUP($A29,'All Running Order'!$A$6:$CZ$64,BU$102,FALSE),\"\")","v":""},{"$f":"IFERROR(VLOOKUP($A29,'All Running Order'!$A$6:$CZ$64,BV$102,FALSE),\"\")","v":""},{"$f":"IFERROR(VLOOKUP($A29,'All Running Order'!$A$6:$CZ$64,BW$102,FALSE),\"\")","v":""},{"$f":"IFERROR(VLOOKUP($A29,'All Running Order'!$A$6:$CZ$64,BX$102,FALSE),\"\")","v":""},{"$f":"IFERROR(VLOOKUP($A29,'All Running Order'!$A$6:$CZ$64,BY$102,FALSE),\"\")","v":""},{"$f":"IFERROR(VLOOKUP($A29,'All Running Order'!$A$6:$CZ$64,BZ$102,FALSE),\"\")","v":""},{"$f":"IFERROR(VLOOKUP($A29,'All Running Order'!$A$6:$CZ$64,CA$102,FALSE),\"\")","v":""},{"$f":"IFERROR(VLOOKUP($A29,'All Running Order'!$A$6:$CZ$64,CB$102,FALSE),\"\")","v":""},{"$f":"IFERROR(VLOOKUP($A29,'All Running Order'!$A$6:$CZ$64,CC$102,FALSE),\"\")","v":""},{"$f":"IFERROR(VLOOKUP($A29,'All Running Order'!$A$6:$CZ$64,CD$102,FALSE),\"\")","v":""},{"$f":"IFERROR(VLOOKUP($A29,'All Running Order'!$A$6:$CZ$64,CE$102,FALSE),\"\")","v":""},{"$f":"IFERROR(VLOOKUP($A29,'All Running Order'!$A$6:$CZ$64,CF$102,FALSE),\"\")","v":""},{"$f":"IFERROR(VLOOKUP($A29,'All Running Order'!$A$6:$CZ$64,CG$102,FALSE),\"\")","v":""},{"$f":"IFERROR(VLOOKUP($A29,'All Running Order'!$A$6:$CZ$64,CH$102,FALSE),\"\")","v":""},{"$f":"IFERROR(VLOOKUP($A29,'All Running Order'!$A$6:$CZ$64,CI$102,FALSE),\"\")","v":""},{"$f":"IFERROR(VLOOKUP($A29,'All Running Order'!$A$6:$CZ$64,CJ$102,FALSE),\"\")","v":""},{"$f":"IFERROR(VLOOKUP($A29,'All Running Order'!$A$6:$CZ$64,CK$102,FALSE),\"\")","v":""},{"$f":"IFERROR(VLOOKUP($A29,'All Running Order'!$A$6:$CZ$64,CL$102,FALSE),\"\")","v":""},{"$f":"IFERROR(VLOOKUP($A29,'All Running Order'!$A$6:$CZ$64,CM$102,FALSE),\"\")","v":""},{"$f":"IFERROR(VLOOKUP($A29,'All Running Order'!$A$6:$CZ$64,CN$102,FALSE),\"\")","v":""},{"$f":"IFERROR(VLOOKUP($A29,'All Running Order'!$A$6:$CZ$64,CO$102,FALSE),\"\")","v":""},{"$f":"IFERROR(VLOOKUP($A29,'All Running Order'!$A$6:$CZ$64,CP$102,FALSE),\"\")","v":""},{"$f":"IFERROR(VLOOKUP($A29,'All Running Order'!$A$6:$CZ$64,CQ$102,FALSE),\"\")","v":""},{"$f":"IFERROR(VLOOKUP($A29,'All Running Order'!$A$6:$CZ$64,CR$102,FALSE),\"\")","v":""},{"$f":"IFERROR(VLOOKUP($A29,'All Running Order'!$A$6:$CZ$64,CS$102,FALSE),\"\")","v":""},{"$f":"IFERROR(VLOOKUP($A29,'All Running Order'!$A$6:$CZ$64,CT$102,FALSE),\"\")","v":""},{"$f":"IFERROR(VLOOKUP($A29,'All Running Order'!$A$6:$CZ$64,CU$102,FALSE),\"\")","v":""},{"$f":"IFERROR(VLOOKUP($A29,'All Running Order'!$A$6:$CZ$64,CV$102,FALSE),\"\")","v":""},{"$f":"IFERROR(VLOOKUP($A29,'All Running Order'!$A$6:$CZ$64,CW$102,FALSE),\"\")","v":""},{"$f":"IFERROR(VLOOKUP($A29,'All Running Order'!$A$6:$CZ$64,CX$102,FALSE),\"\")","v":""},{"$f":"IFERROR(VLOOKUP($A29,'All Running Order'!$A$6:$CZ$64,CY$102,FALSE),\"\")","v":""},{"$f":"IFERROR(VLOOKUP($A29,'All Running Order'!$A$6:$CZ$64,CZ$102,FALSE),\"\")","v":""}]
[25,{"$f":"IFERROR(VLOOKUP($A30,'All Running Order'!$A$6:$CZ$64,B$102,FALSE),\"\")","v":""},{"$f":"IFERROR(VLOOKUP($A30,'All Running Order'!$A$6:$CZ$64,C$102,FALSE),\"\")","v":""},{"$f":"IFERROR(VLOOKUP($A30,'All Running Order'!$A$6:$CZ$64,D$102,FALSE),\"\")","v":""},{"$f":"IFERROR(VLOOKUP($A30,'All Running Order'!$A$6:$CZ$64,E$102,FALSE),\"\")","v":""},{"$f":"IFERROR(VLOOKUP($A30,'All Running Order'!$A$6:$CZ$64,F$102,FALSE),\"\")","v":""},{"$f":"IFERROR(VLOOKUP($A30,'All Running Order'!$A$6:$CZ$64,G$102,FALSE),\"\")","v":""},{"$f":"IFERROR(VLOOKUP($A30,'All Running Order'!$A$6:$CZ$64,H$102,FALSE),\"\")","v":""},{"$f":"IFERROR(VLOOKUP($A30,'All Running Order'!$A$6:$CZ$64,I$102,FALSE),\"\")","v":""},{"$f":"IFERROR(VLOOKUP($A30,'All Running Order'!$A$6:$CZ$64,J$102,FALSE),\"\")","v":""},{"$f":"IFERROR(VLOOKUP($A30,'All Running Order'!$A$6:$CZ$64,K$102,FALSE),\"\")","v":""},{"$f":"IFERROR(VLOOKUP($A30,'All Running Order'!$A$6:$CZ$64,L$102,FALSE),\"\")","v":""},{"$f":"IFERROR(VLOOKUP($A30,'All Running Order'!$A$6:$CZ$64,M$102,FALSE),\"\")","v":""},{"$f":"IFERROR(VLOOKUP($A30,'All Running Order'!$A$6:$CZ$64,N$102,FALSE),\"\")","v":""},{"$f":"IFERROR(VLOOKUP($A30,'All Running Order'!$A$6:$CZ$64,O$102,FALSE),\"\")","v":""},{"$f":"IFERROR(VLOOKUP($A30,'All Running Order'!$A$6:$CZ$64,P$102,FALSE),\"\")","v":""},{"$f":"IFERROR(VLOOKUP($A30,'All Running Order'!$A$6:$CZ$64,Q$102,FALSE),\"\")","v":""},{"$f":"IFERROR(VLOOKUP($A30,'All Running Order'!$A$6:$CZ$64,R$102,FALSE),\"\")","v":""},{"$f":"IFERROR(VLOOKUP($A30,'All Running Order'!$A$6:$CZ$64,S$102,FALSE),\"\")","v":""},{"$f":"IFERROR(VLOOKUP($A30,'All Running Order'!$A$6:$CZ$64,T$102,FALSE),\"\")","v":""},{"$f":"IFERROR(VLOOKUP($A30,'All Running Order'!$A$6:$CZ$64,U$102,FALSE),\"\")","v":""},{"$f":"IFERROR(VLOOKUP($A30,'All Running Order'!$A$6:$CZ$64,V$102,FALSE),\"\")","v":""},{"$f":"IFERROR(VLOOKUP($A30,'All Running Order'!$A$6:$CZ$64,W$102,FALSE),\"\")","v":""},{"$f":"IFERROR(VLOOKUP($A30,'All Running Order'!$A$6:$CZ$64,X$102,FALSE),\"\")","v":""},{"$f":"IFERROR(VLOOKUP($A30,'All Running Order'!$A$6:$CZ$64,Y$102,FALSE),\"\")","v":""},{"$f":"IFERROR(VLOOKUP($A30,'All Running Order'!$A$6:$CZ$64,Z$102,FALSE),\"\")","v":""},{"$f":"IFERROR(VLOOKUP($A30,'All Running Order'!$A$6:$CZ$64,AA$102,FALSE),\"\")","v":""},{"$f":"IFERROR(VLOOKUP($A30,'All Running Order'!$A$6:$CZ$64,AB$102,FALSE),\"\")","v":""},{"$f":"IFERROR(VLOOKUP($A30,'All Running Order'!$A$6:$CZ$64,AC$102,FALSE),\"\")","v":""},{"$f":"IFERROR(VLOOKUP($A30,'All Running Order'!$A$6:$CZ$64,AD$102,FALSE),\"\")","v":""},{"$f":"IFERROR(VLOOKUP($A30,'All Running Order'!$A$6:$CZ$64,AE$102,FALSE),\"\")","v":""},{"$f":"IFERROR(VLOOKUP($A30,'All Running Order'!$A$6:$CZ$64,AF$102,FALSE),\"\")","v":""},{"$f":"IFERROR(VLOOKUP($A30,'All Running Order'!$A$6:$CZ$64,AG$102,FALSE),\"\")","v":""},{"$f":"IFERROR(VLOOKUP($A30,'All Running Order'!$A$6:$CZ$64,AH$102,FALSE),\"\")","v":""},{"$f":"IFERROR(VLOOKUP($A30,'All Running Order'!$A$6:$CZ$64,AI$102,FALSE),\"\")","v":""},{"$f":"IFERROR(VLOOKUP($A30,'All Running Order'!$A$6:$CZ$64,AJ$102,FALSE),\"\")","v":""},{"$f":"IFERROR(VLOOKUP($A30,'All Running Order'!$A$6:$CZ$64,AK$102,FALSE),\"\")","v":""},{"$f":"IFERROR(VLOOKUP($A30,'All Running Order'!$A$6:$CZ$64,AL$102,FALSE),\"\")","v":""},{"$f":"IFERROR(VLOOKUP($A30,'All Running Order'!$A$6:$CZ$64,AM$102,FALSE),\"\")","v":""},{"$f":"IFERROR(VLOOKUP($A30,'All Running Order'!$A$6:$CZ$64,AN$102,FALSE),\"\")","v":""},{"$f":"IFERROR(VLOOKUP($A30,'All Running Order'!$A$6:$CZ$64,AO$102,FALSE),\"\")","v":""},{"$f":"IFERROR(VLOOKUP($A30,'All Running Order'!$A$6:$CZ$64,AP$102,FALSE),\"\")","v":""},{"$f":"IFERROR(VLOOKUP($A30,'All Running Order'!$A$6:$CZ$64,AQ$102,FALSE),\"\")","v":""},{"$f":"IFERROR(VLOOKUP($A30,'All Running Order'!$A$6:$CZ$64,AR$102,FALSE),\"\")","v":""},{"$f":"IFERROR(VLOOKUP($A30,'All Running Order'!$A$6:$CZ$64,AS$102,FALSE),\"\")","v":""},{"$f":"IFERROR(VLOOKUP($A30,'All Running Order'!$A$6:$CZ$64,AT$102,FALSE),\"\")","v":""},{"$f":"IFERROR(VLOOKUP($A30,'All Running Order'!$A$6:$CZ$64,AU$102,FALSE),\"\")","v":""},{"$f":"IFERROR(VLOOKUP($A30,'All Running Order'!$A$6:$CZ$64,AV$102,FALSE),\"\")","v":""},{"$f":"IFERROR(VLOOKUP($A30,'All Running Order'!$A$6:$CZ$64,AW$102,FALSE),\"\")","v":""},{"$f":"IFERROR(VLOOKUP($A30,'All Running Order'!$A$6:$CZ$64,AX$102,FALSE),\"\")","v":""},{"$f":"IFERROR(VLOOKUP($A30,'All Running Order'!$A$6:$CZ$64,AY$102,FALSE),\"\")","v":""},{"$f":"IFERROR(VLOOKUP($A30,'All Running Order'!$A$6:$CZ$64,AZ$102,FALSE),\"\")","v":""},{"$f":"IFERROR(VLOOKUP($A30,'All Running Order'!$A$6:$CZ$64,BA$102,FALSE),\"\")","v":""},{"$f":"IFERROR(VLOOKUP($A30,'All Running Order'!$A$6:$CZ$64,BB$102,FALSE),\"\")","v":""},{"$f":"IFERROR(VLOOKUP($A30,'All Running Order'!$A$6:$CZ$64,BC$102,FALSE),\"\")","v":""},{"$f":"IFERROR(VLOOKUP($A30,'All Running Order'!$A$6:$CZ$64,BD$102,FALSE),\"\")","v":""},{"$f":"IFERROR(VLOOKUP($A30,'All Running Order'!$A$6:$CZ$64,BE$102,FALSE),\"\")","v":""},{"$f":"IFERROR(VLOOKUP($A30,'All Running Order'!$A$6:$CZ$64,BF$102,FALSE),\"\")","v":""},{"$f":"IFERROR(VLOOKUP($A30,'All Running Order'!$A$6:$CZ$64,BG$102,FALSE),\"\")","v":""},{"$f":"IFERROR(VLOOKUP($A30,'All Running Order'!$A$6:$CZ$64,BH$102,FALSE),\"\")","v":""},{"$f":"IFERROR(VLOOKUP($A30,'All Running Order'!$A$6:$CZ$64,BI$102,FALSE),\"\")","v":""},{"$f":"IFERROR(VLOOKUP($A30,'All Running Order'!$A$6:$CZ$64,BJ$102,FALSE),\"\")","v":""},{"$f":"IFERROR(VLOOKUP($A30,'All Running Order'!$A$6:$CZ$64,BK$102,FALSE),\"\")","v":""},{"$f":"IFERROR(VLOOKUP($A30,'All Running Order'!$A$6:$CZ$64,BL$102,FALSE),\"\")","v":""},{"$f":"IFERROR(VLOOKUP($A30,'All Running Order'!$A$6:$CZ$64,BM$102,FALSE),\"\")","v":""},{"$f":"IFERROR(VLOOKUP($A30,'All Running Order'!$A$6:$CZ$64,BN$102,FALSE),\"\")","v":""},{"$f":"IFERROR(VLOOKUP($A30,'All Running Order'!$A$6:$CZ$64,BO$102,FALSE),\"\")","v":""},{"$f":"IFERROR(VLOOKUP($A30,'All Running Order'!$A$6:$CZ$64,BP$102,FALSE),\"\")","v":""},{"$f":"IFERROR(VLOOKUP($A30,'All Running Order'!$A$6:$CZ$64,BQ$102,FALSE),\"\")","v":""},{"$f":"IFERROR(VLOOKUP($A30,'All Running Order'!$A$6:$CZ$64,BR$102,FALSE),\"\")","v":""},{"$f":"IFERROR(VLOOKUP($A30,'All Running Order'!$A$6:$CZ$64,BS$102,FALSE),\"\")","v":""},{"$f":"IFERROR(VLOOKUP($A30,'All Running Order'!$A$6:$CZ$64,BT$102,FALSE),\"\")","v":""},{"$f":"IFERROR(VLOOKUP($A30,'All Running Order'!$A$6:$CZ$64,BU$102,FALSE),\"\")","v":""},{"$f":"IFERROR(VLOOKUP($A30,'All Running Order'!$A$6:$CZ$64,BV$102,FALSE),\"\")","v":""},{"$f":"IFERROR(VLOOKUP($A30,'All Running Order'!$A$6:$CZ$64,BW$102,FALSE),\"\")","v":""},{"$f":"IFERROR(VLOOKUP($A30,'All Running Order'!$A$6:$CZ$64,BX$102,FALSE),\"\")","v":""},{"$f":"IFERROR(VLOOKUP($A30,'All Running Order'!$A$6:$CZ$64,BY$102,FALSE),\"\")","v":""},{"$f":"IFERROR(VLOOKUP($A30,'All Running Order'!$A$6:$CZ$64,BZ$102,FALSE),\"\")","v":""},{"$f":"IFERROR(VLOOKUP($A30,'All Running Order'!$A$6:$CZ$64,CA$102,FALSE),\"\")","v":""},{"$f":"IFERROR(VLOOKUP($A30,'All Running Order'!$A$6:$CZ$64,CB$102,FALSE),\"\")","v":""},{"$f":"IFERROR(VLOOKUP($A30,'All Running Order'!$A$6:$CZ$64,CC$102,FALSE),\"\")","v":""},{"$f":"IFERROR(VLOOKUP($A30,'All Running Order'!$A$6:$CZ$64,CD$102,FALSE),\"\")","v":""},{"$f":"IFERROR(VLOOKUP($A30,'All Running Order'!$A$6:$CZ$64,CE$102,FALSE),\"\")","v":""},{"$f":"IFERROR(VLOOKUP($A30,'All Running Order'!$A$6:$CZ$64,CF$102,FALSE),\"\")","v":""},{"$f":"IFERROR(VLOOKUP($A30,'All Running Order'!$A$6:$CZ$64,CG$102,FALSE),\"\")","v":""},{"$f":"IFERROR(VLOOKUP($A30,'All Running Order'!$A$6:$CZ$64,CH$102,FALSE),\"\")","v":""},{"$f":"IFERROR(VLOOKUP($A30,'All Running Order'!$A$6:$CZ$64,CI$102,FALSE),\"\")","v":""},{"$f":"IFERROR(VLOOKUP($A30,'All Running Order'!$A$6:$CZ$64,CJ$102,FALSE),\"\")","v":""},{"$f":"IFERROR(VLOOKUP($A30,'All Running Order'!$A$6:$CZ$64,CK$102,FALSE),\"\")","v":""},{"$f":"IFERROR(VLOOKUP($A30,'All Running Order'!$A$6:$CZ$64,CL$102,FALSE),\"\")","v":""},{"$f":"IFERROR(VLOOKUP($A30,'All Running Order'!$A$6:$CZ$64,CM$102,FALSE),\"\")","v":""},{"$f":"IFERROR(VLOOKUP($A30,'All Running Order'!$A$6:$CZ$64,CN$102,FALSE),\"\")","v":""},{"$f":"IFERROR(VLOOKUP($A30,'All Running Order'!$A$6:$CZ$64,CO$102,FALSE),\"\")","v":""},{"$f":"IFERROR(VLOOKUP($A30,'All Running Order'!$A$6:$CZ$64,CP$102,FALSE),\"\")","v":""},{"$f":"IFERROR(VLOOKUP($A30,'All Running Order'!$A$6:$CZ$64,CQ$102,FALSE),\"\")","v":""},{"$f":"IFERROR(VLOOKUP($A30,'All Running Order'!$A$6:$CZ$64,CR$102,FALSE),\"\")","v":""},{"$f":"IFERROR(VLOOKUP($A30,'All Running Order'!$A$6:$CZ$64,CS$102,FALSE),\"\")","v":""},{"$f":"IFERROR(VLOOKUP($A30,'All Running Order'!$A$6:$CZ$64,CT$102,FALSE),\"\")","v":""},{"$f":"IFERROR(VLOOKUP($A30,'All Running Order'!$A$6:$CZ$64,CU$102,FALSE),\"\")","v":""},{"$f":"IFERROR(VLOOKUP($A30,'All Running Order'!$A$6:$CZ$64,CV$102,FALSE),\"\")","v":""},{"$f":"IFERROR(VLOOKUP($A30,'All Running Order'!$A$6:$CZ$64,CW$102,FALSE),\"\")","v":""},{"$f":"IFERROR(VLOOKUP($A30,'All Running Order'!$A$6:$CZ$64,CX$102,FALSE),\"\")","v":""},{"$f":"IFERROR(VLOOKUP($A30,'All Running Order'!$A$6:$CZ$64,CY$102,FALSE),\"\")","v":""},{"$f":"IFERROR(VLOOKUP($A30,'All Running Order'!$A$6:$CZ$64,CZ$102,FALSE),\"\")","v":""}]
[26,{"$f":"IFERROR(VLOOKUP($A31,'All Running Order'!$A$6:$CZ$64,B$102,FALSE),\"\")","v":""},{"$f":"IFERROR(VLOOKUP($A31,'All Running Order'!$A$6:$CZ$64,C$102,FALSE),\"\")","v":""},{"$f":"IFERROR(VLOOKUP($A31,'All Running Order'!$A$6:$CZ$64,D$102,FALSE),\"\")","v":""},{"$f":"IFERROR(VLOOKUP($A31,'All Running Order'!$A$6:$CZ$64,E$102,FALSE),\"\")","v":""},{"$f":"IFERROR(VLOOKUP($A31,'All Running Order'!$A$6:$CZ$64,F$102,FALSE),\"\")","v":""},{"$f":"IFERROR(VLOOKUP($A31,'All Running Order'!$A$6:$CZ$64,G$102,FALSE),\"\")","v":""},{"$f":"IFERROR(VLOOKUP($A31,'All Running Order'!$A$6:$CZ$64,H$102,FALSE),\"\")","v":""},{"$f":"IFERROR(VLOOKUP($A31,'All Running Order'!$A$6:$CZ$64,I$102,FALSE),\"\")","v":""},{"$f":"IFERROR(VLOOKUP($A31,'All Running Order'!$A$6:$CZ$64,J$102,FALSE),\"\")","v":""},{"$f":"IFERROR(VLOOKUP($A31,'All Running Order'!$A$6:$CZ$64,K$102,FALSE),\"\")","v":""},{"$f":"IFERROR(VLOOKUP($A31,'All Running Order'!$A$6:$CZ$64,L$102,FALSE),\"\")","v":""},{"$f":"IFERROR(VLOOKUP($A31,'All Running Order'!$A$6:$CZ$64,M$102,FALSE),\"\")","v":""},{"$f":"IFERROR(VLOOKUP($A31,'All Running Order'!$A$6:$CZ$64,N$102,FALSE),\"\")","v":""},{"$f":"IFERROR(VLOOKUP($A31,'All Running Order'!$A$6:$CZ$64,O$102,FALSE),\"\")","v":""},{"$f":"IFERROR(VLOOKUP($A31,'All Running Order'!$A$6:$CZ$64,P$102,FALSE),\"\")","v":""},{"$f":"IFERROR(VLOOKUP($A31,'All Running Order'!$A$6:$CZ$64,Q$102,FALSE),\"\")","v":""},{"$f":"IFERROR(VLOOKUP($A31,'All Running Order'!$A$6:$CZ$64,R$102,FALSE),\"\")","v":""},{"$f":"IFERROR(VLOOKUP($A31,'All Running Order'!$A$6:$CZ$64,S$102,FALSE),\"\")","v":""},{"$f":"IFERROR(VLOOKUP($A31,'All Running Order'!$A$6:$CZ$64,T$102,FALSE),\"\")","v":""},{"$f":"IFERROR(VLOOKUP($A31,'All Running Order'!$A$6:$CZ$64,U$102,FALSE),\"\")","v":""},{"$f":"IFERROR(VLOOKUP($A31,'All Running Order'!$A$6:$CZ$64,V$102,FALSE),\"\")","v":""},{"$f":"IFERROR(VLOOKUP($A31,'All Running Order'!$A$6:$CZ$64,W$102,FALSE),\"\")","v":""},{"$f":"IFERROR(VLOOKUP($A31,'All Running Order'!$A$6:$CZ$64,X$102,FALSE),\"\")","v":""},{"$f":"IFERROR(VLOOKUP($A31,'All Running Order'!$A$6:$CZ$64,Y$102,FALSE),\"\")","v":""},{"$f":"IFERROR(VLOOKUP($A31,'All Running Order'!$A$6:$CZ$64,Z$102,FALSE),\"\")","v":""},{"$f":"IFERROR(VLOOKUP($A31,'All Running Order'!$A$6:$CZ$64,AA$102,FALSE),\"\")","v":""},{"$f":"IFERROR(VLOOKUP($A31,'All Running Order'!$A$6:$CZ$64,AB$102,FALSE),\"\")","v":""},{"$f":"IFERROR(VLOOKUP($A31,'All Running Order'!$A$6:$CZ$64,AC$102,FALSE),\"\")","v":""},{"$f":"IFERROR(VLOOKUP($A31,'All Running Order'!$A$6:$CZ$64,AD$102,FALSE),\"\")","v":""},{"$f":"IFERROR(VLOOKUP($A31,'All Running Order'!$A$6:$CZ$64,AE$102,FALSE),\"\")","v":""},{"$f":"IFERROR(VLOOKUP($A31,'All Running Order'!$A$6:$CZ$64,AF$102,FALSE),\"\")","v":""},{"$f":"IFERROR(VLOOKUP($A31,'All Running Order'!$A$6:$CZ$64,AG$102,FALSE),\"\")","v":""},{"$f":"IFERROR(VLOOKUP($A31,'All Running Order'!$A$6:$CZ$64,AH$102,FALSE),\"\")","v":""},{"$f":"IFERROR(VLOOKUP($A31,'All Running Order'!$A$6:$CZ$64,AI$102,FALSE),\"\")","v":""},{"$f":"IFERROR(VLOOKUP($A31,'All Running Order'!$A$6:$CZ$64,AJ$102,FALSE),\"\")","v":""},{"$f":"IFERROR(VLOOKUP($A31,'All Running Order'!$A$6:$CZ$64,AK$102,FALSE),\"\")","v":""},{"$f":"IFERROR(VLOOKUP($A31,'All Running Order'!$A$6:$CZ$64,AL$102,FALSE),\"\")","v":""},{"$f":"IFERROR(VLOOKUP($A31,'All Running Order'!$A$6:$CZ$64,AM$102,FALSE),\"\")","v":""},{"$f":"IFERROR(VLOOKUP($A31,'All Running Order'!$A$6:$CZ$64,AN$102,FALSE),\"\")","v":""},{"$f":"IFERROR(VLOOKUP($A31,'All Running Order'!$A$6:$CZ$64,AO$102,FALSE),\"\")","v":""},{"$f":"IFERROR(VLOOKUP($A31,'All Running Order'!$A$6:$CZ$64,AP$102,FALSE),\"\")","v":""},{"$f":"IFERROR(VLOOKUP($A31,'All Running Order'!$A$6:$CZ$64,AQ$102,FALSE),\"\")","v":""},{"$f":"IFERROR(VLOOKUP($A31,'All Running Order'!$A$6:$CZ$64,AR$102,FALSE),\"\")","v":""},{"$f":"IFERROR(VLOOKUP($A31,'All Running Order'!$A$6:$CZ$64,AS$102,FALSE),\"\")","v":""},{"$f":"IFERROR(VLOOKUP($A31,'All Running Order'!$A$6:$CZ$64,AT$102,FALSE),\"\")","v":""},{"$f":"IFERROR(VLOOKUP($A31,'All Running Order'!$A$6:$CZ$64,AU$102,FALSE),\"\")","v":""},{"$f":"IFERROR(VLOOKUP($A31,'All Running Order'!$A$6:$CZ$64,AV$102,FALSE),\"\")","v":""},{"$f":"IFERROR(VLOOKUP($A31,'All Running Order'!$A$6:$CZ$64,AW$102,FALSE),\"\")","v":""},{"$f":"IFERROR(VLOOKUP($A31,'All Running Order'!$A$6:$CZ$64,AX$102,FALSE),\"\")","v":""},{"$f":"IFERROR(VLOOKUP($A31,'All Running Order'!$A$6:$CZ$64,AY$102,FALSE),\"\")","v":""},{"$f":"IFERROR(VLOOKUP($A31,'All Running Order'!$A$6:$CZ$64,AZ$102,FALSE),\"\")","v":""},{"$f":"IFERROR(VLOOKUP($A31,'All Running Order'!$A$6:$CZ$64,BA$102,FALSE),\"\")","v":""},{"$f":"IFERROR(VLOOKUP($A31,'All Running Order'!$A$6:$CZ$64,BB$102,FALSE),\"\")","v":""},{"$f":"IFERROR(VLOOKUP($A31,'All Running Order'!$A$6:$CZ$64,BC$102,FALSE),\"\")","v":""},{"$f":"IFERROR(VLOOKUP($A31,'All Running Order'!$A$6:$CZ$64,BD$102,FALSE),\"\")","v":""},{"$f":"IFERROR(VLOOKUP($A31,'All Running Order'!$A$6:$CZ$64,BE$102,FALSE),\"\")","v":""},{"$f":"IFERROR(VLOOKUP($A31,'All Running Order'!$A$6:$CZ$64,BF$102,FALSE),\"\")","v":""},{"$f":"IFERROR(VLOOKUP($A31,'All Running Order'!$A$6:$CZ$64,BG$102,FALSE),\"\")","v":""},{"$f":"IFERROR(VLOOKUP($A31,'All Running Order'!$A$6:$CZ$64,BH$102,FALSE),\"\")","v":""},{"$f":"IFERROR(VLOOKUP($A31,'All Running Order'!$A$6:$CZ$64,BI$102,FALSE),\"\")","v":""},{"$f":"IFERROR(VLOOKUP($A31,'All Running Order'!$A$6:$CZ$64,BJ$102,FALSE),\"\")","v":""},{"$f":"IFERROR(VLOOKUP($A31,'All Running Order'!$A$6:$CZ$64,BK$102,FALSE),\"\")","v":""},{"$f":"IFERROR(VLOOKUP($A31,'All Running Order'!$A$6:$CZ$64,BL$102,FALSE),\"\")","v":""},{"$f":"IFERROR(VLOOKUP($A31,'All Running Order'!$A$6:$CZ$64,BM$102,FALSE),\"\")","v":""},{"$f":"IFERROR(VLOOKUP($A31,'All Running Order'!$A$6:$CZ$64,BN$102,FALSE),\"\")","v":""},{"$f":"IFERROR(VLOOKUP($A31,'All Running Order'!$A$6:$CZ$64,BO$102,FALSE),\"\")","v":""},{"$f":"IFERROR(VLOOKUP($A31,'All Running Order'!$A$6:$CZ$64,BP$102,FALSE),\"\")","v":""},{"$f":"IFERROR(VLOOKUP($A31,'All Running Order'!$A$6:$CZ$64,BQ$102,FALSE),\"\")","v":""},{"$f":"IFERROR(VLOOKUP($A31,'All Running Order'!$A$6:$CZ$64,BR$102,FALSE),\"\")","v":""},{"$f":"IFERROR(VLOOKUP($A31,'All Running Order'!$A$6:$CZ$64,BS$102,FALSE),\"\")","v":""},{"$f":"IFERROR(VLOOKUP($A31,'All Running Order'!$A$6:$CZ$64,BT$102,FALSE),\"\")","v":""},{"$f":"IFERROR(VLOOKUP($A31,'All Running Order'!$A$6:$CZ$64,BU$102,FALSE),\"\")","v":""},{"$f":"IFERROR(VLOOKUP($A31,'All Running Order'!$A$6:$CZ$64,BV$102,FALSE),\"\")","v":""},{"$f":"IFERROR(VLOOKUP($A31,'All Running Order'!$A$6:$CZ$64,BW$102,FALSE),\"\")","v":""},{"$f":"IFERROR(VLOOKUP($A31,'All Running Order'!$A$6:$CZ$64,BX$102,FALSE),\"\")","v":""},{"$f":"IFERROR(VLOOKUP($A31,'All Running Order'!$A$6:$CZ$64,BY$102,FALSE),\"\")","v":""},{"$f":"IFERROR(VLOOKUP($A31,'All Running Order'!$A$6:$CZ$64,BZ$102,FALSE),\"\")","v":""},{"$f":"IFERROR(VLOOKUP($A31,'All Running Order'!$A$6:$CZ$64,CA$102,FALSE),\"\")","v":""},{"$f":"IFERROR(VLOOKUP($A31,'All Running Order'!$A$6:$CZ$64,CB$102,FALSE),\"\")","v":""},{"$f":"IFERROR(VLOOKUP($A31,'All Running Order'!$A$6:$CZ$64,CC$102,FALSE),\"\")","v":""},{"$f":"IFERROR(VLOOKUP($A31,'All Running Order'!$A$6:$CZ$64,CD$102,FALSE),\"\")","v":""},{"$f":"IFERROR(VLOOKUP($A31,'All Running Order'!$A$6:$CZ$64,CE$102,FALSE),\"\")","v":""},{"$f":"IFERROR(VLOOKUP($A31,'All Running Order'!$A$6:$CZ$64,CF$102,FALSE),\"\")","v":""},{"$f":"IFERROR(VLOOKUP($A31,'All Running Order'!$A$6:$CZ$64,CG$102,FALSE),\"\")","v":""},{"$f":"IFERROR(VLOOKUP($A31,'All Running Order'!$A$6:$CZ$64,CH$102,FALSE),\"\")","v":""},{"$f":"IFERROR(VLOOKUP($A31,'All Running Order'!$A$6:$CZ$64,CI$102,FALSE),\"\")","v":""},{"$f":"IFERROR(VLOOKUP($A31,'All Running Order'!$A$6:$CZ$64,CJ$102,FALSE),\"\")","v":""},{"$f":"IFERROR(VLOOKUP($A31,'All Running Order'!$A$6:$CZ$64,CK$102,FALSE),\"\")","v":""},{"$f":"IFERROR(VLOOKUP($A31,'All Running Order'!$A$6:$CZ$64,CL$102,FALSE),\"\")","v":""},{"$f":"IFERROR(VLOOKUP($A31,'All Running Order'!$A$6:$CZ$64,CM$102,FALSE),\"\")","v":""},{"$f":"IFERROR(VLOOKUP($A31,'All Running Order'!$A$6:$CZ$64,CN$102,FALSE),\"\")","v":""},{"$f":"IFERROR(VLOOKUP($A31,'All Running Order'!$A$6:$CZ$64,CO$102,FALSE),\"\")","v":""},{"$f":"IFERROR(VLOOKUP($A31,'All Running Order'!$A$6:$CZ$64,CP$102,FALSE),\"\")","v":""},{"$f":"IFERROR(VLOOKUP($A31,'All Running Order'!$A$6:$CZ$64,CQ$102,FALSE),\"\")","v":""},{"$f":"IFERROR(VLOOKUP($A31,'All Running Order'!$A$6:$CZ$64,CR$102,FALSE),\"\")","v":""},{"$f":"IFERROR(VLOOKUP($A31,'All Running Order'!$A$6:$CZ$64,CS$102,FALSE),\"\")","v":""},{"$f":"IFERROR(VLOOKUP($A31,'All Running Order'!$A$6:$CZ$64,CT$102,FALSE),\"\")","v":""},{"$f":"IFERROR(VLOOKUP($A31,'All Running Order'!$A$6:$CZ$64,CU$102,FALSE),\"\")","v":""},{"$f":"IFERROR(VLOOKUP($A31,'All Running Order'!$A$6:$CZ$64,CV$102,FALSE),\"\")","v":""},{"$f":"IFERROR(VLOOKUP($A31,'All Running Order'!$A$6:$CZ$64,CW$102,FALSE),\"\")","v":""},{"$f":"IFERROR(VLOOKUP($A31,'All Running Order'!$A$6:$CZ$64,CX$102,FALSE),\"\")","v":""},{"$f":"IFERROR(VLOOKUP($A31,'All Running Order'!$A$6:$CZ$64,CY$102,FALSE),\"\")","v":""},{"$f":"IFERROR(VLOOKUP($A31,'All Running Order'!$A$6:$CZ$64,CZ$102,FALSE),\"\")","v":""}]
[27,{"$f":"IFERROR(VLOOKUP($A32,'All Running Order'!$A$6:$CZ$64,B$102,FALSE),\"\")","v":""},{"$f":"IFERROR(VLOOKUP($A32,'All Running Order'!$A$6:$CZ$64,C$102,FALSE),\"\")","v":""},{"$f":"IFERROR(VLOOKUP($A32,'All Running Order'!$A$6:$CZ$64,D$102,FALSE),\"\")","v":""},{"$f":"IFERROR(VLOOKUP($A32,'All Running Order'!$A$6:$CZ$64,E$102,FALSE),\"\")","v":""},{"$f":"IFERROR(VLOOKUP($A32,'All Running Order'!$A$6:$CZ$64,F$102,FALSE),\"\")","v":""},{"$f":"IFERROR(VLOOKUP($A32,'All Running Order'!$A$6:$CZ$64,G$102,FALSE),\"\")","v":""},{"$f":"IFERROR(VLOOKUP($A32,'All Running Order'!$A$6:$CZ$64,H$102,FALSE),\"\")","v":""},{"$f":"IFERROR(VLOOKUP($A32,'All Running Order'!$A$6:$CZ$64,I$102,FALSE),\"\")","v":""},{"$f":"IFERROR(VLOOKUP($A32,'All Running Order'!$A$6:$CZ$64,J$102,FALSE),\"\")","v":""},{"$f":"IFERROR(VLOOKUP($A32,'All Running Order'!$A$6:$CZ$64,K$102,FALSE),\"\")","v":""},{"$f":"IFERROR(VLOOKUP($A32,'All Running Order'!$A$6:$CZ$64,L$102,FALSE),\"\")","v":""},{"$f":"IFERROR(VLOOKUP($A32,'All Running Order'!$A$6:$CZ$64,M$102,FALSE),\"\")","v":""},{"$f":"IFERROR(VLOOKUP($A32,'All Running Order'!$A$6:$CZ$64,N$102,FALSE),\"\")","v":""},{"$f":"IFERROR(VLOOKUP($A32,'All Running Order'!$A$6:$CZ$64,O$102,FALSE),\"\")","v":""},{"$f":"IFERROR(VLOOKUP($A32,'All Running Order'!$A$6:$CZ$64,P$102,FALSE),\"\")","v":""},{"$f":"IFERROR(VLOOKUP($A32,'All Running Order'!$A$6:$CZ$64,Q$102,FALSE),\"\")","v":""},{"$f":"IFERROR(VLOOKUP($A32,'All Running Order'!$A$6:$CZ$64,R$102,FALSE),\"\")","v":""},{"$f":"IFERROR(VLOOKUP($A32,'All Running Order'!$A$6:$CZ$64,S$102,FALSE),\"\")","v":""},{"$f":"IFERROR(VLOOKUP($A32,'All Running Order'!$A$6:$CZ$64,T$102,FALSE),\"\")","v":""},{"$f":"IFERROR(VLOOKUP($A32,'All Running Order'!$A$6:$CZ$64,U$102,FALSE),\"\")","v":""},{"$f":"IFERROR(VLOOKUP($A32,'All Running Order'!$A$6:$CZ$64,V$102,FALSE),\"\")","v":""},{"$f":"IFERROR(VLOOKUP($A32,'All Running Order'!$A$6:$CZ$64,W$102,FALSE),\"\")","v":""},{"$f":"IFERROR(VLOOKUP($A32,'All Running Order'!$A$6:$CZ$64,X$102,FALSE),\"\")","v":""},{"$f":"IFERROR(VLOOKUP($A32,'All Running Order'!$A$6:$CZ$64,Y$102,FALSE),\"\")","v":""},{"$f":"IFERROR(VLOOKUP($A32,'All Running Order'!$A$6:$CZ$64,Z$102,FALSE),\"\")","v":""},{"$f":"IFERROR(VLOOKUP($A32,'All Running Order'!$A$6:$CZ$64,AA$102,FALSE),\"\")","v":""},{"$f":"IFERROR(VLOOKUP($A32,'All Running Order'!$A$6:$CZ$64,AB$102,FALSE),\"\")","v":""},{"$f":"IFERROR(VLOOKUP($A32,'All Running Order'!$A$6:$CZ$64,AC$102,FALSE),\"\")","v":""},{"$f":"IFERROR(VLOOKUP($A32,'All Running Order'!$A$6:$CZ$64,AD$102,FALSE),\"\")","v":""},{"$f":"IFERROR(VLOOKUP($A32,'All Running Order'!$A$6:$CZ$64,AE$102,FALSE),\"\")","v":""},{"$f":"IFERROR(VLOOKUP($A32,'All Running Order'!$A$6:$CZ$64,AF$102,FALSE),\"\")","v":""},{"$f":"IFERROR(VLOOKUP($A32,'All Running Order'!$A$6:$CZ$64,AG$102,FALSE),\"\")","v":""},{"$f":"IFERROR(VLOOKUP($A32,'All Running Order'!$A$6:$CZ$64,AH$102,FALSE),\"\")","v":""},{"$f":"IFERROR(VLOOKUP($A32,'All Running Order'!$A$6:$CZ$64,AI$102,FALSE),\"\")","v":""},{"$f":"IFERROR(VLOOKUP($A32,'All Running Order'!$A$6:$CZ$64,AJ$102,FALSE),\"\")","v":""},{"$f":"IFERROR(VLOOKUP($A32,'All Running Order'!$A$6:$CZ$64,AK$102,FALSE),\"\")","v":""},{"$f":"IFERROR(VLOOKUP($A32,'All Running Order'!$A$6:$CZ$64,AL$102,FALSE),\"\")","v":""},{"$f":"IFERROR(VLOOKUP($A32,'All Running Order'!$A$6:$CZ$64,AM$102,FALSE),\"\")","v":""},{"$f":"IFERROR(VLOOKUP($A32,'All Running Order'!$A$6:$CZ$64,AN$102,FALSE),\"\")","v":""},{"$f":"IFERROR(VLOOKUP($A32,'All Running Order'!$A$6:$CZ$64,AO$102,FALSE),\"\")","v":""},{"$f":"IFERROR(VLOOKUP($A32,'All Running Order'!$A$6:$CZ$64,AP$102,FALSE),\"\")","v":""},{"$f":"IFERROR(VLOOKUP($A32,'All Running Order'!$A$6:$CZ$64,AQ$102,FALSE),\"\")","v":""},{"$f":"IFERROR(VLOOKUP($A32,'All Running Order'!$A$6:$CZ$64,AR$102,FALSE),\"\")","v":""},{"$f":"IFERROR(VLOOKUP($A32,'All Running Order'!$A$6:$CZ$64,AS$102,FALSE),\"\")","v":""},{"$f":"IFERROR(VLOOKUP($A32,'All Running Order'!$A$6:$CZ$64,AT$102,FALSE),\"\")","v":""},{"$f":"IFERROR(VLOOKUP($A32,'All Running Order'!$A$6:$CZ$64,AU$102,FALSE),\"\")","v":""},{"$f":"IFERROR(VLOOKUP($A32,'All Running Order'!$A$6:$CZ$64,AV$102,FALSE),\"\")","v":""},{"$f":"IFERROR(VLOOKUP($A32,'All Running Order'!$A$6:$CZ$64,AW$102,FALSE),\"\")","v":""},{"$f":"IFERROR(VLOOKUP($A32,'All Running Order'!$A$6:$CZ$64,AX$102,FALSE),\"\")","v":""},{"$f":"IFERROR(VLOOKUP($A32,'All Running Order'!$A$6:$CZ$64,AY$102,FALSE),\"\")","v":""},{"$f":"IFERROR(VLOOKUP($A32,'All Running Order'!$A$6:$CZ$64,AZ$102,FALSE),\"\")","v":""},{"$f":"IFERROR(VLOOKUP($A32,'All Running Order'!$A$6:$CZ$64,BA$102,FALSE),\"\")","v":""},{"$f":"IFERROR(VLOOKUP($A32,'All Running Order'!$A$6:$CZ$64,BB$102,FALSE),\"\")","v":""},{"$f":"IFERROR(VLOOKUP($A32,'All Running Order'!$A$6:$CZ$64,BC$102,FALSE),\"\")","v":""},{"$f":"IFERROR(VLOOKUP($A32,'All Running Order'!$A$6:$CZ$64,BD$102,FALSE),\"\")","v":""},{"$f":"IFERROR(VLOOKUP($A32,'All Running Order'!$A$6:$CZ$64,BE$102,FALSE),\"\")","v":""},{"$f":"IFERROR(VLOOKUP($A32,'All Running Order'!$A$6:$CZ$64,BF$102,FALSE),\"\")","v":""},{"$f":"IFERROR(VLOOKUP($A32,'All Running Order'!$A$6:$CZ$64,BG$102,FALSE),\"\")","v":""},{"$f":"IFERROR(VLOOKUP($A32,'All Running Order'!$A$6:$CZ$64,BH$102,FALSE),\"\")","v":""},{"$f":"IFERROR(VLOOKUP($A32,'All Running Order'!$A$6:$CZ$64,BI$102,FALSE),\"\")","v":""},{"$f":"IFERROR(VLOOKUP($A32,'All Running Order'!$A$6:$CZ$64,BJ$102,FALSE),\"\")","v":""},{"$f":"IFERROR(VLOOKUP($A32,'All Running Order'!$A$6:$CZ$64,BK$102,FALSE),\"\")","v":""},{"$f":"IFERROR(VLOOKUP($A32,'All Running Order'!$A$6:$CZ$64,BL$102,FALSE),\"\")","v":""},{"$f":"IFERROR(VLOOKUP($A32,'All Running Order'!$A$6:$CZ$64,BM$102,FALSE),\"\")","v":""},{"$f":"IFERROR(VLOOKUP($A32,'All Running Order'!$A$6:$CZ$64,BN$102,FALSE),\"\")","v":""},{"$f":"IFERROR(VLOOKUP($A32,'All Running Order'!$A$6:$CZ$64,BO$102,FALSE),\"\")","v":""},{"$f":"IFERROR(VLOOKUP($A32,'All Running Order'!$A$6:$CZ$64,BP$102,FALSE),\"\")","v":""},{"$f":"IFERROR(VLOOKUP($A32,'All Running Order'!$A$6:$CZ$64,BQ$102,FALSE),\"\")","v":""},{"$f":"IFERROR(VLOOKUP($A32,'All Running Order'!$A$6:$CZ$64,BR$102,FALSE),\"\")","v":""},{"$f":"IFERROR(VLOOKUP($A32,'All Running Order'!$A$6:$CZ$64,BS$102,FALSE),\"\")","v":""},{"$f":"IFERROR(VLOOKUP($A32,'All Running Order'!$A$6:$CZ$64,BT$102,FALSE),\"\")","v":""},{"$f":"IFERROR(VLOOKUP($A32,'All Running Order'!$A$6:$CZ$64,BU$102,FALSE),\"\")","v":""},{"$f":"IFERROR(VLOOKUP($A32,'All Running Order'!$A$6:$CZ$64,BV$102,FALSE),\"\")","v":""},{"$f":"IFERROR(VLOOKUP($A32,'All Running Order'!$A$6:$CZ$64,BW$102,FALSE),\"\")","v":""},{"$f":"IFERROR(VLOOKUP($A32,'All Running Order'!$A$6:$CZ$64,BX$102,FALSE),\"\")","v":""},{"$f":"IFERROR(VLOOKUP($A32,'All Running Order'!$A$6:$CZ$64,BY$102,FALSE),\"\")","v":""},{"$f":"IFERROR(VLOOKUP($A32,'All Running Order'!$A$6:$CZ$64,BZ$102,FALSE),\"\")","v":""},{"$f":"IFERROR(VLOOKUP($A32,'All Running Order'!$A$6:$CZ$64,CA$102,FALSE),\"\")","v":""},{"$f":"IFERROR(VLOOKUP($A32,'All Running Order'!$A$6:$CZ$64,CB$102,FALSE),\"\")","v":""},{"$f":"IFERROR(VLOOKUP($A32,'All Running Order'!$A$6:$CZ$64,CC$102,FALSE),\"\")","v":""},{"$f":"IFERROR(VLOOKUP($A32,'All Running Order'!$A$6:$CZ$64,CD$102,FALSE),\"\")","v":""},{"$f":"IFERROR(VLOOKUP($A32,'All Running Order'!$A$6:$CZ$64,CE$102,FALSE),\"\")","v":""},{"$f":"IFERROR(VLOOKUP($A32,'All Running Order'!$A$6:$CZ$64,CF$102,FALSE),\"\")","v":""},{"$f":"IFERROR(VLOOKUP($A32,'All Running Order'!$A$6:$CZ$64,CG$102,FALSE),\"\")","v":""},{"$f":"IFERROR(VLOOKUP($A32,'All Running Order'!$A$6:$CZ$64,CH$102,FALSE),\"\")","v":""},{"$f":"IFERROR(VLOOKUP($A32,'All Running Order'!$A$6:$CZ$64,CI$102,FALSE),\"\")","v":""},{"$f":"IFERROR(VLOOKUP($A32,'All Running Order'!$A$6:$CZ$64,CJ$102,FALSE),\"\")","v":""},{"$f":"IFERROR(VLOOKUP($A32,'All Running Order'!$A$6:$CZ$64,CK$102,FALSE),\"\")","v":""},{"$f":"IFERROR(VLOOKUP($A32,'All Running Order'!$A$6:$CZ$64,CL$102,FALSE),\"\")","v":""},{"$f":"IFERROR(VLOOKUP($A32,'All Running Order'!$A$6:$CZ$64,CM$102,FALSE),\"\")","v":""},{"$f":"IFERROR(VLOOKUP($A32,'All Running Order'!$A$6:$CZ$64,CN$102,FALSE),\"\")","v":""},{"$f":"IFERROR(VLOOKUP($A32,'All Running Order'!$A$6:$CZ$64,CO$102,FALSE),\"\")","v":""},{"$f":"IFERROR(VLOOKUP($A32,'All Running Order'!$A$6:$CZ$64,CP$102,FALSE),\"\")","v":""},{"$f":"IFERROR(VLOOKUP($A32,'All Running Order'!$A$6:$CZ$64,CQ$102,FALSE),\"\")","v":""},{"$f":"IFERROR(VLOOKUP($A32,'All Running Order'!$A$6:$CZ$64,CR$102,FALSE),\"\")","v":""},{"$f":"IFERROR(VLOOKUP($A32,'All Running Order'!$A$6:$CZ$64,CS$102,FALSE),\"\")","v":""},{"$f":"IFERROR(VLOOKUP($A32,'All Running Order'!$A$6:$CZ$64,CT$102,FALSE),\"\")","v":""},{"$f":"IFERROR(VLOOKUP($A32,'All Running Order'!$A$6:$CZ$64,CU$102,FALSE),\"\")","v":""},{"$f":"IFERROR(VLOOKUP($A32,'All Running Order'!$A$6:$CZ$64,CV$102,FALSE),\"\")","v":""},{"$f":"IFERROR(VLOOKUP($A32,'All Running Order'!$A$6:$CZ$64,CW$102,FALSE),\"\")","v":""},{"$f":"IFERROR(VLOOKUP($A32,'All Running Order'!$A$6:$CZ$64,CX$102,FALSE),\"\")","v":""},{"$f":"IFERROR(VLOOKUP($A32,'All Running Order'!$A$6:$CZ$64,CY$102,FALSE),\"\")","v":""},{"$f":"IFERROR(VLOOKUP($A32,'All Running Order'!$A$6:$CZ$64,CZ$102,FALSE),\"\")","v":""}]
[28,{"$f":"IFERROR(VLOOKUP($A33,'All Running Order'!$A$6:$CZ$64,B$102,FALSE),\"\")","v":""},{"$f":"IFERROR(VLOOKUP($A33,'All Running Order'!$A$6:$CZ$64,C$102,FALSE),\"\")","v":""},{"$f":"IFERROR(VLOOKUP($A33,'All Running Order'!$A$6:$CZ$64,D$102,FALSE),\"\")","v":""},{"$f":"IFERROR(VLOOKUP($A33,'All Running Order'!$A$6:$CZ$64,E$102,FALSE),\"\")","v":""},{"$f":"IFERROR(VLOOKUP($A33,'All Running Order'!$A$6:$CZ$64,F$102,FALSE),\"\")","v":""},{"$f":"IFERROR(VLOOKUP($A33,'All Running Order'!$A$6:$CZ$64,G$102,FALSE),\"\")","v":""},{"$f":"IFERROR(VLOOKUP($A33,'All Running Order'!$A$6:$CZ$64,H$102,FALSE),\"\")","v":""},{"$f":"IFERROR(VLOOKUP($A33,'All Running Order'!$A$6:$CZ$64,I$102,FALSE),\"\")","v":""},{"$f":"IFERROR(VLOOKUP($A33,'All Running Order'!$A$6:$CZ$64,J$102,FALSE),\"\")","v":""},{"$f":"IFERROR(VLOOKUP($A33,'All Running Order'!$A$6:$CZ$64,K$102,FALSE),\"\")","v":""},{"$f":"IFERROR(VLOOKUP($A33,'All Running Order'!$A$6:$CZ$64,L$102,FALSE),\"\")","v":""},{"$f":"IFERROR(VLOOKUP($A33,'All Running Order'!$A$6:$CZ$64,M$102,FALSE),\"\")","v":""},{"$f":"IFERROR(VLOOKUP($A33,'All Running Order'!$A$6:$CZ$64,N$102,FALSE),\"\")","v":""},{"$f":"IFERROR(VLOOKUP($A33,'All Running Order'!$A$6:$CZ$64,O$102,FALSE),\"\")","v":""},{"$f":"IFERROR(VLOOKUP($A33,'All Running Order'!$A$6:$CZ$64,P$102,FALSE),\"\")","v":""},{"$f":"IFERROR(VLOOKUP($A33,'All Running Order'!$A$6:$CZ$64,Q$102,FALSE),\"\")","v":""},{"$f":"IFERROR(VLOOKUP($A33,'All Running Order'!$A$6:$CZ$64,R$102,FALSE),\"\")","v":""},{"$f":"IFERROR(VLOOKUP($A33,'All Running Order'!$A$6:$CZ$64,S$102,FALSE),\"\")","v":""},{"$f":"IFERROR(VLOOKUP($A33,'All Running Order'!$A$6:$CZ$64,T$102,FALSE),\"\")","v":""},{"$f":"IFERROR(VLOOKUP($A33,'All Running Order'!$A$6:$CZ$64,U$102,FALSE),\"\")","v":""},{"$f":"IFERROR(VLOOKUP($A33,'All Running Order'!$A$6:$CZ$64,V$102,FALSE),\"\")","v":""},{"$f":"IFERROR(VLOOKUP($A33,'All Running Order'!$A$6:$CZ$64,W$102,FALSE),\"\")","v":""},{"$f":"IFERROR(VLOOKUP($A33,'All Running Order'!$A$6:$CZ$64,X$102,FALSE),\"\")","v":""},{"$f":"IFERROR(VLOOKUP($A33,'All Running Order'!$A$6:$CZ$64,Y$102,FALSE),\"\")","v":""},{"$f":"IFERROR(VLOOKUP($A33,'All Running Order'!$A$6:$CZ$64,Z$102,FALSE),\"\")","v":""},{"$f":"IFERROR(VLOOKUP($A33,'All Running Order'!$A$6:$CZ$64,AA$102,FALSE),\"\")","v":""},{"$f":"IFERROR(VLOOKUP($A33,'All Running Order'!$A$6:$CZ$64,AB$102,FALSE),\"\")","v":""},{"$f":"IFERROR(VLOOKUP($A33,'All Running Order'!$A$6:$CZ$64,AC$102,FALSE),\"\")","v":""},{"$f":"IFERROR(VLOOKUP($A33,'All Running Order'!$A$6:$CZ$64,AD$102,FALSE),\"\")","v":""},{"$f":"IFERROR(VLOOKUP($A33,'All Running Order'!$A$6:$CZ$64,AE$102,FALSE),\"\")","v":""},{"$f":"IFERROR(VLOOKUP($A33,'All Running Order'!$A$6:$CZ$64,AF$102,FALSE),\"\")","v":""},{"$f":"IFERROR(VLOOKUP($A33,'All Running Order'!$A$6:$CZ$64,AG$102,FALSE),\"\")","v":""},{"$f":"IFERROR(VLOOKUP($A33,'All Running Order'!$A$6:$CZ$64,AH$102,FALSE),\"\")","v":""},{"$f":"IFERROR(VLOOKUP($A33,'All Running Order'!$A$6:$CZ$64,AI$102,FALSE),\"\")","v":""},{"$f":"IFERROR(VLOOKUP($A33,'All Running Order'!$A$6:$CZ$64,AJ$102,FALSE),\"\")","v":""},{"$f":"IFERROR(VLOOKUP($A33,'All Running Order'!$A$6:$CZ$64,AK$102,FALSE),\"\")","v":""},{"$f":"IFERROR(VLOOKUP($A33,'All Running Order'!$A$6:$CZ$64,AL$102,FALSE),\"\")","v":""},{"$f":"IFERROR(VLOOKUP($A33,'All Running Order'!$A$6:$CZ$64,AM$102,FALSE),\"\")","v":""},{"$f":"IFERROR(VLOOKUP($A33,'All Running Order'!$A$6:$CZ$64,AN$102,FALSE),\"\")","v":""},{"$f":"IFERROR(VLOOKUP($A33,'All Running Order'!$A$6:$CZ$64,AO$102,FALSE),\"\")","v":""},{"$f":"IFERROR(VLOOKUP($A33,'All Running Order'!$A$6:$CZ$64,AP$102,FALSE),\"\")","v":""},{"$f":"IFERROR(VLOOKUP($A33,'All Running Order'!$A$6:$CZ$64,AQ$102,FALSE),\"\")","v":""},{"$f":"IFERROR(VLOOKUP($A33,'All Running Order'!$A$6:$CZ$64,AR$102,FALSE),\"\")","v":""},{"$f":"IFERROR(VLOOKUP($A33,'All Running Order'!$A$6:$CZ$64,AS$102,FALSE),\"\")","v":""},{"$f":"IFERROR(VLOOKUP($A33,'All Running Order'!$A$6:$CZ$64,AT$102,FALSE),\"\")","v":""},{"$f":"IFERROR(VLOOKUP($A33,'All Running Order'!$A$6:$CZ$64,AU$102,FALSE),\"\")","v":""},{"$f":"IFERROR(VLOOKUP($A33,'All Running Order'!$A$6:$CZ$64,AV$102,FALSE),\"\")","v":""},{"$f":"IFERROR(VLOOKUP($A33,'All Running Order'!$A$6:$CZ$64,AW$102,FALSE),\"\")","v":""},{"$f":"IFERROR(VLOOKUP($A33,'All Running Order'!$A$6:$CZ$64,AX$102,FALSE),\"\")","v":""},{"$f":"IFERROR(VLOOKUP($A33,'All Running Order'!$A$6:$CZ$64,AY$102,FALSE),\"\")","v":""},{"$f":"IFERROR(VLOOKUP($A33,'All Running Order'!$A$6:$CZ$64,AZ$102,FALSE),\"\")","v":""},{"$f":"IFERROR(VLOOKUP($A33,'All Running Order'!$A$6:$CZ$64,BA$102,FALSE),\"\")","v":""},{"$f":"IFERROR(VLOOKUP($A33,'All Running Order'!$A$6:$CZ$64,BB$102,FALSE),\"\")","v":""},{"$f":"IFERROR(VLOOKUP($A33,'All Running Order'!$A$6:$CZ$64,BC$102,FALSE),\"\")","v":""},{"$f":"IFERROR(VLOOKUP($A33,'All Running Order'!$A$6:$CZ$64,BD$102,FALSE),\"\")","v":""},{"$f":"IFERROR(VLOOKUP($A33,'All Running Order'!$A$6:$CZ$64,BE$102,FALSE),\"\")","v":""},{"$f":"IFERROR(VLOOKUP($A33,'All Running Order'!$A$6:$CZ$64,BF$102,FALSE),\"\")","v":""},{"$f":"IFERROR(VLOOKUP($A33,'All Running Order'!$A$6:$CZ$64,BG$102,FALSE),\"\")","v":""},{"$f":"IFERROR(VLOOKUP($A33,'All Running Order'!$A$6:$CZ$64,BH$102,FALSE),\"\")","v":""},{"$f":"IFERROR(VLOOKUP($A33,'All Running Order'!$A$6:$CZ$64,BI$102,FALSE),\"\")","v":""},{"$f":"IFERROR(VLOOKUP($A33,'All Running Order'!$A$6:$CZ$64,BJ$102,FALSE),\"\")","v":""},{"$f":"IFERROR(VLOOKUP($A33,'All Running Order'!$A$6:$CZ$64,BK$102,FALSE),\"\")","v":""},{"$f":"IFERROR(VLOOKUP($A33,'All Running Order'!$A$6:$CZ$64,BL$102,FALSE),\"\")","v":""},{"$f":"IFERROR(VLOOKUP($A33,'All Running Order'!$A$6:$CZ$64,BM$102,FALSE),\"\")","v":""},{"$f":"IFERROR(VLOOKUP($A33,'All Running Order'!$A$6:$CZ$64,BN$102,FALSE),\"\")","v":""},{"$f":"IFERROR(VLOOKUP($A33,'All Running Order'!$A$6:$CZ$64,BO$102,FALSE),\"\")","v":""},{"$f":"IFERROR(VLOOKUP($A33,'All Running Order'!$A$6:$CZ$64,BP$102,FALSE),\"\")","v":""},{"$f":"IFERROR(VLOOKUP($A33,'All Running Order'!$A$6:$CZ$64,BQ$102,FALSE),\"\")","v":""},{"$f":"IFERROR(VLOOKUP($A33,'All Running Order'!$A$6:$CZ$64,BR$102,FALSE),\"\")","v":""},{"$f":"IFERROR(VLOOKUP($A33,'All Running Order'!$A$6:$CZ$64,BS$102,FALSE),\"\")","v":""},{"$f":"IFERROR(VLOOKUP($A33,'All Running Order'!$A$6:$CZ$64,BT$102,FALSE),\"\")","v":""},{"$f":"IFERROR(VLOOKUP($A33,'All Running Order'!$A$6:$CZ$64,BU$102,FALSE),\"\")","v":""},{"$f":"IFERROR(VLOOKUP($A33,'All Running Order'!$A$6:$CZ$64,BV$102,FALSE),\"\")","v":""},{"$f":"IFERROR(VLOOKUP($A33,'All Running Order'!$A$6:$CZ$64,BW$102,FALSE),\"\")","v":""},{"$f":"IFERROR(VLOOKUP($A33,'All Running Order'!$A$6:$CZ$64,BX$102,FALSE),\"\")","v":""},{"$f":"IFERROR(VLOOKUP($A33,'All Running Order'!$A$6:$CZ$64,BY$102,FALSE),\"\")","v":""},{"$f":"IFERROR(VLOOKUP($A33,'All Running Order'!$A$6:$CZ$64,BZ$102,FALSE),\"\")","v":""},{"$f":"IFERROR(VLOOKUP($A33,'All Running Order'!$A$6:$CZ$64,CA$102,FALSE),\"\")","v":""},{"$f":"IFERROR(VLOOKUP($A33,'All Running Order'!$A$6:$CZ$64,CB$102,FALSE),\"\")","v":""},{"$f":"IFERROR(VLOOKUP($A33,'All Running Order'!$A$6:$CZ$64,CC$102,FALSE),\"\")","v":""},{"$f":"IFERROR(VLOOKUP($A33,'All Running Order'!$A$6:$CZ$64,CD$102,FALSE),\"\")","v":""},{"$f":"IFERROR(VLOOKUP($A33,'All Running Order'!$A$6:$CZ$64,CE$102,FALSE),\"\")","v":""},{"$f":"IFERROR(VLOOKUP($A33,'All Running Order'!$A$6:$CZ$64,CF$102,FALSE),\"\")","v":""},{"$f":"IFERROR(VLOOKUP($A33,'All Running Order'!$A$6:$CZ$64,CG$102,FALSE),\"\")","v":""},{"$f":"IFERROR(VLOOKUP($A33,'All Running Order'!$A$6:$CZ$64,CH$102,FALSE),\"\")","v":""},{"$f":"IFERROR(VLOOKUP($A33,'All Running Order'!$A$6:$CZ$64,CI$102,FALSE),\"\")","v":""},{"$f":"IFERROR(VLOOKUP($A33,'All Running Order'!$A$6:$CZ$64,CJ$102,FALSE),\"\")","v":""},{"$f":"IFERROR(VLOOKUP($A33,'All Running Order'!$A$6:$CZ$64,CK$102,FALSE),\"\")","v":""},{"$f":"IFERROR(VLOOKUP($A33,'All Running Order'!$A$6:$CZ$64,CL$102,FALSE),\"\")","v":""},{"$f":"IFERROR(VLOOKUP($A33,'All Running Order'!$A$6:$CZ$64,CM$102,FALSE),\"\")","v":""},{"$f":"IFERROR(VLOOKUP($A33,'All Running Order'!$A$6:$CZ$64,CN$102,FALSE),\"\")","v":""},{"$f":"IFERROR(VLOOKUP($A33,'All Running Order'!$A$6:$CZ$64,CO$102,FALSE),\"\")","v":""},{"$f":"IFERROR(VLOOKUP($A33,'All Running Order'!$A$6:$CZ$64,CP$102,FALSE),\"\")","v":""},{"$f":"IFERROR(VLOOKUP($A33,'All Running Order'!$A$6:$CZ$64,CQ$102,FALSE),\"\")","v":""},{"$f":"IFERROR(VLOOKUP($A33,'All Running Order'!$A$6:$CZ$64,CR$102,FALSE),\"\")","v":""},{"$f":"IFERROR(VLOOKUP($A33,'All Running Order'!$A$6:$CZ$64,CS$102,FALSE),\"\")","v":""},{"$f":"IFERROR(VLOOKUP($A33,'All Running Order'!$A$6:$CZ$64,CT$102,FALSE),\"\")","v":""},{"$f":"IFERROR(VLOOKUP($A33,'All Running Order'!$A$6:$CZ$64,CU$102,FALSE),\"\")","v":""},{"$f":"IFERROR(VLOOKUP($A33,'All Running Order'!$A$6:$CZ$64,CV$102,FALSE),\"\")","v":""},{"$f":"IFERROR(VLOOKUP($A33,'All Running Order'!$A$6:$CZ$64,CW$102,FALSE),\"\")","v":""},{"$f":"IFERROR(VLOOKUP($A33,'All Running Order'!$A$6:$CZ$64,CX$102,FALSE),\"\")","v":""},{"$f":"IFERROR(VLOOKUP($A33,'All Running Order'!$A$6:$CZ$64,CY$102,FALSE),\"\")","v":""},{"$f":"IFERROR(VLOOKUP($A33,'All Running Order'!$A$6:$CZ$64,CZ$102,FALSE),\"\")","v":""}]
[29,{"$f":"IFERROR(VLOOKUP($A34,'All Running Order'!$A$6:$CZ$64,B$102,FALSE),\"\")","v":""},{"$f":"IFERROR(VLOOKUP($A34,'All Running Order'!$A$6:$CZ$64,C$102,FALSE),\"\")","v":""},{"$f":"IFERROR(VLOOKUP($A34,'All Running Order'!$A$6:$CZ$64,D$102,FALSE),\"\")","v":""},{"$f":"IFERROR(VLOOKUP($A34,'All Running Order'!$A$6:$CZ$64,E$102,FALSE),\"\")","v":""},{"$f":"IFERROR(VLOOKUP($A34,'All Running Order'!$A$6:$CZ$64,F$102,FALSE),\"\")","v":""},{"$f":"IFERROR(VLOOKUP($A34,'All Running Order'!$A$6:$CZ$64,G$102,FALSE),\"\")","v":""},{"$f":"IFERROR(VLOOKUP($A34,'All Running Order'!$A$6:$CZ$64,H$102,FALSE),\"\")","v":""},{"$f":"IFERROR(VLOOKUP($A34,'All Running Order'!$A$6:$CZ$64,I$102,FALSE),\"\")","v":""},{"$f":"IFERROR(VLOOKUP($A34,'All Running Order'!$A$6:$CZ$64,J$102,FALSE),\"\")","v":""},{"$f":"IFERROR(VLOOKUP($A34,'All Running Order'!$A$6:$CZ$64,K$102,FALSE),\"\")","v":""},{"$f":"IFERROR(VLOOKUP($A34,'All Running Order'!$A$6:$CZ$64,L$102,FALSE),\"\")","v":""},{"$f":"IFERROR(VLOOKUP($A34,'All Running Order'!$A$6:$CZ$64,M$102,FALSE),\"\")","v":""},{"$f":"IFERROR(VLOOKUP($A34,'All Running Order'!$A$6:$CZ$64,N$102,FALSE),\"\")","v":""},{"$f":"IFERROR(VLOOKUP($A34,'All Running Order'!$A$6:$CZ$64,O$102,FALSE),\"\")","v":""},{"$f":"IFERROR(VLOOKUP($A34,'All Running Order'!$A$6:$CZ$64,P$102,FALSE),\"\")","v":""},{"$f":"IFERROR(VLOOKUP($A34,'All Running Order'!$A$6:$CZ$64,Q$102,FALSE),\"\")","v":""},{"$f":"IFERROR(VLOOKUP($A34,'All Running Order'!$A$6:$CZ$64,R$102,FALSE),\"\")","v":""},{"$f":"IFERROR(VLOOKUP($A34,'All Running Order'!$A$6:$CZ$64,S$102,FALSE),\"\")","v":""},{"$f":"IFERROR(VLOOKUP($A34,'All Running Order'!$A$6:$CZ$64,T$102,FALSE),\"\")","v":""},{"$f":"IFERROR(VLOOKUP($A34,'All Running Order'!$A$6:$CZ$64,U$102,FALSE),\"\")","v":""},{"$f":"IFERROR(VLOOKUP($A34,'All Running Order'!$A$6:$CZ$64,V$102,FALSE),\"\")","v":""},{"$f":"IFERROR(VLOOKUP($A34,'All Running Order'!$A$6:$CZ$64,W$102,FALSE),\"\")","v":""},{"$f":"IFERROR(VLOOKUP($A34,'All Running Order'!$A$6:$CZ$64,X$102,FALSE),\"\")","v":""},{"$f":"IFERROR(VLOOKUP($A34,'All Running Order'!$A$6:$CZ$64,Y$102,FALSE),\"\")","v":""},{"$f":"IFERROR(VLOOKUP($A34,'All Running Order'!$A$6:$CZ$64,Z$102,FALSE),\"\")","v":""},{"$f":"IFERROR(VLOOKUP($A34,'All Running Order'!$A$6:$CZ$64,AA$102,FALSE),\"\")","v":""},{"$f":"IFERROR(VLOOKUP($A34,'All Running Order'!$A$6:$CZ$64,AB$102,FALSE),\"\")","v":""},{"$f":"IFERROR(VLOOKUP($A34,'All Running Order'!$A$6:$CZ$64,AC$102,FALSE),\"\")","v":""},{"$f":"IFERROR(VLOOKUP($A34,'All Running Order'!$A$6:$CZ$64,AD$102,FALSE),\"\")","v":""},{"$f":"IFERROR(VLOOKUP($A34,'All Running Order'!$A$6:$CZ$64,AE$102,FALSE),\"\")","v":""},{"$f":"IFERROR(VLOOKUP($A34,'All Running Order'!$A$6:$CZ$64,AF$102,FALSE),\"\")","v":""},{"$f":"IFERROR(VLOOKUP($A34,'All Running Order'!$A$6:$CZ$64,AG$102,FALSE),\"\")","v":""},{"$f":"IFERROR(VLOOKUP($A34,'All Running Order'!$A$6:$CZ$64,AH$102,FALSE),\"\")","v":""},{"$f":"IFERROR(VLOOKUP($A34,'All Running Order'!$A$6:$CZ$64,AI$102,FALSE),\"\")","v":""},{"$f":"IFERROR(VLOOKUP($A34,'All Running Order'!$A$6:$CZ$64,AJ$102,FALSE),\"\")","v":""},{"$f":"IFERROR(VLOOKUP($A34,'All Running Order'!$A$6:$CZ$64,AK$102,FALSE),\"\")","v":""},{"$f":"IFERROR(VLOOKUP($A34,'All Running Order'!$A$6:$CZ$64,AL$102,FALSE),\"\")","v":""},{"$f":"IFERROR(VLOOKUP($A34,'All Running Order'!$A$6:$CZ$64,AM$102,FALSE),\"\")","v":""},{"$f":"IFERROR(VLOOKUP($A34,'All Running Order'!$A$6:$CZ$64,AN$102,FALSE),\"\")","v":""},{"$f":"IFERROR(VLOOKUP($A34,'All Running Order'!$A$6:$CZ$64,AO$102,FALSE),\"\")","v":""},{"$f":"IFERROR(VLOOKUP($A34,'All Running Order'!$A$6:$CZ$64,AP$102,FALSE),\"\")","v":""},{"$f":"IFERROR(VLOOKUP($A34,'All Running Order'!$A$6:$CZ$64,AQ$102,FALSE),\"\")","v":""},{"$f":"IFERROR(VLOOKUP($A34,'All Running Order'!$A$6:$CZ$64,AR$102,FALSE),\"\")","v":""},{"$f":"IFERROR(VLOOKUP($A34,'All Running Order'!$A$6:$CZ$64,AS$102,FALSE),\"\")","v":""},{"$f":"IFERROR(VLOOKUP($A34,'All Running Order'!$A$6:$CZ$64,AT$102,FALSE),\"\")","v":""},{"$f":"IFERROR(VLOOKUP($A34,'All Running Order'!$A$6:$CZ$64,AU$102,FALSE),\"\")","v":""},{"$f":"IFERROR(VLOOKUP($A34,'All Running Order'!$A$6:$CZ$64,AV$102,FALSE),\"\")","v":""},{"$f":"IFERROR(VLOOKUP($A34,'All Running Order'!$A$6:$CZ$64,AW$102,FALSE),\"\")","v":""},{"$f":"IFERROR(VLOOKUP($A34,'All Running Order'!$A$6:$CZ$64,AX$102,FALSE),\"\")","v":""},{"$f":"IFERROR(VLOOKUP($A34,'All Running Order'!$A$6:$CZ$64,AY$102,FALSE),\"\")","v":""},{"$f":"IFERROR(VLOOKUP($A34,'All Running Order'!$A$6:$CZ$64,AZ$102,FALSE),\"\")","v":""},{"$f":"IFERROR(VLOOKUP($A34,'All Running Order'!$A$6:$CZ$64,BA$102,FALSE),\"\")","v":""},{"$f":"IFERROR(VLOOKUP($A34,'All Running Order'!$A$6:$CZ$64,BB$102,FALSE),\"\")","v":""},{"$f":"IFERROR(VLOOKUP($A34,'All Running Order'!$A$6:$CZ$64,BC$102,FALSE),\"\")","v":""},{"$f":"IFERROR(VLOOKUP($A34,'All Running Order'!$A$6:$CZ$64,BD$102,FALSE),\"\")","v":""},{"$f":"IFERROR(VLOOKUP($A34,'All Running Order'!$A$6:$CZ$64,BE$102,FALSE),\"\")","v":""},{"$f":"IFERROR(VLOOKUP($A34,'All Running Order'!$A$6:$CZ$64,BF$102,FALSE),\"\")","v":""},{"$f":"IFERROR(VLOOKUP($A34,'All Running Order'!$A$6:$CZ$64,BG$102,FALSE),\"\")","v":""},{"$f":"IFERROR(VLOOKUP($A34,'All Running Order'!$A$6:$CZ$64,BH$102,FALSE),\"\")","v":""},{"$f":"IFERROR(VLOOKUP($A34,'All Running Order'!$A$6:$CZ$64,BI$102,FALSE),\"\")","v":""},{"$f":"IFERROR(VLOOKUP($A34,'All Running Order'!$A$6:$CZ$64,BJ$102,FALSE),\"\")","v":""},{"$f":"IFERROR(VLOOKUP($A34,'All Running Order'!$A$6:$CZ$64,BK$102,FALSE),\"\")","v":""},{"$f":"IFERROR(VLOOKUP($A34,'All Running Order'!$A$6:$CZ$64,BL$102,FALSE),\"\")","v":""},{"$f":"IFERROR(VLOOKUP($A34,'All Running Order'!$A$6:$CZ$64,BM$102,FALSE),\"\")","v":""},{"$f":"IFERROR(VLOOKUP($A34,'All Running Order'!$A$6:$CZ$64,BN$102,FALSE),\"\")","v":""},{"$f":"IFERROR(VLOOKUP($A34,'All Running Order'!$A$6:$CZ$64,BO$102,FALSE),\"\")","v":""},{"$f":"IFERROR(VLOOKUP($A34,'All Running Order'!$A$6:$CZ$64,BP$102,FALSE),\"\")","v":""},{"$f":"IFERROR(VLOOKUP($A34,'All Running Order'!$A$6:$CZ$64,BQ$102,FALSE),\"\")","v":""},{"$f":"IFERROR(VLOOKUP($A34,'All Running Order'!$A$6:$CZ$64,BR$102,FALSE),\"\")","v":""},{"$f":"IFERROR(VLOOKUP($A34,'All Running Order'!$A$6:$CZ$64,BS$102,FALSE),\"\")","v":""},{"$f":"IFERROR(VLOOKUP($A34,'All Running Order'!$A$6:$CZ$64,BT$102,FALSE),\"\")","v":""},{"$f":"IFERROR(VLOOKUP($A34,'All Running Order'!$A$6:$CZ$64,BU$102,FALSE),\"\")","v":""},{"$f":"IFERROR(VLOOKUP($A34,'All Running Order'!$A$6:$CZ$64,BV$102,FALSE),\"\")","v":""},{"$f":"IFERROR(VLOOKUP($A34,'All Running Order'!$A$6:$CZ$64,BW$102,FALSE),\"\")","v":""},{"$f":"IFERROR(VLOOKUP($A34,'All Running Order'!$A$6:$CZ$64,BX$102,FALSE),\"\")","v":""},{"$f":"IFERROR(VLOOKUP($A34,'All Running Order'!$A$6:$CZ$64,BY$102,FALSE),\"\")","v":""},{"$f":"IFERROR(VLOOKUP($A34,'All Running Order'!$A$6:$CZ$64,BZ$102,FALSE),\"\")","v":""},{"$f":"IFERROR(VLOOKUP($A34,'All Running Order'!$A$6:$CZ$64,CA$102,FALSE),\"\")","v":""},{"$f":"IFERROR(VLOOKUP($A34,'All Running Order'!$A$6:$CZ$64,CB$102,FALSE),\"\")","v":""},{"$f":"IFERROR(VLOOKUP($A34,'All Running Order'!$A$6:$CZ$64,CC$102,FALSE),\"\")","v":""},{"$f":"IFERROR(VLOOKUP($A34,'All Running Order'!$A$6:$CZ$64,CD$102,FALSE),\"\")","v":""},{"$f":"IFERROR(VLOOKUP($A34,'All Running Order'!$A$6:$CZ$64,CE$102,FALSE),\"\")","v":""},{"$f":"IFERROR(VLOOKUP($A34,'All Running Order'!$A$6:$CZ$64,CF$102,FALSE),\"\")","v":""},{"$f":"IFERROR(VLOOKUP($A34,'All Running Order'!$A$6:$CZ$64,CG$102,FALSE),\"\")","v":""},{"$f":"IFERROR(VLOOKUP($A34,'All Running Order'!$A$6:$CZ$64,CH$102,FALSE),\"\")","v":""},{"$f":"IFERROR(VLOOKUP($A34,'All Running Order'!$A$6:$CZ$64,CI$102,FALSE),\"\")","v":""},{"$f":"IFERROR(VLOOKUP($A34,'All Running Order'!$A$6:$CZ$64,CJ$102,FALSE),\"\")","v":""},{"$f":"IFERROR(VLOOKUP($A34,'All Running Order'!$A$6:$CZ$64,CK$102,FALSE),\"\")","v":""},{"$f":"IFERROR(VLOOKUP($A34,'All Running Order'!$A$6:$CZ$64,CL$102,FALSE),\"\")","v":""},{"$f":"IFERROR(VLOOKUP($A34,'All Running Order'!$A$6:$CZ$64,CM$102,FALSE),\"\")","v":""},{"$f":"IFERROR(VLOOKUP($A34,'All Running Order'!$A$6:$CZ$64,CN$102,FALSE),\"\")","v":""},{"$f":"IFERROR(VLOOKUP($A34,'All Running Order'!$A$6:$CZ$64,CO$102,FALSE),\"\")","v":""},{"$f":"IFERROR(VLOOKUP($A34,'All Running Order'!$A$6:$CZ$64,CP$102,FALSE),\"\")","v":""},{"$f":"IFERROR(VLOOKUP($A34,'All Running Order'!$A$6:$CZ$64,CQ$102,FALSE),\"\")","v":""},{"$f":"IFERROR(VLOOKUP($A34,'All Running Order'!$A$6:$CZ$64,CR$102,FALSE),\"\")","v":""},{"$f":"IFERROR(VLOOKUP($A34,'All Running Order'!$A$6:$CZ$64,CS$102,FALSE),\"\")","v":""},{"$f":"IFERROR(VLOOKUP($A34,'All Running Order'!$A$6:$CZ$64,CT$102,FALSE),\"\")","v":""},{"$f":"IFERROR(VLOOKUP($A34,'All Running Order'!$A$6:$CZ$64,CU$102,FALSE),\"\")","v":""},{"$f":"IFERROR(VLOOKUP($A34,'All Running Order'!$A$6:$CZ$64,CV$102,FALSE),\"\")","v":""},{"$f":"IFERROR(VLOOKUP($A34,'All Running Order'!$A$6:$CZ$64,CW$102,FALSE),\"\")","v":""},{"$f":"IFERROR(VLOOKUP($A34,'All Running Order'!$A$6:$CZ$64,CX$102,FALSE),\"\")","v":""},{"$f":"IFERROR(VLOOKUP($A34,'All Running Order'!$A$6:$CZ$64,CY$102,FALSE),\"\")","v":""},{"$f":"IFERROR(VLOOKUP($A34,'All Running Order'!$A$6:$CZ$64,CZ$102,FALSE),\"\")","v":""}]
[30,{"$f":"IFERROR(VLOOKUP($A35,'All Running Order'!$A$6:$CZ$64,B$102,FALSE),\"\")","v":""},{"$f":"IFERROR(VLOOKUP($A35,'All Running Order'!$A$6:$CZ$64,C$102,FALSE),\"\")","v":""},{"$f":"IFERROR(VLOOKUP($A35,'All Running Order'!$A$6:$CZ$64,D$102,FALSE),\"\")","v":""},{"$f":"IFERROR(VLOOKUP($A35,'All Running Order'!$A$6:$CZ$64,E$102,FALSE),\"\")","v":""},{"$f":"IFERROR(VLOOKUP($A35,'All Running Order'!$A$6:$CZ$64,F$102,FALSE),\"\")","v":""},{"$f":"IFERROR(VLOOKUP($A35,'All Running Order'!$A$6:$CZ$64,G$102,FALSE),\"\")","v":""},{"$f":"IFERROR(VLOOKUP($A35,'All Running Order'!$A$6:$CZ$64,H$102,FALSE),\"\")","v":""},{"$f":"IFERROR(VLOOKUP($A35,'All Running Order'!$A$6:$CZ$64,I$102,FALSE),\"\")","v":""},{"$f":"IFERROR(VLOOKUP($A35,'All Running Order'!$A$6:$CZ$64,J$102,FALSE),\"\")","v":""},{"$f":"IFERROR(VLOOKUP($A35,'All Running Order'!$A$6:$CZ$64,K$102,FALSE),\"\")","v":""},{"$f":"IFERROR(VLOOKUP($A35,'All Running Order'!$A$6:$CZ$64,L$102,FALSE),\"\")","v":""},{"$f":"IFERROR(VLOOKUP($A35,'All Running Order'!$A$6:$CZ$64,M$102,FALSE),\"\")","v":""},{"$f":"IFERROR(VLOOKUP($A35,'All Running Order'!$A$6:$CZ$64,N$102,FALSE),\"\")","v":""},{"$f":"IFERROR(VLOOKUP($A35,'All Running Order'!$A$6:$CZ$64,O$102,FALSE),\"\")","v":""},{"$f":"IFERROR(VLOOKUP($A35,'All Running Order'!$A$6:$CZ$64,P$102,FALSE),\"\")","v":""},{"$f":"IFERROR(VLOOKUP($A35,'All Running Order'!$A$6:$CZ$64,Q$102,FALSE),\"\")","v":""},{"$f":"IFERROR(VLOOKUP($A35,'All Running Order'!$A$6:$CZ$64,R$102,FALSE),\"\")","v":""},{"$f":"IFERROR(VLOOKUP($A35,'All Running Order'!$A$6:$CZ$64,S$102,FALSE),\"\")","v":""},{"$f":"IFERROR(VLOOKUP($A35,'All Running Order'!$A$6:$CZ$64,T$102,FALSE),\"\")","v":""},{"$f":"IFERROR(VLOOKUP($A35,'All Running Order'!$A$6:$CZ$64,U$102,FALSE),\"\")","v":""},{"$f":"IFERROR(VLOOKUP($A35,'All Running Order'!$A$6:$CZ$64,V$102,FALSE),\"\")","v":""},{"$f":"IFERROR(VLOOKUP($A35,'All Running Order'!$A$6:$CZ$64,W$102,FALSE),\"\")","v":""},{"$f":"IFERROR(VLOOKUP($A35,'All Running Order'!$A$6:$CZ$64,X$102,FALSE),\"\")","v":""},{"$f":"IFERROR(VLOOKUP($A35,'All Running Order'!$A$6:$CZ$64,Y$102,FALSE),\"\")","v":""},{"$f":"IFERROR(VLOOKUP($A35,'All Running Order'!$A$6:$CZ$64,Z$102,FALSE),\"\")","v":""},{"$f":"IFERROR(VLOOKUP($A35,'All Running Order'!$A$6:$CZ$64,AA$102,FALSE),\"\")","v":""},{"$f":"IFERROR(VLOOKUP($A35,'All Running Order'!$A$6:$CZ$64,AB$102,FALSE),\"\")","v":""},{"$f":"IFERROR(VLOOKUP($A35,'All Running Order'!$A$6:$CZ$64,AC$102,FALSE),\"\")","v":""},{"$f":"IFERROR(VLOOKUP($A35,'All Running Order'!$A$6:$CZ$64,AD$102,FALSE),\"\")","v":""},{"$f":"IFERROR(VLOOKUP($A35,'All Running Order'!$A$6:$CZ$64,AE$102,FALSE),\"\")","v":""},{"$f":"IFERROR(VLOOKUP($A35,'All Running Order'!$A$6:$CZ$64,AF$102,FALSE),\"\")","v":""},{"$f":"IFERROR(VLOOKUP($A35,'All Running Order'!$A$6:$CZ$64,AG$102,FALSE),\"\")","v":""},{"$f":"IFERROR(VLOOKUP($A35,'All Running Order'!$A$6:$CZ$64,AH$102,FALSE),\"\")","v":""},{"$f":"IFERROR(VLOOKUP($A35,'All Running Order'!$A$6:$CZ$64,AI$102,FALSE),\"\")","v":""},{"$f":"IFERROR(VLOOKUP($A35,'All Running Order'!$A$6:$CZ$64,AJ$102,FALSE),\"\")","v":""},{"$f":"IFERROR(VLOOKUP($A35,'All Running Order'!$A$6:$CZ$64,AK$102,FALSE),\"\")","v":""},{"$f":"IFERROR(VLOOKUP($A35,'All Running Order'!$A$6:$CZ$64,AL$102,FALSE),\"\")","v":""},{"$f":"IFERROR(VLOOKUP($A35,'All Running Order'!$A$6:$CZ$64,AM$102,FALSE),\"\")","v":""},{"$f":"IFERROR(VLOOKUP($A35,'All Running Order'!$A$6:$CZ$64,AN$102,FALSE),\"\")","v":""},{"$f":"IFERROR(VLOOKUP($A35,'All Running Order'!$A$6:$CZ$64,AO$102,FALSE),\"\")","v":""},{"$f":"IFERROR(VLOOKUP($A35,'All Running Order'!$A$6:$CZ$64,AP$102,FALSE),\"\")","v":""},{"$f":"IFERROR(VLOOKUP($A35,'All Running Order'!$A$6:$CZ$64,AQ$102,FALSE),\"\")","v":""},{"$f":"IFERROR(VLOOKUP($A35,'All Running Order'!$A$6:$CZ$64,AR$102,FALSE),\"\")","v":""},{"$f":"IFERROR(VLOOKUP($A35,'All Running Order'!$A$6:$CZ$64,AS$102,FALSE),\"\")","v":""},{"$f":"IFERROR(VLOOKUP($A35,'All Running Order'!$A$6:$CZ$64,AT$102,FALSE),\"\")","v":""},{"$f":"IFERROR(VLOOKUP($A35,'All Running Order'!$A$6:$CZ$64,AU$102,FALSE),\"\")","v":""},{"$f":"IFERROR(VLOOKUP($A35,'All Running Order'!$A$6:$CZ$64,AV$102,FALSE),\"\")","v":""},{"$f":"IFERROR(VLOOKUP($A35,'All Running Order'!$A$6:$CZ$64,AW$102,FALSE),\"\")","v":""},{"$f":"IFERROR(VLOOKUP($A35,'All Running Order'!$A$6:$CZ$64,AX$102,FALSE),\"\")","v":""},{"$f":"IFERROR(VLOOKUP($A35,'All Running Order'!$A$6:$CZ$64,AY$102,FALSE),\"\")","v":""},{"$f":"IFERROR(VLOOKUP($A35,'All Running Order'!$A$6:$CZ$64,AZ$102,FALSE),\"\")","v":""},{"$f":"IFERROR(VLOOKUP($A35,'All Running Order'!$A$6:$CZ$64,BA$102,FALSE),\"\")","v":""},{"$f":"IFERROR(VLOOKUP($A35,'All Running Order'!$A$6:$CZ$64,BB$102,FALSE),\"\")","v":""},{"$f":"IFERROR(VLOOKUP($A35,'All Running Order'!$A$6:$CZ$64,BC$102,FALSE),\"\")","v":""},{"$f":"IFERROR(VLOOKUP($A35,'All Running Order'!$A$6:$CZ$64,BD$102,FALSE),\"\")","v":""},{"$f":"IFERROR(VLOOKUP($A35,'All Running Order'!$A$6:$CZ$64,BE$102,FALSE),\"\")","v":""},{"$f":"IFERROR(VLOOKUP($A35,'All Running Order'!$A$6:$CZ$64,BF$102,FALSE),\"\")","v":""},{"$f":"IFERROR(VLOOKUP($A35,'All Running Order'!$A$6:$CZ$64,BG$102,FALSE),\"\")","v":""},{"$f":"IFERROR(VLOOKUP($A35,'All Running Order'!$A$6:$CZ$64,BH$102,FALSE),\"\")","v":""},{"$f":"IFERROR(VLOOKUP($A35,'All Running Order'!$A$6:$CZ$64,BI$102,FALSE),\"\")","v":""},{"$f":"IFERROR(VLOOKUP($A35,'All Running Order'!$A$6:$CZ$64,BJ$102,FALSE),\"\")","v":""},{"$f":"IFERROR(VLOOKUP($A35,'All Running Order'!$A$6:$CZ$64,BK$102,FALSE),\"\")","v":""},{"$f":"IFERROR(VLOOKUP($A35,'All Running Order'!$A$6:$CZ$64,BL$102,FALSE),\"\")","v":""},{"$f":"IFERROR(VLOOKUP($A35,'All Running Order'!$A$6:$CZ$64,BM$102,FALSE),\"\")","v":""},{"$f":"IFERROR(VLOOKUP($A35,'All Running Order'!$A$6:$CZ$64,BN$102,FALSE),\"\")","v":""},{"$f":"IFERROR(VLOOKUP($A35,'All Running Order'!$A$6:$CZ$64,BO$102,FALSE),\"\")","v":""},{"$f":"IFERROR(VLOOKUP($A35,'All Running Order'!$A$6:$CZ$64,BP$102,FALSE),\"\")","v":""},{"$f":"IFERROR(VLOOKUP($A35,'All Running Order'!$A$6:$CZ$64,BQ$102,FALSE),\"\")","v":""},{"$f":"IFERROR(VLOOKUP($A35,'All Running Order'!$A$6:$CZ$64,BR$102,FALSE),\"\")","v":""},{"$f":"IFERROR(VLOOKUP($A35,'All Running Order'!$A$6:$CZ$64,BS$102,FALSE),\"\")","v":""},{"$f":"IFERROR(VLOOKUP($A35,'All Running Order'!$A$6:$CZ$64,BT$102,FALSE),\"\")","v":""},{"$f":"IFERROR(VLOOKUP($A35,'All Running Order'!$A$6:$CZ$64,BU$102,FALSE),\"\")","v":""},{"$f":"IFERROR(VLOOKUP($A35,'All Running Order'!$A$6:$CZ$64,BV$102,FALSE),\"\")","v":""},{"$f":"IFERROR(VLOOKUP($A35,'All Running Order'!$A$6:$CZ$64,BW$102,FALSE),\"\")","v":""},{"$f":"IFERROR(VLOOKUP($A35,'All Running Order'!$A$6:$CZ$64,BX$102,FALSE),\"\")","v":""},{"$f":"IFERROR(VLOOKUP($A35,'All Running Order'!$A$6:$CZ$64,BY$102,FALSE),\"\")","v":""},{"$f":"IFERROR(VLOOKUP($A35,'All Running Order'!$A$6:$CZ$64,BZ$102,FALSE),\"\")","v":""},{"$f":"IFERROR(VLOOKUP($A35,'All Running Order'!$A$6:$CZ$64,CA$102,FALSE),\"\")","v":""},{"$f":"IFERROR(VLOOKUP($A35,'All Running Order'!$A$6:$CZ$64,CB$102,FALSE),\"\")","v":""},{"$f":"IFERROR(VLOOKUP($A35,'All Running Order'!$A$6:$CZ$64,CC$102,FALSE),\"\")","v":""},{"$f":"IFERROR(VLOOKUP($A35,'All Running Order'!$A$6:$CZ$64,CD$102,FALSE),\"\")","v":""},{"$f":"IFERROR(VLOOKUP($A35,'All Running Order'!$A$6:$CZ$64,CE$102,FALSE),\"\")","v":""},{"$f":"IFERROR(VLOOKUP($A35,'All Running Order'!$A$6:$CZ$64,CF$102,FALSE),\"\")","v":""},{"$f":"IFERROR(VLOOKUP($A35,'All Running Order'!$A$6:$CZ$64,CG$102,FALSE),\"\")","v":""},{"$f":"IFERROR(VLOOKUP($A35,'All Running Order'!$A$6:$CZ$64,CH$102,FALSE),\"\")","v":""},{"$f":"IFERROR(VLOOKUP($A35,'All Running Order'!$A$6:$CZ$64,CI$102,FALSE),\"\")","v":""},{"$f":"IFERROR(VLOOKUP($A35,'All Running Order'!$A$6:$CZ$64,CJ$102,FALSE),\"\")","v":""},{"$f":"IFERROR(VLOOKUP($A35,'All Running Order'!$A$6:$CZ$64,CK$102,FALSE),\"\")","v":""},{"$f":"IFERROR(VLOOKUP($A35,'All Running Order'!$A$6:$CZ$64,CL$102,FALSE),\"\")","v":""},{"$f":"IFERROR(VLOOKUP($A35,'All Running Order'!$A$6:$CZ$64,CM$102,FALSE),\"\")","v":""},{"$f":"IFERROR(VLOOKUP($A35,'All Running Order'!$A$6:$CZ$64,CN$102,FALSE),\"\")","v":""},{"$f":"IFERROR(VLOOKUP($A35,'All Running Order'!$A$6:$CZ$64,CO$102,FALSE),\"\")","v":""},{"$f":"IFERROR(VLOOKUP($A35,'All Running Order'!$A$6:$CZ$64,CP$102,FALSE),\"\")","v":""},{"$f":"IFERROR(VLOOKUP($A35,'All Running Order'!$A$6:$CZ$64,CQ$102,FALSE),\"\")","v":""},{"$f":"IFERROR(VLOOKUP($A35,'All Running Order'!$A$6:$CZ$64,CR$102,FALSE),\"\")","v":""},{"$f":"IFERROR(VLOOKUP($A35,'All Running Order'!$A$6:$CZ$64,CS$102,FALSE),\"\")","v":""},{"$f":"IFERROR(VLOOKUP($A35,'All Running Order'!$A$6:$CZ$64,CT$102,FALSE),\"\")","v":""},{"$f":"IFERROR(VLOOKUP($A35,'All Running Order'!$A$6:$CZ$64,CU$102,FALSE),\"\")","v":""},{"$f":"IFERROR(VLOOKUP($A35,'All Running Order'!$A$6:$CZ$64,CV$102,FALSE),\"\")","v":""},{"$f":"IFERROR(VLOOKUP($A35,'All Running Order'!$A$6:$CZ$64,CW$102,FALSE),\"\")","v":""},{"$f":"IFERROR(VLOOKUP($A35,'All Running Order'!$A$6:$CZ$64,CX$102,FALSE),\"\")","v":""},{"$f":"IFERROR(VLOOKUP($A35,'All Running Order'!$A$6:$CZ$64,CY$102,FALSE),\"\")","v":""},{"$f":"IFERROR(VLOOKUP($A35,'All Running Order'!$A$6:$CZ$64,CZ$102,FALSE),\"\")","v":""}]
[31,{"$f":"IFERROR(VLOOKUP($A36,'All Running Order'!$A$6:$CZ$64,B$102,FALSE),\"\")","v":""},{"$f":"IFERROR(VLOOKUP($A36,'All Running Order'!$A$6:$CZ$64,C$102,FALSE),\"\")","v":""},{"$f":"IFERROR(VLOOKUP($A36,'All Running Order'!$A$6:$CZ$64,D$102,FALSE),\"\")","v":""},{"$f":"IFERROR(VLOOKUP($A36,'All Running Order'!$A$6:$CZ$64,E$102,FALSE),\"\")","v":""},{"$f":"IFERROR(VLOOKUP($A36,'All Running Order'!$A$6:$CZ$64,F$102,FALSE),\"\")","v":""},{"$f":"IFERROR(VLOOKUP($A36,'All Running Order'!$A$6:$CZ$64,G$102,FALSE),\"\")","v":""},{"$f":"IFERROR(VLOOKUP($A36,'All Running Order'!$A$6:$CZ$64,H$102,FALSE),\"\")","v":""},{"$f":"IFERROR(VLOOKUP($A36,'All Running Order'!$A$6:$CZ$64,I$102,FALSE),\"\")","v":""},{"$f":"IFERROR(VLOOKUP($A36,'All Running Order'!$A$6:$CZ$64,J$102,FALSE),\"\")","v":""},{"$f":"IFERROR(VLOOKUP($A36,'All Running Order'!$A$6:$CZ$64,K$102,FALSE),\"\")","v":""},{"$f":"IFERROR(VLOOKUP($A36,'All Running Order'!$A$6:$CZ$64,L$102,FALSE),\"\")","v":""},{"$f":"IFERROR(VLOOKUP($A36,'All Running Order'!$A$6:$CZ$64,M$102,FALSE),\"\")","v":""},{"$f":"IFERROR(VLOOKUP($A36,'All Running Order'!$A$6:$CZ$64,N$102,FALSE),\"\")","v":""},{"$f":"IFERROR(VLOOKUP($A36,'All Running Order'!$A$6:$CZ$64,O$102,FALSE),\"\")","v":""},{"$f":"IFERROR(VLOOKUP($A36,'All Running Order'!$A$6:$CZ$64,P$102,FALSE),\"\")","v":""},{"$f":"IFERROR(VLOOKUP($A36,'All Running Order'!$A$6:$CZ$64,Q$102,FALSE),\"\")","v":""},{"$f":"IFERROR(VLOOKUP($A36,'All Running Order'!$A$6:$CZ$64,R$102,FALSE),\"\")","v":""},{"$f":"IFERROR(VLOOKUP($A36,'All Running Order'!$A$6:$CZ$64,S$102,FALSE),\"\")","v":""},{"$f":"IFERROR(VLOOKUP($A36,'All Running Order'!$A$6:$CZ$64,T$102,FALSE),\"\")","v":""},{"$f":"IFERROR(VLOOKUP($A36,'All Running Order'!$A$6:$CZ$64,U$102,FALSE),\"\")","v":""},{"$f":"IFERROR(VLOOKUP($A36,'All Running Order'!$A$6:$CZ$64,V$102,FALSE),\"\")","v":""},{"$f":"IFERROR(VLOOKUP($A36,'All Running Order'!$A$6:$CZ$64,W$102,FALSE),\"\")","v":""},{"$f":"IFERROR(VLOOKUP($A36,'All Running Order'!$A$6:$CZ$64,X$102,FALSE),\"\")","v":""},{"$f":"IFERROR(VLOOKUP($A36,'All Running Order'!$A$6:$CZ$64,Y$102,FALSE),\"\")","v":""},{"$f":"IFERROR(VLOOKUP($A36,'All Running Order'!$A$6:$CZ$64,Z$102,FALSE),\"\")","v":""},{"$f":"IFERROR(VLOOKUP($A36,'All Running Order'!$A$6:$CZ$64,AA$102,FALSE),\"\")","v":""},{"$f":"IFERROR(VLOOKUP($A36,'All Running Order'!$A$6:$CZ$64,AB$102,FALSE),\"\")","v":""},{"$f":"IFERROR(VLOOKUP($A36,'All Running Order'!$A$6:$CZ$64,AC$102,FALSE),\"\")","v":""},{"$f":"IFERROR(VLOOKUP($A36,'All Running Order'!$A$6:$CZ$64,AD$102,FALSE),\"\")","v":""},{"$f":"IFERROR(VLOOKUP($A36,'All Running Order'!$A$6:$CZ$64,AE$102,FALSE),\"\")","v":""},{"$f":"IFERROR(VLOOKUP($A36,'All Running Order'!$A$6:$CZ$64,AF$102,FALSE),\"\")","v":""},{"$f":"IFERROR(VLOOKUP($A36,'All Running Order'!$A$6:$CZ$64,AG$102,FALSE),\"\")","v":""},{"$f":"IFERROR(VLOOKUP($A36,'All Running Order'!$A$6:$CZ$64,AH$102,FALSE),\"\")","v":""},{"$f":"IFERROR(VLOOKUP($A36,'All Running Order'!$A$6:$CZ$64,AI$102,FALSE),\"\")","v":""},{"$f":"IFERROR(VLOOKUP($A36,'All Running Order'!$A$6:$CZ$64,AJ$102,FALSE),\"\")","v":""},{"$f":"IFERROR(VLOOKUP($A36,'All Running Order'!$A$6:$CZ$64,AK$102,FALSE),\"\")","v":""},{"$f":"IFERROR(VLOOKUP($A36,'All Running Order'!$A$6:$CZ$64,AL$102,FALSE),\"\")","v":""},{"$f":"IFERROR(VLOOKUP($A36,'All Running Order'!$A$6:$CZ$64,AM$102,FALSE),\"\")","v":""},{"$f":"IFERROR(VLOOKUP($A36,'All Running Order'!$A$6:$CZ$64,AN$102,FALSE),\"\")","v":""},{"$f":"IFERROR(VLOOKUP($A36,'All Running Order'!$A$6:$CZ$64,AO$102,FALSE),\"\")","v":""},{"$f":"IFERROR(VLOOKUP($A36,'All Running Order'!$A$6:$CZ$64,AP$102,FALSE),\"\")","v":""},{"$f":"IFERROR(VLOOKUP($A36,'All Running Order'!$A$6:$CZ$64,AQ$102,FALSE),\"\")","v":""},{"$f":"IFERROR(VLOOKUP($A36,'All Running Order'!$A$6:$CZ$64,AR$102,FALSE),\"\")","v":""},{"$f":"IFERROR(VLOOKUP($A36,'All Running Order'!$A$6:$CZ$64,AS$102,FALSE),\"\")","v":""},{"$f":"IFERROR(VLOOKUP($A36,'All Running Order'!$A$6:$CZ$64,AT$102,FALSE),\"\")","v":""},{"$f":"IFERROR(VLOOKUP($A36,'All Running Order'!$A$6:$CZ$64,AU$102,FALSE),\"\")","v":""},{"$f":"IFERROR(VLOOKUP($A36,'All Running Order'!$A$6:$CZ$64,AV$102,FALSE),\"\")","v":""},{"$f":"IFERROR(VLOOKUP($A36,'All Running Order'!$A$6:$CZ$64,AW$102,FALSE),\"\")","v":""},{"$f":"IFERROR(VLOOKUP($A36,'All Running Order'!$A$6:$CZ$64,AX$102,FALSE),\"\")","v":""},{"$f":"IFERROR(VLOOKUP($A36,'All Running Order'!$A$6:$CZ$64,AY$102,FALSE),\"\")","v":""},{"$f":"IFERROR(VLOOKUP($A36,'All Running Order'!$A$6:$CZ$64,AZ$102,FALSE),\"\")","v":""},{"$f":"IFERROR(VLOOKUP($A36,'All Running Order'!$A$6:$CZ$64,BA$102,FALSE),\"\")","v":""},{"$f":"IFERROR(VLOOKUP($A36,'All Running Order'!$A$6:$CZ$64,BB$102,FALSE),\"\")","v":""},{"$f":"IFERROR(VLOOKUP($A36,'All Running Order'!$A$6:$CZ$64,BC$102,FALSE),\"\")","v":""},{"$f":"IFERROR(VLOOKUP($A36,'All Running Order'!$A$6:$CZ$64,BD$102,FALSE),\"\")","v":""},{"$f":"IFERROR(VLOOKUP($A36,'All Running Order'!$A$6:$CZ$64,BE$102,FALSE),\"\")","v":""},{"$f":"IFERROR(VLOOKUP($A36,'All Running Order'!$A$6:$CZ$64,BF$102,FALSE),\"\")","v":""},{"$f":"IFERROR(VLOOKUP($A36,'All Running Order'!$A$6:$CZ$64,BG$102,FALSE),\"\")","v":""},{"$f":"IFERROR(VLOOKUP($A36,'All Running Order'!$A$6:$CZ$64,BH$102,FALSE),\"\")","v":""},{"$f":"IFERROR(VLOOKUP($A36,'All Running Order'!$A$6:$CZ$64,BI$102,FALSE),\"\")","v":""},{"$f":"IFERROR(VLOOKUP($A36,'All Running Order'!$A$6:$CZ$64,BJ$102,FALSE),\"\")","v":""},{"$f":"IFERROR(VLOOKUP($A36,'All Running Order'!$A$6:$CZ$64,BK$102,FALSE),\"\")","v":""},{"$f":"IFERROR(VLOOKUP($A36,'All Running Order'!$A$6:$CZ$64,BL$102,FALSE),\"\")","v":""},{"$f":"IFERROR(VLOOKUP($A36,'All Running Order'!$A$6:$CZ$64,BM$102,FALSE),\"\")","v":""},{"$f":"IFERROR(VLOOKUP($A36,'All Running Order'!$A$6:$CZ$64,BN$102,FALSE),\"\")","v":""},{"$f":"IFERROR(VLOOKUP($A36,'All Running Order'!$A$6:$CZ$64,BO$102,FALSE),\"\")","v":""},{"$f":"IFERROR(VLOOKUP($A36,'All Running Order'!$A$6:$CZ$64,BP$102,FALSE),\"\")","v":""},{"$f":"IFERROR(VLOOKUP($A36,'All Running Order'!$A$6:$CZ$64,BQ$102,FALSE),\"\")","v":""},{"$f":"IFERROR(VLOOKUP($A36,'All Running Order'!$A$6:$CZ$64,BR$102,FALSE),\"\")","v":""},{"$f":"IFERROR(VLOOKUP($A36,'All Running Order'!$A$6:$CZ$64,BS$102,FALSE),\"\")","v":""},{"$f":"IFERROR(VLOOKUP($A36,'All Running Order'!$A$6:$CZ$64,BT$102,FALSE),\"\")","v":""},{"$f":"IFERROR(VLOOKUP($A36,'All Running Order'!$A$6:$CZ$64,BU$102,FALSE),\"\")","v":""},{"$f":"IFERROR(VLOOKUP($A36,'All Running Order'!$A$6:$CZ$64,BV$102,FALSE),\"\")","v":""},{"$f":"IFERROR(VLOOKUP($A36,'All Running Order'!$A$6:$CZ$64,BW$102,FALSE),\"\")","v":""},{"$f":"IFERROR(VLOOKUP($A36,'All Running Order'!$A$6:$CZ$64,BX$102,FALSE),\"\")","v":""},{"$f":"IFERROR(VLOOKUP($A36,'All Running Order'!$A$6:$CZ$64,BY$102,FALSE),\"\")","v":""},{"$f":"IFERROR(VLOOKUP($A36,'All Running Order'!$A$6:$CZ$64,BZ$102,FALSE),\"\")","v":""},{"$f":"IFERROR(VLOOKUP($A36,'All Running Order'!$A$6:$CZ$64,CA$102,FALSE),\"\")","v":""},{"$f":"IFERROR(VLOOKUP($A36,'All Running Order'!$A$6:$CZ$64,CB$102,FALSE),\"\")","v":""},{"$f":"IFERROR(VLOOKUP($A36,'All Running Order'!$A$6:$CZ$64,CC$102,FALSE),\"\")","v":""},{"$f":"IFERROR(VLOOKUP($A36,'All Running Order'!$A$6:$CZ$64,CD$102,FALSE),\"\")","v":""},{"$f":"IFERROR(VLOOKUP($A36,'All Running Order'!$A$6:$CZ$64,CE$102,FALSE),\"\")","v":""},{"$f":"IFERROR(VLOOKUP($A36,'All Running Order'!$A$6:$CZ$64,CF$102,FALSE),\"\")","v":""},{"$f":"IFERROR(VLOOKUP($A36,'All Running Order'!$A$6:$CZ$64,CG$102,FALSE),\"\")","v":""},{"$f":"IFERROR(VLOOKUP($A36,'All Running Order'!$A$6:$CZ$64,CH$102,FALSE),\"\")","v":""},{"$f":"IFERROR(VLOOKUP($A36,'All Running Order'!$A$6:$CZ$64,CI$102,FALSE),\"\")","v":""},{"$f":"IFERROR(VLOOKUP($A36,'All Running Order'!$A$6:$CZ$64,CJ$102,FALSE),\"\")","v":""},{"$f":"IFERROR(VLOOKUP($A36,'All Running Order'!$A$6:$CZ$64,CK$102,FALSE),\"\")","v":""},{"$f":"IFERROR(VLOOKUP($A36,'All Running Order'!$A$6:$CZ$64,CL$102,FALSE),\"\")","v":""},{"$f":"IFERROR(VLOOKUP($A36,'All Running Order'!$A$6:$CZ$64,CM$102,FALSE),\"\")","v":""},{"$f":"IFERROR(VLOOKUP($A36,'All Running Order'!$A$6:$CZ$64,CN$102,FALSE),\"\")","v":""},{"$f":"IFERROR(VLOOKUP($A36,'All Running Order'!$A$6:$CZ$64,CO$102,FALSE),\"\")","v":""},{"$f":"IFERROR(VLOOKUP($A36,'All Running Order'!$A$6:$CZ$64,CP$102,FALSE),\"\")","v":""},{"$f":"IFERROR(VLOOKUP($A36,'All Running Order'!$A$6:$CZ$64,CQ$102,FALSE),\"\")","v":""},{"$f":"IFERROR(VLOOKUP($A36,'All Running Order'!$A$6:$CZ$64,CR$102,FALSE),\"\")","v":""},{"$f":"IFERROR(VLOOKUP($A36,'All Running Order'!$A$6:$CZ$64,CS$102,FALSE),\"\")","v":""},{"$f":"IFERROR(VLOOKUP($A36,'All Running Order'!$A$6:$CZ$64,CT$102,FALSE),\"\")","v":""},{"$f":"IFERROR(VLOOKUP($A36,'All Running Order'!$A$6:$CZ$64,CU$102,FALSE),\"\")","v":""},{"$f":"IFERROR(VLOOKUP($A36,'All Running Order'!$A$6:$CZ$64,CV$102,FALSE),\"\")","v":""},{"$f":"IFERROR(VLOOKUP($A36,'All Running Order'!$A$6:$CZ$64,CW$102,FALSE),\"\")","v":""},{"$f":"IFERROR(VLOOKUP($A36,'All Running Order'!$A$6:$CZ$64,CX$102,FALSE),\"\")","v":""},{"$f":"IFERROR(VLOOKUP($A36,'All Running Order'!$A$6:$CZ$64,CY$102,FALSE),\"\")","v":""},{"$f":"IFERROR(VLOOKUP($A36,'All Running Order'!$A$6:$CZ$64,CZ$102,FALSE),\"\")","v":""}]
[32,{"$f":"IFERROR(VLOOKUP($A37,'All Running Order'!$A$6:$CZ$64,B$102,FALSE),\"\")","v":""},{"$f":"IFERROR(VLOOKUP($A37,'All Running Order'!$A$6:$CZ$64,C$102,FALSE),\"\")","v":""},{"$f":"IFERROR(VLOOKUP($A37,'All Running Order'!$A$6:$CZ$64,D$102,FALSE),\"\")","v":""},{"$f":"IFERROR(VLOOKUP($A37,'All Running Order'!$A$6:$CZ$64,E$102,FALSE),\"\")","v":""},{"$f":"IFERROR(VLOOKUP($A37,'All Running Order'!$A$6:$CZ$64,F$102,FALSE),\"\")","v":""},{"$f":"IFERROR(VLOOKUP($A37,'All Running Order'!$A$6:$CZ$64,G$102,FALSE),\"\")","v":""},{"$f":"IFERROR(VLOOKUP($A37,'All Running Order'!$A$6:$CZ$64,H$102,FALSE),\"\")","v":""},{"$f":"IFERROR(VLOOKUP($A37,'All Running Order'!$A$6:$CZ$64,I$102,FALSE),\"\")","v":""},{"$f":"IFERROR(VLOOKUP($A37,'All Running Order'!$A$6:$CZ$64,J$102,FALSE),\"\")","v":""},{"$f":"IFERROR(VLOOKUP($A37,'All Running Order'!$A$6:$CZ$64,K$102,FALSE),\"\")","v":""},{"$f":"IFERROR(VLOOKUP($A37,'All Running Order'!$A$6:$CZ$64,L$102,FALSE),\"\")","v":""},{"$f":"IFERROR(VLOOKUP($A37,'All Running Order'!$A$6:$CZ$64,M$102,FALSE),\"\")","v":""},{"$f":"IFERROR(VLOOKUP($A37,'All Running Order'!$A$6:$CZ$64,N$102,FALSE),\"\")","v":""},{"$f":"IFERROR(VLOOKUP($A37,'All Running Order'!$A$6:$CZ$64,O$102,FALSE),\"\")","v":""},{"$f":"IFERROR(VLOOKUP($A37,'All Running Order'!$A$6:$CZ$64,P$102,FALSE),\"\")","v":""},{"$f":"IFERROR(VLOOKUP($A37,'All Running Order'!$A$6:$CZ$64,Q$102,FALSE),\"\")","v":""},{"$f":"IFERROR(VLOOKUP($A37,'All Running Order'!$A$6:$CZ$64,R$102,FALSE),\"\")","v":""},{"$f":"IFERROR(VLOOKUP($A37,'All Running Order'!$A$6:$CZ$64,S$102,FALSE),\"\")","v":""},{"$f":"IFERROR(VLOOKUP($A37,'All Running Order'!$A$6:$CZ$64,T$102,FALSE),\"\")","v":""},{"$f":"IFERROR(VLOOKUP($A37,'All Running Order'!$A$6:$CZ$64,U$102,FALSE),\"\")","v":""},{"$f":"IFERROR(VLOOKUP($A37,'All Running Order'!$A$6:$CZ$64,V$102,FALSE),\"\")","v":""},{"$f":"IFERROR(VLOOKUP($A37,'All Running Order'!$A$6:$CZ$64,W$102,FALSE),\"\")","v":""},{"$f":"IFERROR(VLOOKUP($A37,'All Running Order'!$A$6:$CZ$64,X$102,FALSE),\"\")","v":""},{"$f":"IFERROR(VLOOKUP($A37,'All Running Order'!$A$6:$CZ$64,Y$102,FALSE),\"\")","v":""},{"$f":"IFERROR(VLOOKUP($A37,'All Running Order'!$A$6:$CZ$64,Z$102,FALSE),\"\")","v":""},{"$f":"IFERROR(VLOOKUP($A37,'All Running Order'!$A$6:$CZ$64,AA$102,FALSE),\"\")","v":""},{"$f":"IFERROR(VLOOKUP($A37,'All Running Order'!$A$6:$CZ$64,AB$102,FALSE),\"\")","v":""},{"$f":"IFERROR(VLOOKUP($A37,'All Running Order'!$A$6:$CZ$64,AC$102,FALSE),\"\")","v":""},{"$f":"IFERROR(VLOOKUP($A37,'All Running Order'!$A$6:$CZ$64,AD$102,FALSE),\"\")","v":""},{"$f":"IFERROR(VLOOKUP($A37,'All Running Order'!$A$6:$CZ$64,AE$102,FALSE),\"\")","v":""},{"$f":"IFERROR(VLOOKUP($A37,'All Running Order'!$A$6:$CZ$64,AF$102,FALSE),\"\")","v":""},{"$f":"IFERROR(VLOOKUP($A37,'All Running Order'!$A$6:$CZ$64,AG$102,FALSE),\"\")","v":""},{"$f":"IFERROR(VLOOKUP($A37,'All Running Order'!$A$6:$CZ$64,AH$102,FALSE),\"\")","v":""},{"$f":"IFERROR(VLOOKUP($A37,'All Running Order'!$A$6:$CZ$64,AI$102,FALSE),\"\")","v":""},{"$f":"IFERROR(VLOOKUP($A37,'All Running Order'!$A$6:$CZ$64,AJ$102,FALSE),\"\")","v":""},{"$f":"IFERROR(VLOOKUP($A37,'All Running Order'!$A$6:$CZ$64,AK$102,FALSE),\"\")","v":""},{"$f":"IFERROR(VLOOKUP($A37,'All Running Order'!$A$6:$CZ$64,AL$102,FALSE),\"\")","v":""},{"$f":"IFERROR(VLOOKUP($A37,'All Running Order'!$A$6:$CZ$64,AM$102,FALSE),\"\")","v":""},{"$f":"IFERROR(VLOOKUP($A37,'All Running Order'!$A$6:$CZ$64,AN$102,FALSE),\"\")","v":""},{"$f":"IFERROR(VLOOKUP($A37,'All Running Order'!$A$6:$CZ$64,AO$102,FALSE),\"\")","v":""},{"$f":"IFERROR(VLOOKUP($A37,'All Running Order'!$A$6:$CZ$64,AP$102,FALSE),\"\")","v":""},{"$f":"IFERROR(VLOOKUP($A37,'All Running Order'!$A$6:$CZ$64,AQ$102,FALSE),\"\")","v":""},{"$f":"IFERROR(VLOOKUP($A37,'All Running Order'!$A$6:$CZ$64,AR$102,FALSE),\"\")","v":""},{"$f":"IFERROR(VLOOKUP($A37,'All Running Order'!$A$6:$CZ$64,AS$102,FALSE),\"\")","v":""},{"$f":"IFERROR(VLOOKUP($A37,'All Running Order'!$A$6:$CZ$64,AT$102,FALSE),\"\")","v":""},{"$f":"IFERROR(VLOOKUP($A37,'All Running Order'!$A$6:$CZ$64,AU$102,FALSE),\"\")","v":""},{"$f":"IFERROR(VLOOKUP($A37,'All Running Order'!$A$6:$CZ$64,AV$102,FALSE),\"\")","v":""},{"$f":"IFERROR(VLOOKUP($A37,'All Running Order'!$A$6:$CZ$64,AW$102,FALSE),\"\")","v":""},{"$f":"IFERROR(VLOOKUP($A37,'All Running Order'!$A$6:$CZ$64,AX$102,FALSE),\"\")","v":""},{"$f":"IFERROR(VLOOKUP($A37,'All Running Order'!$A$6:$CZ$64,AY$102,FALSE),\"\")","v":""},{"$f":"IFERROR(VLOOKUP($A37,'All Running Order'!$A$6:$CZ$64,AZ$102,FALSE),\"\")","v":""},{"$f":"IFERROR(VLOOKUP($A37,'All Running Order'!$A$6:$CZ$64,BA$102,FALSE),\"\")","v":""},{"$f":"IFERROR(VLOOKUP($A37,'All Running Order'!$A$6:$CZ$64,BB$102,FALSE),\"\")","v":""},{"$f":"IFERROR(VLOOKUP($A37,'All Running Order'!$A$6:$CZ$64,BC$102,FALSE),\"\")","v":""},{"$f":"IFERROR(VLOOKUP($A37,'All Running Order'!$A$6:$CZ$64,BD$102,FALSE),\"\")","v":""},{"$f":"IFERROR(VLOOKUP($A37,'All Running Order'!$A$6:$CZ$64,BE$102,FALSE),\"\")","v":""},{"$f":"IFERROR(VLOOKUP($A37,'All Running Order'!$A$6:$CZ$64,BF$102,FALSE),\"\")","v":""},{"$f":"IFERROR(VLOOKUP($A37,'All Running Order'!$A$6:$CZ$64,BG$102,FALSE),\"\")","v":""},{"$f":"IFERROR(VLOOKUP($A37,'All Running Order'!$A$6:$CZ$64,BH$102,FALSE),\"\")","v":""},{"$f":"IFERROR(VLOOKUP($A37,'All Running Order'!$A$6:$CZ$64,BI$102,FALSE),\"\")","v":""},{"$f":"IFERROR(VLOOKUP($A37,'All Running Order'!$A$6:$CZ$64,BJ$102,FALSE),\"\")","v":""},{"$f":"IFERROR(VLOOKUP($A37,'All Running Order'!$A$6:$CZ$64,BK$102,FALSE),\"\")","v":""},{"$f":"IFERROR(VLOOKUP($A37,'All Running Order'!$A$6:$CZ$64,BL$102,FALSE),\"\")","v":""},{"$f":"IFERROR(VLOOKUP($A37,'All Running Order'!$A$6:$CZ$64,BM$102,FALSE),\"\")","v":""},{"$f":"IFERROR(VLOOKUP($A37,'All Running Order'!$A$6:$CZ$64,BN$102,FALSE),\"\")","v":""},{"$f":"IFERROR(VLOOKUP($A37,'All Running Order'!$A$6:$CZ$64,BO$102,FALSE),\"\")","v":""},{"$f":"IFERROR(VLOOKUP($A37,'All Running Order'!$A$6:$CZ$64,BP$102,FALSE),\"\")","v":""},{"$f":"IFERROR(VLOOKUP($A37,'All Running Order'!$A$6:$CZ$64,BQ$102,FALSE),\"\")","v":""},{"$f":"IFERROR(VLOOKUP($A37,'All Running Order'!$A$6:$CZ$64,BR$102,FALSE),\"\")","v":""},{"$f":"IFERROR(VLOOKUP($A37,'All Running Order'!$A$6:$CZ$64,BS$102,FALSE),\"\")","v":""},{"$f":"IFERROR(VLOOKUP($A37,'All Running Order'!$A$6:$CZ$64,BT$102,FALSE),\"\")","v":""},{"$f":"IFERROR(VLOOKUP($A37,'All Running Order'!$A$6:$CZ$64,BU$102,FALSE),\"\")","v":""},{"$f":"IFERROR(VLOOKUP($A37,'All Running Order'!$A$6:$CZ$64,BV$102,FALSE),\"\")","v":""},{"$f":"IFERROR(VLOOKUP($A37,'All Running Order'!$A$6:$CZ$64,BW$102,FALSE),\"\")","v":""},{"$f":"IFERROR(VLOOKUP($A37,'All Running Order'!$A$6:$CZ$64,BX$102,FALSE),\"\")","v":""},{"$f":"IFERROR(VLOOKUP($A37,'All Running Order'!$A$6:$CZ$64,BY$102,FALSE),\"\")","v":""},{"$f":"IFERROR(VLOOKUP($A37,'All Running Order'!$A$6:$CZ$64,BZ$102,FALSE),\"\")","v":""},{"$f":"IFERROR(VLOOKUP($A37,'All Running Order'!$A$6:$CZ$64,CA$102,FALSE),\"\")","v":""},{"$f":"IFERROR(VLOOKUP($A37,'All Running Order'!$A$6:$CZ$64,CB$102,FALSE),\"\")","v":""},{"$f":"IFERROR(VLOOKUP($A37,'All Running Order'!$A$6:$CZ$64,CC$102,FALSE),\"\")","v":""},{"$f":"IFERROR(VLOOKUP($A37,'All Running Order'!$A$6:$CZ$64,CD$102,FALSE),\"\")","v":""},{"$f":"IFERROR(VLOOKUP($A37,'All Running Order'!$A$6:$CZ$64,CE$102,FALSE),\"\")","v":""},{"$f":"IFERROR(VLOOKUP($A37,'All Running Order'!$A$6:$CZ$64,CF$102,FALSE),\"\")","v":""},{"$f":"IFERROR(VLOOKUP($A37,'All Running Order'!$A$6:$CZ$64,CG$102,FALSE),\"\")","v":""},{"$f":"IFERROR(VLOOKUP($A37,'All Running Order'!$A$6:$CZ$64,CH$102,FALSE),\"\")","v":""},{"$f":"IFERROR(VLOOKUP($A37,'All Running Order'!$A$6:$CZ$64,CI$102,FALSE),\"\")","v":""},{"$f":"IFERROR(VLOOKUP($A37,'All Running Order'!$A$6:$CZ$64,CJ$102,FALSE),\"\")","v":""},{"$f":"IFERROR(VLOOKUP($A37,'All Running Order'!$A$6:$CZ$64,CK$102,FALSE),\"\")","v":""},{"$f":"IFERROR(VLOOKUP($A37,'All Running Order'!$A$6:$CZ$64,CL$102,FALSE),\"\")","v":""},{"$f":"IFERROR(VLOOKUP($A37,'All Running Order'!$A$6:$CZ$64,CM$102,FALSE),\"\")","v":""},{"$f":"IFERROR(VLOOKUP($A37,'All Running Order'!$A$6:$CZ$64,CN$102,FALSE),\"\")","v":""},{"$f":"IFERROR(VLOOKUP($A37,'All Running Order'!$A$6:$CZ$64,CO$102,FALSE),\"\")","v":""},{"$f":"IFERROR(VLOOKUP($A37,'All Running Order'!$A$6:$CZ$64,CP$102,FALSE),\"\")","v":""},{"$f":"IFERROR(VLOOKUP($A37,'All Running Order'!$A$6:$CZ$64,CQ$102,FALSE),\"\")","v":""},{"$f":"IFERROR(VLOOKUP($A37,'All Running Order'!$A$6:$CZ$64,CR$102,FALSE),\"\")","v":""},{"$f":"IFERROR(VLOOKUP($A37,'All Running Order'!$A$6:$CZ$64,CS$102,FALSE),\"\")","v":""},{"$f":"IFERROR(VLOOKUP($A37,'All Running Order'!$A$6:$CZ$64,CT$102,FALSE),\"\")","v":""},{"$f":"IFERROR(VLOOKUP($A37,'All Running Order'!$A$6:$CZ$64,CU$102,FALSE),\"\")","v":""},{"$f":"IFERROR(VLOOKUP($A37,'All Running Order'!$A$6:$CZ$64,CV$102,FALSE),\"\")","v":""},{"$f":"IFERROR(VLOOKUP($A37,'All Running Order'!$A$6:$CZ$64,CW$102,FALSE),\"\")","v":""},{"$f":"IFERROR(VLOOKUP($A37,'All Running Order'!$A$6:$CZ$64,CX$102,FALSE),\"\")","v":""},{"$f":"IFERROR(VLOOKUP($A37,'All Running Order'!$A$6:$CZ$64,CY$102,FALSE),\"\")","v":""},{"$f":"IFERROR(VLOOKUP($A37,'All Running Order'!$A$6:$CZ$64,CZ$102,FALSE),\"\")","v":""}]
[33,{"$f":"IFERROR(VLOOKUP($A38,'All Running Order'!$A$6:$CZ$64,B$102,FALSE),\"\")","v":""},{"$f":"IFERROR(VLOOKUP($A38,'All Running Order'!$A$6:$CZ$64,C$102,FALSE),\"\")","v":""},{"$f":"IFERROR(VLOOKUP($A38,'All Running Order'!$A$6:$CZ$64,D$102,FALSE),\"\")","v":""},{"$f":"IFERROR(VLOOKUP($A38,'All Running Order'!$A$6:$CZ$64,E$102,FALSE),\"\")","v":""},{"$f":"IFERROR(VLOOKUP($A38,'All Running Order'!$A$6:$CZ$64,F$102,FALSE),\"\")","v":""},{"$f":"IFERROR(VLOOKUP($A38,'All Running Order'!$A$6:$CZ$64,G$102,FALSE),\"\")","v":""},{"$f":"IFERROR(VLOOKUP($A38,'All Running Order'!$A$6:$CZ$64,H$102,FALSE),\"\")","v":""},{"$f":"IFERROR(VLOOKUP($A38,'All Running Order'!$A$6:$CZ$64,I$102,FALSE),\"\")","v":""},{"$f":"IFERROR(VLOOKUP($A38,'All Running Order'!$A$6:$CZ$64,J$102,FALSE),\"\")","v":""},{"$f":"IFERROR(VLOOKUP($A38,'All Running Order'!$A$6:$CZ$64,K$102,FALSE),\"\")","v":""},{"$f":"IFERROR(VLOOKUP($A38,'All Running Order'!$A$6:$CZ$64,L$102,FALSE),\"\")","v":""},{"$f":"IFERROR(VLOOKUP($A38,'All Running Order'!$A$6:$CZ$64,M$102,FALSE),\"\")","v":""},{"$f":"IFERROR(VLOOKUP($A38,'All Running Order'!$A$6:$CZ$64,N$102,FALSE),\"\")","v":""},{"$f":"IFERROR(VLOOKUP($A38,'All Running Order'!$A$6:$CZ$64,O$102,FALSE),\"\")","v":""},{"$f":"IFERROR(VLOOKUP($A38,'All Running Order'!$A$6:$CZ$64,P$102,FALSE),\"\")","v":""},{"$f":"IFERROR(VLOOKUP($A38,'All Running Order'!$A$6:$CZ$64,Q$102,FALSE),\"\")","v":""},{"$f":"IFERROR(VLOOKUP($A38,'All Running Order'!$A$6:$CZ$64,R$102,FALSE),\"\")","v":""},{"$f":"IFERROR(VLOOKUP($A38,'All Running Order'!$A$6:$CZ$64,S$102,FALSE),\"\")","v":""},{"$f":"IFERROR(VLOOKUP($A38,'All Running Order'!$A$6:$CZ$64,T$102,FALSE),\"\")","v":""},{"$f":"IFERROR(VLOOKUP($A38,'All Running Order'!$A$6:$CZ$64,U$102,FALSE),\"\")","v":""},{"$f":"IFERROR(VLOOKUP($A38,'All Running Order'!$A$6:$CZ$64,V$102,FALSE),\"\")","v":""},{"$f":"IFERROR(VLOOKUP($A38,'All Running Order'!$A$6:$CZ$64,W$102,FALSE),\"\")","v":""},{"$f":"IFERROR(VLOOKUP($A38,'All Running Order'!$A$6:$CZ$64,X$102,FALSE),\"\")","v":""},{"$f":"IFERROR(VLOOKUP($A38,'All Running Order'!$A$6:$CZ$64,Y$102,FALSE),\"\")","v":""},{"$f":"IFERROR(VLOOKUP($A38,'All Running Order'!$A$6:$CZ$64,Z$102,FALSE),\"\")","v":""},{"$f":"IFERROR(VLOOKUP($A38,'All Running Order'!$A$6:$CZ$64,AA$102,FALSE),\"\")","v":""},{"$f":"IFERROR(VLOOKUP($A38,'All Running Order'!$A$6:$CZ$64,AB$102,FALSE),\"\")","v":""},{"$f":"IFERROR(VLOOKUP($A38,'All Running Order'!$A$6:$CZ$64,AC$102,FALSE),\"\")","v":""},{"$f":"IFERROR(VLOOKUP($A38,'All Running Order'!$A$6:$CZ$64,AD$102,FALSE),\"\")","v":""},{"$f":"IFERROR(VLOOKUP($A38,'All Running Order'!$A$6:$CZ$64,AE$102,FALSE),\"\")","v":""},{"$f":"IFERROR(VLOOKUP($A38,'All Running Order'!$A$6:$CZ$64,AF$102,FALSE),\"\")","v":""},{"$f":"IFERROR(VLOOKUP($A38,'All Running Order'!$A$6:$CZ$64,AG$102,FALSE),\"\")","v":""},{"$f":"IFERROR(VLOOKUP($A38,'All Running Order'!$A$6:$CZ$64,AH$102,FALSE),\"\")","v":""},{"$f":"IFERROR(VLOOKUP($A38,'All Running Order'!$A$6:$CZ$64,AI$102,FALSE),\"\")","v":""},{"$f":"IFERROR(VLOOKUP($A38,'All Running Order'!$A$6:$CZ$64,AJ$102,FALSE),\"\")","v":""},{"$f":"IFERROR(VLOOKUP($A38,'All Running Order'!$A$6:$CZ$64,AK$102,FALSE),\"\")","v":""},{"$f":"IFERROR(VLOOKUP($A38,'All Running Order'!$A$6:$CZ$64,AL$102,FALSE),\"\")","v":""},{"$f":"IFERROR(VLOOKUP($A38,'All Running Order'!$A$6:$CZ$64,AM$102,FALSE),\"\")","v":""},{"$f":"IFERROR(VLOOKUP($A38,'All Running Order'!$A$6:$CZ$64,AN$102,FALSE),\"\")","v":""},{"$f":"IFERROR(VLOOKUP($A38,'All Running Order'!$A$6:$CZ$64,AO$102,FALSE),\"\")","v":""},{"$f":"IFERROR(VLOOKUP($A38,'All Running Order'!$A$6:$CZ$64,AP$102,FALSE),\"\")","v":""},{"$f":"IFERROR(VLOOKUP($A38,'All Running Order'!$A$6:$CZ$64,AQ$102,FALSE),\"\")","v":""},{"$f":"IFERROR(VLOOKUP($A38,'All Running Order'!$A$6:$CZ$64,AR$102,FALSE),\"\")","v":""},{"$f":"IFERROR(VLOOKUP($A38,'All Running Order'!$A$6:$CZ$64,AS$102,FALSE),\"\")","v":""},{"$f":"IFERROR(VLOOKUP($A38,'All Running Order'!$A$6:$CZ$64,AT$102,FALSE),\"\")","v":""},{"$f":"IFERROR(VLOOKUP($A38,'All Running Order'!$A$6:$CZ$64,AU$102,FALSE),\"\")","v":""},{"$f":"IFERROR(VLOOKUP($A38,'All Running Order'!$A$6:$CZ$64,AV$102,FALSE),\"\")","v":""},{"$f":"IFERROR(VLOOKUP($A38,'All Running Order'!$A$6:$CZ$64,AW$102,FALSE),\"\")","v":""},{"$f":"IFERROR(VLOOKUP($A38,'All Running Order'!$A$6:$CZ$64,AX$102,FALSE),\"\")","v":""},{"$f":"IFERROR(VLOOKUP($A38,'All Running Order'!$A$6:$CZ$64,AY$102,FALSE),\"\")","v":""},{"$f":"IFERROR(VLOOKUP($A38,'All Running Order'!$A$6:$CZ$64,AZ$102,FALSE),\"\")","v":""},{"$f":"IFERROR(VLOOKUP($A38,'All Running Order'!$A$6:$CZ$64,BA$102,FALSE),\"\")","v":""},{"$f":"IFERROR(VLOOKUP($A38,'All Running Order'!$A$6:$CZ$64,BB$102,FALSE),\"\")","v":""},{"$f":"IFERROR(VLOOKUP($A38,'All Running Order'!$A$6:$CZ$64,BC$102,FALSE),\"\")","v":""},{"$f":"IFERROR(VLOOKUP($A38,'All Running Order'!$A$6:$CZ$64,BD$102,FALSE),\"\")","v":""},{"$f":"IFERROR(VLOOKUP($A38,'All Running Order'!$A$6:$CZ$64,BE$102,FALSE),\"\")","v":""},{"$f":"IFERROR(VLOOKUP($A38,'All Running Order'!$A$6:$CZ$64,BF$102,FALSE),\"\")","v":""},{"$f":"IFERROR(VLOOKUP($A38,'All Running Order'!$A$6:$CZ$64,BG$102,FALSE),\"\")","v":""},{"$f":"IFERROR(VLOOKUP($A38,'All Running Order'!$A$6:$CZ$64,BH$102,FALSE),\"\")","v":""},{"$f":"IFERROR(VLOOKUP($A38,'All Running Order'!$A$6:$CZ$64,BI$102,FALSE),\"\")","v":""},{"$f":"IFERROR(VLOOKUP($A38,'All Running Order'!$A$6:$CZ$64,BJ$102,FALSE),\"\")","v":""},{"$f":"IFERROR(VLOOKUP($A38,'All Running Order'!$A$6:$CZ$64,BK$102,FALSE),\"\")","v":""},{"$f":"IFERROR(VLOOKUP($A38,'All Running Order'!$A$6:$CZ$64,BL$102,FALSE),\"\")","v":""},{"$f":"IFERROR(VLOOKUP($A38,'All Running Order'!$A$6:$CZ$64,BM$102,FALSE),\"\")","v":""},{"$f":"IFERROR(VLOOKUP($A38,'All Running Order'!$A$6:$CZ$64,BN$102,FALSE),\"\")","v":""},{"$f":"IFERROR(VLOOKUP($A38,'All Running Order'!$A$6:$CZ$64,BO$102,FALSE),\"\")","v":""},{"$f":"IFERROR(VLOOKUP($A38,'All Running Order'!$A$6:$CZ$64,BP$102,FALSE),\"\")","v":""},{"$f":"IFERROR(VLOOKUP($A38,'All Running Order'!$A$6:$CZ$64,BQ$102,FALSE),\"\")","v":""},{"$f":"IFERROR(VLOOKUP($A38,'All Running Order'!$A$6:$CZ$64,BR$102,FALSE),\"\")","v":""},{"$f":"IFERROR(VLOOKUP($A38,'All Running Order'!$A$6:$CZ$64,BS$102,FALSE),\"\")","v":""},{"$f":"IFERROR(VLOOKUP($A38,'All Running Order'!$A$6:$CZ$64,BT$102,FALSE),\"\")","v":""},{"$f":"IFERROR(VLOOKUP($A38,'All Running Order'!$A$6:$CZ$64,BU$102,FALSE),\"\")","v":""},{"$f":"IFERROR(VLOOKUP($A38,'All Running Order'!$A$6:$CZ$64,BV$102,FALSE),\"\")","v":""},{"$f":"IFERROR(VLOOKUP($A38,'All Running Order'!$A$6:$CZ$64,BW$102,FALSE),\"\")","v":""},{"$f":"IFERROR(VLOOKUP($A38,'All Running Order'!$A$6:$CZ$64,BX$102,FALSE),\"\")","v":""},{"$f":"IFERROR(VLOOKUP($A38,'All Running Order'!$A$6:$CZ$64,BY$102,FALSE),\"\")","v":""},{"$f":"IFERROR(VLOOKUP($A38,'All Running Order'!$A$6:$CZ$64,BZ$102,FALSE),\"\")","v":""},{"$f":"IFERROR(VLOOKUP($A38,'All Running Order'!$A$6:$CZ$64,CA$102,FALSE),\"\")","v":""},{"$f":"IFERROR(VLOOKUP($A38,'All Running Order'!$A$6:$CZ$64,CB$102,FALSE),\"\")","v":""},{"$f":"IFERROR(VLOOKUP($A38,'All Running Order'!$A$6:$CZ$64,CC$102,FALSE),\"\")","v":""},{"$f":"IFERROR(VLOOKUP($A38,'All Running Order'!$A$6:$CZ$64,CD$102,FALSE),\"\")","v":""},{"$f":"IFERROR(VLOOKUP($A38,'All Running Order'!$A$6:$CZ$64,CE$102,FALSE),\"\")","v":""},{"$f":"IFERROR(VLOOKUP($A38,'All Running Order'!$A$6:$CZ$64,CF$102,FALSE),\"\")","v":""},{"$f":"IFERROR(VLOOKUP($A38,'All Running Order'!$A$6:$CZ$64,CG$102,FALSE),\"\")","v":""},{"$f":"IFERROR(VLOOKUP($A38,'All Running Order'!$A$6:$CZ$64,CH$102,FALSE),\"\")","v":""},{"$f":"IFERROR(VLOOKUP($A38,'All Running Order'!$A$6:$CZ$64,CI$102,FALSE),\"\")","v":""},{"$f":"IFERROR(VLOOKUP($A38,'All Running Order'!$A$6:$CZ$64,CJ$102,FALSE),\"\")","v":""},{"$f":"IFERROR(VLOOKUP($A38,'All Running Order'!$A$6:$CZ$64,CK$102,FALSE),\"\")","v":""},{"$f":"IFERROR(VLOOKUP($A38,'All Running Order'!$A$6:$CZ$64,CL$102,FALSE),\"\")","v":""},{"$f":"IFERROR(VLOOKUP($A38,'All Running Order'!$A$6:$CZ$64,CM$102,FALSE),\"\")","v":""},{"$f":"IFERROR(VLOOKUP($A38,'All Running Order'!$A$6:$CZ$64,CN$102,FALSE),\"\")","v":""},{"$f":"IFERROR(VLOOKUP($A38,'All Running Order'!$A$6:$CZ$64,CO$102,FALSE),\"\")","v":""},{"$f":"IFERROR(VLOOKUP($A38,'All Running Order'!$A$6:$CZ$64,CP$102,FALSE),\"\")","v":""},{"$f":"IFERROR(VLOOKUP($A38,'All Running Order'!$A$6:$CZ$64,CQ$102,FALSE),\"\")","v":""},{"$f":"IFERROR(VLOOKUP($A38,'All Running Order'!$A$6:$CZ$64,CR$102,FALSE),\"\")","v":""},{"$f":"IFERROR(VLOOKUP($A38,'All Running Order'!$A$6:$CZ$64,CS$102,FALSE),\"\")","v":""},{"$f":"IFERROR(VLOOKUP($A38,'All Running Order'!$A$6:$CZ$64,CT$102,FALSE),\"\")","v":""},{"$f":"IFERROR(VLOOKUP($A38,'All Running Order'!$A$6:$CZ$64,CU$102,FALSE),\"\")","v":""},{"$f":"IFERROR(VLOOKUP($A38,'All Running Order'!$A$6:$CZ$64,CV$102,FALSE),\"\")","v":""},{"$f":"IFERROR(VLOOKUP($A38,'All Running Order'!$A$6:$CZ$64,CW$102,FALSE),\"\")","v":""},{"$f":"IFERROR(VLOOKUP($A38,'All Running Order'!$A$6:$CZ$64,CX$102,FALSE),\"\")","v":""},{"$f":"IFERROR(VLOOKUP($A38,'All Running Order'!$A$6:$CZ$64,CY$102,FALSE),\"\")","v":""},{"$f":"IFERROR(VLOOKUP($A38,'All Running Order'!$A$6:$CZ$64,CZ$102,FALSE),\"\")","v":""}]
[34,{"$f":"IFERROR(VLOOKUP($A39,'All Running Order'!$A$6:$CZ$64,B$102,FALSE),\"\")","v":""},{"$f":"IFERROR(VLOOKUP($A39,'All Running Order'!$A$6:$CZ$64,C$102,FALSE),\"\")","v":""},{"$f":"IFERROR(VLOOKUP($A39,'All Running Order'!$A$6:$CZ$64,D$102,FALSE),\"\")","v":""},{"$f":"IFERROR(VLOOKUP($A39,'All Running Order'!$A$6:$CZ$64,E$102,FALSE),\"\")","v":""},{"$f":"IFERROR(VLOOKUP($A39,'All Running Order'!$A$6:$CZ$64,F$102,FALSE),\"\")","v":""},{"$f":"IFERROR(VLOOKUP($A39,'All Running Order'!$A$6:$CZ$64,G$102,FALSE),\"\")","v":""},{"$f":"IFERROR(VLOOKUP($A39,'All Running Order'!$A$6:$CZ$64,H$102,FALSE),\"\")","v":""},{"$f":"IFERROR(VLOOKUP($A39,'All Running Order'!$A$6:$CZ$64,I$102,FALSE),\"\")","v":""},{"$f":"IFERROR(VLOOKUP($A39,'All Running Order'!$A$6:$CZ$64,J$102,FALSE),\"\")","v":""},{"$f":"IFERROR(VLOOKUP($A39,'All Running Order'!$A$6:$CZ$64,K$102,FALSE),\"\")","v":""},{"$f":"IFERROR(VLOOKUP($A39,'All Running Order'!$A$6:$CZ$64,L$102,FALSE),\"\")","v":""},{"$f":"IFERROR(VLOOKUP($A39,'All Running Order'!$A$6:$CZ$64,M$102,FALSE),\"\")","v":""},{"$f":"IFERROR(VLOOKUP($A39,'All Running Order'!$A$6:$CZ$64,N$102,FALSE),\"\")","v":""},{"$f":"IFERROR(VLOOKUP($A39,'All Running Order'!$A$6:$CZ$64,O$102,FALSE),\"\")","v":""},{"$f":"IFERROR(VLOOKUP($A39,'All Running Order'!$A$6:$CZ$64,P$102,FALSE),\"\")","v":""},{"$f":"IFERROR(VLOOKUP($A39,'All Running Order'!$A$6:$CZ$64,Q$102,FALSE),\"\")","v":""},{"$f":"IFERROR(VLOOKUP($A39,'All Running Order'!$A$6:$CZ$64,R$102,FALSE),\"\")","v":""},{"$f":"IFERROR(VLOOKUP($A39,'All Running Order'!$A$6:$CZ$64,S$102,FALSE),\"\")","v":""},{"$f":"IFERROR(VLOOKUP($A39,'All Running Order'!$A$6:$CZ$64,T$102,FALSE),\"\")","v":""},{"$f":"IFERROR(VLOOKUP($A39,'All Running Order'!$A$6:$CZ$64,U$102,FALSE),\"\")","v":""},{"$f":"IFERROR(VLOOKUP($A39,'All Running Order'!$A$6:$CZ$64,V$102,FALSE),\"\")","v":""},{"$f":"IFERROR(VLOOKUP($A39,'All Running Order'!$A$6:$CZ$64,W$102,FALSE),\"\")","v":""},{"$f":"IFERROR(VLOOKUP($A39,'All Running Order'!$A$6:$CZ$64,X$102,FALSE),\"\")","v":""},{"$f":"IFERROR(VLOOKUP($A39,'All Running Order'!$A$6:$CZ$64,Y$102,FALSE),\"\")","v":""},{"$f":"IFERROR(VLOOKUP($A39,'All Running Order'!$A$6:$CZ$64,Z$102,FALSE),\"\")","v":""},{"$f":"IFERROR(VLOOKUP($A39,'All Running Order'!$A$6:$CZ$64,AA$102,FALSE),\"\")","v":""},{"$f":"IFERROR(VLOOKUP($A39,'All Running Order'!$A$6:$CZ$64,AB$102,FALSE),\"\")","v":""},{"$f":"IFERROR(VLOOKUP($A39,'All Running Order'!$A$6:$CZ$64,AC$102,FALSE),\"\")","v":""},{"$f":"IFERROR(VLOOKUP($A39,'All Running Order'!$A$6:$CZ$64,AD$102,FALSE),\"\")","v":""},{"$f":"IFERROR(VLOOKUP($A39,'All Running Order'!$A$6:$CZ$64,AE$102,FALSE),\"\")","v":""},{"$f":"IFERROR(VLOOKUP($A39,'All Running Order'!$A$6:$CZ$64,AF$102,FALSE),\"\")","v":""},{"$f":"IFERROR(VLOOKUP($A39,'All Running Order'!$A$6:$CZ$64,AG$102,FALSE),\"\")","v":""},{"$f":"IFERROR(VLOOKUP($A39,'All Running Order'!$A$6:$CZ$64,AH$102,FALSE),\"\")","v":""},{"$f":"IFERROR(VLOOKUP($A39,'All Running Order'!$A$6:$CZ$64,AI$102,FALSE),\"\")","v":""},{"$f":"IFERROR(VLOOKUP($A39,'All Running Order'!$A$6:$CZ$64,AJ$102,FALSE),\"\")","v":""},{"$f":"IFERROR(VLOOKUP($A39,'All Running Order'!$A$6:$CZ$64,AK$102,FALSE),\"\")","v":""},{"$f":"IFERROR(VLOOKUP($A39,'All Running Order'!$A$6:$CZ$64,AL$102,FALSE),\"\")","v":""},{"$f":"IFERROR(VLOOKUP($A39,'All Running Order'!$A$6:$CZ$64,AM$102,FALSE),\"\")","v":""},{"$f":"IFERROR(VLOOKUP($A39,'All Running Order'!$A$6:$CZ$64,AN$102,FALSE),\"\")","v":""},{"$f":"IFERROR(VLOOKUP($A39,'All Running Order'!$A$6:$CZ$64,AO$102,FALSE),\"\")","v":""},{"$f":"IFERROR(VLOOKUP($A39,'All Running Order'!$A$6:$CZ$64,AP$102,FALSE),\"\")","v":""},{"$f":"IFERROR(VLOOKUP($A39,'All Running Order'!$A$6:$CZ$64,AQ$102,FALSE),\"\")","v":""},{"$f":"IFERROR(VLOOKUP($A39,'All Running Order'!$A$6:$CZ$64,AR$102,FALSE),\"\")","v":""},{"$f":"IFERROR(VLOOKUP($A39,'All Running Order'!$A$6:$CZ$64,AS$102,FALSE),\"\")","v":""},{"$f":"IFERROR(VLOOKUP($A39,'All Running Order'!$A$6:$CZ$64,AT$102,FALSE),\"\")","v":""},{"$f":"IFERROR(VLOOKUP($A39,'All Running Order'!$A$6:$CZ$64,AU$102,FALSE),\"\")","v":""},{"$f":"IFERROR(VLOOKUP($A39,'All Running Order'!$A$6:$CZ$64,AV$102,FALSE),\"\")","v":""},{"$f":"IFERROR(VLOOKUP($A39,'All Running Order'!$A$6:$CZ$64,AW$102,FALSE),\"\")","v":""},{"$f":"IFERROR(VLOOKUP($A39,'All Running Order'!$A$6:$CZ$64,AX$102,FALSE),\"\")","v":""},{"$f":"IFERROR(VLOOKUP($A39,'All Running Order'!$A$6:$CZ$64,AY$102,FALSE),\"\")","v":""},{"$f":"IFERROR(VLOOKUP($A39,'All Running Order'!$A$6:$CZ$64,AZ$102,FALSE),\"\")","v":""},{"$f":"IFERROR(VLOOKUP($A39,'All Running Order'!$A$6:$CZ$64,BA$102,FALSE),\"\")","v":""},{"$f":"IFERROR(VLOOKUP($A39,'All Running Order'!$A$6:$CZ$64,BB$102,FALSE),\"\")","v":""},{"$f":"IFERROR(VLOOKUP($A39,'All Running Order'!$A$6:$CZ$64,BC$102,FALSE),\"\")","v":""},{"$f":"IFERROR(VLOOKUP($A39,'All Running Order'!$A$6:$CZ$64,BD$102,FALSE),\"\")","v":""},{"$f":"IFERROR(VLOOKUP($A39,'All Running Order'!$A$6:$CZ$64,BE$102,FALSE),\"\")","v":""},{"$f":"IFERROR(VLOOKUP($A39,'All Running Order'!$A$6:$CZ$64,BF$102,FALSE),\"\")","v":""},{"$f":"IFERROR(VLOOKUP($A39,'All Running Order'!$A$6:$CZ$64,BG$102,FALSE),\"\")","v":""},{"$f":"IFERROR(VLOOKUP($A39,'All Running Order'!$A$6:$CZ$64,BH$102,FALSE),\"\")","v":""},{"$f":"IFERROR(VLOOKUP($A39,'All Running Order'!$A$6:$CZ$64,BI$102,FALSE),\"\")","v":""},{"$f":"IFERROR(VLOOKUP($A39,'All Running Order'!$A$6:$CZ$64,BJ$102,FALSE),\"\")","v":""},{"$f":"IFERROR(VLOOKUP($A39,'All Running Order'!$A$6:$CZ$64,BK$102,FALSE),\"\")","v":""},{"$f":"IFERROR(VLOOKUP($A39,'All Running Order'!$A$6:$CZ$64,BL$102,FALSE),\"\")","v":""},{"$f":"IFERROR(VLOOKUP($A39,'All Running Order'!$A$6:$CZ$64,BM$102,FALSE),\"\")","v":""},{"$f":"IFERROR(VLOOKUP($A39,'All Running Order'!$A$6:$CZ$64,BN$102,FALSE),\"\")","v":""},{"$f":"IFERROR(VLOOKUP($A39,'All Running Order'!$A$6:$CZ$64,BO$102,FALSE),\"\")","v":""},{"$f":"IFERROR(VLOOKUP($A39,'All Running Order'!$A$6:$CZ$64,BP$102,FALSE),\"\")","v":""},{"$f":"IFERROR(VLOOKUP($A39,'All Running Order'!$A$6:$CZ$64,BQ$102,FALSE),\"\")","v":""},{"$f":"IFERROR(VLOOKUP($A39,'All Running Order'!$A$6:$CZ$64,BR$102,FALSE),\"\")","v":""},{"$f":"IFERROR(VLOOKUP($A39,'All Running Order'!$A$6:$CZ$64,BS$102,FALSE),\"\")","v":""},{"$f":"IFERROR(VLOOKUP($A39,'All Running Order'!$A$6:$CZ$64,BT$102,FALSE),\"\")","v":""},{"$f":"IFERROR(VLOOKUP($A39,'All Running Order'!$A$6:$CZ$64,BU$102,FALSE),\"\")","v":""},{"$f":"IFERROR(VLOOKUP($A39,'All Running Order'!$A$6:$CZ$64,BV$102,FALSE),\"\")","v":""},{"$f":"IFERROR(VLOOKUP($A39,'All Running Order'!$A$6:$CZ$64,BW$102,FALSE),\"\")","v":""},{"$f":"IFERROR(VLOOKUP($A39,'All Running Order'!$A$6:$CZ$64,BX$102,FALSE),\"\")","v":""},{"$f":"IFERROR(VLOOKUP($A39,'All Running Order'!$A$6:$CZ$64,BY$102,FALSE),\"\")","v":""},{"$f":"IFERROR(VLOOKUP($A39,'All Running Order'!$A$6:$CZ$64,BZ$102,FALSE),\"\")","v":""},{"$f":"IFERROR(VLOOKUP($A39,'All Running Order'!$A$6:$CZ$64,CA$102,FALSE),\"\")","v":""},{"$f":"IFERROR(VLOOKUP($A39,'All Running Order'!$A$6:$CZ$64,CB$102,FALSE),\"\")","v":""},{"$f":"IFERROR(VLOOKUP($A39,'All Running Order'!$A$6:$CZ$64,CC$102,FALSE),\"\")","v":""},{"$f":"IFERROR(VLOOKUP($A39,'All Running Order'!$A$6:$CZ$64,CD$102,FALSE),\"\")","v":""},{"$f":"IFERROR(VLOOKUP($A39,'All Running Order'!$A$6:$CZ$64,CE$102,FALSE),\"\")","v":""},{"$f":"IFERROR(VLOOKUP($A39,'All Running Order'!$A$6:$CZ$64,CF$102,FALSE),\"\")","v":""},{"$f":"IFERROR(VLOOKUP($A39,'All Running Order'!$A$6:$CZ$64,CG$102,FALSE),\"\")","v":""},{"$f":"IFERROR(VLOOKUP($A39,'All Running Order'!$A$6:$CZ$64,CH$102,FALSE),\"\")","v":""},{"$f":"IFERROR(VLOOKUP($A39,'All Running Order'!$A$6:$CZ$64,CI$102,FALSE),\"\")","v":""},{"$f":"IFERROR(VLOOKUP($A39,'All Running Order'!$A$6:$CZ$64,CJ$102,FALSE),\"\")","v":""},{"$f":"IFERROR(VLOOKUP($A39,'All Running Order'!$A$6:$CZ$64,CK$102,FALSE),\"\")","v":""},{"$f":"IFERROR(VLOOKUP($A39,'All Running Order'!$A$6:$CZ$64,CL$102,FALSE),\"\")","v":""},{"$f":"IFERROR(VLOOKUP($A39,'All Running Order'!$A$6:$CZ$64,CM$102,FALSE),\"\")","v":""},{"$f":"IFERROR(VLOOKUP($A39,'All Running Order'!$A$6:$CZ$64,CN$102,FALSE),\"\")","v":""},{"$f":"IFERROR(VLOOKUP($A39,'All Running Order'!$A$6:$CZ$64,CO$102,FALSE),\"\")","v":""},{"$f":"IFERROR(VLOOKUP($A39,'All Running Order'!$A$6:$CZ$64,CP$102,FALSE),\"\")","v":""},{"$f":"IFERROR(VLOOKUP($A39,'All Running Order'!$A$6:$CZ$64,CQ$102,FALSE),\"\")","v":""},{"$f":"IFERROR(VLOOKUP($A39,'All Running Order'!$A$6:$CZ$64,CR$102,FALSE),\"\")","v":""},{"$f":"IFERROR(VLOOKUP($A39,'All Running Order'!$A$6:$CZ$64,CS$102,FALSE),\"\")","v":""},{"$f":"IFERROR(VLOOKUP($A39,'All Running Order'!$A$6:$CZ$64,CT$102,FALSE),\"\")","v":""},{"$f":"IFERROR(VLOOKUP($A39,'All Running Order'!$A$6:$CZ$64,CU$102,FALSE),\"\")","v":""},{"$f":"IFERROR(VLOOKUP($A39,'All Running Order'!$A$6:$CZ$64,CV$102,FALSE),\"\")","v":""},{"$f":"IFERROR(VLOOKUP($A39,'All Running Order'!$A$6:$CZ$64,CW$102,FALSE),\"\")","v":""},{"$f":"IFERROR(VLOOKUP($A39,'All Running Order'!$A$6:$CZ$64,CX$102,FALSE),\"\")","v":""},{"$f":"IFERROR(VLOOKUP($A39,'All Running Order'!$A$6:$CZ$64,CY$102,FALSE),\"\")","v":""},{"$f":"IFERROR(VLOOKUP($A39,'All Running Order'!$A$6:$CZ$64,CZ$102,FALSE),\"\")","v":""}]
[35,{"$f":"IFERROR(VLOOKUP($A40,'All Running Order'!$A$6:$CZ$64,B$102,FALSE),\"\")","v":""},{"$f":"IFERROR(VLOOKUP($A40,'All Running Order'!$A$6:$CZ$64,C$102,FALSE),\"\")","v":""},{"$f":"IFERROR(VLOOKUP($A40,'All Running Order'!$A$6:$CZ$64,D$102,FALSE),\"\")","v":""},{"$f":"IFERROR(VLOOKUP($A40,'All Running Order'!$A$6:$CZ$64,E$102,FALSE),\"\")","v":""},{"$f":"IFERROR(VLOOKUP($A40,'All Running Order'!$A$6:$CZ$64,F$102,FALSE),\"\")","v":""},{"$f":"IFERROR(VLOOKUP($A40,'All Running Order'!$A$6:$CZ$64,G$102,FALSE),\"\")","v":""},{"$f":"IFERROR(VLOOKUP($A40,'All Running Order'!$A$6:$CZ$64,H$102,FALSE),\"\")","v":""},{"$f":"IFERROR(VLOOKUP($A40,'All Running Order'!$A$6:$CZ$64,I$102,FALSE),\"\")","v":""},{"$f":"IFERROR(VLOOKUP($A40,'All Running Order'!$A$6:$CZ$64,J$102,FALSE),\"\")","v":""},{"$f":"IFERROR(VLOOKUP($A40,'All Running Order'!$A$6:$CZ$64,K$102,FALSE),\"\")","v":""},{"$f":"IFERROR(VLOOKUP($A40,'All Running Order'!$A$6:$CZ$64,L$102,FALSE),\"\")","v":""},{"$f":"IFERROR(VLOOKUP($A40,'All Running Order'!$A$6:$CZ$64,M$102,FALSE),\"\")","v":""},{"$f":"IFERROR(VLOOKUP($A40,'All Running Order'!$A$6:$CZ$64,N$102,FALSE),\"\")","v":""},{"$f":"IFERROR(VLOOKUP($A40,'All Running Order'!$A$6:$CZ$64,O$102,FALSE),\"\")","v":""},{"$f":"IFERROR(VLOOKUP($A40,'All Running Order'!$A$6:$CZ$64,P$102,FALSE),\"\")","v":""},{"$f":"IFERROR(VLOOKUP($A40,'All Running Order'!$A$6:$CZ$64,Q$102,FALSE),\"\")","v":""},{"$f":"IFERROR(VLOOKUP($A40,'All Running Order'!$A$6:$CZ$64,R$102,FALSE),\"\")","v":""},{"$f":"IFERROR(VLOOKUP($A40,'All Running Order'!$A$6:$CZ$64,S$102,FALSE),\"\")","v":""},{"$f":"IFERROR(VLOOKUP($A40,'All Running Order'!$A$6:$CZ$64,T$102,FALSE),\"\")","v":""},{"$f":"IFERROR(VLOOKUP($A40,'All Running Order'!$A$6:$CZ$64,U$102,FALSE),\"\")","v":""},{"$f":"IFERROR(VLOOKUP($A40,'All Running Order'!$A$6:$CZ$64,V$102,FALSE),\"\")","v":""},{"$f":"IFERROR(VLOOKUP($A40,'All Running Order'!$A$6:$CZ$64,W$102,FALSE),\"\")","v":""},{"$f":"IFERROR(VLOOKUP($A40,'All Running Order'!$A$6:$CZ$64,X$102,FALSE),\"\")","v":""},{"$f":"IFERROR(VLOOKUP($A40,'All Running Order'!$A$6:$CZ$64,Y$102,FALSE),\"\")","v":""},{"$f":"IFERROR(VLOOKUP($A40,'All Running Order'!$A$6:$CZ$64,Z$102,FALSE),\"\")","v":""},{"$f":"IFERROR(VLOOKUP($A40,'All Running Order'!$A$6:$CZ$64,AA$102,FALSE),\"\")","v":""},{"$f":"IFERROR(VLOOKUP($A40,'All Running Order'!$A$6:$CZ$64,AB$102,FALSE),\"\")","v":""},{"$f":"IFERROR(VLOOKUP($A40,'All Running Order'!$A$6:$CZ$64,AC$102,FALSE),\"\")","v":""},{"$f":"IFERROR(VLOOKUP($A40,'All Running Order'!$A$6:$CZ$64,AD$102,FALSE),\"\")","v":""},{"$f":"IFERROR(VLOOKUP($A40,'All Running Order'!$A$6:$CZ$64,AE$102,FALSE),\"\")","v":""},{"$f":"IFERROR(VLOOKUP($A40,'All Running Order'!$A$6:$CZ$64,AF$102,FALSE),\"\")","v":""},{"$f":"IFERROR(VLOOKUP($A40,'All Running Order'!$A$6:$CZ$64,AG$102,FALSE),\"\")","v":""},{"$f":"IFERROR(VLOOKUP($A40,'All Running Order'!$A$6:$CZ$64,AH$102,FALSE),\"\")","v":""},{"$f":"IFERROR(VLOOKUP($A40,'All Running Order'!$A$6:$CZ$64,AI$102,FALSE),\"\")","v":""},{"$f":"IFERROR(VLOOKUP($A40,'All Running Order'!$A$6:$CZ$64,AJ$102,FALSE),\"\")","v":""},{"$f":"IFERROR(VLOOKUP($A40,'All Running Order'!$A$6:$CZ$64,AK$102,FALSE),\"\")","v":""},{"$f":"IFERROR(VLOOKUP($A40,'All Running Order'!$A$6:$CZ$64,AL$102,FALSE),\"\")","v":""},{"$f":"IFERROR(VLOOKUP($A40,'All Running Order'!$A$6:$CZ$64,AM$102,FALSE),\"\")","v":""},{"$f":"IFERROR(VLOOKUP($A40,'All Running Order'!$A$6:$CZ$64,AN$102,FALSE),\"\")","v":""},{"$f":"IFERROR(VLOOKUP($A40,'All Running Order'!$A$6:$CZ$64,AO$102,FALSE),\"\")","v":""},{"$f":"IFERROR(VLOOKUP($A40,'All Running Order'!$A$6:$CZ$64,AP$102,FALSE),\"\")","v":""},{"$f":"IFERROR(VLOOKUP($A40,'All Running Order'!$A$6:$CZ$64,AQ$102,FALSE),\"\")","v":""},{"$f":"IFERROR(VLOOKUP($A40,'All Running Order'!$A$6:$CZ$64,AR$102,FALSE),\"\")","v":""},{"$f":"IFERROR(VLOOKUP($A40,'All Running Order'!$A$6:$CZ$64,AS$102,FALSE),\"\")","v":""},{"$f":"IFERROR(VLOOKUP($A40,'All Running Order'!$A$6:$CZ$64,AT$102,FALSE),\"\")","v":""},{"$f":"IFERROR(VLOOKUP($A40,'All Running Order'!$A$6:$CZ$64,AU$102,FALSE),\"\")","v":""},{"$f":"IFERROR(VLOOKUP($A40,'All Running Order'!$A$6:$CZ$64,AV$102,FALSE),\"\")","v":""},{"$f":"IFERROR(VLOOKUP($A40,'All Running Order'!$A$6:$CZ$64,AW$102,FALSE),\"\")","v":""},{"$f":"IFERROR(VLOOKUP($A40,'All Running Order'!$A$6:$CZ$64,AX$102,FALSE),\"\")","v":""},{"$f":"IFERROR(VLOOKUP($A40,'All Running Order'!$A$6:$CZ$64,AY$102,FALSE),\"\")","v":""},{"$f":"IFERROR(VLOOKUP($A40,'All Running Order'!$A$6:$CZ$64,AZ$102,FALSE),\"\")","v":""},{"$f":"IFERROR(VLOOKUP($A40,'All Running Order'!$A$6:$CZ$64,BA$102,FALSE),\"\")","v":""},{"$f":"IFERROR(VLOOKUP($A40,'All Running Order'!$A$6:$CZ$64,BB$102,FALSE),\"\")","v":""},{"$f":"IFERROR(VLOOKUP($A40,'All Running Order'!$A$6:$CZ$64,BC$102,FALSE),\"\")","v":""},{"$f":"IFERROR(VLOOKUP($A40,'All Running Order'!$A$6:$CZ$64,BD$102,FALSE),\"\")","v":""},{"$f":"IFERROR(VLOOKUP($A40,'All Running Order'!$A$6:$CZ$64,BE$102,FALSE),\"\")","v":""},{"$f":"IFERROR(VLOOKUP($A40,'All Running Order'!$A$6:$CZ$64,BF$102,FALSE),\"\")","v":""},{"$f":"IFERROR(VLOOKUP($A40,'All Running Order'!$A$6:$CZ$64,BG$102,FALSE),\"\")","v":""},{"$f":"IFERROR(VLOOKUP($A40,'All Running Order'!$A$6:$CZ$64,BH$102,FALSE),\"\")","v":""},{"$f":"IFERROR(VLOOKUP($A40,'All Running Order'!$A$6:$CZ$64,BI$102,FALSE),\"\")","v":""},{"$f":"IFERROR(VLOOKUP($A40,'All Running Order'!$A$6:$CZ$64,BJ$102,FALSE),\"\")","v":""},{"$f":"IFERROR(VLOOKUP($A40,'All Running Order'!$A$6:$CZ$64,BK$102,FALSE),\"\")","v":""},{"$f":"IFERROR(VLOOKUP($A40,'All Running Order'!$A$6:$CZ$64,BL$102,FALSE),\"\")","v":""},{"$f":"IFERROR(VLOOKUP($A40,'All Running Order'!$A$6:$CZ$64,BM$102,FALSE),\"\")","v":""},{"$f":"IFERROR(VLOOKUP($A40,'All Running Order'!$A$6:$CZ$64,BN$102,FALSE),\"\")","v":""},{"$f":"IFERROR(VLOOKUP($A40,'All Running Order'!$A$6:$CZ$64,BO$102,FALSE),\"\")","v":""},{"$f":"IFERROR(VLOOKUP($A40,'All Running Order'!$A$6:$CZ$64,BP$102,FALSE),\"\")","v":""},{"$f":"IFERROR(VLOOKUP($A40,'All Running Order'!$A$6:$CZ$64,BQ$102,FALSE),\"\")","v":""},{"$f":"IFERROR(VLOOKUP($A40,'All Running Order'!$A$6:$CZ$64,BR$102,FALSE),\"\")","v":""},{"$f":"IFERROR(VLOOKUP($A40,'All Running Order'!$A$6:$CZ$64,BS$102,FALSE),\"\")","v":""},{"$f":"IFERROR(VLOOKUP($A40,'All Running Order'!$A$6:$CZ$64,BT$102,FALSE),\"\")","v":""},{"$f":"IFERROR(VLOOKUP($A40,'All Running Order'!$A$6:$CZ$64,BU$102,FALSE),\"\")","v":""},{"$f":"IFERROR(VLOOKUP($A40,'All Running Order'!$A$6:$CZ$64,BV$102,FALSE),\"\")","v":""},{"$f":"IFERROR(VLOOKUP($A40,'All Running Order'!$A$6:$CZ$64,BW$102,FALSE),\"\")","v":""},{"$f":"IFERROR(VLOOKUP($A40,'All Running Order'!$A$6:$CZ$64,BX$102,FALSE),\"\")","v":""},{"$f":"IFERROR(VLOOKUP($A40,'All Running Order'!$A$6:$CZ$64,BY$102,FALSE),\"\")","v":""},{"$f":"IFERROR(VLOOKUP($A40,'All Running Order'!$A$6:$CZ$64,BZ$102,FALSE),\"\")","v":""},{"$f":"IFERROR(VLOOKUP($A40,'All Running Order'!$A$6:$CZ$64,CA$102,FALSE),\"\")","v":""},{"$f":"IFERROR(VLOOKUP($A40,'All Running Order'!$A$6:$CZ$64,CB$102,FALSE),\"\")","v":""},{"$f":"IFERROR(VLOOKUP($A40,'All Running Order'!$A$6:$CZ$64,CC$102,FALSE),\"\")","v":""},{"$f":"IFERROR(VLOOKUP($A40,'All Running Order'!$A$6:$CZ$64,CD$102,FALSE),\"\")","v":""},{"$f":"IFERROR(VLOOKUP($A40,'All Running Order'!$A$6:$CZ$64,CE$102,FALSE),\"\")","v":""},{"$f":"IFERROR(VLOOKUP($A40,'All Running Order'!$A$6:$CZ$64,CF$102,FALSE),\"\")","v":""},{"$f":"IFERROR(VLOOKUP($A40,'All Running Order'!$A$6:$CZ$64,CG$102,FALSE),\"\")","v":""},{"$f":"IFERROR(VLOOKUP($A40,'All Running Order'!$A$6:$CZ$64,CH$102,FALSE),\"\")","v":""},{"$f":"IFERROR(VLOOKUP($A40,'All Running Order'!$A$6:$CZ$64,CI$102,FALSE),\"\")","v":""},{"$f":"IFERROR(VLOOKUP($A40,'All Running Order'!$A$6:$CZ$64,CJ$102,FALSE),\"\")","v":""},{"$f":"IFERROR(VLOOKUP($A40,'All Running Order'!$A$6:$CZ$64,CK$102,FALSE),\"\")","v":""},{"$f":"IFERROR(VLOOKUP($A40,'All Running Order'!$A$6:$CZ$64,CL$102,FALSE),\"\")","v":""},{"$f":"IFERROR(VLOOKUP($A40,'All Running Order'!$A$6:$CZ$64,CM$102,FALSE),\"\")","v":""},{"$f":"IFERROR(VLOOKUP($A40,'All Running Order'!$A$6:$CZ$64,CN$102,FALSE),\"\")","v":""},{"$f":"IFERROR(VLOOKUP($A40,'All Running Order'!$A$6:$CZ$64,CO$102,FALSE),\"\")","v":""},{"$f":"IFERROR(VLOOKUP($A40,'All Running Order'!$A$6:$CZ$64,CP$102,FALSE),\"\")","v":""},{"$f":"IFERROR(VLOOKUP($A40,'All Running Order'!$A$6:$CZ$64,CQ$102,FALSE),\"\")","v":""},{"$f":"IFERROR(VLOOKUP($A40,'All Running Order'!$A$6:$CZ$64,CR$102,FALSE),\"\")","v":""},{"$f":"IFERROR(VLOOKUP($A40,'All Running Order'!$A$6:$CZ$64,CS$102,FALSE),\"\")","v":""},{"$f":"IFERROR(VLOOKUP($A40,'All Running Order'!$A$6:$CZ$64,CT$102,FALSE),\"\")","v":""},{"$f":"IFERROR(VLOOKUP($A40,'All Running Order'!$A$6:$CZ$64,CU$102,FALSE),\"\")","v":""},{"$f":"IFERROR(VLOOKUP($A40,'All Running Order'!$A$6:$CZ$64,CV$102,FALSE),\"\")","v":""},{"$f":"IFERROR(VLOOKUP($A40,'All Running Order'!$A$6:$CZ$64,CW$102,FALSE),\"\")","v":""},{"$f":"IFERROR(VLOOKUP($A40,'All Running Order'!$A$6:$CZ$64,CX$102,FALSE),\"\")","v":""},{"$f":"IFERROR(VLOOKUP($A40,'All Running Order'!$A$6:$CZ$64,CY$102,FALSE),\"\")","v":""},{"$f":"IFERROR(VLOOKUP($A40,'All Running Order'!$A$6:$CZ$64,CZ$102,FALSE),\"\")","v":""}]
[36,{"$f":"IFERROR(VLOOKUP($A41,'All Running Order'!$A$6:$CZ$64,B$102,FALSE),\"\")","v":""},{"$f":"IFERROR(VLOOKUP($A41,'All Running Order'!$A$6:$CZ$64,C$102,FALSE),\"\")","v":""},{"$f":"IFERROR(VLOOKUP($A41,'All Running Order'!$A$6:$CZ$64,D$102,FALSE),\"\")","v":""},{"$f":"IFERROR(VLOOKUP($A41,'All Running Order'!$A$6:$CZ$64,E$102,FALSE),\"\")","v":""},{"$f":"IFERROR(VLOOKUP($A41,'All Running Order'!$A$6:$CZ$64,F$102,FALSE),\"\")","v":""},{"$f":"IFERROR(VLOOKUP($A41,'All Running Order'!$A$6:$CZ$64,G$102,FALSE),\"\")","v":""},{"$f":"IFERROR(VLOOKUP($A41,'All Running Order'!$A$6:$CZ$64,H$102,FALSE),\"\")","v":""},{"$f":"IFERROR(VLOOKUP($A41,'All Running Order'!$A$6:$CZ$64,I$102,FALSE),\"\")","v":""},{"$f":"IFERROR(VLOOKUP($A41,'All Running Order'!$A$6:$CZ$64,J$102,FALSE),\"\")","v":""},{"$f":"IFERROR(VLOOKUP($A41,'All Running Order'!$A$6:$CZ$64,K$102,FALSE),\"\")","v":""},{"$f":"IFERROR(VLOOKUP($A41,'All Running Order'!$A$6:$CZ$64,L$102,FALSE),\"\")","v":""},{"$f":"IFERROR(VLOOKUP($A41,'All Running Order'!$A$6:$CZ$64,M$102,FALSE),\"\")","v":""},{"$f":"IFERROR(VLOOKUP($A41,'All Running Order'!$A$6:$CZ$64,N$102,FALSE),\"\")","v":""},{"$f":"IFERROR(VLOOKUP($A41,'All Running Order'!$A$6:$CZ$64,O$102,FALSE),\"\")","v":""},{"$f":"IFERROR(VLOOKUP($A41,'All Running Order'!$A$6:$CZ$64,P$102,FALSE),\"\")","v":""},{"$f":"IFERROR(VLOOKUP($A41,'All Running Order'!$A$6:$CZ$64,Q$102,FALSE),\"\")","v":""},{"$f":"IFERROR(VLOOKUP($A41,'All Running Order'!$A$6:$CZ$64,R$102,FALSE),\"\")","v":""},{"$f":"IFERROR(VLOOKUP($A41,'All Running Order'!$A$6:$CZ$64,S$102,FALSE),\"\")","v":""},{"$f":"IFERROR(VLOOKUP($A41,'All Running Order'!$A$6:$CZ$64,T$102,FALSE),\"\")","v":""},{"$f":"IFERROR(VLOOKUP($A41,'All Running Order'!$A$6:$CZ$64,U$102,FALSE),\"\")","v":""},{"$f":"IFERROR(VLOOKUP($A41,'All Running Order'!$A$6:$CZ$64,V$102,FALSE),\"\")","v":""},{"$f":"IFERROR(VLOOKUP($A41,'All Running Order'!$A$6:$CZ$64,W$102,FALSE),\"\")","v":""},{"$f":"IFERROR(VLOOKUP($A41,'All Running Order'!$A$6:$CZ$64,X$102,FALSE),\"\")","v":""},{"$f":"IFERROR(VLOOKUP($A41,'All Running Order'!$A$6:$CZ$64,Y$102,FALSE),\"\")","v":""},{"$f":"IFERROR(VLOOKUP($A41,'All Running Order'!$A$6:$CZ$64,Z$102,FALSE),\"\")","v":""},{"$f":"IFERROR(VLOOKUP($A41,'All Running Order'!$A$6:$CZ$64,AA$102,FALSE),\"\")","v":""},{"$f":"IFERROR(VLOOKUP($A41,'All Running Order'!$A$6:$CZ$64,AB$102,FALSE),\"\")","v":""},{"$f":"IFERROR(VLOOKUP($A41,'All Running Order'!$A$6:$CZ$64,AC$102,FALSE),\"\")","v":""},{"$f":"IFERROR(VLOOKUP($A41,'All Running Order'!$A$6:$CZ$64,AD$102,FALSE),\"\")","v":""},{"$f":"IFERROR(VLOOKUP($A41,'All Running Order'!$A$6:$CZ$64,AE$102,FALSE),\"\")","v":""},{"$f":"IFERROR(VLOOKUP($A41,'All Running Order'!$A$6:$CZ$64,AF$102,FALSE),\"\")","v":""},{"$f":"IFERROR(VLOOKUP($A41,'All Running Order'!$A$6:$CZ$64,AG$102,FALSE),\"\")","v":""},{"$f":"IFERROR(VLOOKUP($A41,'All Running Order'!$A$6:$CZ$64,AH$102,FALSE),\"\")","v":""},{"$f":"IFERROR(VLOOKUP($A41,'All Running Order'!$A$6:$CZ$64,AI$102,FALSE),\"\")","v":""},{"$f":"IFERROR(VLOOKUP($A41,'All Running Order'!$A$6:$CZ$64,AJ$102,FALSE),\"\")","v":""},{"$f":"IFERROR(VLOOKUP($A41,'All Running Order'!$A$6:$CZ$64,AK$102,FALSE),\"\")","v":""},{"$f":"IFERROR(VLOOKUP($A41,'All Running Order'!$A$6:$CZ$64,AL$102,FALSE),\"\")","v":""},{"$f":"IFERROR(VLOOKUP($A41,'All Running Order'!$A$6:$CZ$64,AM$102,FALSE),\"\")","v":""},{"$f":"IFERROR(VLOOKUP($A41,'All Running Order'!$A$6:$CZ$64,AN$102,FALSE),\"\")","v":""},{"$f":"IFERROR(VLOOKUP($A41,'All Running Order'!$A$6:$CZ$64,AO$102,FALSE),\"\")","v":""},{"$f":"IFERROR(VLOOKUP($A41,'All Running Order'!$A$6:$CZ$64,AP$102,FALSE),\"\")","v":""},{"$f":"IFERROR(VLOOKUP($A41,'All Running Order'!$A$6:$CZ$64,AQ$102,FALSE),\"\")","v":""},{"$f":"IFERROR(VLOOKUP($A41,'All Running Order'!$A$6:$CZ$64,AR$102,FALSE),\"\")","v":""},{"$f":"IFERROR(VLOOKUP($A41,'All Running Order'!$A$6:$CZ$64,AS$102,FALSE),\"\")","v":""},{"$f":"IFERROR(VLOOKUP($A41,'All Running Order'!$A$6:$CZ$64,AT$102,FALSE),\"\")","v":""},{"$f":"IFERROR(VLOOKUP($A41,'All Running Order'!$A$6:$CZ$64,AU$102,FALSE),\"\")","v":""},{"$f":"IFERROR(VLOOKUP($A41,'All Running Order'!$A$6:$CZ$64,AV$102,FALSE),\"\")","v":""},{"$f":"IFERROR(VLOOKUP($A41,'All Running Order'!$A$6:$CZ$64,AW$102,FALSE),\"\")","v":""},{"$f":"IFERROR(VLOOKUP($A41,'All Running Order'!$A$6:$CZ$64,AX$102,FALSE),\"\")","v":""},{"$f":"IFERROR(VLOOKUP($A41,'All Running Order'!$A$6:$CZ$64,AY$102,FALSE),\"\")","v":""},{"$f":"IFERROR(VLOOKUP($A41,'All Running Order'!$A$6:$CZ$64,AZ$102,FALSE),\"\")","v":""},{"$f":"IFERROR(VLOOKUP($A41,'All Running Order'!$A$6:$CZ$64,BA$102,FALSE),\"\")","v":""},{"$f":"IFERROR(VLOOKUP($A41,'All Running Order'!$A$6:$CZ$64,BB$102,FALSE),\"\")","v":""},{"$f":"IFERROR(VLOOKUP($A41,'All Running Order'!$A$6:$CZ$64,BC$102,FALSE),\"\")","v":""},{"$f":"IFERROR(VLOOKUP($A41,'All Running Order'!$A$6:$CZ$64,BD$102,FALSE),\"\")","v":""},{"$f":"IFERROR(VLOOKUP($A41,'All Running Order'!$A$6:$CZ$64,BE$102,FALSE),\"\")","v":""},{"$f":"IFERROR(VLOOKUP($A41,'All Running Order'!$A$6:$CZ$64,BF$102,FALSE),\"\")","v":""},{"$f":"IFERROR(VLOOKUP($A41,'All Running Order'!$A$6:$CZ$64,BG$102,FALSE),\"\")","v":""},{"$f":"IFERROR(VLOOKUP($A41,'All Running Order'!$A$6:$CZ$64,BH$102,FALSE),\"\")","v":""},{"$f":"IFERROR(VLOOKUP($A41,'All Running Order'!$A$6:$CZ$64,BI$102,FALSE),\"\")","v":""},{"$f":"IFERROR(VLOOKUP($A41,'All Running Order'!$A$6:$CZ$64,BJ$102,FALSE),\"\")","v":""},{"$f":"IFERROR(VLOOKUP($A41,'All Running Order'!$A$6:$CZ$64,BK$102,FALSE),\"\")","v":""},{"$f":"IFERROR(VLOOKUP($A41,'All Running Order'!$A$6:$CZ$64,BL$102,FALSE),\"\")","v":""},{"$f":"IFERROR(VLOOKUP($A41,'All Running Order'!$A$6:$CZ$64,BM$102,FALSE),\"\")","v":""},{"$f":"IFERROR(VLOOKUP($A41,'All Running Order'!$A$6:$CZ$64,BN$102,FALSE),\"\")","v":""},{"$f":"IFERROR(VLOOKUP($A41,'All Running Order'!$A$6:$CZ$64,BO$102,FALSE),\"\")","v":""},{"$f":"IFERROR(VLOOKUP($A41,'All Running Order'!$A$6:$CZ$64,BP$102,FALSE),\"\")","v":""},{"$f":"IFERROR(VLOOKUP($A41,'All Running Order'!$A$6:$CZ$64,BQ$102,FALSE),\"\")","v":""},{"$f":"IFERROR(VLOOKUP($A41,'All Running Order'!$A$6:$CZ$64,BR$102,FALSE),\"\")","v":""},{"$f":"IFERROR(VLOOKUP($A41,'All Running Order'!$A$6:$CZ$64,BS$102,FALSE),\"\")","v":""},{"$f":"IFERROR(VLOOKUP($A41,'All Running Order'!$A$6:$CZ$64,BT$102,FALSE),\"\")","v":""},{"$f":"IFERROR(VLOOKUP($A41,'All Running Order'!$A$6:$CZ$64,BU$102,FALSE),\"\")","v":""},{"$f":"IFERROR(VLOOKUP($A41,'All Running Order'!$A$6:$CZ$64,BV$102,FALSE),\"\")","v":""},{"$f":"IFERROR(VLOOKUP($A41,'All Running Order'!$A$6:$CZ$64,BW$102,FALSE),\"\")","v":""},{"$f":"IFERROR(VLOOKUP($A41,'All Running Order'!$A$6:$CZ$64,BX$102,FALSE),\"\")","v":""},{"$f":"IFERROR(VLOOKUP($A41,'All Running Order'!$A$6:$CZ$64,BY$102,FALSE),\"\")","v":""},{"$f":"IFERROR(VLOOKUP($A41,'All Running Order'!$A$6:$CZ$64,BZ$102,FALSE),\"\")","v":""},{"$f":"IFERROR(VLOOKUP($A41,'All Running Order'!$A$6:$CZ$64,CA$102,FALSE),\"\")","v":""},{"$f":"IFERROR(VLOOKUP($A41,'All Running Order'!$A$6:$CZ$64,CB$102,FALSE),\"\")","v":""},{"$f":"IFERROR(VLOOKUP($A41,'All Running Order'!$A$6:$CZ$64,CC$102,FALSE),\"\")","v":""},{"$f":"IFERROR(VLOOKUP($A41,'All Running Order'!$A$6:$CZ$64,CD$102,FALSE),\"\")","v":""},{"$f":"IFERROR(VLOOKUP($A41,'All Running Order'!$A$6:$CZ$64,CE$102,FALSE),\"\")","v":""},{"$f":"IFERROR(VLOOKUP($A41,'All Running Order'!$A$6:$CZ$64,CF$102,FALSE),\"\")","v":""},{"$f":"IFERROR(VLOOKUP($A41,'All Running Order'!$A$6:$CZ$64,CG$102,FALSE),\"\")","v":""},{"$f":"IFERROR(VLOOKUP($A41,'All Running Order'!$A$6:$CZ$64,CH$102,FALSE),\"\")","v":""},{"$f":"IFERROR(VLOOKUP($A41,'All Running Order'!$A$6:$CZ$64,CI$102,FALSE),\"\")","v":""},{"$f":"IFERROR(VLOOKUP($A41,'All Running Order'!$A$6:$CZ$64,CJ$102,FALSE),\"\")","v":""},{"$f":"IFERROR(VLOOKUP($A41,'All Running Order'!$A$6:$CZ$64,CK$102,FALSE),\"\")","v":""},{"$f":"IFERROR(VLOOKUP($A41,'All Running Order'!$A$6:$CZ$64,CL$102,FALSE),\"\")","v":""},{"$f":"IFERROR(VLOOKUP($A41,'All Running Order'!$A$6:$CZ$64,CM$102,FALSE),\"\")","v":""},{"$f":"IFERROR(VLOOKUP($A41,'All Running Order'!$A$6:$CZ$64,CN$102,FALSE),\"\")","v":""},{"$f":"IFERROR(VLOOKUP($A41,'All Running Order'!$A$6:$CZ$64,CO$102,FALSE),\"\")","v":""},{"$f":"IFERROR(VLOOKUP($A41,'All Running Order'!$A$6:$CZ$64,CP$102,FALSE),\"\")","v":""},{"$f":"IFERROR(VLOOKUP($A41,'All Running Order'!$A$6:$CZ$64,CQ$102,FALSE),\"\")","v":""},{"$f":"IFERROR(VLOOKUP($A41,'All Running Order'!$A$6:$CZ$64,CR$102,FALSE),\"\")","v":""},{"$f":"IFERROR(VLOOKUP($A41,'All Running Order'!$A$6:$CZ$64,CS$102,FALSE),\"\")","v":""},{"$f":"IFERROR(VLOOKUP($A41,'All Running Order'!$A$6:$CZ$64,CT$102,FALSE),\"\")","v":""},{"$f":"IFERROR(VLOOKUP($A41,'All Running Order'!$A$6:$CZ$64,CU$102,FALSE),\"\")","v":""},{"$f":"IFERROR(VLOOKUP($A41,'All Running Order'!$A$6:$CZ$64,CV$102,FALSE),\"\")","v":""},{"$f":"IFERROR(VLOOKUP($A41,'All Running Order'!$A$6:$CZ$64,CW$102,FALSE),\"\")","v":""},{"$f":"IFERROR(VLOOKUP($A41,'All Running Order'!$A$6:$CZ$64,CX$102,FALSE),\"\")","v":""},{"$f":"IFERROR(VLOOKUP($A41,'All Running Order'!$A$6:$CZ$64,CY$102,FALSE),\"\")","v":""},{"$f":"IFERROR(VLOOKUP($A41,'All Running Order'!$A$6:$CZ$64,CZ$102,FALSE),\"\")","v":""}]
[37,{"$f":"IFERROR(VLOOKUP($A42,'All Running Order'!$A$6:$CZ$64,B$102,FALSE),\"\")","v":""},{"$f":"IFERROR(VLOOKUP($A42,'All Running Order'!$A$6:$CZ$64,C$102,FALSE),\"\")","v":""},{"$f":"IFERROR(VLOOKUP($A42,'All Running Order'!$A$6:$CZ$64,D$102,FALSE),\"\")","v":""},{"$f":"IFERROR(VLOOKUP($A42,'All Running Order'!$A$6:$CZ$64,E$102,FALSE),\"\")","v":""},{"$f":"IFERROR(VLOOKUP($A42,'All Running Order'!$A$6:$CZ$64,F$102,FALSE),\"\")","v":""},{"$f":"IFERROR(VLOOKUP($A42,'All Running Order'!$A$6:$CZ$64,G$102,FALSE),\"\")","v":""},{"$f":"IFERROR(VLOOKUP($A42,'All Running Order'!$A$6:$CZ$64,H$102,FALSE),\"\")","v":""},{"$f":"IFERROR(VLOOKUP($A42,'All Running Order'!$A$6:$CZ$64,I$102,FALSE),\"\")","v":""},{"$f":"IFERROR(VLOOKUP($A42,'All Running Order'!$A$6:$CZ$64,J$102,FALSE),\"\")","v":""},{"$f":"IFERROR(VLOOKUP($A42,'All Running Order'!$A$6:$CZ$64,K$102,FALSE),\"\")","v":""},{"$f":"IFERROR(VLOOKUP($A42,'All Running Order'!$A$6:$CZ$64,L$102,FALSE),\"\")","v":""},{"$f":"IFERROR(VLOOKUP($A42,'All Running Order'!$A$6:$CZ$64,M$102,FALSE),\"\")","v":""},{"$f":"IFERROR(VLOOKUP($A42,'All Running Order'!$A$6:$CZ$64,N$102,FALSE),\"\")","v":""},{"$f":"IFERROR(VLOOKUP($A42,'All Running Order'!$A$6:$CZ$64,O$102,FALSE),\"\")","v":""},{"$f":"IFERROR(VLOOKUP($A42,'All Running Order'!$A$6:$CZ$64,P$102,FALSE),\"\")","v":""},{"$f":"IFERROR(VLOOKUP($A42,'All Running Order'!$A$6:$CZ$64,Q$102,FALSE),\"\")","v":""},{"$f":"IFERROR(VLOOKUP($A42,'All Running Order'!$A$6:$CZ$64,R$102,FALSE),\"\")","v":""},{"$f":"IFERROR(VLOOKUP($A42,'All Running Order'!$A$6:$CZ$64,S$102,FALSE),\"\")","v":""},{"$f":"IFERROR(VLOOKUP($A42,'All Running Order'!$A$6:$CZ$64,T$102,FALSE),\"\")","v":""},{"$f":"IFERROR(VLOOKUP($A42,'All Running Order'!$A$6:$CZ$64,U$102,FALSE),\"\")","v":""},{"$f":"IFERROR(VLOOKUP($A42,'All Running Order'!$A$6:$CZ$64,V$102,FALSE),\"\")","v":""},{"$f":"IFERROR(VLOOKUP($A42,'All Running Order'!$A$6:$CZ$64,W$102,FALSE),\"\")","v":""},{"$f":"IFERROR(VLOOKUP($A42,'All Running Order'!$A$6:$CZ$64,X$102,FALSE),\"\")","v":""},{"$f":"IFERROR(VLOOKUP($A42,'All Running Order'!$A$6:$CZ$64,Y$102,FALSE),\"\")","v":""},{"$f":"IFERROR(VLOOKUP($A42,'All Running Order'!$A$6:$CZ$64,Z$102,FALSE),\"\")","v":""},{"$f":"IFERROR(VLOOKUP($A42,'All Running Order'!$A$6:$CZ$64,AA$102,FALSE),\"\")","v":""},{"$f":"IFERROR(VLOOKUP($A42,'All Running Order'!$A$6:$CZ$64,AB$102,FALSE),\"\")","v":""},{"$f":"IFERROR(VLOOKUP($A42,'All Running Order'!$A$6:$CZ$64,AC$102,FALSE),\"\")","v":""},{"$f":"IFERROR(VLOOKUP($A42,'All Running Order'!$A$6:$CZ$64,AD$102,FALSE),\"\")","v":""},{"$f":"IFERROR(VLOOKUP($A42,'All Running Order'!$A$6:$CZ$64,AE$102,FALSE),\"\")","v":""},{"$f":"IFERROR(VLOOKUP($A42,'All Running Order'!$A$6:$CZ$64,AF$102,FALSE),\"\")","v":""},{"$f":"IFERROR(VLOOKUP($A42,'All Running Order'!$A$6:$CZ$64,AG$102,FALSE),\"\")","v":""},{"$f":"IFERROR(VLOOKUP($A42,'All Running Order'!$A$6:$CZ$64,AH$102,FALSE),\"\")","v":""},{"$f":"IFERROR(VLOOKUP($A42,'All Running Order'!$A$6:$CZ$64,AI$102,FALSE),\"\")","v":""},{"$f":"IFERROR(VLOOKUP($A42,'All Running Order'!$A$6:$CZ$64,AJ$102,FALSE),\"\")","v":""},{"$f":"IFERROR(VLOOKUP($A42,'All Running Order'!$A$6:$CZ$64,AK$102,FALSE),\"\")","v":""},{"$f":"IFERROR(VLOOKUP($A42,'All Running Order'!$A$6:$CZ$64,AL$102,FALSE),\"\")","v":""},{"$f":"IFERROR(VLOOKUP($A42,'All Running Order'!$A$6:$CZ$64,AM$102,FALSE),\"\")","v":""},{"$f":"IFERROR(VLOOKUP($A42,'All Running Order'!$A$6:$CZ$64,AN$102,FALSE),\"\")","v":""},{"$f":"IFERROR(VLOOKUP($A42,'All Running Order'!$A$6:$CZ$64,AO$102,FALSE),\"\")","v":""},{"$f":"IFERROR(VLOOKUP($A42,'All Running Order'!$A$6:$CZ$64,AP$102,FALSE),\"\")","v":""},{"$f":"IFERROR(VLOOKUP($A42,'All Running Order'!$A$6:$CZ$64,AQ$102,FALSE),\"\")","v":""},{"$f":"IFERROR(VLOOKUP($A42,'All Running Order'!$A$6:$CZ$64,AR$102,FALSE),\"\")","v":""},{"$f":"IFERROR(VLOOKUP($A42,'All Running Order'!$A$6:$CZ$64,AS$102,FALSE),\"\")","v":""},{"$f":"IFERROR(VLOOKUP($A42,'All Running Order'!$A$6:$CZ$64,AT$102,FALSE),\"\")","v":""},{"$f":"IFERROR(VLOOKUP($A42,'All Running Order'!$A$6:$CZ$64,AU$102,FALSE),\"\")","v":""},{"$f":"IFERROR(VLOOKUP($A42,'All Running Order'!$A$6:$CZ$64,AV$102,FALSE),\"\")","v":""},{"$f":"IFERROR(VLOOKUP($A42,'All Running Order'!$A$6:$CZ$64,AW$102,FALSE),\"\")","v":""},{"$f":"IFERROR(VLOOKUP($A42,'All Running Order'!$A$6:$CZ$64,AX$102,FALSE),\"\")","v":""},{"$f":"IFERROR(VLOOKUP($A42,'All Running Order'!$A$6:$CZ$64,AY$102,FALSE),\"\")","v":""},{"$f":"IFERROR(VLOOKUP($A42,'All Running Order'!$A$6:$CZ$64,AZ$102,FALSE),\"\")","v":""},{"$f":"IFERROR(VLOOKUP($A42,'All Running Order'!$A$6:$CZ$64,BA$102,FALSE),\"\")","v":""},{"$f":"IFERROR(VLOOKUP($A42,'All Running Order'!$A$6:$CZ$64,BB$102,FALSE),\"\")","v":""},{"$f":"IFERROR(VLOOKUP($A42,'All Running Order'!$A$6:$CZ$64,BC$102,FALSE),\"\")","v":""},{"$f":"IFERROR(VLOOKUP($A42,'All Running Order'!$A$6:$CZ$64,BD$102,FALSE),\"\")","v":""},{"$f":"IFERROR(VLOOKUP($A42,'All Running Order'!$A$6:$CZ$64,BE$102,FALSE),\"\")","v":""},{"$f":"IFERROR(VLOOKUP($A42,'All Running Order'!$A$6:$CZ$64,BF$102,FALSE),\"\")","v":""},{"$f":"IFERROR(VLOOKUP($A42,'All Running Order'!$A$6:$CZ$64,BG$102,FALSE),\"\")","v":""},{"$f":"IFERROR(VLOOKUP($A42,'All Running Order'!$A$6:$CZ$64,BH$102,FALSE),\"\")","v":""},{"$f":"IFERROR(VLOOKUP($A42,'All Running Order'!$A$6:$CZ$64,BI$102,FALSE),\"\")","v":""},{"$f":"IFERROR(VLOOKUP($A42,'All Running Order'!$A$6:$CZ$64,BJ$102,FALSE),\"\")","v":""},{"$f":"IFERROR(VLOOKUP($A42,'All Running Order'!$A$6:$CZ$64,BK$102,FALSE),\"\")","v":""},{"$f":"IFERROR(VLOOKUP($A42,'All Running Order'!$A$6:$CZ$64,BL$102,FALSE),\"\")","v":""},{"$f":"IFERROR(VLOOKUP($A42,'All Running Order'!$A$6:$CZ$64,BM$102,FALSE),\"\")","v":""},{"$f":"IFERROR(VLOOKUP($A42,'All Running Order'!$A$6:$CZ$64,BN$102,FALSE),\"\")","v":""},{"$f":"IFERROR(VLOOKUP($A42,'All Running Order'!$A$6:$CZ$64,BO$102,FALSE),\"\")","v":""},{"$f":"IFERROR(VLOOKUP($A42,'All Running Order'!$A$6:$CZ$64,BP$102,FALSE),\"\")","v":""},{"$f":"IFERROR(VLOOKUP($A42,'All Running Order'!$A$6:$CZ$64,BQ$102,FALSE),\"\")","v":""},{"$f":"IFERROR(VLOOKUP($A42,'All Running Order'!$A$6:$CZ$64,BR$102,FALSE),\"\")","v":""},{"$f":"IFERROR(VLOOKUP($A42,'All Running Order'!$A$6:$CZ$64,BS$102,FALSE),\"\")","v":""},{"$f":"IFERROR(VLOOKUP($A42,'All Running Order'!$A$6:$CZ$64,BT$102,FALSE),\"\")","v":""},{"$f":"IFERROR(VLOOKUP($A42,'All Running Order'!$A$6:$CZ$64,BU$102,FALSE),\"\")","v":""},{"$f":"IFERROR(VLOOKUP($A42,'All Running Order'!$A$6:$CZ$64,BV$102,FALSE),\"\")","v":""},{"$f":"IFERROR(VLOOKUP($A42,'All Running Order'!$A$6:$CZ$64,BW$102,FALSE),\"\")","v":""},{"$f":"IFERROR(VLOOKUP($A42,'All Running Order'!$A$6:$CZ$64,BX$102,FALSE),\"\")","v":""},{"$f":"IFERROR(VLOOKUP($A42,'All Running Order'!$A$6:$CZ$64,BY$102,FALSE),\"\")","v":""},{"$f":"IFERROR(VLOOKUP($A42,'All Running Order'!$A$6:$CZ$64,BZ$102,FALSE),\"\")","v":""},{"$f":"IFERROR(VLOOKUP($A42,'All Running Order'!$A$6:$CZ$64,CA$102,FALSE),\"\")","v":""},{"$f":"IFERROR(VLOOKUP($A42,'All Running Order'!$A$6:$CZ$64,CB$102,FALSE),\"\")","v":""},{"$f":"IFERROR(VLOOKUP($A42,'All Running Order'!$A$6:$CZ$64,CC$102,FALSE),\"\")","v":""},{"$f":"IFERROR(VLOOKUP($A42,'All Running Order'!$A$6:$CZ$64,CD$102,FALSE),\"\")","v":""},{"$f":"IFERROR(VLOOKUP($A42,'All Running Order'!$A$6:$CZ$64,CE$102,FALSE),\"\")","v":""},{"$f":"IFERROR(VLOOKUP($A42,'All Running Order'!$A$6:$CZ$64,CF$102,FALSE),\"\")","v":""},{"$f":"IFERROR(VLOOKUP($A42,'All Running Order'!$A$6:$CZ$64,CG$102,FALSE),\"\")","v":""},{"$f":"IFERROR(VLOOKUP($A42,'All Running Order'!$A$6:$CZ$64,CH$102,FALSE),\"\")","v":""},{"$f":"IFERROR(VLOOKUP($A42,'All Running Order'!$A$6:$CZ$64,CI$102,FALSE),\"\")","v":""},{"$f":"IFERROR(VLOOKUP($A42,'All Running Order'!$A$6:$CZ$64,CJ$102,FALSE),\"\")","v":""},{"$f":"IFERROR(VLOOKUP($A42,'All Running Order'!$A$6:$CZ$64,CK$102,FALSE),\"\")","v":""},{"$f":"IFERROR(VLOOKUP($A42,'All Running Order'!$A$6:$CZ$64,CL$102,FALSE),\"\")","v":""},{"$f":"IFERROR(VLOOKUP($A42,'All Running Order'!$A$6:$CZ$64,CM$102,FALSE),\"\")","v":""},{"$f":"IFERROR(VLOOKUP($A42,'All Running Order'!$A$6:$CZ$64,CN$102,FALSE),\"\")","v":""},{"$f":"IFERROR(VLOOKUP($A42,'All Running Order'!$A$6:$CZ$64,CO$102,FALSE),\"\")","v":""},{"$f":"IFERROR(VLOOKUP($A42,'All Running Order'!$A$6:$CZ$64,CP$102,FALSE),\"\")","v":""},{"$f":"IFERROR(VLOOKUP($A42,'All Running Order'!$A$6:$CZ$64,CQ$102,FALSE),\"\")","v":""},{"$f":"IFERROR(VLOOKUP($A42,'All Running Order'!$A$6:$CZ$64,CR$102,FALSE),\"\")","v":""},{"$f":"IFERROR(VLOOKUP($A42,'All Running Order'!$A$6:$CZ$64,CS$102,FALSE),\"\")","v":""},{"$f":"IFERROR(VLOOKUP($A42,'All Running Order'!$A$6:$CZ$64,CT$102,FALSE),\"\")","v":""},{"$f":"IFERROR(VLOOKUP($A42,'All Running Order'!$A$6:$CZ$64,CU$102,FALSE),\"\")","v":""},{"$f":"IFERROR(VLOOKUP($A42,'All Running Order'!$A$6:$CZ$64,CV$102,FALSE),\"\")","v":""},{"$f":"IFERROR(VLOOKUP($A42,'All Running Order'!$A$6:$CZ$64,CW$102,FALSE),\"\")","v":""},{"$f":"IFERROR(VLOOKUP($A42,'All Running Order'!$A$6:$CZ$64,CX$102,FALSE),\"\")","v":""},{"$f":"IFERROR(VLOOKUP($A42,'All Running Order'!$A$6:$CZ$64,CY$102,FALSE),\"\")","v":""},{"$f":"IFERROR(VLOOKUP($A42,'All Running Order'!$A$6:$CZ$64,CZ$102,FALSE),\"\")","v":""}]
[38,{"$f":"IFERROR(VLOOKUP($A43,'All Running Order'!$A$6:$CZ$64,B$102,FALSE),\"\")","v":""},{"$f":"IFERROR(VLOOKUP($A43,'All Running Order'!$A$6:$CZ$64,C$102,FALSE),\"\")","v":""},{"$f":"IFERROR(VLOOKUP($A43,'All Running Order'!$A$6:$CZ$64,D$102,FALSE),\"\")","v":""},{"$f":"IFERROR(VLOOKUP($A43,'All Running Order'!$A$6:$CZ$64,E$102,FALSE),\"\")","v":""},{"$f":"IFERROR(VLOOKUP($A43,'All Running Order'!$A$6:$CZ$64,F$102,FALSE),\"\")","v":""},{"$f":"IFERROR(VLOOKUP($A43,'All Running Order'!$A$6:$CZ$64,G$102,FALSE),\"\")","v":""},{"$f":"IFERROR(VLOOKUP($A43,'All Running Order'!$A$6:$CZ$64,H$102,FALSE),\"\")","v":""},{"$f":"IFERROR(VLOOKUP($A43,'All Running Order'!$A$6:$CZ$64,I$102,FALSE),\"\")","v":""},{"$f":"IFERROR(VLOOKUP($A43,'All Running Order'!$A$6:$CZ$64,J$102,FALSE),\"\")","v":""},{"$f":"IFERROR(VLOOKUP($A43,'All Running Order'!$A$6:$CZ$64,K$102,FALSE),\"\")","v":""},{"$f":"IFERROR(VLOOKUP($A43,'All Running Order'!$A$6:$CZ$64,L$102,FALSE),\"\")","v":""},{"$f":"IFERROR(VLOOKUP($A43,'All Running Order'!$A$6:$CZ$64,M$102,FALSE),\"\")","v":""},{"$f":"IFERROR(VLOOKUP($A43,'All Running Order'!$A$6:$CZ$64,N$102,FALSE),\"\")","v":""},{"$f":"IFERROR(VLOOKUP($A43,'All Running Order'!$A$6:$CZ$64,O$102,FALSE),\"\")","v":""},{"$f":"IFERROR(VLOOKUP($A43,'All Running Order'!$A$6:$CZ$64,P$102,FALSE),\"\")","v":""},{"$f":"IFERROR(VLOOKUP($A43,'All Running Order'!$A$6:$CZ$64,Q$102,FALSE),\"\")","v":""},{"$f":"IFERROR(VLOOKUP($A43,'All Running Order'!$A$6:$CZ$64,R$102,FALSE),\"\")","v":""},{"$f":"IFERROR(VLOOKUP($A43,'All Running Order'!$A$6:$CZ$64,S$102,FALSE),\"\")","v":""},{"$f":"IFERROR(VLOOKUP($A43,'All Running Order'!$A$6:$CZ$64,T$102,FALSE),\"\")","v":""},{"$f":"IFERROR(VLOOKUP($A43,'All Running Order'!$A$6:$CZ$64,U$102,FALSE),\"\")","v":""},{"$f":"IFERROR(VLOOKUP($A43,'All Running Order'!$A$6:$CZ$64,V$102,FALSE),\"\")","v":""},{"$f":"IFERROR(VLOOKUP($A43,'All Running Order'!$A$6:$CZ$64,W$102,FALSE),\"\")","v":""},{"$f":"IFERROR(VLOOKUP($A43,'All Running Order'!$A$6:$CZ$64,X$102,FALSE),\"\")","v":""},{"$f":"IFERROR(VLOOKUP($A43,'All Running Order'!$A$6:$CZ$64,Y$102,FALSE),\"\")","v":""},{"$f":"IFERROR(VLOOKUP($A43,'All Running Order'!$A$6:$CZ$64,Z$102,FALSE),\"\")","v":""},{"$f":"IFERROR(VLOOKUP($A43,'All Running Order'!$A$6:$CZ$64,AA$102,FALSE),\"\")","v":""},{"$f":"IFERROR(VLOOKUP($A43,'All Running Order'!$A$6:$CZ$64,AB$102,FALSE),\"\")","v":""},{"$f":"IFERROR(VLOOKUP($A43,'All Running Order'!$A$6:$CZ$64,AC$102,FALSE),\"\")","v":""},{"$f":"IFERROR(VLOOKUP($A43,'All Running Order'!$A$6:$CZ$64,AD$102,FALSE),\"\")","v":""},{"$f":"IFERROR(VLOOKUP($A43,'All Running Order'!$A$6:$CZ$64,AE$102,FALSE),\"\")","v":""},{"$f":"IFERROR(VLOOKUP($A43,'All Running Order'!$A$6:$CZ$64,AF$102,FALSE),\"\")","v":""},{"$f":"IFERROR(VLOOKUP($A43,'All Running Order'!$A$6:$CZ$64,AG$102,FALSE),\"\")","v":""},{"$f":"IFERROR(VLOOKUP($A43,'All Running Order'!$A$6:$CZ$64,AH$102,FALSE),\"\")","v":""},{"$f":"IFERROR(VLOOKUP($A43,'All Running Order'!$A$6:$CZ$64,AI$102,FALSE),\"\")","v":""},{"$f":"IFERROR(VLOOKUP($A43,'All Running Order'!$A$6:$CZ$64,AJ$102,FALSE),\"\")","v":""},{"$f":"IFERROR(VLOOKUP($A43,'All Running Order'!$A$6:$CZ$64,AK$102,FALSE),\"\")","v":""},{"$f":"IFERROR(VLOOKUP($A43,'All Running Order'!$A$6:$CZ$64,AL$102,FALSE),\"\")","v":""},{"$f":"IFERROR(VLOOKUP($A43,'All Running Order'!$A$6:$CZ$64,AM$102,FALSE),\"\")","v":""},{"$f":"IFERROR(VLOOKUP($A43,'All Running Order'!$A$6:$CZ$64,AN$102,FALSE),\"\")","v":""},{"$f":"IFERROR(VLOOKUP($A43,'All Running Order'!$A$6:$CZ$64,AO$102,FALSE),\"\")","v":""},{"$f":"IFERROR(VLOOKUP($A43,'All Running Order'!$A$6:$CZ$64,AP$102,FALSE),\"\")","v":""},{"$f":"IFERROR(VLOOKUP($A43,'All Running Order'!$A$6:$CZ$64,AQ$102,FALSE),\"\")","v":""},{"$f":"IFERROR(VLOOKUP($A43,'All Running Order'!$A$6:$CZ$64,AR$102,FALSE),\"\")","v":""},{"$f":"IFERROR(VLOOKUP($A43,'All Running Order'!$A$6:$CZ$64,AS$102,FALSE),\"\")","v":""},{"$f":"IFERROR(VLOOKUP($A43,'All Running Order'!$A$6:$CZ$64,AT$102,FALSE),\"\")","v":""},{"$f":"IFERROR(VLOOKUP($A43,'All Running Order'!$A$6:$CZ$64,AU$102,FALSE),\"\")","v":""},{"$f":"IFERROR(VLOOKUP($A43,'All Running Order'!$A$6:$CZ$64,AV$102,FALSE),\"\")","v":""},{"$f":"IFERROR(VLOOKUP($A43,'All Running Order'!$A$6:$CZ$64,AW$102,FALSE),\"\")","v":""},{"$f":"IFERROR(VLOOKUP($A43,'All Running Order'!$A$6:$CZ$64,AX$102,FALSE),\"\")","v":""},{"$f":"IFERROR(VLOOKUP($A43,'All Running Order'!$A$6:$CZ$64,AY$102,FALSE),\"\")","v":""},{"$f":"IFERROR(VLOOKUP($A43,'All Running Order'!$A$6:$CZ$64,AZ$102,FALSE),\"\")","v":""},{"$f":"IFERROR(VLOOKUP($A43,'All Running Order'!$A$6:$CZ$64,BA$102,FALSE),\"\")","v":""},{"$f":"IFERROR(VLOOKUP($A43,'All Running Order'!$A$6:$CZ$64,BB$102,FALSE),\"\")","v":""},{"$f":"IFERROR(VLOOKUP($A43,'All Running Order'!$A$6:$CZ$64,BC$102,FALSE),\"\")","v":""},{"$f":"IFERROR(VLOOKUP($A43,'All Running Order'!$A$6:$CZ$64,BD$102,FALSE),\"\")","v":""},{"$f":"IFERROR(VLOOKUP($A43,'All Running Order'!$A$6:$CZ$64,BE$102,FALSE),\"\")","v":""},{"$f":"IFERROR(VLOOKUP($A43,'All Running Order'!$A$6:$CZ$64,BF$102,FALSE),\"\")","v":""},{"$f":"IFERROR(VLOOKUP($A43,'All Running Order'!$A$6:$CZ$64,BG$102,FALSE),\"\")","v":""},{"$f":"IFERROR(VLOOKUP($A43,'All Running Order'!$A$6:$CZ$64,BH$102,FALSE),\"\")","v":""},{"$f":"IFERROR(VLOOKUP($A43,'All Running Order'!$A$6:$CZ$64,BI$102,FALSE),\"\")","v":""},{"$f":"IFERROR(VLOOKUP($A43,'All Running Order'!$A$6:$CZ$64,BJ$102,FALSE),\"\")","v":""},{"$f":"IFERROR(VLOOKUP($A43,'All Running Order'!$A$6:$CZ$64,BK$102,FALSE),\"\")","v":""},{"$f":"IFERROR(VLOOKUP($A43,'All Running Order'!$A$6:$CZ$64,BL$102,FALSE),\"\")","v":""},{"$f":"IFERROR(VLOOKUP($A43,'All Running Order'!$A$6:$CZ$64,BM$102,FALSE),\"\")","v":""},{"$f":"IFERROR(VLOOKUP($A43,'All Running Order'!$A$6:$CZ$64,BN$102,FALSE),\"\")","v":""},{"$f":"IFERROR(VLOOKUP($A43,'All Running Order'!$A$6:$CZ$64,BO$102,FALSE),\"\")","v":""},{"$f":"IFERROR(VLOOKUP($A43,'All Running Order'!$A$6:$CZ$64,BP$102,FALSE),\"\")","v":""},{"$f":"IFERROR(VLOOKUP($A43,'All Running Order'!$A$6:$CZ$64,BQ$102,FALSE),\"\")","v":""},{"$f":"IFERROR(VLOOKUP($A43,'All Running Order'!$A$6:$CZ$64,BR$102,FALSE),\"\")","v":""},{"$f":"IFERROR(VLOOKUP($A43,'All Running Order'!$A$6:$CZ$64,BS$102,FALSE),\"\")","v":""},{"$f":"IFERROR(VLOOKUP($A43,'All Running Order'!$A$6:$CZ$64,BT$102,FALSE),\"\")","v":""},{"$f":"IFERROR(VLOOKUP($A43,'All Running Order'!$A$6:$CZ$64,BU$102,FALSE),\"\")","v":""},{"$f":"IFERROR(VLOOKUP($A43,'All Running Order'!$A$6:$CZ$64,BV$102,FALSE),\"\")","v":""},{"$f":"IFERROR(VLOOKUP($A43,'All Running Order'!$A$6:$CZ$64,BW$102,FALSE),\"\")","v":""},{"$f":"IFERROR(VLOOKUP($A43,'All Running Order'!$A$6:$CZ$64,BX$102,FALSE),\"\")","v":""},{"$f":"IFERROR(VLOOKUP($A43,'All Running Order'!$A$6:$CZ$64,BY$102,FALSE),\"\")","v":""},{"$f":"IFERROR(VLOOKUP($A43,'All Running Order'!$A$6:$CZ$64,BZ$102,FALSE),\"\")","v":""},{"$f":"IFERROR(VLOOKUP($A43,'All Running Order'!$A$6:$CZ$64,CA$102,FALSE),\"\")","v":""},{"$f":"IFERROR(VLOOKUP($A43,'All Running Order'!$A$6:$CZ$64,CB$102,FALSE),\"\")","v":""},{"$f":"IFERROR(VLOOKUP($A43,'All Running Order'!$A$6:$CZ$64,CC$102,FALSE),\"\")","v":""},{"$f":"IFERROR(VLOOKUP($A43,'All Running Order'!$A$6:$CZ$64,CD$102,FALSE),\"\")","v":""},{"$f":"IFERROR(VLOOKUP($A43,'All Running Order'!$A$6:$CZ$64,CE$102,FALSE),\"\")","v":""},{"$f":"IFERROR(VLOOKUP($A43,'All Running Order'!$A$6:$CZ$64,CF$102,FALSE),\"\")","v":""},{"$f":"IFERROR(VLOOKUP($A43,'All Running Order'!$A$6:$CZ$64,CG$102,FALSE),\"\")","v":""},{"$f":"IFERROR(VLOOKUP($A43,'All Running Order'!$A$6:$CZ$64,CH$102,FALSE),\"\")","v":""},{"$f":"IFERROR(VLOOKUP($A43,'All Running Order'!$A$6:$CZ$64,CI$102,FALSE),\"\")","v":""},{"$f":"IFERROR(VLOOKUP($A43,'All Running Order'!$A$6:$CZ$64,CJ$102,FALSE),\"\")","v":""},{"$f":"IFERROR(VLOOKUP($A43,'All Running Order'!$A$6:$CZ$64,CK$102,FALSE),\"\")","v":""},{"$f":"IFERROR(VLOOKUP($A43,'All Running Order'!$A$6:$CZ$64,CL$102,FALSE),\"\")","v":""},{"$f":"IFERROR(VLOOKUP($A43,'All Running Order'!$A$6:$CZ$64,CM$102,FALSE),\"\")","v":""},{"$f":"IFERROR(VLOOKUP($A43,'All Running Order'!$A$6:$CZ$64,CN$102,FALSE),\"\")","v":""},{"$f":"IFERROR(VLOOKUP($A43,'All Running Order'!$A$6:$CZ$64,CO$102,FALSE),\"\")","v":""},{"$f":"IFERROR(VLOOKUP($A43,'All Running Order'!$A$6:$CZ$64,CP$102,FALSE),\"\")","v":""},{"$f":"IFERROR(VLOOKUP($A43,'All Running Order'!$A$6:$CZ$64,CQ$102,FALSE),\"\")","v":""},{"$f":"IFERROR(VLOOKUP($A43,'All Running Order'!$A$6:$CZ$64,CR$102,FALSE),\"\")","v":""},{"$f":"IFERROR(VLOOKUP($A43,'All Running Order'!$A$6:$CZ$64,CS$102,FALSE),\"\")","v":""},{"$f":"IFERROR(VLOOKUP($A43,'All Running Order'!$A$6:$CZ$64,CT$102,FALSE),\"\")","v":""},{"$f":"IFERROR(VLOOKUP($A43,'All Running Order'!$A$6:$CZ$64,CU$102,FALSE),\"\")","v":""},{"$f":"IFERROR(VLOOKUP($A43,'All Running Order'!$A$6:$CZ$64,CV$102,FALSE),\"\")","v":""},{"$f":"IFERROR(VLOOKUP($A43,'All Running Order'!$A$6:$CZ$64,CW$102,FALSE),\"\")","v":""},{"$f":"IFERROR(VLOOKUP($A43,'All Running Order'!$A$6:$CZ$64,CX$102,FALSE),\"\")","v":""},{"$f":"IFERROR(VLOOKUP($A43,'All Running Order'!$A$6:$CZ$64,CY$102,FALSE),\"\")","v":""},{"$f":"IFERROR(VLOOKUP($A43,'All Running Order'!$A$6:$CZ$64,CZ$102,FALSE),\"\")","v":""}]
[39,{"$f":"IFERROR(VLOOKUP($A44,'All Running Order'!$A$6:$CZ$64,B$102,FALSE),\"\")","v":""},{"$f":"IFERROR(VLOOKUP($A44,'All Running Order'!$A$6:$CZ$64,C$102,FALSE),\"\")","v":""},{"$f":"IFERROR(VLOOKUP($A44,'All Running Order'!$A$6:$CZ$64,D$102,FALSE),\"\")","v":""},{"$f":"IFERROR(VLOOKUP($A44,'All Running Order'!$A$6:$CZ$64,E$102,FALSE),\"\")","v":""},{"$f":"IFERROR(VLOOKUP($A44,'All Running Order'!$A$6:$CZ$64,F$102,FALSE),\"\")","v":""},{"$f":"IFERROR(VLOOKUP($A44,'All Running Order'!$A$6:$CZ$64,G$102,FALSE),\"\")","v":""},{"$f":"IFERROR(VLOOKUP($A44,'All Running Order'!$A$6:$CZ$64,H$102,FALSE),\"\")","v":""},{"$f":"IFERROR(VLOOKUP($A44,'All Running Order'!$A$6:$CZ$64,I$102,FALSE),\"\")","v":""},{"$f":"IFERROR(VLOOKUP($A44,'All Running Order'!$A$6:$CZ$64,J$102,FALSE),\"\")","v":""},{"$f":"IFERROR(VLOOKUP($A44,'All Running Order'!$A$6:$CZ$64,K$102,FALSE),\"\")","v":""},{"$f":"IFERROR(VLOOKUP($A44,'All Running Order'!$A$6:$CZ$64,L$102,FALSE),\"\")","v":""},{"$f":"IFERROR(VLOOKUP($A44,'All Running Order'!$A$6:$CZ$64,M$102,FALSE),\"\")","v":""},{"$f":"IFERROR(VLOOKUP($A44,'All Running Order'!$A$6:$CZ$64,N$102,FALSE),\"\")","v":""},{"$f":"IFERROR(VLOOKUP($A44,'All Running Order'!$A$6:$CZ$64,O$102,FALSE),\"\")","v":""},{"$f":"IFERROR(VLOOKUP($A44,'All Running Order'!$A$6:$CZ$64,P$102,FALSE),\"\")","v":""},{"$f":"IFERROR(VLOOKUP($A44,'All Running Order'!$A$6:$CZ$64,Q$102,FALSE),\"\")","v":""},{"$f":"IFERROR(VLOOKUP($A44,'All Running Order'!$A$6:$CZ$64,R$102,FALSE),\"\")","v":""},{"$f":"IFERROR(VLOOKUP($A44,'All Running Order'!$A$6:$CZ$64,S$102,FALSE),\"\")","v":""},{"$f":"IFERROR(VLOOKUP($A44,'All Running Order'!$A$6:$CZ$64,T$102,FALSE),\"\")","v":""},{"$f":"IFERROR(VLOOKUP($A44,'All Running Order'!$A$6:$CZ$64,U$102,FALSE),\"\")","v":""},{"$f":"IFERROR(VLOOKUP($A44,'All Running Order'!$A$6:$CZ$64,V$102,FALSE),\"\")","v":""},{"$f":"IFERROR(VLOOKUP($A44,'All Running Order'!$A$6:$CZ$64,W$102,FALSE),\"\")","v":""},{"$f":"IFERROR(VLOOKUP($A44,'All Running Order'!$A$6:$CZ$64,X$102,FALSE),\"\")","v":""},{"$f":"IFERROR(VLOOKUP($A44,'All Running Order'!$A$6:$CZ$64,Y$102,FALSE),\"\")","v":""},{"$f":"IFERROR(VLOOKUP($A44,'All Running Order'!$A$6:$CZ$64,Z$102,FALSE),\"\")","v":""},{"$f":"IFERROR(VLOOKUP($A44,'All Running Order'!$A$6:$CZ$64,AA$102,FALSE),\"\")","v":""},{"$f":"IFERROR(VLOOKUP($A44,'All Running Order'!$A$6:$CZ$64,AB$102,FALSE),\"\")","v":""},{"$f":"IFERROR(VLOOKUP($A44,'All Running Order'!$A$6:$CZ$64,AC$102,FALSE),\"\")","v":""},{"$f":"IFERROR(VLOOKUP($A44,'All Running Order'!$A$6:$CZ$64,AD$102,FALSE),\"\")","v":""},{"$f":"IFERROR(VLOOKUP($A44,'All Running Order'!$A$6:$CZ$64,AE$102,FALSE),\"\")","v":""},{"$f":"IFERROR(VLOOKUP($A44,'All Running Order'!$A$6:$CZ$64,AF$102,FALSE),\"\")","v":""},{"$f":"IFERROR(VLOOKUP($A44,'All Running Order'!$A$6:$CZ$64,AG$102,FALSE),\"\")","v":""},{"$f":"IFERROR(VLOOKUP($A44,'All Running Order'!$A$6:$CZ$64,AH$102,FALSE),\"\")","v":""},{"$f":"IFERROR(VLOOKUP($A44,'All Running Order'!$A$6:$CZ$64,AI$102,FALSE),\"\")","v":""},{"$f":"IFERROR(VLOOKUP($A44,'All Running Order'!$A$6:$CZ$64,AJ$102,FALSE),\"\")","v":""},{"$f":"IFERROR(VLOOKUP($A44,'All Running Order'!$A$6:$CZ$64,AK$102,FALSE),\"\")","v":""},{"$f":"IFERROR(VLOOKUP($A44,'All Running Order'!$A$6:$CZ$64,AL$102,FALSE),\"\")","v":""},{"$f":"IFERROR(VLOOKUP($A44,'All Running Order'!$A$6:$CZ$64,AM$102,FALSE),\"\")","v":""},{"$f":"IFERROR(VLOOKUP($A44,'All Running Order'!$A$6:$CZ$64,AN$102,FALSE),\"\")","v":""},{"$f":"IFERROR(VLOOKUP($A44,'All Running Order'!$A$6:$CZ$64,AO$102,FALSE),\"\")","v":""},{"$f":"IFERROR(VLOOKUP($A44,'All Running Order'!$A$6:$CZ$64,AP$102,FALSE),\"\")","v":""},{"$f":"IFERROR(VLOOKUP($A44,'All Running Order'!$A$6:$CZ$64,AQ$102,FALSE),\"\")","v":""},{"$f":"IFERROR(VLOOKUP($A44,'All Running Order'!$A$6:$CZ$64,AR$102,FALSE),\"\")","v":""},{"$f":"IFERROR(VLOOKUP($A44,'All Running Order'!$A$6:$CZ$64,AS$102,FALSE),\"\")","v":""},{"$f":"IFERROR(VLOOKUP($A44,'All Running Order'!$A$6:$CZ$64,AT$102,FALSE),\"\")","v":""},{"$f":"IFERROR(VLOOKUP($A44,'All Running Order'!$A$6:$CZ$64,AU$102,FALSE),\"\")","v":""},{"$f":"IFERROR(VLOOKUP($A44,'All Running Order'!$A$6:$CZ$64,AV$102,FALSE),\"\")","v":""},{"$f":"IFERROR(VLOOKUP($A44,'All Running Order'!$A$6:$CZ$64,AW$102,FALSE),\"\")","v":""},{"$f":"IFERROR(VLOOKUP($A44,'All Running Order'!$A$6:$CZ$64,AX$102,FALSE),\"\")","v":""},{"$f":"IFERROR(VLOOKUP($A44,'All Running Order'!$A$6:$CZ$64,AY$102,FALSE),\"\")","v":""},{"$f":"IFERROR(VLOOKUP($A44,'All Running Order'!$A$6:$CZ$64,AZ$102,FALSE),\"\")","v":""},{"$f":"IFERROR(VLOOKUP($A44,'All Running Order'!$A$6:$CZ$64,BA$102,FALSE),\"\")","v":""},{"$f":"IFERROR(VLOOKUP($A44,'All Running Order'!$A$6:$CZ$64,BB$102,FALSE),\"\")","v":""},{"$f":"IFERROR(VLOOKUP($A44,'All Running Order'!$A$6:$CZ$64,BC$102,FALSE),\"\")","v":""},{"$f":"IFERROR(VLOOKUP($A44,'All Running Order'!$A$6:$CZ$64,BD$102,FALSE),\"\")","v":""},{"$f":"IFERROR(VLOOKUP($A44,'All Running Order'!$A$6:$CZ$64,BE$102,FALSE),\"\")","v":""},{"$f":"IFERROR(VLOOKUP($A44,'All Running Order'!$A$6:$CZ$64,BF$102,FALSE),\"\")","v":""},{"$f":"IFERROR(VLOOKUP($A44,'All Running Order'!$A$6:$CZ$64,BG$102,FALSE),\"\")","v":""},{"$f":"IFERROR(VLOOKUP($A44,'All Running Order'!$A$6:$CZ$64,BH$102,FALSE),\"\")","v":""},{"$f":"IFERROR(VLOOKUP($A44,'All Running Order'!$A$6:$CZ$64,BI$102,FALSE),\"\")","v":""},{"$f":"IFERROR(VLOOKUP($A44,'All Running Order'!$A$6:$CZ$64,BJ$102,FALSE),\"\")","v":""},{"$f":"IFERROR(VLOOKUP($A44,'All Running Order'!$A$6:$CZ$64,BK$102,FALSE),\"\")","v":""},{"$f":"IFERROR(VLOOKUP($A44,'All Running Order'!$A$6:$CZ$64,BL$102,FALSE),\"\")","v":""},{"$f":"IFERROR(VLOOKUP($A44,'All Running Order'!$A$6:$CZ$64,BM$102,FALSE),\"\")","v":""},{"$f":"IFERROR(VLOOKUP($A44,'All Running Order'!$A$6:$CZ$64,BN$102,FALSE),\"\")","v":""},{"$f":"IFERROR(VLOOKUP($A44,'All Running Order'!$A$6:$CZ$64,BO$102,FALSE),\"\")","v":""},{"$f":"IFERROR(VLOOKUP($A44,'All Running Order'!$A$6:$CZ$64,BP$102,FALSE),\"\")","v":""},{"$f":"IFERROR(VLOOKUP($A44,'All Running Order'!$A$6:$CZ$64,BQ$102,FALSE),\"\")","v":""},{"$f":"IFERROR(VLOOKUP($A44,'All Running Order'!$A$6:$CZ$64,BR$102,FALSE),\"\")","v":""},{"$f":"IFERROR(VLOOKUP($A44,'All Running Order'!$A$6:$CZ$64,BS$102,FALSE),\"\")","v":""},{"$f":"IFERROR(VLOOKUP($A44,'All Running Order'!$A$6:$CZ$64,BT$102,FALSE),\"\")","v":""},{"$f":"IFERROR(VLOOKUP($A44,'All Running Order'!$A$6:$CZ$64,BU$102,FALSE),\"\")","v":""},{"$f":"IFERROR(VLOOKUP($A44,'All Running Order'!$A$6:$CZ$64,BV$102,FALSE),\"\")","v":""},{"$f":"IFERROR(VLOOKUP($A44,'All Running Order'!$A$6:$CZ$64,BW$102,FALSE),\"\")","v":""},{"$f":"IFERROR(VLOOKUP($A44,'All Running Order'!$A$6:$CZ$64,BX$102,FALSE),\"\")","v":""},{"$f":"IFERROR(VLOOKUP($A44,'All Running Order'!$A$6:$CZ$64,BY$102,FALSE),\"\")","v":""},{"$f":"IFERROR(VLOOKUP($A44,'All Running Order'!$A$6:$CZ$64,BZ$102,FALSE),\"\")","v":""},{"$f":"IFERROR(VLOOKUP($A44,'All Running Order'!$A$6:$CZ$64,CA$102,FALSE),\"\")","v":""},{"$f":"IFERROR(VLOOKUP($A44,'All Running Order'!$A$6:$CZ$64,CB$102,FALSE),\"\")","v":""},{"$f":"IFERROR(VLOOKUP($A44,'All Running Order'!$A$6:$CZ$64,CC$102,FALSE),\"\")","v":""},{"$f":"IFERROR(VLOOKUP($A44,'All Running Order'!$A$6:$CZ$64,CD$102,FALSE),\"\")","v":""},{"$f":"IFERROR(VLOOKUP($A44,'All Running Order'!$A$6:$CZ$64,CE$102,FALSE),\"\")","v":""},{"$f":"IFERROR(VLOOKUP($A44,'All Running Order'!$A$6:$CZ$64,CF$102,FALSE),\"\")","v":""},{"$f":"IFERROR(VLOOKUP($A44,'All Running Order'!$A$6:$CZ$64,CG$102,FALSE),\"\")","v":""},{"$f":"IFERROR(VLOOKUP($A44,'All Running Order'!$A$6:$CZ$64,CH$102,FALSE),\"\")","v":""},{"$f":"IFERROR(VLOOKUP($A44,'All Running Order'!$A$6:$CZ$64,CI$102,FALSE),\"\")","v":""},{"$f":"IFERROR(VLOOKUP($A44,'All Running Order'!$A$6:$CZ$64,CJ$102,FALSE),\"\")","v":""},{"$f":"IFERROR(VLOOKUP($A44,'All Running Order'!$A$6:$CZ$64,CK$102,FALSE),\"\")","v":""},{"$f":"IFERROR(VLOOKUP($A44,'All Running Order'!$A$6:$CZ$64,CL$102,FALSE),\"\")","v":""},{"$f":"IFERROR(VLOOKUP($A44,'All Running Order'!$A$6:$CZ$64,CM$102,FALSE),\"\")","v":""},{"$f":"IFERROR(VLOOKUP($A44,'All Running Order'!$A$6:$CZ$64,CN$102,FALSE),\"\")","v":""},{"$f":"IFERROR(VLOOKUP($A44,'All Running Order'!$A$6:$CZ$64,CO$102,FALSE),\"\")","v":""},{"$f":"IFERROR(VLOOKUP($A44,'All Running Order'!$A$6:$CZ$64,CP$102,FALSE),\"\")","v":""},{"$f":"IFERROR(VLOOKUP($A44,'All Running Order'!$A$6:$CZ$64,CQ$102,FALSE),\"\")","v":""},{"$f":"IFERROR(VLOOKUP($A44,'All Running Order'!$A$6:$CZ$64,CR$102,FALSE),\"\")","v":""},{"$f":"IFERROR(VLOOKUP($A44,'All Running Order'!$A$6:$CZ$64,CS$102,FALSE),\"\")","v":""},{"$f":"IFERROR(VLOOKUP($A44,'All Running Order'!$A$6:$CZ$64,CT$102,FALSE),\"\")","v":""},{"$f":"IFERROR(VLOOKUP($A44,'All Running Order'!$A$6:$CZ$64,CU$102,FALSE),\"\")","v":""},{"$f":"IFERROR(VLOOKUP($A44,'All Running Order'!$A$6:$CZ$64,CV$102,FALSE),\"\")","v":""},{"$f":"IFERROR(VLOOKUP($A44,'All Running Order'!$A$6:$CZ$64,CW$102,FALSE),\"\")","v":""},{"$f":"IFERROR(VLOOKUP($A44,'All Running Order'!$A$6:$CZ$64,CX$102,FALSE),\"\")","v":""},{"$f":"IFERROR(VLOOKUP($A44,'All Running Order'!$A$6:$CZ$64,CY$102,FALSE),\"\")","v":""},{"$f":"IFERROR(VLOOKUP($A44,'All Running Order'!$A$6:$CZ$64,CZ$102,FALSE),\"\")","v":""}]
[40,{"$f":"IFERROR(VLOOKUP($A45,'All Running Order'!$A$6:$CZ$64,B$102,FALSE),\"\")","v":""},{"$f":"IFERROR(VLOOKUP($A45,'All Running Order'!$A$6:$CZ$64,C$102,FALSE),\"\")","v":""},{"$f":"IFERROR(VLOOKUP($A45,'All Running Order'!$A$6:$CZ$64,D$102,FALSE),\"\")","v":""},{"$f":"IFERROR(VLOOKUP($A45,'All Running Order'!$A$6:$CZ$64,E$102,FALSE),\"\")","v":""},{"$f":"IFERROR(VLOOKUP($A45,'All Running Order'!$A$6:$CZ$64,F$102,FALSE),\"\")","v":""},{"$f":"IFERROR(VLOOKUP($A45,'All Running Order'!$A$6:$CZ$64,G$102,FALSE),\"\")","v":""},{"$f":"IFERROR(VLOOKUP($A45,'All Running Order'!$A$6:$CZ$64,H$102,FALSE),\"\")","v":""},{"$f":"IFERROR(VLOOKUP($A45,'All Running Order'!$A$6:$CZ$64,I$102,FALSE),\"\")","v":""},{"$f":"IFERROR(VLOOKUP($A45,'All Running Order'!$A$6:$CZ$64,J$102,FALSE),\"\")","v":""},{"$f":"IFERROR(VLOOKUP($A45,'All Running Order'!$A$6:$CZ$64,K$102,FALSE),\"\")","v":""},{"$f":"IFERROR(VLOOKUP($A45,'All Running Order'!$A$6:$CZ$64,L$102,FALSE),\"\")","v":""},{"$f":"IFERROR(VLOOKUP($A45,'All Running Order'!$A$6:$CZ$64,M$102,FALSE),\"\")","v":""},{"$f":"IFERROR(VLOOKUP($A45,'All Running Order'!$A$6:$CZ$64,N$102,FALSE),\"\")","v":""},{"$f":"IFERROR(VLOOKUP($A45,'All Running Order'!$A$6:$CZ$64,O$102,FALSE),\"\")","v":""},{"$f":"IFERROR(VLOOKUP($A45,'All Running Order'!$A$6:$CZ$64,P$102,FALSE),\"\")","v":""},{"$f":"IFERROR(VLOOKUP($A45,'All Running Order'!$A$6:$CZ$64,Q$102,FALSE),\"\")","v":""},{"$f":"IFERROR(VLOOKUP($A45,'All Running Order'!$A$6:$CZ$64,R$102,FALSE),\"\")","v":""},{"$f":"IFERROR(VLOOKUP($A45,'All Running Order'!$A$6:$CZ$64,S$102,FALSE),\"\")","v":""},{"$f":"IFERROR(VLOOKUP($A45,'All Running Order'!$A$6:$CZ$64,T$102,FALSE),\"\")","v":""},{"$f":"IFERROR(VLOOKUP($A45,'All Running Order'!$A$6:$CZ$64,U$102,FALSE),\"\")","v":""},{"$f":"IFERROR(VLOOKUP($A45,'All Running Order'!$A$6:$CZ$64,V$102,FALSE),\"\")","v":""},{"$f":"IFERROR(VLOOKUP($A45,'All Running Order'!$A$6:$CZ$64,W$102,FALSE),\"\")","v":""},{"$f":"IFERROR(VLOOKUP($A45,'All Running Order'!$A$6:$CZ$64,X$102,FALSE),\"\")","v":""},{"$f":"IFERROR(VLOOKUP($A45,'All Running Order'!$A$6:$CZ$64,Y$102,FALSE),\"\")","v":""},{"$f":"IFERROR(VLOOKUP($A45,'All Running Order'!$A$6:$CZ$64,Z$102,FALSE),\"\")","v":""},{"$f":"IFERROR(VLOOKUP($A45,'All Running Order'!$A$6:$CZ$64,AA$102,FALSE),\"\")","v":""},{"$f":"IFERROR(VLOOKUP($A45,'All Running Order'!$A$6:$CZ$64,AB$102,FALSE),\"\")","v":""},{"$f":"IFERROR(VLOOKUP($A45,'All Running Order'!$A$6:$CZ$64,AC$102,FALSE),\"\")","v":""},{"$f":"IFERROR(VLOOKUP($A45,'All Running Order'!$A$6:$CZ$64,AD$102,FALSE),\"\")","v":""},{"$f":"IFERROR(VLOOKUP($A45,'All Running Order'!$A$6:$CZ$64,AE$102,FALSE),\"\")","v":""},{"$f":"IFERROR(VLOOKUP($A45,'All Running Order'!$A$6:$CZ$64,AF$102,FALSE),\"\")","v":""},{"$f":"IFERROR(VLOOKUP($A45,'All Running Order'!$A$6:$CZ$64,AG$102,FALSE),\"\")","v":""},{"$f":"IFERROR(VLOOKUP($A45,'All Running Order'!$A$6:$CZ$64,AH$102,FALSE),\"\")","v":""},{"$f":"IFERROR(VLOOKUP($A45,'All Running Order'!$A$6:$CZ$64,AI$102,FALSE),\"\")","v":""},{"$f":"IFERROR(VLOOKUP($A45,'All Running Order'!$A$6:$CZ$64,AJ$102,FALSE),\"\")","v":""},{"$f":"IFERROR(VLOOKUP($A45,'All Running Order'!$A$6:$CZ$64,AK$102,FALSE),\"\")","v":""},{"$f":"IFERROR(VLOOKUP($A45,'All Running Order'!$A$6:$CZ$64,AL$102,FALSE),\"\")","v":""},{"$f":"IFERROR(VLOOKUP($A45,'All Running Order'!$A$6:$CZ$64,AM$102,FALSE),\"\")","v":""},{"$f":"IFERROR(VLOOKUP($A45,'All Running Order'!$A$6:$CZ$64,AN$102,FALSE),\"\")","v":""},{"$f":"IFERROR(VLOOKUP($A45,'All Running Order'!$A$6:$CZ$64,AO$102,FALSE),\"\")","v":""},{"$f":"IFERROR(VLOOKUP($A45,'All Running Order'!$A$6:$CZ$64,AP$102,FALSE),\"\")","v":""},{"$f":"IFERROR(VLOOKUP($A45,'All Running Order'!$A$6:$CZ$64,AQ$102,FALSE),\"\")","v":""},{"$f":"IFERROR(VLOOKUP($A45,'All Running Order'!$A$6:$CZ$64,AR$102,FALSE),\"\")","v":""},{"$f":"IFERROR(VLOOKUP($A45,'All Running Order'!$A$6:$CZ$64,AS$102,FALSE),\"\")","v":""},{"$f":"IFERROR(VLOOKUP($A45,'All Running Order'!$A$6:$CZ$64,AT$102,FALSE),\"\")","v":""},{"$f":"IFERROR(VLOOKUP($A45,'All Running Order'!$A$6:$CZ$64,AU$102,FALSE),\"\")","v":""},{"$f":"IFERROR(VLOOKUP($A45,'All Running Order'!$A$6:$CZ$64,AV$102,FALSE),\"\")","v":""},{"$f":"IFERROR(VLOOKUP($A45,'All Running Order'!$A$6:$CZ$64,AW$102,FALSE),\"\")","v":""},{"$f":"IFERROR(VLOOKUP($A45,'All Running Order'!$A$6:$CZ$64,AX$102,FALSE),\"\")","v":""},{"$f":"IFERROR(VLOOKUP($A45,'All Running Order'!$A$6:$CZ$64,AY$102,FALSE),\"\")","v":""},{"$f":"IFERROR(VLOOKUP($A45,'All Running Order'!$A$6:$CZ$64,AZ$102,FALSE),\"\")","v":""},{"$f":"IFERROR(VLOOKUP($A45,'All Running Order'!$A$6:$CZ$64,BA$102,FALSE),\"\")","v":""},{"$f":"IFERROR(VLOOKUP($A45,'All Running Order'!$A$6:$CZ$64,BB$102,FALSE),\"\")","v":""},{"$f":"IFERROR(VLOOKUP($A45,'All Running Order'!$A$6:$CZ$64,BC$102,FALSE),\"\")","v":""},{"$f":"IFERROR(VLOOKUP($A45,'All Running Order'!$A$6:$CZ$64,BD$102,FALSE),\"\")","v":""},{"$f":"IFERROR(VLOOKUP($A45,'All Running Order'!$A$6:$CZ$64,BE$102,FALSE),\"\")","v":""},{"$f":"IFERROR(VLOOKUP($A45,'All Running Order'!$A$6:$CZ$64,BF$102,FALSE),\"\")","v":""},{"$f":"IFERROR(VLOOKUP($A45,'All Running Order'!$A$6:$CZ$64,BG$102,FALSE),\"\")","v":""},{"$f":"IFERROR(VLOOKUP($A45,'All Running Order'!$A$6:$CZ$64,BH$102,FALSE),\"\")","v":""},{"$f":"IFERROR(VLOOKUP($A45,'All Running Order'!$A$6:$CZ$64,BI$102,FALSE),\"\")","v":""},{"$f":"IFERROR(VLOOKUP($A45,'All Running Order'!$A$6:$CZ$64,BJ$102,FALSE),\"\")","v":""},{"$f":"IFERROR(VLOOKUP($A45,'All Running Order'!$A$6:$CZ$64,BK$102,FALSE),\"\")","v":""},{"$f":"IFERROR(VLOOKUP($A45,'All Running Order'!$A$6:$CZ$64,BL$102,FALSE),\"\")","v":""},{"$f":"IFERROR(VLOOKUP($A45,'All Running Order'!$A$6:$CZ$64,BM$102,FALSE),\"\")","v":""},{"$f":"IFERROR(VLOOKUP($A45,'All Running Order'!$A$6:$CZ$64,BN$102,FALSE),\"\")","v":""},{"$f":"IFERROR(VLOOKUP($A45,'All Running Order'!$A$6:$CZ$64,BO$102,FALSE),\"\")","v":""},{"$f":"IFERROR(VLOOKUP($A45,'All Running Order'!$A$6:$CZ$64,BP$102,FALSE),\"\")","v":""},{"$f":"IFERROR(VLOOKUP($A45,'All Running Order'!$A$6:$CZ$64,BQ$102,FALSE),\"\")","v":""},{"$f":"IFERROR(VLOOKUP($A45,'All Running Order'!$A$6:$CZ$64,BR$102,FALSE),\"\")","v":""},{"$f":"IFERROR(VLOOKUP($A45,'All Running Order'!$A$6:$CZ$64,BS$102,FALSE),\"\")","v":""},{"$f":"IFERROR(VLOOKUP($A45,'All Running Order'!$A$6:$CZ$64,BT$102,FALSE),\"\")","v":""},{"$f":"IFERROR(VLOOKUP($A45,'All Running Order'!$A$6:$CZ$64,BU$102,FALSE),\"\")","v":""},{"$f":"IFERROR(VLOOKUP($A45,'All Running Order'!$A$6:$CZ$64,BV$102,FALSE),\"\")","v":""},{"$f":"IFERROR(VLOOKUP($A45,'All Running Order'!$A$6:$CZ$64,BW$102,FALSE),\"\")","v":""},{"$f":"IFERROR(VLOOKUP($A45,'All Running Order'!$A$6:$CZ$64,BX$102,FALSE),\"\")","v":""},{"$f":"IFERROR(VLOOKUP($A45,'All Running Order'!$A$6:$CZ$64,BY$102,FALSE),\"\")","v":""},{"$f":"IFERROR(VLOOKUP($A45,'All Running Order'!$A$6:$CZ$64,BZ$102,FALSE),\"\")","v":""},{"$f":"IFERROR(VLOOKUP($A45,'All Running Order'!$A$6:$CZ$64,CA$102,FALSE),\"\")","v":""},{"$f":"IFERROR(VLOOKUP($A45,'All Running Order'!$A$6:$CZ$64,CB$102,FALSE),\"\")","v":""},{"$f":"IFERROR(VLOOKUP($A45,'All Running Order'!$A$6:$CZ$64,CC$102,FALSE),\"\")","v":""},{"$f":"IFERROR(VLOOKUP($A45,'All Running Order'!$A$6:$CZ$64,CD$102,FALSE),\"\")","v":""},{"$f":"IFERROR(VLOOKUP($A45,'All Running Order'!$A$6:$CZ$64,CE$102,FALSE),\"\")","v":""},{"$f":"IFERROR(VLOOKUP($A45,'All Running Order'!$A$6:$CZ$64,CF$102,FALSE),\"\")","v":""},{"$f":"IFERROR(VLOOKUP($A45,'All Running Order'!$A$6:$CZ$64,CG$102,FALSE),\"\")","v":""},{"$f":"IFERROR(VLOOKUP($A45,'All Running Order'!$A$6:$CZ$64,CH$102,FALSE),\"\")","v":""},{"$f":"IFERROR(VLOOKUP($A45,'All Running Order'!$A$6:$CZ$64,CI$102,FALSE),\"\")","v":""},{"$f":"IFERROR(VLOOKUP($A45,'All Running Order'!$A$6:$CZ$64,CJ$102,FALSE),\"\")","v":""},{"$f":"IFERROR(VLOOKUP($A45,'All Running Order'!$A$6:$CZ$64,CK$102,FALSE),\"\")","v":""},{"$f":"IFERROR(VLOOKUP($A45,'All Running Order'!$A$6:$CZ$64,CL$102,FALSE),\"\")","v":""},{"$f":"IFERROR(VLOOKUP($A45,'All Running Order'!$A$6:$CZ$64,CM$102,FALSE),\"\")","v":""},{"$f":"IFERROR(VLOOKUP($A45,'All Running Order'!$A$6:$CZ$64,CN$102,FALSE),\"\")","v":""},{"$f":"IFERROR(VLOOKUP($A45,'All Running Order'!$A$6:$CZ$64,CO$102,FALSE),\"\")","v":""},{"$f":"IFERROR(VLOOKUP($A45,'All Running Order'!$A$6:$CZ$64,CP$102,FALSE),\"\")","v":""},{"$f":"IFERROR(VLOOKUP($A45,'All Running Order'!$A$6:$CZ$64,CQ$102,FALSE),\"\")","v":""},{"$f":"IFERROR(VLOOKUP($A45,'All Running Order'!$A$6:$CZ$64,CR$102,FALSE),\"\")","v":""},{"$f":"IFERROR(VLOOKUP($A45,'All Running Order'!$A$6:$CZ$64,CS$102,FALSE),\"\")","v":""},{"$f":"IFERROR(VLOOKUP($A45,'All Running Order'!$A$6:$CZ$64,CT$102,FALSE),\"\")","v":""},{"$f":"IFERROR(VLOOKUP($A45,'All Running Order'!$A$6:$CZ$64,CU$102,FALSE),\"\")","v":""},{"$f":"IFERROR(VLOOKUP($A45,'All Running Order'!$A$6:$CZ$64,CV$102,FALSE),\"\")","v":""},{"$f":"IFERROR(VLOOKUP($A45,'All Running Order'!$A$6:$CZ$64,CW$102,FALSE),\"\")","v":""},{"$f":"IFERROR(VLOOKUP($A45,'All Running Order'!$A$6:$CZ$64,CX$102,FALSE),\"\")","v":""},{"$f":"IFERROR(VLOOKUP($A45,'All Running Order'!$A$6:$CZ$64,CY$102,FALSE),\"\")","v":""},{"$f":"IFERROR(VLOOKUP($A45,'All Running Order'!$A$6:$CZ$64,CZ$102,FALSE),\"\")","v":""}]
[41,{"$f":"IFERROR(VLOOKUP($A46,'All Running Order'!$A$6:$CZ$64,B$102,FALSE),\"\")","v":""},{"$f":"IFERROR(VLOOKUP($A46,'All Running Order'!$A$6:$CZ$64,C$102,FALSE),\"\")","v":""},{"$f":"IFERROR(VLOOKUP($A46,'All Running Order'!$A$6:$CZ$64,D$102,FALSE),\"\")","v":""},{"$f":"IFERROR(VLOOKUP($A46,'All Running Order'!$A$6:$CZ$64,E$102,FALSE),\"\")","v":""},{"$f":"IFERROR(VLOOKUP($A46,'All Running Order'!$A$6:$CZ$64,F$102,FALSE),\"\")","v":""},{"$f":"IFERROR(VLOOKUP($A46,'All Running Order'!$A$6:$CZ$64,G$102,FALSE),\"\")","v":""},{"$f":"IFERROR(VLOOKUP($A46,'All Running Order'!$A$6:$CZ$64,H$102,FALSE),\"\")","v":""},{"$f":"IFERROR(VLOOKUP($A46,'All Running Order'!$A$6:$CZ$64,I$102,FALSE),\"\")","v":""},{"$f":"IFERROR(VLOOKUP($A46,'All Running Order'!$A$6:$CZ$64,J$102,FALSE),\"\")","v":""},{"$f":"IFERROR(VLOOKUP($A46,'All Running Order'!$A$6:$CZ$64,K$102,FALSE),\"\")","v":""},{"$f":"IFERROR(VLOOKUP($A46,'All Running Order'!$A$6:$CZ$64,L$102,FALSE),\"\")","v":""},{"$f":"IFERROR(VLOOKUP($A46,'All Running Order'!$A$6:$CZ$64,M$102,FALSE),\"\")","v":""},{"$f":"IFERROR(VLOOKUP($A46,'All Running Order'!$A$6:$CZ$64,N$102,FALSE),\"\")","v":""},{"$f":"IFERROR(VLOOKUP($A46,'All Running Order'!$A$6:$CZ$64,O$102,FALSE),\"\")","v":""},{"$f":"IFERROR(VLOOKUP($A46,'All Running Order'!$A$6:$CZ$64,P$102,FALSE),\"\")","v":""},{"$f":"IFERROR(VLOOKUP($A46,'All Running Order'!$A$6:$CZ$64,Q$102,FALSE),\"\")","v":""},{"$f":"IFERROR(VLOOKUP($A46,'All Running Order'!$A$6:$CZ$64,R$102,FALSE),\"\")","v":""},{"$f":"IFERROR(VLOOKUP($A46,'All Running Order'!$A$6:$CZ$64,S$102,FALSE),\"\")","v":""},{"$f":"IFERROR(VLOOKUP($A46,'All Running Order'!$A$6:$CZ$64,T$102,FALSE),\"\")","v":""},{"$f":"IFERROR(VLOOKUP($A46,'All Running Order'!$A$6:$CZ$64,U$102,FALSE),\"\")","v":""},{"$f":"IFERROR(VLOOKUP($A46,'All Running Order'!$A$6:$CZ$64,V$102,FALSE),\"\")","v":""},{"$f":"IFERROR(VLOOKUP($A46,'All Running Order'!$A$6:$CZ$64,W$102,FALSE),\"\")","v":""},{"$f":"IFERROR(VLOOKUP($A46,'All Running Order'!$A$6:$CZ$64,X$102,FALSE),\"\")","v":""},{"$f":"IFERROR(VLOOKUP($A46,'All Running Order'!$A$6:$CZ$64,Y$102,FALSE),\"\")","v":""},{"$f":"IFERROR(VLOOKUP($A46,'All Running Order'!$A$6:$CZ$64,Z$102,FALSE),\"\")","v":""},{"$f":"IFERROR(VLOOKUP($A46,'All Running Order'!$A$6:$CZ$64,AA$102,FALSE),\"\")","v":""},{"$f":"IFERROR(VLOOKUP($A46,'All Running Order'!$A$6:$CZ$64,AB$102,FALSE),\"\")","v":""},{"$f":"IFERROR(VLOOKUP($A46,'All Running Order'!$A$6:$CZ$64,AC$102,FALSE),\"\")","v":""},{"$f":"IFERROR(VLOOKUP($A46,'All Running Order'!$A$6:$CZ$64,AD$102,FALSE),\"\")","v":""},{"$f":"IFERROR(VLOOKUP($A46,'All Running Order'!$A$6:$CZ$64,AE$102,FALSE),\"\")","v":""},{"$f":"IFERROR(VLOOKUP($A46,'All Running Order'!$A$6:$CZ$64,AF$102,FALSE),\"\")","v":""},{"$f":"IFERROR(VLOOKUP($A46,'All Running Order'!$A$6:$CZ$64,AG$102,FALSE),\"\")","v":""},{"$f":"IFERROR(VLOOKUP($A46,'All Running Order'!$A$6:$CZ$64,AH$102,FALSE),\"\")","v":""},{"$f":"IFERROR(VLOOKUP($A46,'All Running Order'!$A$6:$CZ$64,AI$102,FALSE),\"\")","v":""},{"$f":"IFERROR(VLOOKUP($A46,'All Running Order'!$A$6:$CZ$64,AJ$102,FALSE),\"\")","v":""},{"$f":"IFERROR(VLOOKUP($A46,'All Running Order'!$A$6:$CZ$64,AK$102,FALSE),\"\")","v":""},{"$f":"IFERROR(VLOOKUP($A46,'All Running Order'!$A$6:$CZ$64,AL$102,FALSE),\"\")","v":""},{"$f":"IFERROR(VLOOKUP($A46,'All Running Order'!$A$6:$CZ$64,AM$102,FALSE),\"\")","v":""},{"$f":"IFERROR(VLOOKUP($A46,'All Running Order'!$A$6:$CZ$64,AN$102,FALSE),\"\")","v":""},{"$f":"IFERROR(VLOOKUP($A46,'All Running Order'!$A$6:$CZ$64,AO$102,FALSE),\"\")","v":""},{"$f":"IFERROR(VLOOKUP($A46,'All Running Order'!$A$6:$CZ$64,AP$102,FALSE),\"\")","v":""},{"$f":"IFERROR(VLOOKUP($A46,'All Running Order'!$A$6:$CZ$64,AQ$102,FALSE),\"\")","v":""},{"$f":"IFERROR(VLOOKUP($A46,'All Running Order'!$A$6:$CZ$64,AR$102,FALSE),\"\")","v":""},{"$f":"IFERROR(VLOOKUP($A46,'All Running Order'!$A$6:$CZ$64,AS$102,FALSE),\"\")","v":""},{"$f":"IFERROR(VLOOKUP($A46,'All Running Order'!$A$6:$CZ$64,AT$102,FALSE),\"\")","v":""},{"$f":"IFERROR(VLOOKUP($A46,'All Running Order'!$A$6:$CZ$64,AU$102,FALSE),\"\")","v":""},{"$f":"IFERROR(VLOOKUP($A46,'All Running Order'!$A$6:$CZ$64,AV$102,FALSE),\"\")","v":""},{"$f":"IFERROR(VLOOKUP($A46,'All Running Order'!$A$6:$CZ$64,AW$102,FALSE),\"\")","v":""},{"$f":"IFERROR(VLOOKUP($A46,'All Running Order'!$A$6:$CZ$64,AX$102,FALSE),\"\")","v":""},{"$f":"IFERROR(VLOOKUP($A46,'All Running Order'!$A$6:$CZ$64,AY$102,FALSE),\"\")","v":""},{"$f":"IFERROR(VLOOKUP($A46,'All Running Order'!$A$6:$CZ$64,AZ$102,FALSE),\"\")","v":""},{"$f":"IFERROR(VLOOKUP($A46,'All Running Order'!$A$6:$CZ$64,BA$102,FALSE),\"\")","v":""},{"$f":"IFERROR(VLOOKUP($A46,'All Running Order'!$A$6:$CZ$64,BB$102,FALSE),\"\")","v":""},{"$f":"IFERROR(VLOOKUP($A46,'All Running Order'!$A$6:$CZ$64,BC$102,FALSE),\"\")","v":""},{"$f":"IFERROR(VLOOKUP($A46,'All Running Order'!$A$6:$CZ$64,BD$102,FALSE),\"\")","v":""},{"$f":"IFERROR(VLOOKUP($A46,'All Running Order'!$A$6:$CZ$64,BE$102,FALSE),\"\")","v":""},{"$f":"IFERROR(VLOOKUP($A46,'All Running Order'!$A$6:$CZ$64,BF$102,FALSE),\"\")","v":""},{"$f":"IFERROR(VLOOKUP($A46,'All Running Order'!$A$6:$CZ$64,BG$102,FALSE),\"\")","v":""},{"$f":"IFERROR(VLOOKUP($A46,'All Running Order'!$A$6:$CZ$64,BH$102,FALSE),\"\")","v":""},{"$f":"IFERROR(VLOOKUP($A46,'All Running Order'!$A$6:$CZ$64,BI$102,FALSE),\"\")","v":""},{"$f":"IFERROR(VLOOKUP($A46,'All Running Order'!$A$6:$CZ$64,BJ$102,FALSE),\"\")","v":""},{"$f":"IFERROR(VLOOKUP($A46,'All Running Order'!$A$6:$CZ$64,BK$102,FALSE),\"\")","v":""},{"$f":"IFERROR(VLOOKUP($A46,'All Running Order'!$A$6:$CZ$64,BL$102,FALSE),\"\")","v":""},{"$f":"IFERROR(VLOOKUP($A46,'All Running Order'!$A$6:$CZ$64,BM$102,FALSE),\"\")","v":""},{"$f":"IFERROR(VLOOKUP($A46,'All Running Order'!$A$6:$CZ$64,BN$102,FALSE),\"\")","v":""},{"$f":"IFERROR(VLOOKUP($A46,'All Running Order'!$A$6:$CZ$64,BO$102,FALSE),\"\")","v":""},{"$f":"IFERROR(VLOOKUP($A46,'All Running Order'!$A$6:$CZ$64,BP$102,FALSE),\"\")","v":""},{"$f":"IFERROR(VLOOKUP($A46,'All Running Order'!$A$6:$CZ$64,BQ$102,FALSE),\"\")","v":""},{"$f":"IFERROR(VLOOKUP($A46,'All Running Order'!$A$6:$CZ$64,BR$102,FALSE),\"\")","v":""},{"$f":"IFERROR(VLOOKUP($A46,'All Running Order'!$A$6:$CZ$64,BS$102,FALSE),\"\")","v":""},{"$f":"IFERROR(VLOOKUP($A46,'All Running Order'!$A$6:$CZ$64,BT$102,FALSE),\"\")","v":""},{"$f":"IFERROR(VLOOKUP($A46,'All Running Order'!$A$6:$CZ$64,BU$102,FALSE),\"\")","v":""},{"$f":"IFERROR(VLOOKUP($A46,'All Running Order'!$A$6:$CZ$64,BV$102,FALSE),\"\")","v":""},{"$f":"IFERROR(VLOOKUP($A46,'All Running Order'!$A$6:$CZ$64,BW$102,FALSE),\"\")","v":""},{"$f":"IFERROR(VLOOKUP($A46,'All Running Order'!$A$6:$CZ$64,BX$102,FALSE),\"\")","v":""},{"$f":"IFERROR(VLOOKUP($A46,'All Running Order'!$A$6:$CZ$64,BY$102,FALSE),\"\")","v":""},{"$f":"IFERROR(VLOOKUP($A46,'All Running Order'!$A$6:$CZ$64,BZ$102,FALSE),\"\")","v":""},{"$f":"IFERROR(VLOOKUP($A46,'All Running Order'!$A$6:$CZ$64,CA$102,FALSE),\"\")","v":""},{"$f":"IFERROR(VLOOKUP($A46,'All Running Order'!$A$6:$CZ$64,CB$102,FALSE),\"\")","v":""},{"$f":"IFERROR(VLOOKUP($A46,'All Running Order'!$A$6:$CZ$64,CC$102,FALSE),\"\")","v":""},{"$f":"IFERROR(VLOOKUP($A46,'All Running Order'!$A$6:$CZ$64,CD$102,FALSE),\"\")","v":""},{"$f":"IFERROR(VLOOKUP($A46,'All Running Order'!$A$6:$CZ$64,CE$102,FALSE),\"\")","v":""},{"$f":"IFERROR(VLOOKUP($A46,'All Running Order'!$A$6:$CZ$64,CF$102,FALSE),\"\")","v":""},{"$f":"IFERROR(VLOOKUP($A46,'All Running Order'!$A$6:$CZ$64,CG$102,FALSE),\"\")","v":""},{"$f":"IFERROR(VLOOKUP($A46,'All Running Order'!$A$6:$CZ$64,CH$102,FALSE),\"\")","v":""},{"$f":"IFERROR(VLOOKUP($A46,'All Running Order'!$A$6:$CZ$64,CI$102,FALSE),\"\")","v":""},{"$f":"IFERROR(VLOOKUP($A46,'All Running Order'!$A$6:$CZ$64,CJ$102,FALSE),\"\")","v":""},{"$f":"IFERROR(VLOOKUP($A46,'All Running Order'!$A$6:$CZ$64,CK$102,FALSE),\"\")","v":""},{"$f":"IFERROR(VLOOKUP($A46,'All Running Order'!$A$6:$CZ$64,CL$102,FALSE),\"\")","v":""},{"$f":"IFERROR(VLOOKUP($A46,'All Running Order'!$A$6:$CZ$64,CM$102,FALSE),\"\")","v":""},{"$f":"IFERROR(VLOOKUP($A46,'All Running Order'!$A$6:$CZ$64,CN$102,FALSE),\"\")","v":""},{"$f":"IFERROR(VLOOKUP($A46,'All Running Order'!$A$6:$CZ$64,CO$102,FALSE),\"\")","v":""},{"$f":"IFERROR(VLOOKUP($A46,'All Running Order'!$A$6:$CZ$64,CP$102,FALSE),\"\")","v":""},{"$f":"IFERROR(VLOOKUP($A46,'All Running Order'!$A$6:$CZ$64,CQ$102,FALSE),\"\")","v":""},{"$f":"IFERROR(VLOOKUP($A46,'All Running Order'!$A$6:$CZ$64,CR$102,FALSE),\"\")","v":""},{"$f":"IFERROR(VLOOKUP($A46,'All Running Order'!$A$6:$CZ$64,CS$102,FALSE),\"\")","v":""},{"$f":"IFERROR(VLOOKUP($A46,'All Running Order'!$A$6:$CZ$64,CT$102,FALSE),\"\")","v":""},{"$f":"IFERROR(VLOOKUP($A46,'All Running Order'!$A$6:$CZ$64,CU$102,FALSE),\"\")","v":""},{"$f":"IFERROR(VLOOKUP($A46,'All Running Order'!$A$6:$CZ$64,CV$102,FALSE),\"\")","v":""},{"$f":"IFERROR(VLOOKUP($A46,'All Running Order'!$A$6:$CZ$64,CW$102,FALSE),\"\")","v":""},{"$f":"IFERROR(VLOOKUP($A46,'All Running Order'!$A$6:$CZ$64,CX$102,FALSE),\"\")","v":""},{"$f":"IFERROR(VLOOKUP($A46,'All Running Order'!$A$6:$CZ$64,CY$102,FALSE),\"\")","v":""},{"$f":"IFERROR(VLOOKUP($A46,'All Running Order'!$A$6:$CZ$64,CZ$102,FALSE),\"\")","v":""}]
[42,{"$f":"IFERROR(VLOOKUP($A47,'All Running Order'!$A$6:$CZ$64,B$102,FALSE),\"\")","v":""},{"$f":"IFERROR(VLOOKUP($A47,'All Running Order'!$A$6:$CZ$64,C$102,FALSE),\"\")","v":""},{"$f":"IFERROR(VLOOKUP($A47,'All Running Order'!$A$6:$CZ$64,D$102,FALSE),\"\")","v":""},{"$f":"IFERROR(VLOOKUP($A47,'All Running Order'!$A$6:$CZ$64,E$102,FALSE),\"\")","v":""},{"$f":"IFERROR(VLOOKUP($A47,'All Running Order'!$A$6:$CZ$64,F$102,FALSE),\"\")","v":""},{"$f":"IFERROR(VLOOKUP($A47,'All Running Order'!$A$6:$CZ$64,G$102,FALSE),\"\")","v":""},{"$f":"IFERROR(VLOOKUP($A47,'All Running Order'!$A$6:$CZ$64,H$102,FALSE),\"\")","v":""},{"$f":"IFERROR(VLOOKUP($A47,'All Running Order'!$A$6:$CZ$64,I$102,FALSE),\"\")","v":""},{"$f":"IFERROR(VLOOKUP($A47,'All Running Order'!$A$6:$CZ$64,J$102,FALSE),\"\")","v":""},{"$f":"IFERROR(VLOOKUP($A47,'All Running Order'!$A$6:$CZ$64,K$102,FALSE),\"\")","v":""},{"$f":"IFERROR(VLOOKUP($A47,'All Running Order'!$A$6:$CZ$64,L$102,FALSE),\"\")","v":""},{"$f":"IFERROR(VLOOKUP($A47,'All Running Order'!$A$6:$CZ$64,M$102,FALSE),\"\")","v":""},{"$f":"IFERROR(VLOOKUP($A47,'All Running Order'!$A$6:$CZ$64,N$102,FALSE),\"\")","v":""},{"$f":"IFERROR(VLOOKUP($A47,'All Running Order'!$A$6:$CZ$64,O$102,FALSE),\"\")","v":""},{"$f":"IFERROR(VLOOKUP($A47,'All Running Order'!$A$6:$CZ$64,P$102,FALSE),\"\")","v":""},{"$f":"IFERROR(VLOOKUP($A47,'All Running Order'!$A$6:$CZ$64,Q$102,FALSE),\"\")","v":""},{"$f":"IFERROR(VLOOKUP($A47,'All Running Order'!$A$6:$CZ$64,R$102,FALSE),\"\")","v":""},{"$f":"IFERROR(VLOOKUP($A47,'All Running Order'!$A$6:$CZ$64,S$102,FALSE),\"\")","v":""},{"$f":"IFERROR(VLOOKUP($A47,'All Running Order'!$A$6:$CZ$64,T$102,FALSE),\"\")","v":""},{"$f":"IFERROR(VLOOKUP($A47,'All Running Order'!$A$6:$CZ$64,U$102,FALSE),\"\")","v":""},{"$f":"IFERROR(VLOOKUP($A47,'All Running Order'!$A$6:$CZ$64,V$102,FALSE),\"\")","v":""},{"$f":"IFERROR(VLOOKUP($A47,'All Running Order'!$A$6:$CZ$64,W$102,FALSE),\"\")","v":""},{"$f":"IFERROR(VLOOKUP($A47,'All Running Order'!$A$6:$CZ$64,X$102,FALSE),\"\")","v":""},{"$f":"IFERROR(VLOOKUP($A47,'All Running Order'!$A$6:$CZ$64,Y$102,FALSE),\"\")","v":""},{"$f":"IFERROR(VLOOKUP($A47,'All Running Order'!$A$6:$CZ$64,Z$102,FALSE),\"\")","v":""},{"$f":"IFERROR(VLOOKUP($A47,'All Running Order'!$A$6:$CZ$64,AA$102,FALSE),\"\")","v":""},{"$f":"IFERROR(VLOOKUP($A47,'All Running Order'!$A$6:$CZ$64,AB$102,FALSE),\"\")","v":""},{"$f":"IFERROR(VLOOKUP($A47,'All Running Order'!$A$6:$CZ$64,AC$102,FALSE),\"\")","v":""},{"$f":"IFERROR(VLOOKUP($A47,'All Running Order'!$A$6:$CZ$64,AD$102,FALSE),\"\")","v":""},{"$f":"IFERROR(VLOOKUP($A47,'All Running Order'!$A$6:$CZ$64,AE$102,FALSE),\"\")","v":""},{"$f":"IFERROR(VLOOKUP($A47,'All Running Order'!$A$6:$CZ$64,AF$102,FALSE),\"\")","v":""},{"$f":"IFERROR(VLOOKUP($A47,'All Running Order'!$A$6:$CZ$64,AG$102,FALSE),\"\")","v":""},{"$f":"IFERROR(VLOOKUP($A47,'All Running Order'!$A$6:$CZ$64,AH$102,FALSE),\"\")","v":""},{"$f":"IFERROR(VLOOKUP($A47,'All Running Order'!$A$6:$CZ$64,AI$102,FALSE),\"\")","v":""},{"$f":"IFERROR(VLOOKUP($A47,'All Running Order'!$A$6:$CZ$64,AJ$102,FALSE),\"\")","v":""},{"$f":"IFERROR(VLOOKUP($A47,'All Running Order'!$A$6:$CZ$64,AK$102,FALSE),\"\")","v":""},{"$f":"IFERROR(VLOOKUP($A47,'All Running Order'!$A$6:$CZ$64,AL$102,FALSE),\"\")","v":""},{"$f":"IFERROR(VLOOKUP($A47,'All Running Order'!$A$6:$CZ$64,AM$102,FALSE),\"\")","v":""},{"$f":"IFERROR(VLOOKUP($A47,'All Running Order'!$A$6:$CZ$64,AN$102,FALSE),\"\")","v":""},{"$f":"IFERROR(VLOOKUP($A47,'All Running Order'!$A$6:$CZ$64,AO$102,FALSE),\"\")","v":""},{"$f":"IFERROR(VLOOKUP($A47,'All Running Order'!$A$6:$CZ$64,AP$102,FALSE),\"\")","v":""},{"$f":"IFERROR(VLOOKUP($A47,'All Running Order'!$A$6:$CZ$64,AQ$102,FALSE),\"\")","v":""},{"$f":"IFERROR(VLOOKUP($A47,'All Running Order'!$A$6:$CZ$64,AR$102,FALSE),\"\")","v":""},{"$f":"IFERROR(VLOOKUP($A47,'All Running Order'!$A$6:$CZ$64,AS$102,FALSE),\"\")","v":""},{"$f":"IFERROR(VLOOKUP($A47,'All Running Order'!$A$6:$CZ$64,AT$102,FALSE),\"\")","v":""},{"$f":"IFERROR(VLOOKUP($A47,'All Running Order'!$A$6:$CZ$64,AU$102,FALSE),\"\")","v":""},{"$f":"IFERROR(VLOOKUP($A47,'All Running Order'!$A$6:$CZ$64,AV$102,FALSE),\"\")","v":""},{"$f":"IFERROR(VLOOKUP($A47,'All Running Order'!$A$6:$CZ$64,AW$102,FALSE),\"\")","v":""},{"$f":"IFERROR(VLOOKUP($A47,'All Running Order'!$A$6:$CZ$64,AX$102,FALSE),\"\")","v":""},{"$f":"IFERROR(VLOOKUP($A47,'All Running Order'!$A$6:$CZ$64,AY$102,FALSE),\"\")","v":""},{"$f":"IFERROR(VLOOKUP($A47,'All Running Order'!$A$6:$CZ$64,AZ$102,FALSE),\"\")","v":""},{"$f":"IFERROR(VLOOKUP($A47,'All Running Order'!$A$6:$CZ$64,BA$102,FALSE),\"\")","v":""},{"$f":"IFERROR(VLOOKUP($A47,'All Running Order'!$A$6:$CZ$64,BB$102,FALSE),\"\")","v":""},{"$f":"IFERROR(VLOOKUP($A47,'All Running Order'!$A$6:$CZ$64,BC$102,FALSE),\"\")","v":""},{"$f":"IFERROR(VLOOKUP($A47,'All Running Order'!$A$6:$CZ$64,BD$102,FALSE),\"\")","v":""},{"$f":"IFERROR(VLOOKUP($A47,'All Running Order'!$A$6:$CZ$64,BE$102,FALSE),\"\")","v":""},{"$f":"IFERROR(VLOOKUP($A47,'All Running Order'!$A$6:$CZ$64,BF$102,FALSE),\"\")","v":""},{"$f":"IFERROR(VLOOKUP($A47,'All Running Order'!$A$6:$CZ$64,BG$102,FALSE),\"\")","v":""},{"$f":"IFERROR(VLOOKUP($A47,'All Running Order'!$A$6:$CZ$64,BH$102,FALSE),\"\")","v":""},{"$f":"IFERROR(VLOOKUP($A47,'All Running Order'!$A$6:$CZ$64,BI$102,FALSE),\"\")","v":""},{"$f":"IFERROR(VLOOKUP($A47,'All Running Order'!$A$6:$CZ$64,BJ$102,FALSE),\"\")","v":""},{"$f":"IFERROR(VLOOKUP($A47,'All Running Order'!$A$6:$CZ$64,BK$102,FALSE),\"\")","v":""},{"$f":"IFERROR(VLOOKUP($A47,'All Running Order'!$A$6:$CZ$64,BL$102,FALSE),\"\")","v":""},{"$f":"IFERROR(VLOOKUP($A47,'All Running Order'!$A$6:$CZ$64,BM$102,FALSE),\"\")","v":""},{"$f":"IFERROR(VLOOKUP($A47,'All Running Order'!$A$6:$CZ$64,BN$102,FALSE),\"\")","v":""},{"$f":"IFERROR(VLOOKUP($A47,'All Running Order'!$A$6:$CZ$64,BO$102,FALSE),\"\")","v":""},{"$f":"IFERROR(VLOOKUP($A47,'All Running Order'!$A$6:$CZ$64,BP$102,FALSE),\"\")","v":""},{"$f":"IFERROR(VLOOKUP($A47,'All Running Order'!$A$6:$CZ$64,BQ$102,FALSE),\"\")","v":""},{"$f":"IFERROR(VLOOKUP($A47,'All Running Order'!$A$6:$CZ$64,BR$102,FALSE),\"\")","v":""},{"$f":"IFERROR(VLOOKUP($A47,'All Running Order'!$A$6:$CZ$64,BS$102,FALSE),\"\")","v":""},{"$f":"IFERROR(VLOOKUP($A47,'All Running Order'!$A$6:$CZ$64,BT$102,FALSE),\"\")","v":""},{"$f":"IFERROR(VLOOKUP($A47,'All Running Order'!$A$6:$CZ$64,BU$102,FALSE),\"\")","v":""},{"$f":"IFERROR(VLOOKUP($A47,'All Running Order'!$A$6:$CZ$64,BV$102,FALSE),\"\")","v":""},{"$f":"IFERROR(VLOOKUP($A47,'All Running Order'!$A$6:$CZ$64,BW$102,FALSE),\"\")","v":""},{"$f":"IFERROR(VLOOKUP($A47,'All Running Order'!$A$6:$CZ$64,BX$102,FALSE),\"\")","v":""},{"$f":"IFERROR(VLOOKUP($A47,'All Running Order'!$A$6:$CZ$64,BY$102,FALSE),\"\")","v":""},{"$f":"IFERROR(VLOOKUP($A47,'All Running Order'!$A$6:$CZ$64,BZ$102,FALSE),\"\")","v":""},{"$f":"IFERROR(VLOOKUP($A47,'All Running Order'!$A$6:$CZ$64,CA$102,FALSE),\"\")","v":""},{"$f":"IFERROR(VLOOKUP($A47,'All Running Order'!$A$6:$CZ$64,CB$102,FALSE),\"\")","v":""},{"$f":"IFERROR(VLOOKUP($A47,'All Running Order'!$A$6:$CZ$64,CC$102,FALSE),\"\")","v":""},{"$f":"IFERROR(VLOOKUP($A47,'All Running Order'!$A$6:$CZ$64,CD$102,FALSE),\"\")","v":""},{"$f":"IFERROR(VLOOKUP($A47,'All Running Order'!$A$6:$CZ$64,CE$102,FALSE),\"\")","v":""},{"$f":"IFERROR(VLOOKUP($A47,'All Running Order'!$A$6:$CZ$64,CF$102,FALSE),\"\")","v":""},{"$f":"IFERROR(VLOOKUP($A47,'All Running Order'!$A$6:$CZ$64,CG$102,FALSE),\"\")","v":""},{"$f":"IFERROR(VLOOKUP($A47,'All Running Order'!$A$6:$CZ$64,CH$102,FALSE),\"\")","v":""},{"$f":"IFERROR(VLOOKUP($A47,'All Running Order'!$A$6:$CZ$64,CI$102,FALSE),\"\")","v":""},{"$f":"IFERROR(VLOOKUP($A47,'All Running Order'!$A$6:$CZ$64,CJ$102,FALSE),\"\")","v":""},{"$f":"IFERROR(VLOOKUP($A47,'All Running Order'!$A$6:$CZ$64,CK$102,FALSE),\"\")","v":""},{"$f":"IFERROR(VLOOKUP($A47,'All Running Order'!$A$6:$CZ$64,CL$102,FALSE),\"\")","v":""},{"$f":"IFERROR(VLOOKUP($A47,'All Running Order'!$A$6:$CZ$64,CM$102,FALSE),\"\")","v":""},{"$f":"IFERROR(VLOOKUP($A47,'All Running Order'!$A$6:$CZ$64,CN$102,FALSE),\"\")","v":""},{"$f":"IFERROR(VLOOKUP($A47,'All Running Order'!$A$6:$CZ$64,CO$102,FALSE),\"\")","v":""},{"$f":"IFERROR(VLOOKUP($A47,'All Running Order'!$A$6:$CZ$64,CP$102,FALSE),\"\")","v":""},{"$f":"IFERROR(VLOOKUP($A47,'All Running Order'!$A$6:$CZ$64,CQ$102,FALSE),\"\")","v":""},{"$f":"IFERROR(VLOOKUP($A47,'All Running Order'!$A$6:$CZ$64,CR$102,FALSE),\"\")","v":""},{"$f":"IFERROR(VLOOKUP($A47,'All Running Order'!$A$6:$CZ$64,CS$102,FALSE),\"\")","v":""},{"$f":"IFERROR(VLOOKUP($A47,'All Running Order'!$A$6:$CZ$64,CT$102,FALSE),\"\")","v":""},{"$f":"IFERROR(VLOOKUP($A47,'All Running Order'!$A$6:$CZ$64,CU$102,FALSE),\"\")","v":""},{"$f":"IFERROR(VLOOKUP($A47,'All Running Order'!$A$6:$CZ$64,CV$102,FALSE),\"\")","v":""},{"$f":"IFERROR(VLOOKUP($A47,'All Running Order'!$A$6:$CZ$64,CW$102,FALSE),\"\")","v":""},{"$f":"IFERROR(VLOOKUP($A47,'All Running Order'!$A$6:$CZ$64,CX$102,FALSE),\"\")","v":""},{"$f":"IFERROR(VLOOKUP($A47,'All Running Order'!$A$6:$CZ$64,CY$102,FALSE),\"\")","v":""},{"$f":"IFERROR(VLOOKUP($A47,'All Running Order'!$A$6:$CZ$64,CZ$102,FALSE),\"\")","v":""}]
[43,{"$f":"IFERROR(VLOOKUP($A48,'All Running Order'!$A$6:$CZ$64,B$102,FALSE),\"\")","v":""},{"$f":"IFERROR(VLOOKUP($A48,'All Running Order'!$A$6:$CZ$64,C$102,FALSE),\"\")","v":""},{"$f":"IFERROR(VLOOKUP($A48,'All Running Order'!$A$6:$CZ$64,D$102,FALSE),\"\")","v":""},{"$f":"IFERROR(VLOOKUP($A48,'All Running Order'!$A$6:$CZ$64,E$102,FALSE),\"\")","v":""},{"$f":"IFERROR(VLOOKUP($A48,'All Running Order'!$A$6:$CZ$64,F$102,FALSE),\"\")","v":""},{"$f":"IFERROR(VLOOKUP($A48,'All Running Order'!$A$6:$CZ$64,G$102,FALSE),\"\")","v":""},{"$f":"IFERROR(VLOOKUP($A48,'All Running Order'!$A$6:$CZ$64,H$102,FALSE),\"\")","v":""},{"$f":"IFERROR(VLOOKUP($A48,'All Running Order'!$A$6:$CZ$64,I$102,FALSE),\"\")","v":""},{"$f":"IFERROR(VLOOKUP($A48,'All Running Order'!$A$6:$CZ$64,J$102,FALSE),\"\")","v":""},{"$f":"IFERROR(VLOOKUP($A48,'All Running Order'!$A$6:$CZ$64,K$102,FALSE),\"\")","v":""},{"$f":"IFERROR(VLOOKUP($A48,'All Running Order'!$A$6:$CZ$64,L$102,FALSE),\"\")","v":""},{"$f":"IFERROR(VLOOKUP($A48,'All Running Order'!$A$6:$CZ$64,M$102,FALSE),\"\")","v":""},{"$f":"IFERROR(VLOOKUP($A48,'All Running Order'!$A$6:$CZ$64,N$102,FALSE),\"\")","v":""},{"$f":"IFERROR(VLOOKUP($A48,'All Running Order'!$A$6:$CZ$64,O$102,FALSE),\"\")","v":""},{"$f":"IFERROR(VLOOKUP($A48,'All Running Order'!$A$6:$CZ$64,P$102,FALSE),\"\")","v":""},{"$f":"IFERROR(VLOOKUP($A48,'All Running Order'!$A$6:$CZ$64,Q$102,FALSE),\"\")","v":""},{"$f":"IFERROR(VLOOKUP($A48,'All Running Order'!$A$6:$CZ$64,R$102,FALSE),\"\")","v":""},{"$f":"IFERROR(VLOOKUP($A48,'All Running Order'!$A$6:$CZ$64,S$102,FALSE),\"\")","v":""},{"$f":"IFERROR(VLOOKUP($A48,'All Running Order'!$A$6:$CZ$64,T$102,FALSE),\"\")","v":""},{"$f":"IFERROR(VLOOKUP($A48,'All Running Order'!$A$6:$CZ$64,U$102,FALSE),\"\")","v":""},{"$f":"IFERROR(VLOOKUP($A48,'All Running Order'!$A$6:$CZ$64,V$102,FALSE),\"\")","v":""},{"$f":"IFERROR(VLOOKUP($A48,'All Running Order'!$A$6:$CZ$64,W$102,FALSE),\"\")","v":""},{"$f":"IFERROR(VLOOKUP($A48,'All Running Order'!$A$6:$CZ$64,X$102,FALSE),\"\")","v":""},{"$f":"IFERROR(VLOOKUP($A48,'All Running Order'!$A$6:$CZ$64,Y$102,FALSE),\"\")","v":""},{"$f":"IFERROR(VLOOKUP($A48,'All Running Order'!$A$6:$CZ$64,Z$102,FALSE),\"\")","v":""},{"$f":"IFERROR(VLOOKUP($A48,'All Running Order'!$A$6:$CZ$64,AA$102,FALSE),\"\")","v":""},{"$f":"IFERROR(VLOOKUP($A48,'All Running Order'!$A$6:$CZ$64,AB$102,FALSE),\"\")","v":""},{"$f":"IFERROR(VLOOKUP($A48,'All Running Order'!$A$6:$CZ$64,AC$102,FALSE),\"\")","v":""},{"$f":"IFERROR(VLOOKUP($A48,'All Running Order'!$A$6:$CZ$64,AD$102,FALSE),\"\")","v":""},{"$f":"IFERROR(VLOOKUP($A48,'All Running Order'!$A$6:$CZ$64,AE$102,FALSE),\"\")","v":""},{"$f":"IFERROR(VLOOKUP($A48,'All Running Order'!$A$6:$CZ$64,AF$102,FALSE),\"\")","v":""},{"$f":"IFERROR(VLOOKUP($A48,'All Running Order'!$A$6:$CZ$64,AG$102,FALSE),\"\")","v":""},{"$f":"IFERROR(VLOOKUP($A48,'All Running Order'!$A$6:$CZ$64,AH$102,FALSE),\"\")","v":""},{"$f":"IFERROR(VLOOKUP($A48,'All Running Order'!$A$6:$CZ$64,AI$102,FALSE),\"\")","v":""},{"$f":"IFERROR(VLOOKUP($A48,'All Running Order'!$A$6:$CZ$64,AJ$102,FALSE),\"\")","v":""},{"$f":"IFERROR(VLOOKUP($A48,'All Running Order'!$A$6:$CZ$64,AK$102,FALSE),\"\")","v":""},{"$f":"IFERROR(VLOOKUP($A48,'All Running Order'!$A$6:$CZ$64,AL$102,FALSE),\"\")","v":""},{"$f":"IFERROR(VLOOKUP($A48,'All Running Order'!$A$6:$CZ$64,AM$102,FALSE),\"\")","v":""},{"$f":"IFERROR(VLOOKUP($A48,'All Running Order'!$A$6:$CZ$64,AN$102,FALSE),\"\")","v":""},{"$f":"IFERROR(VLOOKUP($A48,'All Running Order'!$A$6:$CZ$64,AO$102,FALSE),\"\")","v":""},{"$f":"IFERROR(VLOOKUP($A48,'All Running Order'!$A$6:$CZ$64,AP$102,FALSE),\"\")","v":""},{"$f":"IFERROR(VLOOKUP($A48,'All Running Order'!$A$6:$CZ$64,AQ$102,FALSE),\"\")","v":""},{"$f":"IFERROR(VLOOKUP($A48,'All Running Order'!$A$6:$CZ$64,AR$102,FALSE),\"\")","v":""},{"$f":"IFERROR(VLOOKUP($A48,'All Running Order'!$A$6:$CZ$64,AS$102,FALSE),\"\")","v":""},{"$f":"IFERROR(VLOOKUP($A48,'All Running Order'!$A$6:$CZ$64,AT$102,FALSE),\"\")","v":""},{"$f":"IFERROR(VLOOKUP($A48,'All Running Order'!$A$6:$CZ$64,AU$102,FALSE),\"\")","v":""},{"$f":"IFERROR(VLOOKUP($A48,'All Running Order'!$A$6:$CZ$64,AV$102,FALSE),\"\")","v":""},{"$f":"IFERROR(VLOOKUP($A48,'All Running Order'!$A$6:$CZ$64,AW$102,FALSE),\"\")","v":""},{"$f":"IFERROR(VLOOKUP($A48,'All Running Order'!$A$6:$CZ$64,AX$102,FALSE),\"\")","v":""},{"$f":"IFERROR(VLOOKUP($A48,'All Running Order'!$A$6:$CZ$64,AY$102,FALSE),\"\")","v":""},{"$f":"IFERROR(VLOOKUP($A48,'All Running Order'!$A$6:$CZ$64,AZ$102,FALSE),\"\")","v":""},{"$f":"IFERROR(VLOOKUP($A48,'All Running Order'!$A$6:$CZ$64,BA$102,FALSE),\"\")","v":""},{"$f":"IFERROR(VLOOKUP($A48,'All Running Order'!$A$6:$CZ$64,BB$102,FALSE),\"\")","v":""},{"$f":"IFERROR(VLOOKUP($A48,'All Running Order'!$A$6:$CZ$64,BC$102,FALSE),\"\")","v":""},{"$f":"IFERROR(VLOOKUP($A48,'All Running Order'!$A$6:$CZ$64,BD$102,FALSE),\"\")","v":""},{"$f":"IFERROR(VLOOKUP($A48,'All Running Order'!$A$6:$CZ$64,BE$102,FALSE),\"\")","v":""},{"$f":"IFERROR(VLOOKUP($A48,'All Running Order'!$A$6:$CZ$64,BF$102,FALSE),\"\")","v":""},{"$f":"IFERROR(VLOOKUP($A48,'All Running Order'!$A$6:$CZ$64,BG$102,FALSE),\"\")","v":""},{"$f":"IFERROR(VLOOKUP($A48,'All Running Order'!$A$6:$CZ$64,BH$102,FALSE),\"\")","v":""},{"$f":"IFERROR(VLOOKUP($A48,'All Running Order'!$A$6:$CZ$64,BI$102,FALSE),\"\")","v":""},{"$f":"IFERROR(VLOOKUP($A48,'All Running Order'!$A$6:$CZ$64,BJ$102,FALSE),\"\")","v":""},{"$f":"IFERROR(VLOOKUP($A48,'All Running Order'!$A$6:$CZ$64,BK$102,FALSE),\"\")","v":""},{"$f":"IFERROR(VLOOKUP($A48,'All Running Order'!$A$6:$CZ$64,BL$102,FALSE),\"\")","v":""},{"$f":"IFERROR(VLOOKUP($A48,'All Running Order'!$A$6:$CZ$64,BM$102,FALSE),\"\")","v":""},{"$f":"IFERROR(VLOOKUP($A48,'All Running Order'!$A$6:$CZ$64,BN$102,FALSE),\"\")","v":""},{"$f":"IFERROR(VLOOKUP($A48,'All Running Order'!$A$6:$CZ$64,BO$102,FALSE),\"\")","v":""},{"$f":"IFERROR(VLOOKUP($A48,'All Running Order'!$A$6:$CZ$64,BP$102,FALSE),\"\")","v":""},{"$f":"IFERROR(VLOOKUP($A48,'All Running Order'!$A$6:$CZ$64,BQ$102,FALSE),\"\")","v":""},{"$f":"IFERROR(VLOOKUP($A48,'All Running Order'!$A$6:$CZ$64,BR$102,FALSE),\"\")","v":""},{"$f":"IFERROR(VLOOKUP($A48,'All Running Order'!$A$6:$CZ$64,BS$102,FALSE),\"\")","v":""},{"$f":"IFERROR(VLOOKUP($A48,'All Running Order'!$A$6:$CZ$64,BT$102,FALSE),\"\")","v":""},{"$f":"IFERROR(VLOOKUP($A48,'All Running Order'!$A$6:$CZ$64,BU$102,FALSE),\"\")","v":""},{"$f":"IFERROR(VLOOKUP($A48,'All Running Order'!$A$6:$CZ$64,BV$102,FALSE),\"\")","v":""},{"$f":"IFERROR(VLOOKUP($A48,'All Running Order'!$A$6:$CZ$64,BW$102,FALSE),\"\")","v":""},{"$f":"IFERROR(VLOOKUP($A48,'All Running Order'!$A$6:$CZ$64,BX$102,FALSE),\"\")","v":""},{"$f":"IFERROR(VLOOKUP($A48,'All Running Order'!$A$6:$CZ$64,BY$102,FALSE),\"\")","v":""},{"$f":"IFERROR(VLOOKUP($A48,'All Running Order'!$A$6:$CZ$64,BZ$102,FALSE),\"\")","v":""},{"$f":"IFERROR(VLOOKUP($A48,'All Running Order'!$A$6:$CZ$64,CA$102,FALSE),\"\")","v":""},{"$f":"IFERROR(VLOOKUP($A48,'All Running Order'!$A$6:$CZ$64,CB$102,FALSE),\"\")","v":""},{"$f":"IFERROR(VLOOKUP($A48,'All Running Order'!$A$6:$CZ$64,CC$102,FALSE),\"\")","v":""},{"$f":"IFERROR(VLOOKUP($A48,'All Running Order'!$A$6:$CZ$64,CD$102,FALSE),\"\")","v":""},{"$f":"IFERROR(VLOOKUP($A48,'All Running Order'!$A$6:$CZ$64,CE$102,FALSE),\"\")","v":""},{"$f":"IFERROR(VLOOKUP($A48,'All Running Order'!$A$6:$CZ$64,CF$102,FALSE),\"\")","v":""},{"$f":"IFERROR(VLOOKUP($A48,'All Running Order'!$A$6:$CZ$64,CG$102,FALSE),\"\")","v":""},{"$f":"IFERROR(VLOOKUP($A48,'All Running Order'!$A$6:$CZ$64,CH$102,FALSE),\"\")","v":""},{"$f":"IFERROR(VLOOKUP($A48,'All Running Order'!$A$6:$CZ$64,CI$102,FALSE),\"\")","v":""},{"$f":"IFERROR(VLOOKUP($A48,'All Running Order'!$A$6:$CZ$64,CJ$102,FALSE),\"\")","v":""},{"$f":"IFERROR(VLOOKUP($A48,'All Running Order'!$A$6:$CZ$64,CK$102,FALSE),\"\")","v":""},{"$f":"IFERROR(VLOOKUP($A48,'All Running Order'!$A$6:$CZ$64,CL$102,FALSE),\"\")","v":""},{"$f":"IFERROR(VLOOKUP($A48,'All Running Order'!$A$6:$CZ$64,CM$102,FALSE),\"\")","v":""},{"$f":"IFERROR(VLOOKUP($A48,'All Running Order'!$A$6:$CZ$64,CN$102,FALSE),\"\")","v":""},{"$f":"IFERROR(VLOOKUP($A48,'All Running Order'!$A$6:$CZ$64,CO$102,FALSE),\"\")","v":""},{"$f":"IFERROR(VLOOKUP($A48,'All Running Order'!$A$6:$CZ$64,CP$102,FALSE),\"\")","v":""},{"$f":"IFERROR(VLOOKUP($A48,'All Running Order'!$A$6:$CZ$64,CQ$102,FALSE),\"\")","v":""},{"$f":"IFERROR(VLOOKUP($A48,'All Running Order'!$A$6:$CZ$64,CR$102,FALSE),\"\")","v":""},{"$f":"IFERROR(VLOOKUP($A48,'All Running Order'!$A$6:$CZ$64,CS$102,FALSE),\"\")","v":""},{"$f":"IFERROR(VLOOKUP($A48,'All Running Order'!$A$6:$CZ$64,CT$102,FALSE),\"\")","v":""},{"$f":"IFERROR(VLOOKUP($A48,'All Running Order'!$A$6:$CZ$64,CU$102,FALSE),\"\")","v":""},{"$f":"IFERROR(VLOOKUP($A48,'All Running Order'!$A$6:$CZ$64,CV$102,FALSE),\"\")","v":""},{"$f":"IFERROR(VLOOKUP($A48,'All Running Order'!$A$6:$CZ$64,CW$102,FALSE),\"\")","v":""},{"$f":"IFERROR(VLOOKUP($A48,'All Running Order'!$A$6:$CZ$64,CX$102,FALSE),\"\")","v":""},{"$f":"IFERROR(VLOOKUP($A48,'All Running Order'!$A$6:$CZ$64,CY$102,FALSE),\"\")","v":""},{"$f":"IFERROR(VLOOKUP($A48,'All Running Order'!$A$6:$CZ$64,CZ$102,FALSE),\"\")","v":""}]
[44,{"$f":"IFERROR(VLOOKUP($A49,'All Running Order'!$A$6:$CZ$64,B$102,FALSE),\"\")","v":""},{"$f":"IFERROR(VLOOKUP($A49,'All Running Order'!$A$6:$CZ$64,C$102,FALSE),\"\")","v":""},{"$f":"IFERROR(VLOOKUP($A49,'All Running Order'!$A$6:$CZ$64,D$102,FALSE),\"\")","v":""},{"$f":"IFERROR(VLOOKUP($A49,'All Running Order'!$A$6:$CZ$64,E$102,FALSE),\"\")","v":""},{"$f":"IFERROR(VLOOKUP($A49,'All Running Order'!$A$6:$CZ$64,F$102,FALSE),\"\")","v":""},{"$f":"IFERROR(VLOOKUP($A49,'All Running Order'!$A$6:$CZ$64,G$102,FALSE),\"\")","v":""},{"$f":"IFERROR(VLOOKUP($A49,'All Running Order'!$A$6:$CZ$64,H$102,FALSE),\"\")","v":""},{"$f":"IFERROR(VLOOKUP($A49,'All Running Order'!$A$6:$CZ$64,I$102,FALSE),\"\")","v":""},{"$f":"IFERROR(VLOOKUP($A49,'All Running Order'!$A$6:$CZ$64,J$102,FALSE),\"\")","v":""},{"$f":"IFERROR(VLOOKUP($A49,'All Running Order'!$A$6:$CZ$64,K$102,FALSE),\"\")","v":""},{"$f":"IFERROR(VLOOKUP($A49,'All Running Order'!$A$6:$CZ$64,L$102,FALSE),\"\")","v":""},{"$f":"IFERROR(VLOOKUP($A49,'All Running Order'!$A$6:$CZ$64,M$102,FALSE),\"\")","v":""},{"$f":"IFERROR(VLOOKUP($A49,'All Running Order'!$A$6:$CZ$64,N$102,FALSE),\"\")","v":""},{"$f":"IFERROR(VLOOKUP($A49,'All Running Order'!$A$6:$CZ$64,O$102,FALSE),\"\")","v":""},{"$f":"IFERROR(VLOOKUP($A49,'All Running Order'!$A$6:$CZ$64,P$102,FALSE),\"\")","v":""},{"$f":"IFERROR(VLOOKUP($A49,'All Running Order'!$A$6:$CZ$64,Q$102,FALSE),\"\")","v":""},{"$f":"IFERROR(VLOOKUP($A49,'All Running Order'!$A$6:$CZ$64,R$102,FALSE),\"\")","v":""},{"$f":"IFERROR(VLOOKUP($A49,'All Running Order'!$A$6:$CZ$64,S$102,FALSE),\"\")","v":""},{"$f":"IFERROR(VLOOKUP($A49,'All Running Order'!$A$6:$CZ$64,T$102,FALSE),\"\")","v":""},{"$f":"IFERROR(VLOOKUP($A49,'All Running Order'!$A$6:$CZ$64,U$102,FALSE),\"\")","v":""},{"$f":"IFERROR(VLOOKUP($A49,'All Running Order'!$A$6:$CZ$64,V$102,FALSE),\"\")","v":""},{"$f":"IFERROR(VLOOKUP($A49,'All Running Order'!$A$6:$CZ$64,W$102,FALSE),\"\")","v":""},{"$f":"IFERROR(VLOOKUP($A49,'All Running Order'!$A$6:$CZ$64,X$102,FALSE),\"\")","v":""},{"$f":"IFERROR(VLOOKUP($A49,'All Running Order'!$A$6:$CZ$64,Y$102,FALSE),\"\")","v":""},{"$f":"IFERROR(VLOOKUP($A49,'All Running Order'!$A$6:$CZ$64,Z$102,FALSE),\"\")","v":""},{"$f":"IFERROR(VLOOKUP($A49,'All Running Order'!$A$6:$CZ$64,AA$102,FALSE),\"\")","v":""},{"$f":"IFERROR(VLOOKUP($A49,'All Running Order'!$A$6:$CZ$64,AB$102,FALSE),\"\")","v":""},{"$f":"IFERROR(VLOOKUP($A49,'All Running Order'!$A$6:$CZ$64,AC$102,FALSE),\"\")","v":""},{"$f":"IFERROR(VLOOKUP($A49,'All Running Order'!$A$6:$CZ$64,AD$102,FALSE),\"\")","v":""},{"$f":"IFERROR(VLOOKUP($A49,'All Running Order'!$A$6:$CZ$64,AE$102,FALSE),\"\")","v":""},{"$f":"IFERROR(VLOOKUP($A49,'All Running Order'!$A$6:$CZ$64,AF$102,FALSE),\"\")","v":""},{"$f":"IFERROR(VLOOKUP($A49,'All Running Order'!$A$6:$CZ$64,AG$102,FALSE),\"\")","v":""},{"$f":"IFERROR(VLOOKUP($A49,'All Running Order'!$A$6:$CZ$64,AH$102,FALSE),\"\")","v":""},{"$f":"IFERROR(VLOOKUP($A49,'All Running Order'!$A$6:$CZ$64,AI$102,FALSE),\"\")","v":""},{"$f":"IFERROR(VLOOKUP($A49,'All Running Order'!$A$6:$CZ$64,AJ$102,FALSE),\"\")","v":""},{"$f":"IFERROR(VLOOKUP($A49,'All Running Order'!$A$6:$CZ$64,AK$102,FALSE),\"\")","v":""},{"$f":"IFERROR(VLOOKUP($A49,'All Running Order'!$A$6:$CZ$64,AL$102,FALSE),\"\")","v":""},{"$f":"IFERROR(VLOOKUP($A49,'All Running Order'!$A$6:$CZ$64,AM$102,FALSE),\"\")","v":""},{"$f":"IFERROR(VLOOKUP($A49,'All Running Order'!$A$6:$CZ$64,AN$102,FALSE),\"\")","v":""},{"$f":"IFERROR(VLOOKUP($A49,'All Running Order'!$A$6:$CZ$64,AO$102,FALSE),\"\")","v":""},{"$f":"IFERROR(VLOOKUP($A49,'All Running Order'!$A$6:$CZ$64,AP$102,FALSE),\"\")","v":""},{"$f":"IFERROR(VLOOKUP($A49,'All Running Order'!$A$6:$CZ$64,AQ$102,FALSE),\"\")","v":""},{"$f":"IFERROR(VLOOKUP($A49,'All Running Order'!$A$6:$CZ$64,AR$102,FALSE),\"\")","v":""},{"$f":"IFERROR(VLOOKUP($A49,'All Running Order'!$A$6:$CZ$64,AS$102,FALSE),\"\")","v":""},{"$f":"IFERROR(VLOOKUP($A49,'All Running Order'!$A$6:$CZ$64,AT$102,FALSE),\"\")","v":""},{"$f":"IFERROR(VLOOKUP($A49,'All Running Order'!$A$6:$CZ$64,AU$102,FALSE),\"\")","v":""},{"$f":"IFERROR(VLOOKUP($A49,'All Running Order'!$A$6:$CZ$64,AV$102,FALSE),\"\")","v":""},{"$f":"IFERROR(VLOOKUP($A49,'All Running Order'!$A$6:$CZ$64,AW$102,FALSE),\"\")","v":""},{"$f":"IFERROR(VLOOKUP($A49,'All Running Order'!$A$6:$CZ$64,AX$102,FALSE),\"\")","v":""},{"$f":"IFERROR(VLOOKUP($A49,'All Running Order'!$A$6:$CZ$64,AY$102,FALSE),\"\")","v":""},{"$f":"IFERROR(VLOOKUP($A49,'All Running Order'!$A$6:$CZ$64,AZ$102,FALSE),\"\")","v":""},{"$f":"IFERROR(VLOOKUP($A49,'All Running Order'!$A$6:$CZ$64,BA$102,FALSE),\"\")","v":""},{"$f":"IFERROR(VLOOKUP($A49,'All Running Order'!$A$6:$CZ$64,BB$102,FALSE),\"\")","v":""},{"$f":"IFERROR(VLOOKUP($A49,'All Running Order'!$A$6:$CZ$64,BC$102,FALSE),\"\")","v":""},{"$f":"IFERROR(VLOOKUP($A49,'All Running Order'!$A$6:$CZ$64,BD$102,FALSE),\"\")","v":""},{"$f":"IFERROR(VLOOKUP($A49,'All Running Order'!$A$6:$CZ$64,BE$102,FALSE),\"\")","v":""},{"$f":"IFERROR(VLOOKUP($A49,'All Running Order'!$A$6:$CZ$64,BF$102,FALSE),\"\")","v":""},{"$f":"IFERROR(VLOOKUP($A49,'All Running Order'!$A$6:$CZ$64,BG$102,FALSE),\"\")","v":""},{"$f":"IFERROR(VLOOKUP($A49,'All Running Order'!$A$6:$CZ$64,BH$102,FALSE),\"\")","v":""},{"$f":"IFERROR(VLOOKUP($A49,'All Running Order'!$A$6:$CZ$64,BI$102,FALSE),\"\")","v":""},{"$f":"IFERROR(VLOOKUP($A49,'All Running Order'!$A$6:$CZ$64,BJ$102,FALSE),\"\")","v":""},{"$f":"IFERROR(VLOOKUP($A49,'All Running Order'!$A$6:$CZ$64,BK$102,FALSE),\"\")","v":""},{"$f":"IFERROR(VLOOKUP($A49,'All Running Order'!$A$6:$CZ$64,BL$102,FALSE),\"\")","v":""},{"$f":"IFERROR(VLOOKUP($A49,'All Running Order'!$A$6:$CZ$64,BM$102,FALSE),\"\")","v":""},{"$f":"IFERROR(VLOOKUP($A49,'All Running Order'!$A$6:$CZ$64,BN$102,FALSE),\"\")","v":""},{"$f":"IFERROR(VLOOKUP($A49,'All Running Order'!$A$6:$CZ$64,BO$102,FALSE),\"\")","v":""},{"$f":"IFERROR(VLOOKUP($A49,'All Running Order'!$A$6:$CZ$64,BP$102,FALSE),\"\")","v":""},{"$f":"IFERROR(VLOOKUP($A49,'All Running Order'!$A$6:$CZ$64,BQ$102,FALSE),\"\")","v":""},{"$f":"IFERROR(VLOOKUP($A49,'All Running Order'!$A$6:$CZ$64,BR$102,FALSE),\"\")","v":""},{"$f":"IFERROR(VLOOKUP($A49,'All Running Order'!$A$6:$CZ$64,BS$102,FALSE),\"\")","v":""},{"$f":"IFERROR(VLOOKUP($A49,'All Running Order'!$A$6:$CZ$64,BT$102,FALSE),\"\")","v":""},{"$f":"IFERROR(VLOOKUP($A49,'All Running Order'!$A$6:$CZ$64,BU$102,FALSE),\"\")","v":""},{"$f":"IFERROR(VLOOKUP($A49,'All Running Order'!$A$6:$CZ$64,BV$102,FALSE),\"\")","v":""},{"$f":"IFERROR(VLOOKUP($A49,'All Running Order'!$A$6:$CZ$64,BW$102,FALSE),\"\")","v":""},{"$f":"IFERROR(VLOOKUP($A49,'All Running Order'!$A$6:$CZ$64,BX$102,FALSE),\"\")","v":""},{"$f":"IFERROR(VLOOKUP($A49,'All Running Order'!$A$6:$CZ$64,BY$102,FALSE),\"\")","v":""},{"$f":"IFERROR(VLOOKUP($A49,'All Running Order'!$A$6:$CZ$64,BZ$102,FALSE),\"\")","v":""},{"$f":"IFERROR(VLOOKUP($A49,'All Running Order'!$A$6:$CZ$64,CA$102,FALSE),\"\")","v":""},{"$f":"IFERROR(VLOOKUP($A49,'All Running Order'!$A$6:$CZ$64,CB$102,FALSE),\"\")","v":""},{"$f":"IFERROR(VLOOKUP($A49,'All Running Order'!$A$6:$CZ$64,CC$102,FALSE),\"\")","v":""},{"$f":"IFERROR(VLOOKUP($A49,'All Running Order'!$A$6:$CZ$64,CD$102,FALSE),\"\")","v":""},{"$f":"IFERROR(VLOOKUP($A49,'All Running Order'!$A$6:$CZ$64,CE$102,FALSE),\"\")","v":""},{"$f":"IFERROR(VLOOKUP($A49,'All Running Order'!$A$6:$CZ$64,CF$102,FALSE),\"\")","v":""},{"$f":"IFERROR(VLOOKUP($A49,'All Running Order'!$A$6:$CZ$64,CG$102,FALSE),\"\")","v":""},{"$f":"IFERROR(VLOOKUP($A49,'All Running Order'!$A$6:$CZ$64,CH$102,FALSE),\"\")","v":""},{"$f":"IFERROR(VLOOKUP($A49,'All Running Order'!$A$6:$CZ$64,CI$102,FALSE),\"\")","v":""},{"$f":"IFERROR(VLOOKUP($A49,'All Running Order'!$A$6:$CZ$64,CJ$102,FALSE),\"\")","v":""},{"$f":"IFERROR(VLOOKUP($A49,'All Running Order'!$A$6:$CZ$64,CK$102,FALSE),\"\")","v":""},{"$f":"IFERROR(VLOOKUP($A49,'All Running Order'!$A$6:$CZ$64,CL$102,FALSE),\"\")","v":""},{"$f":"IFERROR(VLOOKUP($A49,'All Running Order'!$A$6:$CZ$64,CM$102,FALSE),\"\")","v":""},{"$f":"IFERROR(VLOOKUP($A49,'All Running Order'!$A$6:$CZ$64,CN$102,FALSE),\"\")","v":""},{"$f":"IFERROR(VLOOKUP($A49,'All Running Order'!$A$6:$CZ$64,CO$102,FALSE),\"\")","v":""},{"$f":"IFERROR(VLOOKUP($A49,'All Running Order'!$A$6:$CZ$64,CP$102,FALSE),\"\")","v":""},{"$f":"IFERROR(VLOOKUP($A49,'All Running Order'!$A$6:$CZ$64,CQ$102,FALSE),\"\")","v":""},{"$f":"IFERROR(VLOOKUP($A49,'All Running Order'!$A$6:$CZ$64,CR$102,FALSE),\"\")","v":""},{"$f":"IFERROR(VLOOKUP($A49,'All Running Order'!$A$6:$CZ$64,CS$102,FALSE),\"\")","v":""},{"$f":"IFERROR(VLOOKUP($A49,'All Running Order'!$A$6:$CZ$64,CT$102,FALSE),\"\")","v":""},{"$f":"IFERROR(VLOOKUP($A49,'All Running Order'!$A$6:$CZ$64,CU$102,FALSE),\"\")","v":""},{"$f":"IFERROR(VLOOKUP($A49,'All Running Order'!$A$6:$CZ$64,CV$102,FALSE),\"\")","v":""},{"$f":"IFERROR(VLOOKUP($A49,'All Running Order'!$A$6:$CZ$64,CW$102,FALSE),\"\")","v":""},{"$f":"IFERROR(VLOOKUP($A49,'All Running Order'!$A$6:$CZ$64,CX$102,FALSE),\"\")","v":""},{"$f":"IFERROR(VLOOKUP($A49,'All Running Order'!$A$6:$CZ$64,CY$102,FALSE),\"\")","v":""},{"$f":"IFERROR(VLOOKUP($A49,'All Running Order'!$A$6:$CZ$64,CZ$102,FALSE),\"\")","v":""}]
[45,{"$f":"IFERROR(VLOOKUP($A50,'All Running Order'!$A$6:$CZ$64,B$102,FALSE),\"\")","v":""},{"$f":"IFERROR(VLOOKUP($A50,'All Running Order'!$A$6:$CZ$64,C$102,FALSE),\"\")","v":""},{"$f":"IFERROR(VLOOKUP($A50,'All Running Order'!$A$6:$CZ$64,D$102,FALSE),\"\")","v":""},{"$f":"IFERROR(VLOOKUP($A50,'All Running Order'!$A$6:$CZ$64,E$102,FALSE),\"\")","v":""},{"$f":"IFERROR(VLOOKUP($A50,'All Running Order'!$A$6:$CZ$64,F$102,FALSE),\"\")","v":""},{"$f":"IFERROR(VLOOKUP($A50,'All Running Order'!$A$6:$CZ$64,G$102,FALSE),\"\")","v":""},{"$f":"IFERROR(VLOOKUP($A50,'All Running Order'!$A$6:$CZ$64,H$102,FALSE),\"\")","v":""},{"$f":"IFERROR(VLOOKUP($A50,'All Running Order'!$A$6:$CZ$64,I$102,FALSE),\"\")","v":""},{"$f":"IFERROR(VLOOKUP($A50,'All Running Order'!$A$6:$CZ$64,J$102,FALSE),\"\")","v":""},{"$f":"IFERROR(VLOOKUP($A50,'All Running Order'!$A$6:$CZ$64,K$102,FALSE),\"\")","v":""},{"$f":"IFERROR(VLOOKUP($A50,'All Running Order'!$A$6:$CZ$64,L$102,FALSE),\"\")","v":""},{"$f":"IFERROR(VLOOKUP($A50,'All Running Order'!$A$6:$CZ$64,M$102,FALSE),\"\")","v":""},{"$f":"IFERROR(VLOOKUP($A50,'All Running Order'!$A$6:$CZ$64,N$102,FALSE),\"\")","v":""},{"$f":"IFERROR(VLOOKUP($A50,'All Running Order'!$A$6:$CZ$64,O$102,FALSE),\"\")","v":""},{"$f":"IFERROR(VLOOKUP($A50,'All Running Order'!$A$6:$CZ$64,P$102,FALSE),\"\")","v":""},{"$f":"IFERROR(VLOOKUP($A50,'All Running Order'!$A$6:$CZ$64,Q$102,FALSE),\"\")","v":""},{"$f":"IFERROR(VLOOKUP($A50,'All Running Order'!$A$6:$CZ$64,R$102,FALSE),\"\")","v":""},{"$f":"IFERROR(VLOOKUP($A50,'All Running Order'!$A$6:$CZ$64,S$102,FALSE),\"\")","v":""},{"$f":"IFERROR(VLOOKUP($A50,'All Running Order'!$A$6:$CZ$64,T$102,FALSE),\"\")","v":""},{"$f":"IFERROR(VLOOKUP($A50,'All Running Order'!$A$6:$CZ$64,U$102,FALSE),\"\")","v":""},{"$f":"IFERROR(VLOOKUP($A50,'All Running Order'!$A$6:$CZ$64,V$102,FALSE),\"\")","v":""},{"$f":"IFERROR(VLOOKUP($A50,'All Running Order'!$A$6:$CZ$64,W$102,FALSE),\"\")","v":""},{"$f":"IFERROR(VLOOKUP($A50,'All Running Order'!$A$6:$CZ$64,X$102,FALSE),\"\")","v":""},{"$f":"IFERROR(VLOOKUP($A50,'All Running Order'!$A$6:$CZ$64,Y$102,FALSE),\"\")","v":""},{"$f":"IFERROR(VLOOKUP($A50,'All Running Order'!$A$6:$CZ$64,Z$102,FALSE),\"\")","v":""},{"$f":"IFERROR(VLOOKUP($A50,'All Running Order'!$A$6:$CZ$64,AA$102,FALSE),\"\")","v":""},{"$f":"IFERROR(VLOOKUP($A50,'All Running Order'!$A$6:$CZ$64,AB$102,FALSE),\"\")","v":""},{"$f":"IFERROR(VLOOKUP($A50,'All Running Order'!$A$6:$CZ$64,AC$102,FALSE),\"\")","v":""},{"$f":"IFERROR(VLOOKUP($A50,'All Running Order'!$A$6:$CZ$64,AD$102,FALSE),\"\")","v":""},{"$f":"IFERROR(VLOOKUP($A50,'All Running Order'!$A$6:$CZ$64,AE$102,FALSE),\"\")","v":""},{"$f":"IFERROR(VLOOKUP($A50,'All Running Order'!$A$6:$CZ$64,AF$102,FALSE),\"\")","v":""},{"$f":"IFERROR(VLOOKUP($A50,'All Running Order'!$A$6:$CZ$64,AG$102,FALSE),\"\")","v":""},{"$f":"IFERROR(VLOOKUP($A50,'All Running Order'!$A$6:$CZ$64,AH$102,FALSE),\"\")","v":""},{"$f":"IFERROR(VLOOKUP($A50,'All Running Order'!$A$6:$CZ$64,AI$102,FALSE),\"\")","v":""},{"$f":"IFERROR(VLOOKUP($A50,'All Running Order'!$A$6:$CZ$64,AJ$102,FALSE),\"\")","v":""},{"$f":"IFERROR(VLOOKUP($A50,'All Running Order'!$A$6:$CZ$64,AK$102,FALSE),\"\")","v":""},{"$f":"IFERROR(VLOOKUP($A50,'All Running Order'!$A$6:$CZ$64,AL$102,FALSE),\"\")","v":""},{"$f":"IFERROR(VLOOKUP($A50,'All Running Order'!$A$6:$CZ$64,AM$102,FALSE),\"\")","v":""},{"$f":"IFERROR(VLOOKUP($A50,'All Running Order'!$A$6:$CZ$64,AN$102,FALSE),\"\")","v":""},{"$f":"IFERROR(VLOOKUP($A50,'All Running Order'!$A$6:$CZ$64,AO$102,FALSE),\"\")","v":""},{"$f":"IFERROR(VLOOKUP($A50,'All Running Order'!$A$6:$CZ$64,AP$102,FALSE),\"\")","v":""},{"$f":"IFERROR(VLOOKUP($A50,'All Running Order'!$A$6:$CZ$64,AQ$102,FALSE),\"\")","v":""},{"$f":"IFERROR(VLOOKUP($A50,'All Running Order'!$A$6:$CZ$64,AR$102,FALSE),\"\")","v":""},{"$f":"IFERROR(VLOOKUP($A50,'All Running Order'!$A$6:$CZ$64,AS$102,FALSE),\"\")","v":""},{"$f":"IFERROR(VLOOKUP($A50,'All Running Order'!$A$6:$CZ$64,AT$102,FALSE),\"\")","v":""},{"$f":"IFERROR(VLOOKUP($A50,'All Running Order'!$A$6:$CZ$64,AU$102,FALSE),\"\")","v":""},{"$f":"IFERROR(VLOOKUP($A50,'All Running Order'!$A$6:$CZ$64,AV$102,FALSE),\"\")","v":""},{"$f":"IFERROR(VLOOKUP($A50,'All Running Order'!$A$6:$CZ$64,AW$102,FALSE),\"\")","v":""},{"$f":"IFERROR(VLOOKUP($A50,'All Running Order'!$A$6:$CZ$64,AX$102,FALSE),\"\")","v":""},{"$f":"IFERROR(VLOOKUP($A50,'All Running Order'!$A$6:$CZ$64,AY$102,FALSE),\"\")","v":""},{"$f":"IFERROR(VLOOKUP($A50,'All Running Order'!$A$6:$CZ$64,AZ$102,FALSE),\"\")","v":""},{"$f":"IFERROR(VLOOKUP($A50,'All Running Order'!$A$6:$CZ$64,BA$102,FALSE),\"\")","v":""},{"$f":"IFERROR(VLOOKUP($A50,'All Running Order'!$A$6:$CZ$64,BB$102,FALSE),\"\")","v":""},{"$f":"IFERROR(VLOOKUP($A50,'All Running Order'!$A$6:$CZ$64,BC$102,FALSE),\"\")","v":""},{"$f":"IFERROR(VLOOKUP($A50,'All Running Order'!$A$6:$CZ$64,BD$102,FALSE),\"\")","v":""},{"$f":"IFERROR(VLOOKUP($A50,'All Running Order'!$A$6:$CZ$64,BE$102,FALSE),\"\")","v":""},{"$f":"IFERROR(VLOOKUP($A50,'All Running Order'!$A$6:$CZ$64,BF$102,FALSE),\"\")","v":""},{"$f":"IFERROR(VLOOKUP($A50,'All Running Order'!$A$6:$CZ$64,BG$102,FALSE),\"\")","v":""},{"$f":"IFERROR(VLOOKUP($A50,'All Running Order'!$A$6:$CZ$64,BH$102,FALSE),\"\")","v":""},{"$f":"IFERROR(VLOOKUP($A50,'All Running Order'!$A$6:$CZ$64,BI$102,FALSE),\"\")","v":""},{"$f":"IFERROR(VLOOKUP($A50,'All Running Order'!$A$6:$CZ$64,BJ$102,FALSE),\"\")","v":""},{"$f":"IFERROR(VLOOKUP($A50,'All Running Order'!$A$6:$CZ$64,BK$102,FALSE),\"\")","v":""},{"$f":"IFERROR(VLOOKUP($A50,'All Running Order'!$A$6:$CZ$64,BL$102,FALSE),\"\")","v":""},{"$f":"IFERROR(VLOOKUP($A50,'All Running Order'!$A$6:$CZ$64,BM$102,FALSE),\"\")","v":""},{"$f":"IFERROR(VLOOKUP($A50,'All Running Order'!$A$6:$CZ$64,BN$102,FALSE),\"\")","v":""},{"$f":"IFERROR(VLOOKUP($A50,'All Running Order'!$A$6:$CZ$64,BO$102,FALSE),\"\")","v":""},{"$f":"IFERROR(VLOOKUP($A50,'All Running Order'!$A$6:$CZ$64,BP$102,FALSE),\"\")","v":""},{"$f":"IFERROR(VLOOKUP($A50,'All Running Order'!$A$6:$CZ$64,BQ$102,FALSE),\"\")","v":""},{"$f":"IFERROR(VLOOKUP($A50,'All Running Order'!$A$6:$CZ$64,BR$102,FALSE),\"\")","v":""},{"$f":"IFERROR(VLOOKUP($A50,'All Running Order'!$A$6:$CZ$64,BS$102,FALSE),\"\")","v":""},{"$f":"IFERROR(VLOOKUP($A50,'All Running Order'!$A$6:$CZ$64,BT$102,FALSE),\"\")","v":""},{"$f":"IFERROR(VLOOKUP($A50,'All Running Order'!$A$6:$CZ$64,BU$102,FALSE),\"\")","v":""},{"$f":"IFERROR(VLOOKUP($A50,'All Running Order'!$A$6:$CZ$64,BV$102,FALSE),\"\")","v":""},{"$f":"IFERROR(VLOOKUP($A50,'All Running Order'!$A$6:$CZ$64,BW$102,FALSE),\"\")","v":""},{"$f":"IFERROR(VLOOKUP($A50,'All Running Order'!$A$6:$CZ$64,BX$102,FALSE),\"\")","v":""},{"$f":"IFERROR(VLOOKUP($A50,'All Running Order'!$A$6:$CZ$64,BY$102,FALSE),\"\")","v":""},{"$f":"IFERROR(VLOOKUP($A50,'All Running Order'!$A$6:$CZ$64,BZ$102,FALSE),\"\")","v":""},{"$f":"IFERROR(VLOOKUP($A50,'All Running Order'!$A$6:$CZ$64,CA$102,FALSE),\"\")","v":""},{"$f":"IFERROR(VLOOKUP($A50,'All Running Order'!$A$6:$CZ$64,CB$102,FALSE),\"\")","v":""},{"$f":"IFERROR(VLOOKUP($A50,'All Running Order'!$A$6:$CZ$64,CC$102,FALSE),\"\")","v":""},{"$f":"IFERROR(VLOOKUP($A50,'All Running Order'!$A$6:$CZ$64,CD$102,FALSE),\"\")","v":""},{"$f":"IFERROR(VLOOKUP($A50,'All Running Order'!$A$6:$CZ$64,CE$102,FALSE),\"\")","v":""},{"$f":"IFERROR(VLOOKUP($A50,'All Running Order'!$A$6:$CZ$64,CF$102,FALSE),\"\")","v":""},{"$f":"IFERROR(VLOOKUP($A50,'All Running Order'!$A$6:$CZ$64,CG$102,FALSE),\"\")","v":""},{"$f":"IFERROR(VLOOKUP($A50,'All Running Order'!$A$6:$CZ$64,CH$102,FALSE),\"\")","v":""},{"$f":"IFERROR(VLOOKUP($A50,'All Running Order'!$A$6:$CZ$64,CI$102,FALSE),\"\")","v":""},{"$f":"IFERROR(VLOOKUP($A50,'All Running Order'!$A$6:$CZ$64,CJ$102,FALSE),\"\")","v":""},{"$f":"IFERROR(VLOOKUP($A50,'All Running Order'!$A$6:$CZ$64,CK$102,FALSE),\"\")","v":""},{"$f":"IFERROR(VLOOKUP($A50,'All Running Order'!$A$6:$CZ$64,CL$102,FALSE),\"\")","v":""},{"$f":"IFERROR(VLOOKUP($A50,'All Running Order'!$A$6:$CZ$64,CM$102,FALSE),\"\")","v":""},{"$f":"IFERROR(VLOOKUP($A50,'All Running Order'!$A$6:$CZ$64,CN$102,FALSE),\"\")","v":""},{"$f":"IFERROR(VLOOKUP($A50,'All Running Order'!$A$6:$CZ$64,CO$102,FALSE),\"\")","v":""},{"$f":"IFERROR(VLOOKUP($A50,'All Running Order'!$A$6:$CZ$64,CP$102,FALSE),\"\")","v":""},{"$f":"IFERROR(VLOOKUP($A50,'All Running Order'!$A$6:$CZ$64,CQ$102,FALSE),\"\")","v":""},{"$f":"IFERROR(VLOOKUP($A50,'All Running Order'!$A$6:$CZ$64,CR$102,FALSE),\"\")","v":""},{"$f":"IFERROR(VLOOKUP($A50,'All Running Order'!$A$6:$CZ$64,CS$102,FALSE),\"\")","v":""},{"$f":"IFERROR(VLOOKUP($A50,'All Running Order'!$A$6:$CZ$64,CT$102,FALSE),\"\")","v":""},{"$f":"IFERROR(VLOOKUP($A50,'All Running Order'!$A$6:$CZ$64,CU$102,FALSE),\"\")","v":""},{"$f":"IFERROR(VLOOKUP($A50,'All Running Order'!$A$6:$CZ$64,CV$102,FALSE),\"\")","v":""},{"$f":"IFERROR(VLOOKUP($A50,'All Running Order'!$A$6:$CZ$64,CW$102,FALSE),\"\")","v":""},{"$f":"IFERROR(VLOOKUP($A50,'All Running Order'!$A$6:$CZ$64,CX$102,FALSE),\"\")","v":""},{"$f":"IFERROR(VLOOKUP($A50,'All Running Order'!$A$6:$CZ$64,CY$102,FALSE),\"\")","v":""},{"$f":"IFERROR(VLOOKUP($A50,'All Running Order'!$A$6:$CZ$64,CZ$102,FALSE),\"\")","v":""}]
[46,{"$f":"IFERROR(VLOOKUP($A51,'All Running Order'!$A$6:$CZ$64,B$102,FALSE),\"\")","v":""},{"$f":"IFERROR(VLOOKUP($A51,'All Running Order'!$A$6:$CZ$64,C$102,FALSE),\"\")","v":""},{"$f":"IFERROR(VLOOKUP($A51,'All Running Order'!$A$6:$CZ$64,D$102,FALSE),\"\")","v":""},{"$f":"IFERROR(VLOOKUP($A51,'All Running Order'!$A$6:$CZ$64,E$102,FALSE),\"\")","v":""},{"$f":"IFERROR(VLOOKUP($A51,'All Running Order'!$A$6:$CZ$64,F$102,FALSE),\"\")","v":""},{"$f":"IFERROR(VLOOKUP($A51,'All Running Order'!$A$6:$CZ$64,G$102,FALSE),\"\")","v":""},{"$f":"IFERROR(VLOOKUP($A51,'All Running Order'!$A$6:$CZ$64,H$102,FALSE),\"\")","v":""},{"$f":"IFERROR(VLOOKUP($A51,'All Running Order'!$A$6:$CZ$64,I$102,FALSE),\"\")","v":""},{"$f":"IFERROR(VLOOKUP($A51,'All Running Order'!$A$6:$CZ$64,J$102,FALSE),\"\")","v":""},{"$f":"IFERROR(VLOOKUP($A51,'All Running Order'!$A$6:$CZ$64,K$102,FALSE),\"\")","v":""},{"$f":"IFERROR(VLOOKUP($A51,'All Running Order'!$A$6:$CZ$64,L$102,FALSE),\"\")","v":""},{"$f":"IFERROR(VLOOKUP($A51,'All Running Order'!$A$6:$CZ$64,M$102,FALSE),\"\")","v":""},{"$f":"IFERROR(VLOOKUP($A51,'All Running Order'!$A$6:$CZ$64,N$102,FALSE),\"\")","v":""},{"$f":"IFERROR(VLOOKUP($A51,'All Running Order'!$A$6:$CZ$64,O$102,FALSE),\"\")","v":""},{"$f":"IFERROR(VLOOKUP($A51,'All Running Order'!$A$6:$CZ$64,P$102,FALSE),\"\")","v":""},{"$f":"IFERROR(VLOOKUP($A51,'All Running Order'!$A$6:$CZ$64,Q$102,FALSE),\"\")","v":""},{"$f":"IFERROR(VLOOKUP($A51,'All Running Order'!$A$6:$CZ$64,R$102,FALSE),\"\")","v":""},{"$f":"IFERROR(VLOOKUP($A51,'All Running Order'!$A$6:$CZ$64,S$102,FALSE),\"\")","v":""},{"$f":"IFERROR(VLOOKUP($A51,'All Running Order'!$A$6:$CZ$64,T$102,FALSE),\"\")","v":""},{"$f":"IFERROR(VLOOKUP($A51,'All Running Order'!$A$6:$CZ$64,U$102,FALSE),\"\")","v":""},{"$f":"IFERROR(VLOOKUP($A51,'All Running Order'!$A$6:$CZ$64,V$102,FALSE),\"\")","v":""},{"$f":"IFERROR(VLOOKUP($A51,'All Running Order'!$A$6:$CZ$64,W$102,FALSE),\"\")","v":""},{"$f":"IFERROR(VLOOKUP($A51,'All Running Order'!$A$6:$CZ$64,X$102,FALSE),\"\")","v":""},{"$f":"IFERROR(VLOOKUP($A51,'All Running Order'!$A$6:$CZ$64,Y$102,FALSE),\"\")","v":""},{"$f":"IFERROR(VLOOKUP($A51,'All Running Order'!$A$6:$CZ$64,Z$102,FALSE),\"\")","v":""},{"$f":"IFERROR(VLOOKUP($A51,'All Running Order'!$A$6:$CZ$64,AA$102,FALSE),\"\")","v":""},{"$f":"IFERROR(VLOOKUP($A51,'All Running Order'!$A$6:$CZ$64,AB$102,FALSE),\"\")","v":""},{"$f":"IFERROR(VLOOKUP($A51,'All Running Order'!$A$6:$CZ$64,AC$102,FALSE),\"\")","v":""},{"$f":"IFERROR(VLOOKUP($A51,'All Running Order'!$A$6:$CZ$64,AD$102,FALSE),\"\")","v":""},{"$f":"IFERROR(VLOOKUP($A51,'All Running Order'!$A$6:$CZ$64,AE$102,FALSE),\"\")","v":""},{"$f":"IFERROR(VLOOKUP($A51,'All Running Order'!$A$6:$CZ$64,AF$102,FALSE),\"\")","v":""},{"$f":"IFERROR(VLOOKUP($A51,'All Running Order'!$A$6:$CZ$64,AG$102,FALSE),\"\")","v":""},{"$f":"IFERROR(VLOOKUP($A51,'All Running Order'!$A$6:$CZ$64,AH$102,FALSE),\"\")","v":""},{"$f":"IFERROR(VLOOKUP($A51,'All Running Order'!$A$6:$CZ$64,AI$102,FALSE),\"\")","v":""},{"$f":"IFERROR(VLOOKUP($A51,'All Running Order'!$A$6:$CZ$64,AJ$102,FALSE),\"\")","v":""},{"$f":"IFERROR(VLOOKUP($A51,'All Running Order'!$A$6:$CZ$64,AK$102,FALSE),\"\")","v":""},{"$f":"IFERROR(VLOOKUP($A51,'All Running Order'!$A$6:$CZ$64,AL$102,FALSE),\"\")","v":""},{"$f":"IFERROR(VLOOKUP($A51,'All Running Order'!$A$6:$CZ$64,AM$102,FALSE),\"\")","v":""},{"$f":"IFERROR(VLOOKUP($A51,'All Running Order'!$A$6:$CZ$64,AN$102,FALSE),\"\")","v":""},{"$f":"IFERROR(VLOOKUP($A51,'All Running Order'!$A$6:$CZ$64,AO$102,FALSE),\"\")","v":""},{"$f":"IFERROR(VLOOKUP($A51,'All Running Order'!$A$6:$CZ$64,AP$102,FALSE),\"\")","v":""},{"$f":"IFERROR(VLOOKUP($A51,'All Running Order'!$A$6:$CZ$64,AQ$102,FALSE),\"\")","v":""},{"$f":"IFERROR(VLOOKUP($A51,'All Running Order'!$A$6:$CZ$64,AR$102,FALSE),\"\")","v":""},{"$f":"IFERROR(VLOOKUP($A51,'All Running Order'!$A$6:$CZ$64,AS$102,FALSE),\"\")","v":""},{"$f":"IFERROR(VLOOKUP($A51,'All Running Order'!$A$6:$CZ$64,AT$102,FALSE),\"\")","v":""},{"$f":"IFERROR(VLOOKUP($A51,'All Running Order'!$A$6:$CZ$64,AU$102,FALSE),\"\")","v":""},{"$f":"IFERROR(VLOOKUP($A51,'All Running Order'!$A$6:$CZ$64,AV$102,FALSE),\"\")","v":""},{"$f":"IFERROR(VLOOKUP($A51,'All Running Order'!$A$6:$CZ$64,AW$102,FALSE),\"\")","v":""},{"$f":"IFERROR(VLOOKUP($A51,'All Running Order'!$A$6:$CZ$64,AX$102,FALSE),\"\")","v":""},{"$f":"IFERROR(VLOOKUP($A51,'All Running Order'!$A$6:$CZ$64,AY$102,FALSE),\"\")","v":""},{"$f":"IFERROR(VLOOKUP($A51,'All Running Order'!$A$6:$CZ$64,AZ$102,FALSE),\"\")","v":""},{"$f":"IFERROR(VLOOKUP($A51,'All Running Order'!$A$6:$CZ$64,BA$102,FALSE),\"\")","v":""},{"$f":"IFERROR(VLOOKUP($A51,'All Running Order'!$A$6:$CZ$64,BB$102,FALSE),\"\")","v":""},{"$f":"IFERROR(VLOOKUP($A51,'All Running Order'!$A$6:$CZ$64,BC$102,FALSE),\"\")","v":""},{"$f":"IFERROR(VLOOKUP($A51,'All Running Order'!$A$6:$CZ$64,BD$102,FALSE),\"\")","v":""},{"$f":"IFERROR(VLOOKUP($A51,'All Running Order'!$A$6:$CZ$64,BE$102,FALSE),\"\")","v":""},{"$f":"IFERROR(VLOOKUP($A51,'All Running Order'!$A$6:$CZ$64,BF$102,FALSE),\"\")","v":""},{"$f":"IFERROR(VLOOKUP($A51,'All Running Order'!$A$6:$CZ$64,BG$102,FALSE),\"\")","v":""},{"$f":"IFERROR(VLOOKUP($A51,'All Running Order'!$A$6:$CZ$64,BH$102,FALSE),\"\")","v":""},{"$f":"IFERROR(VLOOKUP($A51,'All Running Order'!$A$6:$CZ$64,BI$102,FALSE),\"\")","v":""},{"$f":"IFERROR(VLOOKUP($A51,'All Running Order'!$A$6:$CZ$64,BJ$102,FALSE),\"\")","v":""},{"$f":"IFERROR(VLOOKUP($A51,'All Running Order'!$A$6:$CZ$64,BK$102,FALSE),\"\")","v":""},{"$f":"IFERROR(VLOOKUP($A51,'All Running Order'!$A$6:$CZ$64,BL$102,FALSE),\"\")","v":""},{"$f":"IFERROR(VLOOKUP($A51,'All Running Order'!$A$6:$CZ$64,BM$102,FALSE),\"\")","v":""},{"$f":"IFERROR(VLOOKUP($A51,'All Running Order'!$A$6:$CZ$64,BN$102,FALSE),\"\")","v":""},{"$f":"IFERROR(VLOOKUP($A51,'All Running Order'!$A$6:$CZ$64,BO$102,FALSE),\"\")","v":""},{"$f":"IFERROR(VLOOKUP($A51,'All Running Order'!$A$6:$CZ$64,BP$102,FALSE),\"\")","v":""},{"$f":"IFERROR(VLOOKUP($A51,'All Running Order'!$A$6:$CZ$64,BQ$102,FALSE),\"\")","v":""},{"$f":"IFERROR(VLOOKUP($A51,'All Running Order'!$A$6:$CZ$64,BR$102,FALSE),\"\")","v":""},{"$f":"IFERROR(VLOOKUP($A51,'All Running Order'!$A$6:$CZ$64,BS$102,FALSE),\"\")","v":""},{"$f":"IFERROR(VLOOKUP($A51,'All Running Order'!$A$6:$CZ$64,BT$102,FALSE),\"\")","v":""},{"$f":"IFERROR(VLOOKUP($A51,'All Running Order'!$A$6:$CZ$64,BU$102,FALSE),\"\")","v":""},{"$f":"IFERROR(VLOOKUP($A51,'All Running Order'!$A$6:$CZ$64,BV$102,FALSE),\"\")","v":""},{"$f":"IFERROR(VLOOKUP($A51,'All Running Order'!$A$6:$CZ$64,BW$102,FALSE),\"\")","v":""},{"$f":"IFERROR(VLOOKUP($A51,'All Running Order'!$A$6:$CZ$64,BX$102,FALSE),\"\")","v":""},{"$f":"IFERROR(VLOOKUP($A51,'All Running Order'!$A$6:$CZ$64,BY$102,FALSE),\"\")","v":""},{"$f":"IFERROR(VLOOKUP($A51,'All Running Order'!$A$6:$CZ$64,BZ$102,FALSE),\"\")","v":""},{"$f":"IFERROR(VLOOKUP($A51,'All Running Order'!$A$6:$CZ$64,CA$102,FALSE),\"\")","v":""},{"$f":"IFERROR(VLOOKUP($A51,'All Running Order'!$A$6:$CZ$64,CB$102,FALSE),\"\")","v":""},{"$f":"IFERROR(VLOOKUP($A51,'All Running Order'!$A$6:$CZ$64,CC$102,FALSE),\"\")","v":""},{"$f":"IFERROR(VLOOKUP($A51,'All Running Order'!$A$6:$CZ$64,CD$102,FALSE),\"\")","v":""},{"$f":"IFERROR(VLOOKUP($A51,'All Running Order'!$A$6:$CZ$64,CE$102,FALSE),\"\")","v":""},{"$f":"IFERROR(VLOOKUP($A51,'All Running Order'!$A$6:$CZ$64,CF$102,FALSE),\"\")","v":""},{"$f":"IFERROR(VLOOKUP($A51,'All Running Order'!$A$6:$CZ$64,CG$102,FALSE),\"\")","v":""},{"$f":"IFERROR(VLOOKUP($A51,'All Running Order'!$A$6:$CZ$64,CH$102,FALSE),\"\")","v":""},{"$f":"IFERROR(VLOOKUP($A51,'All Running Order'!$A$6:$CZ$64,CI$102,FALSE),\"\")","v":""},{"$f":"IFERROR(VLOOKUP($A51,'All Running Order'!$A$6:$CZ$64,CJ$102,FALSE),\"\")","v":""},{"$f":"IFERROR(VLOOKUP($A51,'All Running Order'!$A$6:$CZ$64,CK$102,FALSE),\"\")","v":""},{"$f":"IFERROR(VLOOKUP($A51,'All Running Order'!$A$6:$CZ$64,CL$102,FALSE),\"\")","v":""},{"$f":"IFERROR(VLOOKUP($A51,'All Running Order'!$A$6:$CZ$64,CM$102,FALSE),\"\")","v":""},{"$f":"IFERROR(VLOOKUP($A51,'All Running Order'!$A$6:$CZ$64,CN$102,FALSE),\"\")","v":""},{"$f":"IFERROR(VLOOKUP($A51,'All Running Order'!$A$6:$CZ$64,CO$102,FALSE),\"\")","v":""},{"$f":"IFERROR(VLOOKUP($A51,'All Running Order'!$A$6:$CZ$64,CP$102,FALSE),\"\")","v":""},{"$f":"IFERROR(VLOOKUP($A51,'All Running Order'!$A$6:$CZ$64,CQ$102,FALSE),\"\")","v":""},{"$f":"IFERROR(VLOOKUP($A51,'All Running Order'!$A$6:$CZ$64,CR$102,FALSE),\"\")","v":""},{"$f":"IFERROR(VLOOKUP($A51,'All Running Order'!$A$6:$CZ$64,CS$102,FALSE),\"\")","v":""},{"$f":"IFERROR(VLOOKUP($A51,'All Running Order'!$A$6:$CZ$64,CT$102,FALSE),\"\")","v":""},{"$f":"IFERROR(VLOOKUP($A51,'All Running Order'!$A$6:$CZ$64,CU$102,FALSE),\"\")","v":""},{"$f":"IFERROR(VLOOKUP($A51,'All Running Order'!$A$6:$CZ$64,CV$102,FALSE),\"\")","v":""},{"$f":"IFERROR(VLOOKUP($A51,'All Running Order'!$A$6:$CZ$64,CW$102,FALSE),\"\")","v":""},{"$f":"IFERROR(VLOOKUP($A51,'All Running Order'!$A$6:$CZ$64,CX$102,FALSE),\"\")","v":""},{"$f":"IFERROR(VLOOKUP($A51,'All Running Order'!$A$6:$CZ$64,CY$102,FALSE),\"\")","v":""},{"$f":"IFERROR(VLOOKUP($A51,'All Running Order'!$A$6:$CZ$64,CZ$102,FALSE),\"\")","v":""}]
[47,{"$f":"IFERROR(VLOOKUP($A52,'All Running Order'!$A$6:$CZ$64,B$102,FALSE),\"\")","v":""},{"$f":"IFERROR(VLOOKUP($A52,'All Running Order'!$A$6:$CZ$64,C$102,FALSE),\"\")","v":""},{"$f":"IFERROR(VLOOKUP($A52,'All Running Order'!$A$6:$CZ$64,D$102,FALSE),\"\")","v":""},{"$f":"IFERROR(VLOOKUP($A52,'All Running Order'!$A$6:$CZ$64,E$102,FALSE),\"\")","v":""},{"$f":"IFERROR(VLOOKUP($A52,'All Running Order'!$A$6:$CZ$64,F$102,FALSE),\"\")","v":""},{"$f":"IFERROR(VLOOKUP($A52,'All Running Order'!$A$6:$CZ$64,G$102,FALSE),\"\")","v":""},{"$f":"IFERROR(VLOOKUP($A52,'All Running Order'!$A$6:$CZ$64,H$102,FALSE),\"\")","v":""},{"$f":"IFERROR(VLOOKUP($A52,'All Running Order'!$A$6:$CZ$64,I$102,FALSE),\"\")","v":""},{"$f":"IFERROR(VLOOKUP($A52,'All Running Order'!$A$6:$CZ$64,J$102,FALSE),\"\")","v":""},{"$f":"IFERROR(VLOOKUP($A52,'All Running Order'!$A$6:$CZ$64,K$102,FALSE),\"\")","v":""},{"$f":"IFERROR(VLOOKUP($A52,'All Running Order'!$A$6:$CZ$64,L$102,FALSE),\"\")","v":""},{"$f":"IFERROR(VLOOKUP($A52,'All Running Order'!$A$6:$CZ$64,M$102,FALSE),\"\")","v":""},{"$f":"IFERROR(VLOOKUP($A52,'All Running Order'!$A$6:$CZ$64,N$102,FALSE),\"\")","v":""},{"$f":"IFERROR(VLOOKUP($A52,'All Running Order'!$A$6:$CZ$64,O$102,FALSE),\"\")","v":""},{"$f":"IFERROR(VLOOKUP($A52,'All Running Order'!$A$6:$CZ$64,P$102,FALSE),\"\")","v":""},{"$f":"IFERROR(VLOOKUP($A52,'All Running Order'!$A$6:$CZ$64,Q$102,FALSE),\"\")","v":""},{"$f":"IFERROR(VLOOKUP($A52,'All Running Order'!$A$6:$CZ$64,R$102,FALSE),\"\")","v":""},{"$f":"IFERROR(VLOOKUP($A52,'All Running Order'!$A$6:$CZ$64,S$102,FALSE),\"\")","v":""},{"$f":"IFERROR(VLOOKUP($A52,'All Running Order'!$A$6:$CZ$64,T$102,FALSE),\"\")","v":""},{"$f":"IFERROR(VLOOKUP($A52,'All Running Order'!$A$6:$CZ$64,U$102,FALSE),\"\")","v":""},{"$f":"IFERROR(VLOOKUP($A52,'All Running Order'!$A$6:$CZ$64,V$102,FALSE),\"\")","v":""},{"$f":"IFERROR(VLOOKUP($A52,'All Running Order'!$A$6:$CZ$64,W$102,FALSE),\"\")","v":""},{"$f":"IFERROR(VLOOKUP($A52,'All Running Order'!$A$6:$CZ$64,X$102,FALSE),\"\")","v":""},{"$f":"IFERROR(VLOOKUP($A52,'All Running Order'!$A$6:$CZ$64,Y$102,FALSE),\"\")","v":""},{"$f":"IFERROR(VLOOKUP($A52,'All Running Order'!$A$6:$CZ$64,Z$102,FALSE),\"\")","v":""},{"$f":"IFERROR(VLOOKUP($A52,'All Running Order'!$A$6:$CZ$64,AA$102,FALSE),\"\")","v":""},{"$f":"IFERROR(VLOOKUP($A52,'All Running Order'!$A$6:$CZ$64,AB$102,FALSE),\"\")","v":""},{"$f":"IFERROR(VLOOKUP($A52,'All Running Order'!$A$6:$CZ$64,AC$102,FALSE),\"\")","v":""},{"$f":"IFERROR(VLOOKUP($A52,'All Running Order'!$A$6:$CZ$64,AD$102,FALSE),\"\")","v":""},{"$f":"IFERROR(VLOOKUP($A52,'All Running Order'!$A$6:$CZ$64,AE$102,FALSE),\"\")","v":""},{"$f":"IFERROR(VLOOKUP($A52,'All Running Order'!$A$6:$CZ$64,AF$102,FALSE),\"\")","v":""},{"$f":"IFERROR(VLOOKUP($A52,'All Running Order'!$A$6:$CZ$64,AG$102,FALSE),\"\")","v":""},{"$f":"IFERROR(VLOOKUP($A52,'All Running Order'!$A$6:$CZ$64,AH$102,FALSE),\"\")","v":""},{"$f":"IFERROR(VLOOKUP($A52,'All Running Order'!$A$6:$CZ$64,AI$102,FALSE),\"\")","v":""},{"$f":"IFERROR(VLOOKUP($A52,'All Running Order'!$A$6:$CZ$64,AJ$102,FALSE),\"\")","v":""},{"$f":"IFERROR(VLOOKUP($A52,'All Running Order'!$A$6:$CZ$64,AK$102,FALSE),\"\")","v":""},{"$f":"IFERROR(VLOOKUP($A52,'All Running Order'!$A$6:$CZ$64,AL$102,FALSE),\"\")","v":""},{"$f":"IFERROR(VLOOKUP($A52,'All Running Order'!$A$6:$CZ$64,AM$102,FALSE),\"\")","v":""},{"$f":"IFERROR(VLOOKUP($A52,'All Running Order'!$A$6:$CZ$64,AN$102,FALSE),\"\")","v":""},{"$f":"IFERROR(VLOOKUP($A52,'All Running Order'!$A$6:$CZ$64,AO$102,FALSE),\"\")","v":""},{"$f":"IFERROR(VLOOKUP($A52,'All Running Order'!$A$6:$CZ$64,AP$102,FALSE),\"\")","v":""},{"$f":"IFERROR(VLOOKUP($A52,'All Running Order'!$A$6:$CZ$64,AQ$102,FALSE),\"\")","v":""},{"$f":"IFERROR(VLOOKUP($A52,'All Running Order'!$A$6:$CZ$64,AR$102,FALSE),\"\")","v":""},{"$f":"IFERROR(VLOOKUP($A52,'All Running Order'!$A$6:$CZ$64,AS$102,FALSE),\"\")","v":""},{"$f":"IFERROR(VLOOKUP($A52,'All Running Order'!$A$6:$CZ$64,AT$102,FALSE),\"\")","v":""},{"$f":"IFERROR(VLOOKUP($A52,'All Running Order'!$A$6:$CZ$64,AU$102,FALSE),\"\")","v":""},{"$f":"IFERROR(VLOOKUP($A52,'All Running Order'!$A$6:$CZ$64,AV$102,FALSE),\"\")","v":""},{"$f":"IFERROR(VLOOKUP($A52,'All Running Order'!$A$6:$CZ$64,AW$102,FALSE),\"\")","v":""},{"$f":"IFERROR(VLOOKUP($A52,'All Running Order'!$A$6:$CZ$64,AX$102,FALSE),\"\")","v":""},{"$f":"IFERROR(VLOOKUP($A52,'All Running Order'!$A$6:$CZ$64,AY$102,FALSE),\"\")","v":""},{"$f":"IFERROR(VLOOKUP($A52,'All Running Order'!$A$6:$CZ$64,AZ$102,FALSE),\"\")","v":""},{"$f":"IFERROR(VLOOKUP($A52,'All Running Order'!$A$6:$CZ$64,BA$102,FALSE),\"\")","v":""},{"$f":"IFERROR(VLOOKUP($A52,'All Running Order'!$A$6:$CZ$64,BB$102,FALSE),\"\")","v":""},{"$f":"IFERROR(VLOOKUP($A52,'All Running Order'!$A$6:$CZ$64,BC$102,FALSE),\"\")","v":""},{"$f":"IFERROR(VLOOKUP($A52,'All Running Order'!$A$6:$CZ$64,BD$102,FALSE),\"\")","v":""},{"$f":"IFERROR(VLOOKUP($A52,'All Running Order'!$A$6:$CZ$64,BE$102,FALSE),\"\")","v":""},{"$f":"IFERROR(VLOOKUP($A52,'All Running Order'!$A$6:$CZ$64,BF$102,FALSE),\"\")","v":""},{"$f":"IFERROR(VLOOKUP($A52,'All Running Order'!$A$6:$CZ$64,BG$102,FALSE),\"\")","v":""},{"$f":"IFERROR(VLOOKUP($A52,'All Running Order'!$A$6:$CZ$64,BH$102,FALSE),\"\")","v":""},{"$f":"IFERROR(VLOOKUP($A52,'All Running Order'!$A$6:$CZ$64,BI$102,FALSE),\"\")","v":""},{"$f":"IFERROR(VLOOKUP($A52,'All Running Order'!$A$6:$CZ$64,BJ$102,FALSE),\"\")","v":""},{"$f":"IFERROR(VLOOKUP($A52,'All Running Order'!$A$6:$CZ$64,BK$102,FALSE),\"\")","v":""},{"$f":"IFERROR(VLOOKUP($A52,'All Running Order'!$A$6:$CZ$64,BL$102,FALSE),\"\")","v":""},{"$f":"IFERROR(VLOOKUP($A52,'All Running Order'!$A$6:$CZ$64,BM$102,FALSE),\"\")","v":""},{"$f":"IFERROR(VLOOKUP($A52,'All Running Order'!$A$6:$CZ$64,BN$102,FALSE),\"\")","v":""},{"$f":"IFERROR(VLOOKUP($A52,'All Running Order'!$A$6:$CZ$64,BO$102,FALSE),\"\")","v":""},{"$f":"IFERROR(VLOOKUP($A52,'All Running Order'!$A$6:$CZ$64,BP$102,FALSE),\"\")","v":""},{"$f":"IFERROR(VLOOKUP($A52,'All Running Order'!$A$6:$CZ$64,BQ$102,FALSE),\"\")","v":""},{"$f":"IFERROR(VLOOKUP($A52,'All Running Order'!$A$6:$CZ$64,BR$102,FALSE),\"\")","v":""},{"$f":"IFERROR(VLOOKUP($A52,'All Running Order'!$A$6:$CZ$64,BS$102,FALSE),\"\")","v":""},{"$f":"IFERROR(VLOOKUP($A52,'All Running Order'!$A$6:$CZ$64,BT$102,FALSE),\"\")","v":""},{"$f":"IFERROR(VLOOKUP($A52,'All Running Order'!$A$6:$CZ$64,BU$102,FALSE),\"\")","v":""},{"$f":"IFERROR(VLOOKUP($A52,'All Running Order'!$A$6:$CZ$64,BV$102,FALSE),\"\")","v":""},{"$f":"IFERROR(VLOOKUP($A52,'All Running Order'!$A$6:$CZ$64,BW$102,FALSE),\"\")","v":""},{"$f":"IFERROR(VLOOKUP($A52,'All Running Order'!$A$6:$CZ$64,BX$102,FALSE),\"\")","v":""},{"$f":"IFERROR(VLOOKUP($A52,'All Running Order'!$A$6:$CZ$64,BY$102,FALSE),\"\")","v":""},{"$f":"IFERROR(VLOOKUP($A52,'All Running Order'!$A$6:$CZ$64,BZ$102,FALSE),\"\")","v":""},{"$f":"IFERROR(VLOOKUP($A52,'All Running Order'!$A$6:$CZ$64,CA$102,FALSE),\"\")","v":""},{"$f":"IFERROR(VLOOKUP($A52,'All Running Order'!$A$6:$CZ$64,CB$102,FALSE),\"\")","v":""},{"$f":"IFERROR(VLOOKUP($A52,'All Running Order'!$A$6:$CZ$64,CC$102,FALSE),\"\")","v":""},{"$f":"IFERROR(VLOOKUP($A52,'All Running Order'!$A$6:$CZ$64,CD$102,FALSE),\"\")","v":""},{"$f":"IFERROR(VLOOKUP($A52,'All Running Order'!$A$6:$CZ$64,CE$102,FALSE),\"\")","v":""},{"$f":"IFERROR(VLOOKUP($A52,'All Running Order'!$A$6:$CZ$64,CF$102,FALSE),\"\")","v":""},{"$f":"IFERROR(VLOOKUP($A52,'All Running Order'!$A$6:$CZ$64,CG$102,FALSE),\"\")","v":""},{"$f":"IFERROR(VLOOKUP($A52,'All Running Order'!$A$6:$CZ$64,CH$102,FALSE),\"\")","v":""},{"$f":"IFERROR(VLOOKUP($A52,'All Running Order'!$A$6:$CZ$64,CI$102,FALSE),\"\")","v":""},{"$f":"IFERROR(VLOOKUP($A52,'All Running Order'!$A$6:$CZ$64,CJ$102,FALSE),\"\")","v":""},{"$f":"IFERROR(VLOOKUP($A52,'All Running Order'!$A$6:$CZ$64,CK$102,FALSE),\"\")","v":""},{"$f":"IFERROR(VLOOKUP($A52,'All Running Order'!$A$6:$CZ$64,CL$102,FALSE),\"\")","v":""},{"$f":"IFERROR(VLOOKUP($A52,'All Running Order'!$A$6:$CZ$64,CM$102,FALSE),\"\")","v":""},{"$f":"IFERROR(VLOOKUP($A52,'All Running Order'!$A$6:$CZ$64,CN$102,FALSE),\"\")","v":""},{"$f":"IFERROR(VLOOKUP($A52,'All Running Order'!$A$6:$CZ$64,CO$102,FALSE),\"\")","v":""},{"$f":"IFERROR(VLOOKUP($A52,'All Running Order'!$A$6:$CZ$64,CP$102,FALSE),\"\")","v":""},{"$f":"IFERROR(VLOOKUP($A52,'All Running Order'!$A$6:$CZ$64,CQ$102,FALSE),\"\")","v":""},{"$f":"IFERROR(VLOOKUP($A52,'All Running Order'!$A$6:$CZ$64,CR$102,FALSE),\"\")","v":""},{"$f":"IFERROR(VLOOKUP($A52,'All Running Order'!$A$6:$CZ$64,CS$102,FALSE),\"\")","v":""},{"$f":"IFERROR(VLOOKUP($A52,'All Running Order'!$A$6:$CZ$64,CT$102,FALSE),\"\")","v":""},{"$f":"IFERROR(VLOOKUP($A52,'All Running Order'!$A$6:$CZ$64,CU$102,FALSE),\"\")","v":""},{"$f":"IFERROR(VLOOKUP($A52,'All Running Order'!$A$6:$CZ$64,CV$102,FALSE),\"\")","v":""},{"$f":"IFERROR(VLOOKUP($A52,'All Running Order'!$A$6:$CZ$64,CW$102,FALSE),\"\")","v":""},{"$f":"IFERROR(VLOOKUP($A52,'All Running Order'!$A$6:$CZ$64,CX$102,FALSE),\"\")","v":""},{"$f":"IFERROR(VLOOKUP($A52,'All Running Order'!$A$6:$CZ$64,CY$102,FALSE),\"\")","v":""},{"$f":"IFERROR(VLOOKUP($A52,'All Running Order'!$A$6:$CZ$64,CZ$102,FALSE),\"\")","v":""}]
[48,{"$f":"IFERROR(VLOOKUP($A53,'All Running Order'!$A$6:$CZ$64,B$102,FALSE),\"\")","v":""},{"$f":"IFERROR(VLOOKUP($A53,'All Running Order'!$A$6:$CZ$64,C$102,FALSE),\"\")","v":""},{"$f":"IFERROR(VLOOKUP($A53,'All Running Order'!$A$6:$CZ$64,D$102,FALSE),\"\")","v":""},{"$f":"IFERROR(VLOOKUP($A53,'All Running Order'!$A$6:$CZ$64,E$102,FALSE),\"\")","v":""},{"$f":"IFERROR(VLOOKUP($A53,'All Running Order'!$A$6:$CZ$64,F$102,FALSE),\"\")","v":""},{"$f":"IFERROR(VLOOKUP($A53,'All Running Order'!$A$6:$CZ$64,G$102,FALSE),\"\")","v":""},{"$f":"IFERROR(VLOOKUP($A53,'All Running Order'!$A$6:$CZ$64,H$102,FALSE),\"\")","v":""},{"$f":"IFERROR(VLOOKUP($A53,'All Running Order'!$A$6:$CZ$64,I$102,FALSE),\"\")","v":""},{"$f":"IFERROR(VLOOKUP($A53,'All Running Order'!$A$6:$CZ$64,J$102,FALSE),\"\")","v":""},{"$f":"IFERROR(VLOOKUP($A53,'All Running Order'!$A$6:$CZ$64,K$102,FALSE),\"\")","v":""},{"$f":"IFERROR(VLOOKUP($A53,'All Running Order'!$A$6:$CZ$64,L$102,FALSE),\"\")","v":""},{"$f":"IFERROR(VLOOKUP($A53,'All Running Order'!$A$6:$CZ$64,M$102,FALSE),\"\")","v":""},{"$f":"IFERROR(VLOOKUP($A53,'All Running Order'!$A$6:$CZ$64,N$102,FALSE),\"\")","v":""},{"$f":"IFERROR(VLOOKUP($A53,'All Running Order'!$A$6:$CZ$64,O$102,FALSE),\"\")","v":""},{"$f":"IFERROR(VLOOKUP($A53,'All Running Order'!$A$6:$CZ$64,P$102,FALSE),\"\")","v":""},{"$f":"IFERROR(VLOOKUP($A53,'All Running Order'!$A$6:$CZ$64,Q$102,FALSE),\"\")","v":""},{"$f":"IFERROR(VLOOKUP($A53,'All Running Order'!$A$6:$CZ$64,R$102,FALSE),\"\")","v":""},{"$f":"IFERROR(VLOOKUP($A53,'All Running Order'!$A$6:$CZ$64,S$102,FALSE),\"\")","v":""},{"$f":"IFERROR(VLOOKUP($A53,'All Running Order'!$A$6:$CZ$64,T$102,FALSE),\"\")","v":""},{"$f":"IFERROR(VLOOKUP($A53,'All Running Order'!$A$6:$CZ$64,U$102,FALSE),\"\")","v":""},{"$f":"IFERROR(VLOOKUP($A53,'All Running Order'!$A$6:$CZ$64,V$102,FALSE),\"\")","v":""},{"$f":"IFERROR(VLOOKUP($A53,'All Running Order'!$A$6:$CZ$64,W$102,FALSE),\"\")","v":""},{"$f":"IFERROR(VLOOKUP($A53,'All Running Order'!$A$6:$CZ$64,X$102,FALSE),\"\")","v":""},{"$f":"IFERROR(VLOOKUP($A53,'All Running Order'!$A$6:$CZ$64,Y$102,FALSE),\"\")","v":""},{"$f":"IFERROR(VLOOKUP($A53,'All Running Order'!$A$6:$CZ$64,Z$102,FALSE),\"\")","v":""},{"$f":"IFERROR(VLOOKUP($A53,'All Running Order'!$A$6:$CZ$64,AA$102,FALSE),\"\")","v":""},{"$f":"IFERROR(VLOOKUP($A53,'All Running Order'!$A$6:$CZ$64,AB$102,FALSE),\"\")","v":""},{"$f":"IFERROR(VLOOKUP($A53,'All Running Order'!$A$6:$CZ$64,AC$102,FALSE),\"\")","v":""},{"$f":"IFERROR(VLOOKUP($A53,'All Running Order'!$A$6:$CZ$64,AD$102,FALSE),\"\")","v":""},{"$f":"IFERROR(VLOOKUP($A53,'All Running Order'!$A$6:$CZ$64,AE$102,FALSE),\"\")","v":""},{"$f":"IFERROR(VLOOKUP($A53,'All Running Order'!$A$6:$CZ$64,AF$102,FALSE),\"\")","v":""},{"$f":"IFERROR(VLOOKUP($A53,'All Running Order'!$A$6:$CZ$64,AG$102,FALSE),\"\")","v":""},{"$f":"IFERROR(VLOOKUP($A53,'All Running Order'!$A$6:$CZ$64,AH$102,FALSE),\"\")","v":""},{"$f":"IFERROR(VLOOKUP($A53,'All Running Order'!$A$6:$CZ$64,AI$102,FALSE),\"\")","v":""},{"$f":"IFERROR(VLOOKUP($A53,'All Running Order'!$A$6:$CZ$64,AJ$102,FALSE),\"\")","v":""},{"$f":"IFERROR(VLOOKUP($A53,'All Running Order'!$A$6:$CZ$64,AK$102,FALSE),\"\")","v":""},{"$f":"IFERROR(VLOOKUP($A53,'All Running Order'!$A$6:$CZ$64,AL$102,FALSE),\"\")","v":""},{"$f":"IFERROR(VLOOKUP($A53,'All Running Order'!$A$6:$CZ$64,AM$102,FALSE),\"\")","v":""},{"$f":"IFERROR(VLOOKUP($A53,'All Running Order'!$A$6:$CZ$64,AN$102,FALSE),\"\")","v":""},{"$f":"IFERROR(VLOOKUP($A53,'All Running Order'!$A$6:$CZ$64,AO$102,FALSE),\"\")","v":""},{"$f":"IFERROR(VLOOKUP($A53,'All Running Order'!$A$6:$CZ$64,AP$102,FALSE),\"\")","v":""},{"$f":"IFERROR(VLOOKUP($A53,'All Running Order'!$A$6:$CZ$64,AQ$102,FALSE),\"\")","v":""},{"$f":"IFERROR(VLOOKUP($A53,'All Running Order'!$A$6:$CZ$64,AR$102,FALSE),\"\")","v":""},{"$f":"IFERROR(VLOOKUP($A53,'All Running Order'!$A$6:$CZ$64,AS$102,FALSE),\"\")","v":""},{"$f":"IFERROR(VLOOKUP($A53,'All Running Order'!$A$6:$CZ$64,AT$102,FALSE),\"\")","v":""},{"$f":"IFERROR(VLOOKUP($A53,'All Running Order'!$A$6:$CZ$64,AU$102,FALSE),\"\")","v":""},{"$f":"IFERROR(VLOOKUP($A53,'All Running Order'!$A$6:$CZ$64,AV$102,FALSE),\"\")","v":""},{"$f":"IFERROR(VLOOKUP($A53,'All Running Order'!$A$6:$CZ$64,AW$102,FALSE),\"\")","v":""},{"$f":"IFERROR(VLOOKUP($A53,'All Running Order'!$A$6:$CZ$64,AX$102,FALSE),\"\")","v":""},{"$f":"IFERROR(VLOOKUP($A53,'All Running Order'!$A$6:$CZ$64,AY$102,FALSE),\"\")","v":""},{"$f":"IFERROR(VLOOKUP($A53,'All Running Order'!$A$6:$CZ$64,AZ$102,FALSE),\"\")","v":""},{"$f":"IFERROR(VLOOKUP($A53,'All Running Order'!$A$6:$CZ$64,BA$102,FALSE),\"\")","v":""},{"$f":"IFERROR(VLOOKUP($A53,'All Running Order'!$A$6:$CZ$64,BB$102,FALSE),\"\")","v":""},{"$f":"IFERROR(VLOOKUP($A53,'All Running Order'!$A$6:$CZ$64,BC$102,FALSE),\"\")","v":""},{"$f":"IFERROR(VLOOKUP($A53,'All Running Order'!$A$6:$CZ$64,BD$102,FALSE),\"\")","v":""},{"$f":"IFERROR(VLOOKUP($A53,'All Running Order'!$A$6:$CZ$64,BE$102,FALSE),\"\")","v":""},{"$f":"IFERROR(VLOOKUP($A53,'All Running Order'!$A$6:$CZ$64,BF$102,FALSE),\"\")","v":""},{"$f":"IFERROR(VLOOKUP($A53,'All Running Order'!$A$6:$CZ$64,BG$102,FALSE),\"\")","v":""},{"$f":"IFERROR(VLOOKUP($A53,'All Running Order'!$A$6:$CZ$64,BH$102,FALSE),\"\")","v":""},{"$f":"IFERROR(VLOOKUP($A53,'All Running Order'!$A$6:$CZ$64,BI$102,FALSE),\"\")","v":""},{"$f":"IFERROR(VLOOKUP($A53,'All Running Order'!$A$6:$CZ$64,BJ$102,FALSE),\"\")","v":""},{"$f":"IFERROR(VLOOKUP($A53,'All Running Order'!$A$6:$CZ$64,BK$102,FALSE),\"\")","v":""},{"$f":"IFERROR(VLOOKUP($A53,'All Running Order'!$A$6:$CZ$64,BL$102,FALSE),\"\")","v":""},{"$f":"IFERROR(VLOOKUP($A53,'All Running Order'!$A$6:$CZ$64,BM$102,FALSE),\"\")","v":""},{"$f":"IFERROR(VLOOKUP($A53,'All Running Order'!$A$6:$CZ$64,BN$102,FALSE),\"\")","v":""},{"$f":"IFERROR(VLOOKUP($A53,'All Running Order'!$A$6:$CZ$64,BO$102,FALSE),\"\")","v":""},{"$f":"IFERROR(VLOOKUP($A53,'All Running Order'!$A$6:$CZ$64,BP$102,FALSE),\"\")","v":""},{"$f":"IFERROR(VLOOKUP($A53,'All Running Order'!$A$6:$CZ$64,BQ$102,FALSE),\"\")","v":""},{"$f":"IFERROR(VLOOKUP($A53,'All Running Order'!$A$6:$CZ$64,BR$102,FALSE),\"\")","v":""},{"$f":"IFERROR(VLOOKUP($A53,'All Running Order'!$A$6:$CZ$64,BS$102,FALSE),\"\")","v":""},{"$f":"IFERROR(VLOOKUP($A53,'All Running Order'!$A$6:$CZ$64,BT$102,FALSE),\"\")","v":""},{"$f":"IFERROR(VLOOKUP($A53,'All Running Order'!$A$6:$CZ$64,BU$102,FALSE),\"\")","v":""},{"$f":"IFERROR(VLOOKUP($A53,'All Running Order'!$A$6:$CZ$64,BV$102,FALSE),\"\")","v":""},{"$f":"IFERROR(VLOOKUP($A53,'All Running Order'!$A$6:$CZ$64,BW$102,FALSE),\"\")","v":""},{"$f":"IFERROR(VLOOKUP($A53,'All Running Order'!$A$6:$CZ$64,BX$102,FALSE),\"\")","v":""},{"$f":"IFERROR(VLOOKUP($A53,'All Running Order'!$A$6:$CZ$64,BY$102,FALSE),\"\")","v":""},{"$f":"IFERROR(VLOOKUP($A53,'All Running Order'!$A$6:$CZ$64,BZ$102,FALSE),\"\")","v":""},{"$f":"IFERROR(VLOOKUP($A53,'All Running Order'!$A$6:$CZ$64,CA$102,FALSE),\"\")","v":""},{"$f":"IFERROR(VLOOKUP($A53,'All Running Order'!$A$6:$CZ$64,CB$102,FALSE),\"\")","v":""},{"$f":"IFERROR(VLOOKUP($A53,'All Running Order'!$A$6:$CZ$64,CC$102,FALSE),\"\")","v":""},{"$f":"IFERROR(VLOOKUP($A53,'All Running Order'!$A$6:$CZ$64,CD$102,FALSE),\"\")","v":""},{"$f":"IFERROR(VLOOKUP($A53,'All Running Order'!$A$6:$CZ$64,CE$102,FALSE),\"\")","v":""},{"$f":"IFERROR(VLOOKUP($A53,'All Running Order'!$A$6:$CZ$64,CF$102,FALSE),\"\")","v":""},{"$f":"IFERROR(VLOOKUP($A53,'All Running Order'!$A$6:$CZ$64,CG$102,FALSE),\"\")","v":""},{"$f":"IFERROR(VLOOKUP($A53,'All Running Order'!$A$6:$CZ$64,CH$102,FALSE),\"\")","v":""},{"$f":"IFERROR(VLOOKUP($A53,'All Running Order'!$A$6:$CZ$64,CI$102,FALSE),\"\")","v":""},{"$f":"IFERROR(VLOOKUP($A53,'All Running Order'!$A$6:$CZ$64,CJ$102,FALSE),\"\")","v":""},{"$f":"IFERROR(VLOOKUP($A53,'All Running Order'!$A$6:$CZ$64,CK$102,FALSE),\"\")","v":""},{"$f":"IFERROR(VLOOKUP($A53,'All Running Order'!$A$6:$CZ$64,CL$102,FALSE),\"\")","v":""},{"$f":"IFERROR(VLOOKUP($A53,'All Running Order'!$A$6:$CZ$64,CM$102,FALSE),\"\")","v":""},{"$f":"IFERROR(VLOOKUP($A53,'All Running Order'!$A$6:$CZ$64,CN$102,FALSE),\"\")","v":""},{"$f":"IFERROR(VLOOKUP($A53,'All Running Order'!$A$6:$CZ$64,CO$102,FALSE),\"\")","v":""},{"$f":"IFERROR(VLOOKUP($A53,'All Running Order'!$A$6:$CZ$64,CP$102,FALSE),\"\")","v":""},{"$f":"IFERROR(VLOOKUP($A53,'All Running Order'!$A$6:$CZ$64,CQ$102,FALSE),\"\")","v":""},{"$f":"IFERROR(VLOOKUP($A53,'All Running Order'!$A$6:$CZ$64,CR$102,FALSE),\"\")","v":""},{"$f":"IFERROR(VLOOKUP($A53,'All Running Order'!$A$6:$CZ$64,CS$102,FALSE),\"\")","v":""},{"$f":"IFERROR(VLOOKUP($A53,'All Running Order'!$A$6:$CZ$64,CT$102,FALSE),\"\")","v":""},{"$f":"IFERROR(VLOOKUP($A53,'All Running Order'!$A$6:$CZ$64,CU$102,FALSE),\"\")","v":""},{"$f":"IFERROR(VLOOKUP($A53,'All Running Order'!$A$6:$CZ$64,CV$102,FALSE),\"\")","v":""},{"$f":"IFERROR(VLOOKUP($A53,'All Running Order'!$A$6:$CZ$64,CW$102,FALSE),\"\")","v":""},{"$f":"IFERROR(VLOOKUP($A53,'All Running Order'!$A$6:$CZ$64,CX$102,FALSE),\"\")","v":""},{"$f":"IFERROR(VLOOKUP($A53,'All Running Order'!$A$6:$CZ$64,CY$102,FALSE),\"\")","v":""},{"$f":"IFERROR(VLOOKUP($A53,'All Running Order'!$A$6:$CZ$64,CZ$102,FALSE),\"\")","v":""}]
[49,{"$f":"IFERROR(VLOOKUP($A54,'All Running Order'!$A$6:$CZ$64,B$102,FALSE),\"\")","v":""},{"$f":"IFERROR(VLOOKUP($A54,'All Running Order'!$A$6:$CZ$64,C$102,FALSE),\"\")","v":""},{"$f":"IFERROR(VLOOKUP($A54,'All Running Order'!$A$6:$CZ$64,D$102,FALSE),\"\")","v":""},{"$f":"IFERROR(VLOOKUP($A54,'All Running Order'!$A$6:$CZ$64,E$102,FALSE),\"\")","v":""},{"$f":"IFERROR(VLOOKUP($A54,'All Running Order'!$A$6:$CZ$64,F$102,FALSE),\"\")","v":""},{"$f":"IFERROR(VLOOKUP($A54,'All Running Order'!$A$6:$CZ$64,G$102,FALSE),\"\")","v":""},{"$f":"IFERROR(VLOOKUP($A54,'All Running Order'!$A$6:$CZ$64,H$102,FALSE),\"\")","v":""},{"$f":"IFERROR(VLOOKUP($A54,'All Running Order'!$A$6:$CZ$64,I$102,FALSE),\"\")","v":""},{"$f":"IFERROR(VLOOKUP($A54,'All Running Order'!$A$6:$CZ$64,J$102,FALSE),\"\")","v":""},{"$f":"IFERROR(VLOOKUP($A54,'All Running Order'!$A$6:$CZ$64,K$102,FALSE),\"\")","v":""},{"$f":"IFERROR(VLOOKUP($A54,'All Running Order'!$A$6:$CZ$64,L$102,FALSE),\"\")","v":""},{"$f":"IFERROR(VLOOKUP($A54,'All Running Order'!$A$6:$CZ$64,M$102,FALSE),\"\")","v":""},{"$f":"IFERROR(VLOOKUP($A54,'All Running Order'!$A$6:$CZ$64,N$102,FALSE),\"\")","v":""},{"$f":"IFERROR(VLOOKUP($A54,'All Running Order'!$A$6:$CZ$64,O$102,FALSE),\"\")","v":""},{"$f":"IFERROR(VLOOKUP($A54,'All Running Order'!$A$6:$CZ$64,P$102,FALSE),\"\")","v":""},{"$f":"IFERROR(VLOOKUP($A54,'All Running Order'!$A$6:$CZ$64,Q$102,FALSE),\"\")","v":""},{"$f":"IFERROR(VLOOKUP($A54,'All Running Order'!$A$6:$CZ$64,R$102,FALSE),\"\")","v":""},{"$f":"IFERROR(VLOOKUP($A54,'All Running Order'!$A$6:$CZ$64,S$102,FALSE),\"\")","v":""},{"$f":"IFERROR(VLOOKUP($A54,'All Running Order'!$A$6:$CZ$64,T$102,FALSE),\"\")","v":""},{"$f":"IFERROR(VLOOKUP($A54,'All Running Order'!$A$6:$CZ$64,U$102,FALSE),\"\")","v":""},{"$f":"IFERROR(VLOOKUP($A54,'All Running Order'!$A$6:$CZ$64,V$102,FALSE),\"\")","v":""},{"$f":"IFERROR(VLOOKUP($A54,'All Running Order'!$A$6:$CZ$64,W$102,FALSE),\"\")","v":""},{"$f":"IFERROR(VLOOKUP($A54,'All Running Order'!$A$6:$CZ$64,X$102,FALSE),\"\")","v":""},{"$f":"IFERROR(VLOOKUP($A54,'All Running Order'!$A$6:$CZ$64,Y$102,FALSE),\"\")","v":""},{"$f":"IFERROR(VLOOKUP($A54,'All Running Order'!$A$6:$CZ$64,Z$102,FALSE),\"\")","v":""},{"$f":"IFERROR(VLOOKUP($A54,'All Running Order'!$A$6:$CZ$64,AA$102,FALSE),\"\")","v":""},{"$f":"IFERROR(VLOOKUP($A54,'All Running Order'!$A$6:$CZ$64,AB$102,FALSE),\"\")","v":""},{"$f":"IFERROR(VLOOKUP($A54,'All Running Order'!$A$6:$CZ$64,AC$102,FALSE),\"\")","v":""},{"$f":"IFERROR(VLOOKUP($A54,'All Running Order'!$A$6:$CZ$64,AD$102,FALSE),\"\")","v":""},{"$f":"IFERROR(VLOOKUP($A54,'All Running Order'!$A$6:$CZ$64,AE$102,FALSE),\"\")","v":""},{"$f":"IFERROR(VLOOKUP($A54,'All Running Order'!$A$6:$CZ$64,AF$102,FALSE),\"\")","v":""},{"$f":"IFERROR(VLOOKUP($A54,'All Running Order'!$A$6:$CZ$64,AG$102,FALSE),\"\")","v":""},{"$f":"IFERROR(VLOOKUP($A54,'All Running Order'!$A$6:$CZ$64,AH$102,FALSE),\"\")","v":""},{"$f":"IFERROR(VLOOKUP($A54,'All Running Order'!$A$6:$CZ$64,AI$102,FALSE),\"\")","v":""},{"$f":"IFERROR(VLOOKUP($A54,'All Running Order'!$A$6:$CZ$64,AJ$102,FALSE),\"\")","v":""},{"$f":"IFERROR(VLOOKUP($A54,'All Running Order'!$A$6:$CZ$64,AK$102,FALSE),\"\")","v":""},{"$f":"IFERROR(VLOOKUP($A54,'All Running Order'!$A$6:$CZ$64,AL$102,FALSE),\"\")","v":""},{"$f":"IFERROR(VLOOKUP($A54,'All Running Order'!$A$6:$CZ$64,AM$102,FALSE),\"\")","v":""},{"$f":"IFERROR(VLOOKUP($A54,'All Running Order'!$A$6:$CZ$64,AN$102,FALSE),\"\")","v":""},{"$f":"IFERROR(VLOOKUP($A54,'All Running Order'!$A$6:$CZ$64,AO$102,FALSE),\"\")","v":""},{"$f":"IFERROR(VLOOKUP($A54,'All Running Order'!$A$6:$CZ$64,AP$102,FALSE),\"\")","v":""},{"$f":"IFERROR(VLOOKUP($A54,'All Running Order'!$A$6:$CZ$64,AQ$102,FALSE),\"\")","v":""},{"$f":"IFERROR(VLOOKUP($A54,'All Running Order'!$A$6:$CZ$64,AR$102,FALSE),\"\")","v":""},{"$f":"IFERROR(VLOOKUP($A54,'All Running Order'!$A$6:$CZ$64,AS$102,FALSE),\"\")","v":""},{"$f":"IFERROR(VLOOKUP($A54,'All Running Order'!$A$6:$CZ$64,AT$102,FALSE),\"\")","v":""},{"$f":"IFERROR(VLOOKUP($A54,'All Running Order'!$A$6:$CZ$64,AU$102,FALSE),\"\")","v":""},{"$f":"IFERROR(VLOOKUP($A54,'All Running Order'!$A$6:$CZ$64,AV$102,FALSE),\"\")","v":""},{"$f":"IFERROR(VLOOKUP($A54,'All Running Order'!$A$6:$CZ$64,AW$102,FALSE),\"\")","v":""},{"$f":"IFERROR(VLOOKUP($A54,'All Running Order'!$A$6:$CZ$64,AX$102,FALSE),\"\")","v":""},{"$f":"IFERROR(VLOOKUP($A54,'All Running Order'!$A$6:$CZ$64,AY$102,FALSE),\"\")","v":""},{"$f":"IFERROR(VLOOKUP($A54,'All Running Order'!$A$6:$CZ$64,AZ$102,FALSE),\"\")","v":""},{"$f":"IFERROR(VLOOKUP($A54,'All Running Order'!$A$6:$CZ$64,BA$102,FALSE),\"\")","v":""},{"$f":"IFERROR(VLOOKUP($A54,'All Running Order'!$A$6:$CZ$64,BB$102,FALSE),\"\")","v":""},{"$f":"IFERROR(VLOOKUP($A54,'All Running Order'!$A$6:$CZ$64,BC$102,FALSE),\"\")","v":""},{"$f":"IFERROR(VLOOKUP($A54,'All Running Order'!$A$6:$CZ$64,BD$102,FALSE),\"\")","v":""},{"$f":"IFERROR(VLOOKUP($A54,'All Running Order'!$A$6:$CZ$64,BE$102,FALSE),\"\")","v":""},{"$f":"IFERROR(VLOOKUP($A54,'All Running Order'!$A$6:$CZ$64,BF$102,FALSE),\"\")","v":""},{"$f":"IFERROR(VLOOKUP($A54,'All Running Order'!$A$6:$CZ$64,BG$102,FALSE),\"\")","v":""},{"$f":"IFERROR(VLOOKUP($A54,'All Running Order'!$A$6:$CZ$64,BH$102,FALSE),\"\")","v":""},{"$f":"IFERROR(VLOOKUP($A54,'All Running Order'!$A$6:$CZ$64,BI$102,FALSE),\"\")","v":""},{"$f":"IFERROR(VLOOKUP($A54,'All Running Order'!$A$6:$CZ$64,BJ$102,FALSE),\"\")","v":""},{"$f":"IFERROR(VLOOKUP($A54,'All Running Order'!$A$6:$CZ$64,BK$102,FALSE),\"\")","v":""},{"$f":"IFERROR(VLOOKUP($A54,'All Running Order'!$A$6:$CZ$64,BL$102,FALSE),\"\")","v":""},{"$f":"IFERROR(VLOOKUP($A54,'All Running Order'!$A$6:$CZ$64,BM$102,FALSE),\"\")","v":""},{"$f":"IFERROR(VLOOKUP($A54,'All Running Order'!$A$6:$CZ$64,BN$102,FALSE),\"\")","v":""},{"$f":"IFERROR(VLOOKUP($A54,'All Running Order'!$A$6:$CZ$64,BO$102,FALSE),\"\")","v":""},{"$f":"IFERROR(VLOOKUP($A54,'All Running Order'!$A$6:$CZ$64,BP$102,FALSE),\"\")","v":""},{"$f":"IFERROR(VLOOKUP($A54,'All Running Order'!$A$6:$CZ$64,BQ$102,FALSE),\"\")","v":""},{"$f":"IFERROR(VLOOKUP($A54,'All Running Order'!$A$6:$CZ$64,BR$102,FALSE),\"\")","v":""},{"$f":"IFERROR(VLOOKUP($A54,'All Running Order'!$A$6:$CZ$64,BS$102,FALSE),\"\")","v":""},{"$f":"IFERROR(VLOOKUP($A54,'All Running Order'!$A$6:$CZ$64,BT$102,FALSE),\"\")","v":""},{"$f":"IFERROR(VLOOKUP($A54,'All Running Order'!$A$6:$CZ$64,BU$102,FALSE),\"\")","v":""},{"$f":"IFERROR(VLOOKUP($A54,'All Running Order'!$A$6:$CZ$64,BV$102,FALSE),\"\")","v":""},{"$f":"IFERROR(VLOOKUP($A54,'All Running Order'!$A$6:$CZ$64,BW$102,FALSE),\"\")","v":""},{"$f":"IFERROR(VLOOKUP($A54,'All Running Order'!$A$6:$CZ$64,BX$102,FALSE),\"\")","v":""},{"$f":"IFERROR(VLOOKUP($A54,'All Running Order'!$A$6:$CZ$64,BY$102,FALSE),\"\")","v":""},{"$f":"IFERROR(VLOOKUP($A54,'All Running Order'!$A$6:$CZ$64,BZ$102,FALSE),\"\")","v":""},{"$f":"IFERROR(VLOOKUP($A54,'All Running Order'!$A$6:$CZ$64,CA$102,FALSE),\"\")","v":""},{"$f":"IFERROR(VLOOKUP($A54,'All Running Order'!$A$6:$CZ$64,CB$102,FALSE),\"\")","v":""},{"$f":"IFERROR(VLOOKUP($A54,'All Running Order'!$A$6:$CZ$64,CC$102,FALSE),\"\")","v":""},{"$f":"IFERROR(VLOOKUP($A54,'All Running Order'!$A$6:$CZ$64,CD$102,FALSE),\"\")","v":""},{"$f":"IFERROR(VLOOKUP($A54,'All Running Order'!$A$6:$CZ$64,CE$102,FALSE),\"\")","v":""},{"$f":"IFERROR(VLOOKUP($A54,'All Running Order'!$A$6:$CZ$64,CF$102,FALSE),\"\")","v":""},{"$f":"IFERROR(VLOOKUP($A54,'All Running Order'!$A$6:$CZ$64,CG$102,FALSE),\"\")","v":""},{"$f":"IFERROR(VLOOKUP($A54,'All Running Order'!$A$6:$CZ$64,CH$102,FALSE),\"\")","v":""},{"$f":"IFERROR(VLOOKUP($A54,'All Running Order'!$A$6:$CZ$64,CI$102,FALSE),\"\")","v":""},{"$f":"IFERROR(VLOOKUP($A54,'All Running Order'!$A$6:$CZ$64,CJ$102,FALSE),\"\")","v":""},{"$f":"IFERROR(VLOOKUP($A54,'All Running Order'!$A$6:$CZ$64,CK$102,FALSE),\"\")","v":""},{"$f":"IFERROR(VLOOKUP($A54,'All Running Order'!$A$6:$CZ$64,CL$102,FALSE),\"\")","v":""},{"$f":"IFERROR(VLOOKUP($A54,'All Running Order'!$A$6:$CZ$64,CM$102,FALSE),\"\")","v":""},{"$f":"IFERROR(VLOOKUP($A54,'All Running Order'!$A$6:$CZ$64,CN$102,FALSE),\"\")","v":""},{"$f":"IFERROR(VLOOKUP($A54,'All Running Order'!$A$6:$CZ$64,CO$102,FALSE),\"\")","v":""},{"$f":"IFERROR(VLOOKUP($A54,'All Running Order'!$A$6:$CZ$64,CP$102,FALSE),\"\")","v":""},{"$f":"IFERROR(VLOOKUP($A54,'All Running Order'!$A$6:$CZ$64,CQ$102,FALSE),\"\")","v":""},{"$f":"IFERROR(VLOOKUP($A54,'All Running Order'!$A$6:$CZ$64,CR$102,FALSE),\"\")","v":""},{"$f":"IFERROR(VLOOKUP($A54,'All Running Order'!$A$6:$CZ$64,CS$102,FALSE),\"\")","v":""},{"$f":"IFERROR(VLOOKUP($A54,'All Running Order'!$A$6:$CZ$64,CT$102,FALSE),\"\")","v":""},{"$f":"IFERROR(VLOOKUP($A54,'All Running Order'!$A$6:$CZ$64,CU$102,FALSE),\"\")","v":""},{"$f":"IFERROR(VLOOKUP($A54,'All Running Order'!$A$6:$CZ$64,CV$102,FALSE),\"\")","v":""},{"$f":"IFERROR(VLOOKUP($A54,'All Running Order'!$A$6:$CZ$64,CW$102,FALSE),\"\")","v":""},{"$f":"IFERROR(VLOOKUP($A54,'All Running Order'!$A$6:$CZ$64,CX$102,FALSE),\"\")","v":""},{"$f":"IFERROR(VLOOKUP($A54,'All Running Order'!$A$6:$CZ$64,CY$102,FALSE),\"\")","v":""},{"$f":"IFERROR(VLOOKUP($A54,'All Running Order'!$A$6:$CZ$64,CZ$102,FALSE),\"\")","v":""}]
[50,{"$f":"IFERROR(VLOOKUP($A55,'All Running Order'!$A$6:$CZ$64,B$102,FALSE),\"\")","v":""},{"$f":"IFERROR(VLOOKUP($A55,'All Running Order'!$A$6:$CZ$64,C$102,FALSE),\"\")","v":""},{"$f":"IFERROR(VLOOKUP($A55,'All Running Order'!$A$6:$CZ$64,D$102,FALSE),\"\")","v":""},{"$f":"IFERROR(VLOOKUP($A55,'All Running Order'!$A$6:$CZ$64,E$102,FALSE),\"\")","v":""},{"$f":"IFERROR(VLOOKUP($A55,'All Running Order'!$A$6:$CZ$64,F$102,FALSE),\"\")","v":""},{"$f":"IFERROR(VLOOKUP($A55,'All Running Order'!$A$6:$CZ$64,G$102,FALSE),\"\")","v":""},{"$f":"IFERROR(VLOOKUP($A55,'All Running Order'!$A$6:$CZ$64,H$102,FALSE),\"\")","v":""},{"$f":"IFERROR(VLOOKUP($A55,'All Running Order'!$A$6:$CZ$64,I$102,FALSE),\"\")","v":""},{"$f":"IFERROR(VLOOKUP($A55,'All Running Order'!$A$6:$CZ$64,J$102,FALSE),\"\")","v":""},{"$f":"IFERROR(VLOOKUP($A55,'All Running Order'!$A$6:$CZ$64,K$102,FALSE),\"\")","v":""},{"$f":"IFERROR(VLOOKUP($A55,'All Running Order'!$A$6:$CZ$64,L$102,FALSE),\"\")","v":""},{"$f":"IFERROR(VLOOKUP($A55,'All Running Order'!$A$6:$CZ$64,M$102,FALSE),\"\")","v":""},{"$f":"IFERROR(VLOOKUP($A55,'All Running Order'!$A$6:$CZ$64,N$102,FALSE),\"\")","v":""},{"$f":"IFERROR(VLOOKUP($A55,'All Running Order'!$A$6:$CZ$64,O$102,FALSE),\"\")","v":""},{"$f":"IFERROR(VLOOKUP($A55,'All Running Order'!$A$6:$CZ$64,P$102,FALSE),\"\")","v":""},{"$f":"IFERROR(VLOOKUP($A55,'All Running Order'!$A$6:$CZ$64,Q$102,FALSE),\"\")","v":""},{"$f":"IFERROR(VLOOKUP($A55,'All Running Order'!$A$6:$CZ$64,R$102,FALSE),\"\")","v":""},{"$f":"IFERROR(VLOOKUP($A55,'All Running Order'!$A$6:$CZ$64,S$102,FALSE),\"\")","v":""},{"$f":"IFERROR(VLOOKUP($A55,'All Running Order'!$A$6:$CZ$64,T$102,FALSE),\"\")","v":""},{"$f":"IFERROR(VLOOKUP($A55,'All Running Order'!$A$6:$CZ$64,U$102,FALSE),\"\")","v":""},{"$f":"IFERROR(VLOOKUP($A55,'All Running Order'!$A$6:$CZ$64,V$102,FALSE),\"\")","v":""},{"$f":"IFERROR(VLOOKUP($A55,'All Running Order'!$A$6:$CZ$64,W$102,FALSE),\"\")","v":""},{"$f":"IFERROR(VLOOKUP($A55,'All Running Order'!$A$6:$CZ$64,X$102,FALSE),\"\")","v":""},{"$f":"IFERROR(VLOOKUP($A55,'All Running Order'!$A$6:$CZ$64,Y$102,FALSE),\"\")","v":""},{"$f":"IFERROR(VLOOKUP($A55,'All Running Order'!$A$6:$CZ$64,Z$102,FALSE),\"\")","v":""},{"$f":"IFERROR(VLOOKUP($A55,'All Running Order'!$A$6:$CZ$64,AA$102,FALSE),\"\")","v":""},{"$f":"IFERROR(VLOOKUP($A55,'All Running Order'!$A$6:$CZ$64,AB$102,FALSE),\"\")","v":""},{"$f":"IFERROR(VLOOKUP($A55,'All Running Order'!$A$6:$CZ$64,AC$102,FALSE),\"\")","v":""},{"$f":"IFERROR(VLOOKUP($A55,'All Running Order'!$A$6:$CZ$64,AD$102,FALSE),\"\")","v":""},{"$f":"IFERROR(VLOOKUP($A55,'All Running Order'!$A$6:$CZ$64,AE$102,FALSE),\"\")","v":""},{"$f":"IFERROR(VLOOKUP($A55,'All Running Order'!$A$6:$CZ$64,AF$102,FALSE),\"\")","v":""},{"$f":"IFERROR(VLOOKUP($A55,'All Running Order'!$A$6:$CZ$64,AG$102,FALSE),\"\")","v":""},{"$f":"IFERROR(VLOOKUP($A55,'All Running Order'!$A$6:$CZ$64,AH$102,FALSE),\"\")","v":""},{"$f":"IFERROR(VLOOKUP($A55,'All Running Order'!$A$6:$CZ$64,AI$102,FALSE),\"\")","v":""},{"$f":"IFERROR(VLOOKUP($A55,'All Running Order'!$A$6:$CZ$64,AJ$102,FALSE),\"\")","v":""},{"$f":"IFERROR(VLOOKUP($A55,'All Running Order'!$A$6:$CZ$64,AK$102,FALSE),\"\")","v":""},{"$f":"IFERROR(VLOOKUP($A55,'All Running Order'!$A$6:$CZ$64,AL$102,FALSE),\"\")","v":""},{"$f":"IFERROR(VLOOKUP($A55,'All Running Order'!$A$6:$CZ$64,AM$102,FALSE),\"\")","v":""},{"$f":"IFERROR(VLOOKUP($A55,'All Running Order'!$A$6:$CZ$64,AN$102,FALSE),\"\")","v":""},{"$f":"IFERROR(VLOOKUP($A55,'All Running Order'!$A$6:$CZ$64,AO$102,FALSE),\"\")","v":""},{"$f":"IFERROR(VLOOKUP($A55,'All Running Order'!$A$6:$CZ$64,AP$102,FALSE),\"\")","v":""},{"$f":"IFERROR(VLOOKUP($A55,'All Running Order'!$A$6:$CZ$64,AQ$102,FALSE),\"\")","v":""},{"$f":"IFERROR(VLOOKUP($A55,'All Running Order'!$A$6:$CZ$64,AR$102,FALSE),\"\")","v":""},{"$f":"IFERROR(VLOOKUP($A55,'All Running Order'!$A$6:$CZ$64,AS$102,FALSE),\"\")","v":""},{"$f":"IFERROR(VLOOKUP($A55,'All Running Order'!$A$6:$CZ$64,AT$102,FALSE),\"\")","v":""},{"$f":"IFERROR(VLOOKUP($A55,'All Running Order'!$A$6:$CZ$64,AU$102,FALSE),\"\")","v":""},{"$f":"IFERROR(VLOOKUP($A55,'All Running Order'!$A$6:$CZ$64,AV$102,FALSE),\"\")","v":""},{"$f":"IFERROR(VLOOKUP($A55,'All Running Order'!$A$6:$CZ$64,AW$102,FALSE),\"\")","v":""},{"$f":"IFERROR(VLOOKUP($A55,'All Running Order'!$A$6:$CZ$64,AX$102,FALSE),\"\")","v":""},{"$f":"IFERROR(VLOOKUP($A55,'All Running Order'!$A$6:$CZ$64,AY$102,FALSE),\"\")","v":""},{"$f":"IFERROR(VLOOKUP($A55,'All Running Order'!$A$6:$CZ$64,AZ$102,FALSE),\"\")","v":""},{"$f":"IFERROR(VLOOKUP($A55,'All Running Order'!$A$6:$CZ$64,BA$102,FALSE),\"\")","v":""},{"$f":"IFERROR(VLOOKUP($A55,'All Running Order'!$A$6:$CZ$64,BB$102,FALSE),\"\")","v":""},{"$f":"IFERROR(VLOOKUP($A55,'All Running Order'!$A$6:$CZ$64,BC$102,FALSE),\"\")","v":""},{"$f":"IFERROR(VLOOKUP($A55,'All Running Order'!$A$6:$CZ$64,BD$102,FALSE),\"\")","v":""},{"$f":"IFERROR(VLOOKUP($A55,'All Running Order'!$A$6:$CZ$64,BE$102,FALSE),\"\")","v":""},{"$f":"IFERROR(VLOOKUP($A55,'All Running Order'!$A$6:$CZ$64,BF$102,FALSE),\"\")","v":""},{"$f":"IFERROR(VLOOKUP($A55,'All Running Order'!$A$6:$CZ$64,BG$102,FALSE),\"\")","v":""},{"$f":"IFERROR(VLOOKUP($A55,'All Running Order'!$A$6:$CZ$64,BH$102,FALSE),\"\")","v":""},{"$f":"IFERROR(VLOOKUP($A55,'All Running Order'!$A$6:$CZ$64,BI$102,FALSE),\"\")","v":""},{"$f":"IFERROR(VLOOKUP($A55,'All Running Order'!$A$6:$CZ$64,BJ$102,FALSE),\"\")","v":""},{"$f":"IFERROR(VLOOKUP($A55,'All Running Order'!$A$6:$CZ$64,BK$102,FALSE),\"\")","v":""},{"$f":"IFERROR(VLOOKUP($A55,'All Running Order'!$A$6:$CZ$64,BL$102,FALSE),\"\")","v":""},{"$f":"IFERROR(VLOOKUP($A55,'All Running Order'!$A$6:$CZ$64,BM$102,FALSE),\"\")","v":""},{"$f":"IFERROR(VLOOKUP($A55,'All Running Order'!$A$6:$CZ$64,BN$102,FALSE),\"\")","v":""},{"$f":"IFERROR(VLOOKUP($A55,'All Running Order'!$A$6:$CZ$64,BO$102,FALSE),\"\")","v":""},{"$f":"IFERROR(VLOOKUP($A55,'All Running Order'!$A$6:$CZ$64,BP$102,FALSE),\"\")","v":""},{"$f":"IFERROR(VLOOKUP($A55,'All Running Order'!$A$6:$CZ$64,BQ$102,FALSE),\"\")","v":""},{"$f":"IFERROR(VLOOKUP($A55,'All Running Order'!$A$6:$CZ$64,BR$102,FALSE),\"\")","v":""},{"$f":"IFERROR(VLOOKUP($A55,'All Running Order'!$A$6:$CZ$64,BS$102,FALSE),\"\")","v":""},{"$f":"IFERROR(VLOOKUP($A55,'All Running Order'!$A$6:$CZ$64,BT$102,FALSE),\"\")","v":""},{"$f":"IFERROR(VLOOKUP($A55,'All Running Order'!$A$6:$CZ$64,BU$102,FALSE),\"\")","v":""},{"$f":"IFERROR(VLOOKUP($A55,'All Running Order'!$A$6:$CZ$64,BV$102,FALSE),\"\")","v":""},{"$f":"IFERROR(VLOOKUP($A55,'All Running Order'!$A$6:$CZ$64,BW$102,FALSE),\"\")","v":""},{"$f":"IFERROR(VLOOKUP($A55,'All Running Order'!$A$6:$CZ$64,BX$102,FALSE),\"\")","v":""},{"$f":"IFERROR(VLOOKUP($A55,'All Running Order'!$A$6:$CZ$64,BY$102,FALSE),\"\")","v":""},{"$f":"IFERROR(VLOOKUP($A55,'All Running Order'!$A$6:$CZ$64,BZ$102,FALSE),\"\")","v":""},{"$f":"IFERROR(VLOOKUP($A55,'All Running Order'!$A$6:$CZ$64,CA$102,FALSE),\"\")","v":""},{"$f":"IFERROR(VLOOKUP($A55,'All Running Order'!$A$6:$CZ$64,CB$102,FALSE),\"\")","v":""},{"$f":"IFERROR(VLOOKUP($A55,'All Running Order'!$A$6:$CZ$64,CC$102,FALSE),\"\")","v":""},{"$f":"IFERROR(VLOOKUP($A55,'All Running Order'!$A$6:$CZ$64,CD$102,FALSE),\"\")","v":""},{"$f":"IFERROR(VLOOKUP($A55,'All Running Order'!$A$6:$CZ$64,CE$102,FALSE),\"\")","v":""},{"$f":"IFERROR(VLOOKUP($A55,'All Running Order'!$A$6:$CZ$64,CF$102,FALSE),\"\")","v":""},{"$f":"IFERROR(VLOOKUP($A55,'All Running Order'!$A$6:$CZ$64,CG$102,FALSE),\"\")","v":""},{"$f":"IFERROR(VLOOKUP($A55,'All Running Order'!$A$6:$CZ$64,CH$102,FALSE),\"\")","v":""},{"$f":"IFERROR(VLOOKUP($A55,'All Running Order'!$A$6:$CZ$64,CI$102,FALSE),\"\")","v":""},{"$f":"IFERROR(VLOOKUP($A55,'All Running Order'!$A$6:$CZ$64,CJ$102,FALSE),\"\")","v":""},{"$f":"IFERROR(VLOOKUP($A55,'All Running Order'!$A$6:$CZ$64,CK$102,FALSE),\"\")","v":""},{"$f":"IFERROR(VLOOKUP($A55,'All Running Order'!$A$6:$CZ$64,CL$102,FALSE),\"\")","v":""},{"$f":"IFERROR(VLOOKUP($A55,'All Running Order'!$A$6:$CZ$64,CM$102,FALSE),\"\")","v":""},{"$f":"IFERROR(VLOOKUP($A55,'All Running Order'!$A$6:$CZ$64,CN$102,FALSE),\"\")","v":""},{"$f":"IFERROR(VLOOKUP($A55,'All Running Order'!$A$6:$CZ$64,CO$102,FALSE),\"\")","v":""},{"$f":"IFERROR(VLOOKUP($A55,'All Running Order'!$A$6:$CZ$64,CP$102,FALSE),\"\")","v":""},{"$f":"IFERROR(VLOOKUP($A55,'All Running Order'!$A$6:$CZ$64,CQ$102,FALSE),\"\")","v":""},{"$f":"IFERROR(VLOOKUP($A55,'All Running Order'!$A$6:$CZ$64,CR$102,FALSE),\"\")","v":""},{"$f":"IFERROR(VLOOKUP($A55,'All Running Order'!$A$6:$CZ$64,CS$102,FALSE),\"\")","v":""},{"$f":"IFERROR(VLOOKUP($A55,'All Running Order'!$A$6:$CZ$64,CT$102,FALSE),\"\")","v":""},{"$f":"IFERROR(VLOOKUP($A55,'All Running Order'!$A$6:$CZ$64,CU$102,FALSE),\"\")","v":""},{"$f":"IFERROR(VLOOKUP($A55,'All Running Order'!$A$6:$CZ$64,CV$102,FALSE),\"\")","v":""},{"$f":"IFERROR(VLOOKUP($A55,'All Running Order'!$A$6:$CZ$64,CW$102,FALSE),\"\")","v":""},{"$f":"IFERROR(VLOOKUP($A55,'All Running Order'!$A$6:$CZ$64,CX$102,FALSE),\"\")","v":""},{"$f":"IFERROR(VLOOKUP($A55,'All Running Order'!$A$6:$CZ$64,CY$102,FALSE),\"\")","v":""},{"$f":"IFERROR(VLOOKUP($A55,'All Running Order'!$A$6:$CZ$64,CZ$102,FALSE),\"\")","v":""}]
[51,{"$f":"IFERROR(VLOOKUP($A56,'All Running Order'!$A$6:$CZ$64,B$102,FALSE),\"\")","v":""},{"$f":"IFERROR(VLOOKUP($A56,'All Running Order'!$A$6:$CZ$64,C$102,FALSE),\"\")","v":""},{"$f":"IFERROR(VLOOKUP($A56,'All Running Order'!$A$6:$CZ$64,D$102,FALSE),\"\")","v":""},{"$f":"IFERROR(VLOOKUP($A56,'All Running Order'!$A$6:$CZ$64,E$102,FALSE),\"\")","v":""},{"$f":"IFERROR(VLOOKUP($A56,'All Running Order'!$A$6:$CZ$64,F$102,FALSE),\"\")","v":""},{"$f":"IFERROR(VLOOKUP($A56,'All Running Order'!$A$6:$CZ$64,G$102,FALSE),\"\")","v":""},{"$f":"IFERROR(VLOOKUP($A56,'All Running Order'!$A$6:$CZ$64,H$102,FALSE),\"\")","v":""},{"$f":"IFERROR(VLOOKUP($A56,'All Running Order'!$A$6:$CZ$64,I$102,FALSE),\"\")","v":""},{"$f":"IFERROR(VLOOKUP($A56,'All Running Order'!$A$6:$CZ$64,J$102,FALSE),\"\")","v":""},{"$f":"IFERROR(VLOOKUP($A56,'All Running Order'!$A$6:$CZ$64,K$102,FALSE),\"\")","v":""},{"$f":"IFERROR(VLOOKUP($A56,'All Running Order'!$A$6:$CZ$64,L$102,FALSE),\"\")","v":""},{"$f":"IFERROR(VLOOKUP($A56,'All Running Order'!$A$6:$CZ$64,M$102,FALSE),\"\")","v":""},{"$f":"IFERROR(VLOOKUP($A56,'All Running Order'!$A$6:$CZ$64,N$102,FALSE),\"\")","v":""},{"$f":"IFERROR(VLOOKUP($A56,'All Running Order'!$A$6:$CZ$64,O$102,FALSE),\"\")","v":""},{"$f":"IFERROR(VLOOKUP($A56,'All Running Order'!$A$6:$CZ$64,P$102,FALSE),\"\")","v":""},{"$f":"IFERROR(VLOOKUP($A56,'All Running Order'!$A$6:$CZ$64,Q$102,FALSE),\"\")","v":""},{"$f":"IFERROR(VLOOKUP($A56,'All Running Order'!$A$6:$CZ$64,R$102,FALSE),\"\")","v":""},{"$f":"IFERROR(VLOOKUP($A56,'All Running Order'!$A$6:$CZ$64,S$102,FALSE),\"\")","v":""},{"$f":"IFERROR(VLOOKUP($A56,'All Running Order'!$A$6:$CZ$64,T$102,FALSE),\"\")","v":""},{"$f":"IFERROR(VLOOKUP($A56,'All Running Order'!$A$6:$CZ$64,U$102,FALSE),\"\")","v":""},{"$f":"IFERROR(VLOOKUP($A56,'All Running Order'!$A$6:$CZ$64,V$102,FALSE),\"\")","v":""},{"$f":"IFERROR(VLOOKUP($A56,'All Running Order'!$A$6:$CZ$64,W$102,FALSE),\"\")","v":""},{"$f":"IFERROR(VLOOKUP($A56,'All Running Order'!$A$6:$CZ$64,X$102,FALSE),\"\")","v":""},{"$f":"IFERROR(VLOOKUP($A56,'All Running Order'!$A$6:$CZ$64,Y$102,FALSE),\"\")","v":""},{"$f":"IFERROR(VLOOKUP($A56,'All Running Order'!$A$6:$CZ$64,Z$102,FALSE),\"\")","v":""},{"$f":"IFERROR(VLOOKUP($A56,'All Running Order'!$A$6:$CZ$64,AA$102,FALSE),\"\")","v":""},{"$f":"IFERROR(VLOOKUP($A56,'All Running Order'!$A$6:$CZ$64,AB$102,FALSE),\"\")","v":""},{"$f":"IFERROR(VLOOKUP($A56,'All Running Order'!$A$6:$CZ$64,AC$102,FALSE),\"\")","v":""},{"$f":"IFERROR(VLOOKUP($A56,'All Running Order'!$A$6:$CZ$64,AD$102,FALSE),\"\")","v":""},{"$f":"IFERROR(VLOOKUP($A56,'All Running Order'!$A$6:$CZ$64,AE$102,FALSE),\"\")","v":""},{"$f":"IFERROR(VLOOKUP($A56,'All Running Order'!$A$6:$CZ$64,AF$102,FALSE),\"\")","v":""},{"$f":"IFERROR(VLOOKUP($A56,'All Running Order'!$A$6:$CZ$64,AG$102,FALSE),\"\")","v":""},{"$f":"IFERROR(VLOOKUP($A56,'All Running Order'!$A$6:$CZ$64,AH$102,FALSE),\"\")","v":""},{"$f":"IFERROR(VLOOKUP($A56,'All Running Order'!$A$6:$CZ$64,AI$102,FALSE),\"\")","v":""},{"$f":"IFERROR(VLOOKUP($A56,'All Running Order'!$A$6:$CZ$64,AJ$102,FALSE),\"\")","v":""},{"$f":"IFERROR(VLOOKUP($A56,'All Running Order'!$A$6:$CZ$64,AK$102,FALSE),\"\")","v":""},{"$f":"IFERROR(VLOOKUP($A56,'All Running Order'!$A$6:$CZ$64,AL$102,FALSE),\"\")","v":""},{"$f":"IFERROR(VLOOKUP($A56,'All Running Order'!$A$6:$CZ$64,AM$102,FALSE),\"\")","v":""},{"$f":"IFERROR(VLOOKUP($A56,'All Running Order'!$A$6:$CZ$64,AN$102,FALSE),\"\")","v":""},{"$f":"IFERROR(VLOOKUP($A56,'All Running Order'!$A$6:$CZ$64,AO$102,FALSE),\"\")","v":""},{"$f":"IFERROR(VLOOKUP($A56,'All Running Order'!$A$6:$CZ$64,AP$102,FALSE),\"\")","v":""},{"$f":"IFERROR(VLOOKUP($A56,'All Running Order'!$A$6:$CZ$64,AQ$102,FALSE),\"\")","v":""},{"$f":"IFERROR(VLOOKUP($A56,'All Running Order'!$A$6:$CZ$64,AR$102,FALSE),\"\")","v":""},{"$f":"IFERROR(VLOOKUP($A56,'All Running Order'!$A$6:$CZ$64,AS$102,FALSE),\"\")","v":""},{"$f":"IFERROR(VLOOKUP($A56,'All Running Order'!$A$6:$CZ$64,AT$102,FALSE),\"\")","v":""},{"$f":"IFERROR(VLOOKUP($A56,'All Running Order'!$A$6:$CZ$64,AU$102,FALSE),\"\")","v":""},{"$f":"IFERROR(VLOOKUP($A56,'All Running Order'!$A$6:$CZ$64,AV$102,FALSE),\"\")","v":""},{"$f":"IFERROR(VLOOKUP($A56,'All Running Order'!$A$6:$CZ$64,AW$102,FALSE),\"\")","v":""},{"$f":"IFERROR(VLOOKUP($A56,'All Running Order'!$A$6:$CZ$64,AX$102,FALSE),\"\")","v":""},{"$f":"IFERROR(VLOOKUP($A56,'All Running Order'!$A$6:$CZ$64,AY$102,FALSE),\"\")","v":""},{"$f":"IFERROR(VLOOKUP($A56,'All Running Order'!$A$6:$CZ$64,AZ$102,FALSE),\"\")","v":""},{"$f":"IFERROR(VLOOKUP($A56,'All Running Order'!$A$6:$CZ$64,BA$102,FALSE),\"\")","v":""},{"$f":"IFERROR(VLOOKUP($A56,'All Running Order'!$A$6:$CZ$64,BB$102,FALSE),\"\")","v":""},{"$f":"IFERROR(VLOOKUP($A56,'All Running Order'!$A$6:$CZ$64,BC$102,FALSE),\"\")","v":""},{"$f":"IFERROR(VLOOKUP($A56,'All Running Order'!$A$6:$CZ$64,BD$102,FALSE),\"\")","v":""},{"$f":"IFERROR(VLOOKUP($A56,'All Running Order'!$A$6:$CZ$64,BE$102,FALSE),\"\")","v":""},{"$f":"IFERROR(VLOOKUP($A56,'All Running Order'!$A$6:$CZ$64,BF$102,FALSE),\"\")","v":""},{"$f":"IFERROR(VLOOKUP($A56,'All Running Order'!$A$6:$CZ$64,BG$102,FALSE),\"\")","v":""},{"$f":"IFERROR(VLOOKUP($A56,'All Running Order'!$A$6:$CZ$64,BH$102,FALSE),\"\")","v":""},{"$f":"IFERROR(VLOOKUP($A56,'All Running Order'!$A$6:$CZ$64,BI$102,FALSE),\"\")","v":""},{"$f":"IFERROR(VLOOKUP($A56,'All Running Order'!$A$6:$CZ$64,BJ$102,FALSE),\"\")","v":""},{"$f":"IFERROR(VLOOKUP($A56,'All Running Order'!$A$6:$CZ$64,BK$102,FALSE),\"\")","v":""},{"$f":"IFERROR(VLOOKUP($A56,'All Running Order'!$A$6:$CZ$64,BL$102,FALSE),\"\")","v":""},{"$f":"IFERROR(VLOOKUP($A56,'All Running Order'!$A$6:$CZ$64,BM$102,FALSE),\"\")","v":""},{"$f":"IFERROR(VLOOKUP($A56,'All Running Order'!$A$6:$CZ$64,BN$102,FALSE),\"\")","v":""},{"$f":"IFERROR(VLOOKUP($A56,'All Running Order'!$A$6:$CZ$64,BO$102,FALSE),\"\")","v":""},{"$f":"IFERROR(VLOOKUP($A56,'All Running Order'!$A$6:$CZ$64,BP$102,FALSE),\"\")","v":""},{"$f":"IFERROR(VLOOKUP($A56,'All Running Order'!$A$6:$CZ$64,BQ$102,FALSE),\"\")","v":""},{"$f":"IFERROR(VLOOKUP($A56,'All Running Order'!$A$6:$CZ$64,BR$102,FALSE),\"\")","v":""},{"$f":"IFERROR(VLOOKUP($A56,'All Running Order'!$A$6:$CZ$64,BS$102,FALSE),\"\")","v":""},{"$f":"IFERROR(VLOOKUP($A56,'All Running Order'!$A$6:$CZ$64,BT$102,FALSE),\"\")","v":""},{"$f":"IFERROR(VLOOKUP($A56,'All Running Order'!$A$6:$CZ$64,BU$102,FALSE),\"\")","v":""},{"$f":"IFERROR(VLOOKUP($A56,'All Running Order'!$A$6:$CZ$64,BV$102,FALSE),\"\")","v":""},{"$f":"IFERROR(VLOOKUP($A56,'All Running Order'!$A$6:$CZ$64,BW$102,FALSE),\"\")","v":""},{"$f":"IFERROR(VLOOKUP($A56,'All Running Order'!$A$6:$CZ$64,BX$102,FALSE),\"\")","v":""},{"$f":"IFERROR(VLOOKUP($A56,'All Running Order'!$A$6:$CZ$64,BY$102,FALSE),\"\")","v":""},{"$f":"IFERROR(VLOOKUP($A56,'All Running Order'!$A$6:$CZ$64,BZ$102,FALSE),\"\")","v":""},{"$f":"IFERROR(VLOOKUP($A56,'All Running Order'!$A$6:$CZ$64,CA$102,FALSE),\"\")","v":""},{"$f":"IFERROR(VLOOKUP($A56,'All Running Order'!$A$6:$CZ$64,CB$102,FALSE),\"\")","v":""},{"$f":"IFERROR(VLOOKUP($A56,'All Running Order'!$A$6:$CZ$64,CC$102,FALSE),\"\")","v":""},{"$f":"IFERROR(VLOOKUP($A56,'All Running Order'!$A$6:$CZ$64,CD$102,FALSE),\"\")","v":""},{"$f":"IFERROR(VLOOKUP($A56,'All Running Order'!$A$6:$CZ$64,CE$102,FALSE),\"\")","v":""},{"$f":"IFERROR(VLOOKUP($A56,'All Running Order'!$A$6:$CZ$64,CF$102,FALSE),\"\")","v":""},{"$f":"IFERROR(VLOOKUP($A56,'All Running Order'!$A$6:$CZ$64,CG$102,FALSE),\"\")","v":""},{"$f":"IFERROR(VLOOKUP($A56,'All Running Order'!$A$6:$CZ$64,CH$102,FALSE),\"\")","v":""},{"$f":"IFERROR(VLOOKUP($A56,'All Running Order'!$A$6:$CZ$64,CI$102,FALSE),\"\")","v":""},{"$f":"IFERROR(VLOOKUP($A56,'All Running Order'!$A$6:$CZ$64,CJ$102,FALSE),\"\")","v":""},{"$f":"IFERROR(VLOOKUP($A56,'All Running Order'!$A$6:$CZ$64,CK$102,FALSE),\"\")","v":""},{"$f":"IFERROR(VLOOKUP($A56,'All Running Order'!$A$6:$CZ$64,CL$102,FALSE),\"\")","v":""},{"$f":"IFERROR(VLOOKUP($A56,'All Running Order'!$A$6:$CZ$64,CM$102,FALSE),\"\")","v":""},{"$f":"IFERROR(VLOOKUP($A56,'All Running Order'!$A$6:$CZ$64,CN$102,FALSE),\"\")","v":""},{"$f":"IFERROR(VLOOKUP($A56,'All Running Order'!$A$6:$CZ$64,CO$102,FALSE),\"\")","v":""},{"$f":"IFERROR(VLOOKUP($A56,'All Running Order'!$A$6:$CZ$64,CP$102,FALSE),\"\")","v":""},{"$f":"IFERROR(VLOOKUP($A56,'All Running Order'!$A$6:$CZ$64,CQ$102,FALSE),\"\")","v":""},{"$f":"IFERROR(VLOOKUP($A56,'All Running Order'!$A$6:$CZ$64,CR$102,FALSE),\"\")","v":""},{"$f":"IFERROR(VLOOKUP($A56,'All Running Order'!$A$6:$CZ$64,CS$102,FALSE),\"\")","v":""},{"$f":"IFERROR(VLOOKUP($A56,'All Running Order'!$A$6:$CZ$64,CT$102,FALSE),\"\")","v":""},{"$f":"IFERROR(VLOOKUP($A56,'All Running Order'!$A$6:$CZ$64,CU$102,FALSE),\"\")","v":""},{"$f":"IFERROR(VLOOKUP($A56,'All Running Order'!$A$6:$CZ$64,CV$102,FALSE),\"\")","v":""},{"$f":"IFERROR(VLOOKUP($A56,'All Running Order'!$A$6:$CZ$64,CW$102,FALSE),\"\")","v":""},{"$f":"IFERROR(VLOOKUP($A56,'All Running Order'!$A$6:$CZ$64,CX$102,FALSE),\"\")","v":""},{"$f":"IFERROR(VLOOKUP($A56,'All Running Order'!$A$6:$CZ$64,CY$102,FALSE),\"\")","v":""},{"$f":"IFERROR(VLOOKUP($A56,'All Running Order'!$A$6:$CZ$64,CZ$102,FALSE),\"\")","v":""}]
[52,{"$f":"IFERROR(VLOOKUP($A57,'All Running Order'!$A$6:$CZ$64,B$102,FALSE),\"\")","v":""},{"$f":"IFERROR(VLOOKUP($A57,'All Running Order'!$A$6:$CZ$64,C$102,FALSE),\"\")","v":""},{"$f":"IFERROR(VLOOKUP($A57,'All Running Order'!$A$6:$CZ$64,D$102,FALSE),\"\")","v":""},{"$f":"IFERROR(VLOOKUP($A57,'All Running Order'!$A$6:$CZ$64,E$102,FALSE),\"\")","v":""},{"$f":"IFERROR(VLOOKUP($A57,'All Running Order'!$A$6:$CZ$64,F$102,FALSE),\"\")","v":""},{"$f":"IFERROR(VLOOKUP($A57,'All Running Order'!$A$6:$CZ$64,G$102,FALSE),\"\")","v":""},{"$f":"IFERROR(VLOOKUP($A57,'All Running Order'!$A$6:$CZ$64,H$102,FALSE),\"\")","v":""},{"$f":"IFERROR(VLOOKUP($A57,'All Running Order'!$A$6:$CZ$64,I$102,FALSE),\"\")","v":""},{"$f":"IFERROR(VLOOKUP($A57,'All Running Order'!$A$6:$CZ$64,J$102,FALSE),\"\")","v":""},{"$f":"IFERROR(VLOOKUP($A57,'All Running Order'!$A$6:$CZ$64,K$102,FALSE),\"\")","v":""},{"$f":"IFERROR(VLOOKUP($A57,'All Running Order'!$A$6:$CZ$64,L$102,FALSE),\"\")","v":""},{"$f":"IFERROR(VLOOKUP($A57,'All Running Order'!$A$6:$CZ$64,M$102,FALSE),\"\")","v":""},{"$f":"IFERROR(VLOOKUP($A57,'All Running Order'!$A$6:$CZ$64,N$102,FALSE),\"\")","v":""},{"$f":"IFERROR(VLOOKUP($A57,'All Running Order'!$A$6:$CZ$64,O$102,FALSE),\"\")","v":""},{"$f":"IFERROR(VLOOKUP($A57,'All Running Order'!$A$6:$CZ$64,P$102,FALSE),\"\")","v":""},{"$f":"IFERROR(VLOOKUP($A57,'All Running Order'!$A$6:$CZ$64,Q$102,FALSE),\"\")","v":""},{"$f":"IFERROR(VLOOKUP($A57,'All Running Order'!$A$6:$CZ$64,R$102,FALSE),\"\")","v":""},{"$f":"IFERROR(VLOOKUP($A57,'All Running Order'!$A$6:$CZ$64,S$102,FALSE),\"\")","v":""},{"$f":"IFERROR(VLOOKUP($A57,'All Running Order'!$A$6:$CZ$64,T$102,FALSE),\"\")","v":""},{"$f":"IFERROR(VLOOKUP($A57,'All Running Order'!$A$6:$CZ$64,U$102,FALSE),\"\")","v":""},{"$f":"IFERROR(VLOOKUP($A57,'All Running Order'!$A$6:$CZ$64,V$102,FALSE),\"\")","v":""},{"$f":"IFERROR(VLOOKUP($A57,'All Running Order'!$A$6:$CZ$64,W$102,FALSE),\"\")","v":""},{"$f":"IFERROR(VLOOKUP($A57,'All Running Order'!$A$6:$CZ$64,X$102,FALSE),\"\")","v":""},{"$f":"IFERROR(VLOOKUP($A57,'All Running Order'!$A$6:$CZ$64,Y$102,FALSE),\"\")","v":""},{"$f":"IFERROR(VLOOKUP($A57,'All Running Order'!$A$6:$CZ$64,Z$102,FALSE),\"\")","v":""},{"$f":"IFERROR(VLOOKUP($A57,'All Running Order'!$A$6:$CZ$64,AA$102,FALSE),\"\")","v":""},{"$f":"IFERROR(VLOOKUP($A57,'All Running Order'!$A$6:$CZ$64,AB$102,FALSE),\"\")","v":""},{"$f":"IFERROR(VLOOKUP($A57,'All Running Order'!$A$6:$CZ$64,AC$102,FALSE),\"\")","v":""},{"$f":"IFERROR(VLOOKUP($A57,'All Running Order'!$A$6:$CZ$64,AD$102,FALSE),\"\")","v":""},{"$f":"IFERROR(VLOOKUP($A57,'All Running Order'!$A$6:$CZ$64,AE$102,FALSE),\"\")","v":""},{"$f":"IFERROR(VLOOKUP($A57,'All Running Order'!$A$6:$CZ$64,AF$102,FALSE),\"\")","v":""},{"$f":"IFERROR(VLOOKUP($A57,'All Running Order'!$A$6:$CZ$64,AG$102,FALSE),\"\")","v":""},{"$f":"IFERROR(VLOOKUP($A57,'All Running Order'!$A$6:$CZ$64,AH$102,FALSE),\"\")","v":""},{"$f":"IFERROR(VLOOKUP($A57,'All Running Order'!$A$6:$CZ$64,AI$102,FALSE),\"\")","v":""},{"$f":"IFERROR(VLOOKUP($A57,'All Running Order'!$A$6:$CZ$64,AJ$102,FALSE),\"\")","v":""},{"$f":"IFERROR(VLOOKUP($A57,'All Running Order'!$A$6:$CZ$64,AK$102,FALSE),\"\")","v":""},{"$f":"IFERROR(VLOOKUP($A57,'All Running Order'!$A$6:$CZ$64,AL$102,FALSE),\"\")","v":""},{"$f":"IFERROR(VLOOKUP($A57,'All Running Order'!$A$6:$CZ$64,AM$102,FALSE),\"\")","v":""},{"$f":"IFERROR(VLOOKUP($A57,'All Running Order'!$A$6:$CZ$64,AN$102,FALSE),\"\")","v":""},{"$f":"IFERROR(VLOOKUP($A57,'All Running Order'!$A$6:$CZ$64,AO$102,FALSE),\"\")","v":""},{"$f":"IFERROR(VLOOKUP($A57,'All Running Order'!$A$6:$CZ$64,AP$102,FALSE),\"\")","v":""},{"$f":"IFERROR(VLOOKUP($A57,'All Running Order'!$A$6:$CZ$64,AQ$102,FALSE),\"\")","v":""},{"$f":"IFERROR(VLOOKUP($A57,'All Running Order'!$A$6:$CZ$64,AR$102,FALSE),\"\")","v":""},{"$f":"IFERROR(VLOOKUP($A57,'All Running Order'!$A$6:$CZ$64,AS$102,FALSE),\"\")","v":""},{"$f":"IFERROR(VLOOKUP($A57,'All Running Order'!$A$6:$CZ$64,AT$102,FALSE),\"\")","v":""},{"$f":"IFERROR(VLOOKUP($A57,'All Running Order'!$A$6:$CZ$64,AU$102,FALSE),\"\")","v":""},{"$f":"IFERROR(VLOOKUP($A57,'All Running Order'!$A$6:$CZ$64,AV$102,FALSE),\"\")","v":""},{"$f":"IFERROR(VLOOKUP($A57,'All Running Order'!$A$6:$CZ$64,AW$102,FALSE),\"\")","v":""},{"$f":"IFERROR(VLOOKUP($A57,'All Running Order'!$A$6:$CZ$64,AX$102,FALSE),\"\")","v":""},{"$f":"IFERROR(VLOOKUP($A57,'All Running Order'!$A$6:$CZ$64,AY$102,FALSE),\"\")","v":""},{"$f":"IFERROR(VLOOKUP($A57,'All Running Order'!$A$6:$CZ$64,AZ$102,FALSE),\"\")","v":""},{"$f":"IFERROR(VLOOKUP($A57,'All Running Order'!$A$6:$CZ$64,BA$102,FALSE),\"\")","v":""},{"$f":"IFERROR(VLOOKUP($A57,'All Running Order'!$A$6:$CZ$64,BB$102,FALSE),\"\")","v":""},{"$f":"IFERROR(VLOOKUP($A57,'All Running Order'!$A$6:$CZ$64,BC$102,FALSE),\"\")","v":""},{"$f":"IFERROR(VLOOKUP($A57,'All Running Order'!$A$6:$CZ$64,BD$102,FALSE),\"\")","v":""},{"$f":"IFERROR(VLOOKUP($A57,'All Running Order'!$A$6:$CZ$64,BE$102,FALSE),\"\")","v":""},{"$f":"IFERROR(VLOOKUP($A57,'All Running Order'!$A$6:$CZ$64,BF$102,FALSE),\"\")","v":""},{"$f":"IFERROR(VLOOKUP($A57,'All Running Order'!$A$6:$CZ$64,BG$102,FALSE),\"\")","v":""},{"$f":"IFERROR(VLOOKUP($A57,'All Running Order'!$A$6:$CZ$64,BH$102,FALSE),\"\")","v":""},{"$f":"IFERROR(VLOOKUP($A57,'All Running Order'!$A$6:$CZ$64,BI$102,FALSE),\"\")","v":""},{"$f":"IFERROR(VLOOKUP($A57,'All Running Order'!$A$6:$CZ$64,BJ$102,FALSE),\"\")","v":""},{"$f":"IFERROR(VLOOKUP($A57,'All Running Order'!$A$6:$CZ$64,BK$102,FALSE),\"\")","v":""},{"$f":"IFERROR(VLOOKUP($A57,'All Running Order'!$A$6:$CZ$64,BL$102,FALSE),\"\")","v":""},{"$f":"IFERROR(VLOOKUP($A57,'All Running Order'!$A$6:$CZ$64,BM$102,FALSE),\"\")","v":""},{"$f":"IFERROR(VLOOKUP($A57,'All Running Order'!$A$6:$CZ$64,BN$102,FALSE),\"\")","v":""},{"$f":"IFERROR(VLOOKUP($A57,'All Running Order'!$A$6:$CZ$64,BO$102,FALSE),\"\")","v":""},{"$f":"IFERROR(VLOOKUP($A57,'All Running Order'!$A$6:$CZ$64,BP$102,FALSE),\"\")","v":""},{"$f":"IFERROR(VLOOKUP($A57,'All Running Order'!$A$6:$CZ$64,BQ$102,FALSE),\"\")","v":""},{"$f":"IFERROR(VLOOKUP($A57,'All Running Order'!$A$6:$CZ$64,BR$102,FALSE),\"\")","v":""},{"$f":"IFERROR(VLOOKUP($A57,'All Running Order'!$A$6:$CZ$64,BS$102,FALSE),\"\")","v":""},{"$f":"IFERROR(VLOOKUP($A57,'All Running Order'!$A$6:$CZ$64,BT$102,FALSE),\"\")","v":""},{"$f":"IFERROR(VLOOKUP($A57,'All Running Order'!$A$6:$CZ$64,BU$102,FALSE),\"\")","v":""},{"$f":"IFERROR(VLOOKUP($A57,'All Running Order'!$A$6:$CZ$64,BV$102,FALSE),\"\")","v":""},{"$f":"IFERROR(VLOOKUP($A57,'All Running Order'!$A$6:$CZ$64,BW$102,FALSE),\"\")","v":""},{"$f":"IFERROR(VLOOKUP($A57,'All Running Order'!$A$6:$CZ$64,BX$102,FALSE),\"\")","v":""},{"$f":"IFERROR(VLOOKUP($A57,'All Running Order'!$A$6:$CZ$64,BY$102,FALSE),\"\")","v":""},{"$f":"IFERROR(VLOOKUP($A57,'All Running Order'!$A$6:$CZ$64,BZ$102,FALSE),\"\")","v":""},{"$f":"IFERROR(VLOOKUP($A57,'All Running Order'!$A$6:$CZ$64,CA$102,FALSE),\"\")","v":""},{"$f":"IFERROR(VLOOKUP($A57,'All Running Order'!$A$6:$CZ$64,CB$102,FALSE),\"\")","v":""},{"$f":"IFERROR(VLOOKUP($A57,'All Running Order'!$A$6:$CZ$64,CC$102,FALSE),\"\")","v":""},{"$f":"IFERROR(VLOOKUP($A57,'All Running Order'!$A$6:$CZ$64,CD$102,FALSE),\"\")","v":""},{"$f":"IFERROR(VLOOKUP($A57,'All Running Order'!$A$6:$CZ$64,CE$102,FALSE),\"\")","v":""},{"$f":"IFERROR(VLOOKUP($A57,'All Running Order'!$A$6:$CZ$64,CF$102,FALSE),\"\")","v":""},{"$f":"IFERROR(VLOOKUP($A57,'All Running Order'!$A$6:$CZ$64,CG$102,FALSE),\"\")","v":""},{"$f":"IFERROR(VLOOKUP($A57,'All Running Order'!$A$6:$CZ$64,CH$102,FALSE),\"\")","v":""},{"$f":"IFERROR(VLOOKUP($A57,'All Running Order'!$A$6:$CZ$64,CI$102,FALSE),\"\")","v":""},{"$f":"IFERROR(VLOOKUP($A57,'All Running Order'!$A$6:$CZ$64,CJ$102,FALSE),\"\")","v":""},{"$f":"IFERROR(VLOOKUP($A57,'All Running Order'!$A$6:$CZ$64,CK$102,FALSE),\"\")","v":""},{"$f":"IFERROR(VLOOKUP($A57,'All Running Order'!$A$6:$CZ$64,CL$102,FALSE),\"\")","v":""},{"$f":"IFERROR(VLOOKUP($A57,'All Running Order'!$A$6:$CZ$64,CM$102,FALSE),\"\")","v":""},{"$f":"IFERROR(VLOOKUP($A57,'All Running Order'!$A$6:$CZ$64,CN$102,FALSE),\"\")","v":""},{"$f":"IFERROR(VLOOKUP($A57,'All Running Order'!$A$6:$CZ$64,CO$102,FALSE),\"\")","v":""},{"$f":"IFERROR(VLOOKUP($A57,'All Running Order'!$A$6:$CZ$64,CP$102,FALSE),\"\")","v":""},{"$f":"IFERROR(VLOOKUP($A57,'All Running Order'!$A$6:$CZ$64,CQ$102,FALSE),\"\")","v":""},{"$f":"IFERROR(VLOOKUP($A57,'All Running Order'!$A$6:$CZ$64,CR$102,FALSE),\"\")","v":""},{"$f":"IFERROR(VLOOKUP($A57,'All Running Order'!$A$6:$CZ$64,CS$102,FALSE),\"\")","v":""},{"$f":"IFERROR(VLOOKUP($A57,'All Running Order'!$A$6:$CZ$64,CT$102,FALSE),\"\")","v":""},{"$f":"IFERROR(VLOOKUP($A57,'All Running Order'!$A$6:$CZ$64,CU$102,FALSE),\"\")","v":""},{"$f":"IFERROR(VLOOKUP($A57,'All Running Order'!$A$6:$CZ$64,CV$102,FALSE),\"\")","v":""},{"$f":"IFERROR(VLOOKUP($A57,'All Running Order'!$A$6:$CZ$64,CW$102,FALSE),\"\")","v":""},{"$f":"IFERROR(VLOOKUP($A57,'All Running Order'!$A$6:$CZ$64,CX$102,FALSE),\"\")","v":""},{"$f":"IFERROR(VLOOKUP($A57,'All Running Order'!$A$6:$CZ$64,CY$102,FALSE),\"\")","v":""},{"$f":"IFERROR(VLOOKUP($A57,'All Running Order'!$A$6:$CZ$64,CZ$102,FALSE),\"\")","v":""}]
[53,{"$f":"IFERROR(VLOOKUP($A58,'All Running Order'!$A$6:$CZ$64,B$102,FALSE),\"\")","v":""},{"$f":"IFERROR(VLOOKUP($A58,'All Running Order'!$A$6:$CZ$64,C$102,FALSE),\"\")","v":""},{"$f":"IFERROR(VLOOKUP($A58,'All Running Order'!$A$6:$CZ$64,D$102,FALSE),\"\")","v":""},{"$f":"IFERROR(VLOOKUP($A58,'All Running Order'!$A$6:$CZ$64,E$102,FALSE),\"\")","v":""},{"$f":"IFERROR(VLOOKUP($A58,'All Running Order'!$A$6:$CZ$64,F$102,FALSE),\"\")","v":""},{"$f":"IFERROR(VLOOKUP($A58,'All Running Order'!$A$6:$CZ$64,G$102,FALSE),\"\")","v":""},{"$f":"IFERROR(VLOOKUP($A58,'All Running Order'!$A$6:$CZ$64,H$102,FALSE),\"\")","v":""},{"$f":"IFERROR(VLOOKUP($A58,'All Running Order'!$A$6:$CZ$64,I$102,FALSE),\"\")","v":""},{"$f":"IFERROR(VLOOKUP($A58,'All Running Order'!$A$6:$CZ$64,J$102,FALSE),\"\")","v":""},{"$f":"IFERROR(VLOOKUP($A58,'All Running Order'!$A$6:$CZ$64,K$102,FALSE),\"\")","v":""},{"$f":"IFERROR(VLOOKUP($A58,'All Running Order'!$A$6:$CZ$64,L$102,FALSE),\"\")","v":""},{"$f":"IFERROR(VLOOKUP($A58,'All Running Order'!$A$6:$CZ$64,M$102,FALSE),\"\")","v":""},{"$f":"IFERROR(VLOOKUP($A58,'All Running Order'!$A$6:$CZ$64,N$102,FALSE),\"\")","v":""},{"$f":"IFERROR(VLOOKUP($A58,'All Running Order'!$A$6:$CZ$64,O$102,FALSE),\"\")","v":""},{"$f":"IFERROR(VLOOKUP($A58,'All Running Order'!$A$6:$CZ$64,P$102,FALSE),\"\")","v":""},{"$f":"IFERROR(VLOOKUP($A58,'All Running Order'!$A$6:$CZ$64,Q$102,FALSE),\"\")","v":""},{"$f":"IFERROR(VLOOKUP($A58,'All Running Order'!$A$6:$CZ$64,R$102,FALSE),\"\")","v":""},{"$f":"IFERROR(VLOOKUP($A58,'All Running Order'!$A$6:$CZ$64,S$102,FALSE),\"\")","v":""},{"$f":"IFERROR(VLOOKUP($A58,'All Running Order'!$A$6:$CZ$64,T$102,FALSE),\"\")","v":""},{"$f":"IFERROR(VLOOKUP($A58,'All Running Order'!$A$6:$CZ$64,U$102,FALSE),\"\")","v":""},{"$f":"IFERROR(VLOOKUP($A58,'All Running Order'!$A$6:$CZ$64,V$102,FALSE),\"\")","v":""},{"$f":"IFERROR(VLOOKUP($A58,'All Running Order'!$A$6:$CZ$64,W$102,FALSE),\"\")","v":""},{"$f":"IFERROR(VLOOKUP($A58,'All Running Order'!$A$6:$CZ$64,X$102,FALSE),\"\")","v":""},{"$f":"IFERROR(VLOOKUP($A58,'All Running Order'!$A$6:$CZ$64,Y$102,FALSE),\"\")","v":""},{"$f":"IFERROR(VLOOKUP($A58,'All Running Order'!$A$6:$CZ$64,Z$102,FALSE),\"\")","v":""},{"$f":"IFERROR(VLOOKUP($A58,'All Running Order'!$A$6:$CZ$64,AA$102,FALSE),\"\")","v":""},{"$f":"IFERROR(VLOOKUP($A58,'All Running Order'!$A$6:$CZ$64,AB$102,FALSE),\"\")","v":""},{"$f":"IFERROR(VLOOKUP($A58,'All Running Order'!$A$6:$CZ$64,AC$102,FALSE),\"\")","v":""},{"$f":"IFERROR(VLOOKUP($A58,'All Running Order'!$A$6:$CZ$64,AD$102,FALSE),\"\")","v":""},{"$f":"IFERROR(VLOOKUP($A58,'All Running Order'!$A$6:$CZ$64,AE$102,FALSE),\"\")","v":""},{"$f":"IFERROR(VLOOKUP($A58,'All Running Order'!$A$6:$CZ$64,AF$102,FALSE),\"\")","v":""},{"$f":"IFERROR(VLOOKUP($A58,'All Running Order'!$A$6:$CZ$64,AG$102,FALSE),\"\")","v":""},{"$f":"IFERROR(VLOOKUP($A58,'All Running Order'!$A$6:$CZ$64,AH$102,FALSE),\"\")","v":""},{"$f":"IFERROR(VLOOKUP($A58,'All Running Order'!$A$6:$CZ$64,AI$102,FALSE),\"\")","v":""},{"$f":"IFERROR(VLOOKUP($A58,'All Running Order'!$A$6:$CZ$64,AJ$102,FALSE),\"\")","v":""},{"$f":"IFERROR(VLOOKUP($A58,'All Running Order'!$A$6:$CZ$64,AK$102,FALSE),\"\")","v":""},{"$f":"IFERROR(VLOOKUP($A58,'All Running Order'!$A$6:$CZ$64,AL$102,FALSE),\"\")","v":""},{"$f":"IFERROR(VLOOKUP($A58,'All Running Order'!$A$6:$CZ$64,AM$102,FALSE),\"\")","v":""},{"$f":"IFERROR(VLOOKUP($A58,'All Running Order'!$A$6:$CZ$64,AN$102,FALSE),\"\")","v":""},{"$f":"IFERROR(VLOOKUP($A58,'All Running Order'!$A$6:$CZ$64,AO$102,FALSE),\"\")","v":""},{"$f":"IFERROR(VLOOKUP($A58,'All Running Order'!$A$6:$CZ$64,AP$102,FALSE),\"\")","v":""},{"$f":"IFERROR(VLOOKUP($A58,'All Running Order'!$A$6:$CZ$64,AQ$102,FALSE),\"\")","v":""},{"$f":"IFERROR(VLOOKUP($A58,'All Running Order'!$A$6:$CZ$64,AR$102,FALSE),\"\")","v":""},{"$f":"IFERROR(VLOOKUP($A58,'All Running Order'!$A$6:$CZ$64,AS$102,FALSE),\"\")","v":""},{"$f":"IFERROR(VLOOKUP($A58,'All Running Order'!$A$6:$CZ$64,AT$102,FALSE),\"\")","v":""},{"$f":"IFERROR(VLOOKUP($A58,'All Running Order'!$A$6:$CZ$64,AU$102,FALSE),\"\")","v":""},{"$f":"IFERROR(VLOOKUP($A58,'All Running Order'!$A$6:$CZ$64,AV$102,FALSE),\"\")","v":""},{"$f":"IFERROR(VLOOKUP($A58,'All Running Order'!$A$6:$CZ$64,AW$102,FALSE),\"\")","v":""},{"$f":"IFERROR(VLOOKUP($A58,'All Running Order'!$A$6:$CZ$64,AX$102,FALSE),\"\")","v":""},{"$f":"IFERROR(VLOOKUP($A58,'All Running Order'!$A$6:$CZ$64,AY$102,FALSE),\"\")","v":""},{"$f":"IFERROR(VLOOKUP($A58,'All Running Order'!$A$6:$CZ$64,AZ$102,FALSE),\"\")","v":""},{"$f":"IFERROR(VLOOKUP($A58,'All Running Order'!$A$6:$CZ$64,BA$102,FALSE),\"\")","v":""},{"$f":"IFERROR(VLOOKUP($A58,'All Running Order'!$A$6:$CZ$64,BB$102,FALSE),\"\")","v":""},{"$f":"IFERROR(VLOOKUP($A58,'All Running Order'!$A$6:$CZ$64,BC$102,FALSE),\"\")","v":""},{"$f":"IFERROR(VLOOKUP($A58,'All Running Order'!$A$6:$CZ$64,BD$102,FALSE),\"\")","v":""},{"$f":"IFERROR(VLOOKUP($A58,'All Running Order'!$A$6:$CZ$64,BE$102,FALSE),\"\")","v":""},{"$f":"IFERROR(VLOOKUP($A58,'All Running Order'!$A$6:$CZ$64,BF$102,FALSE),\"\")","v":""},{"$f":"IFERROR(VLOOKUP($A58,'All Running Order'!$A$6:$CZ$64,BG$102,FALSE),\"\")","v":""},{"$f":"IFERROR(VLOOKUP($A58,'All Running Order'!$A$6:$CZ$64,BH$102,FALSE),\"\")","v":""},{"$f":"IFERROR(VLOOKUP($A58,'All Running Order'!$A$6:$CZ$64,BI$102,FALSE),\"\")","v":""},{"$f":"IFERROR(VLOOKUP($A58,'All Running Order'!$A$6:$CZ$64,BJ$102,FALSE),\"\")","v":""},{"$f":"IFERROR(VLOOKUP($A58,'All Running Order'!$A$6:$CZ$64,BK$102,FALSE),\"\")","v":""},{"$f":"IFERROR(VLOOKUP($A58,'All Running Order'!$A$6:$CZ$64,BL$102,FALSE),\"\")","v":""},{"$f":"IFERROR(VLOOKUP($A58,'All Running Order'!$A$6:$CZ$64,BM$102,FALSE),\"\")","v":""},{"$f":"IFERROR(VLOOKUP($A58,'All Running Order'!$A$6:$CZ$64,BN$102,FALSE),\"\")","v":""},{"$f":"IFERROR(VLOOKUP($A58,'All Running Order'!$A$6:$CZ$64,BO$102,FALSE),\"\")","v":""},{"$f":"IFERROR(VLOOKUP($A58,'All Running Order'!$A$6:$CZ$64,BP$102,FALSE),\"\")","v":""},{"$f":"IFERROR(VLOOKUP($A58,'All Running Order'!$A$6:$CZ$64,BQ$102,FALSE),\"\")","v":""},{"$f":"IFERROR(VLOOKUP($A58,'All Running Order'!$A$6:$CZ$64,BR$102,FALSE),\"\")","v":""},{"$f":"IFERROR(VLOOKUP($A58,'All Running Order'!$A$6:$CZ$64,BS$102,FALSE),\"\")","v":""},{"$f":"IFERROR(VLOOKUP($A58,'All Running Order'!$A$6:$CZ$64,BT$102,FALSE),\"\")","v":""},{"$f":"IFERROR(VLOOKUP($A58,'All Running Order'!$A$6:$CZ$64,BU$102,FALSE),\"\")","v":""},{"$f":"IFERROR(VLOOKUP($A58,'All Running Order'!$A$6:$CZ$64,BV$102,FALSE),\"\")","v":""},{"$f":"IFERROR(VLOOKUP($A58,'All Running Order'!$A$6:$CZ$64,BW$102,FALSE),\"\")","v":""},{"$f":"IFERROR(VLOOKUP($A58,'All Running Order'!$A$6:$CZ$64,BX$102,FALSE),\"\")","v":""},{"$f":"IFERROR(VLOOKUP($A58,'All Running Order'!$A$6:$CZ$64,BY$102,FALSE),\"\")","v":""},{"$f":"IFERROR(VLOOKUP($A58,'All Running Order'!$A$6:$CZ$64,BZ$102,FALSE),\"\")","v":""},{"$f":"IFERROR(VLOOKUP($A58,'All Running Order'!$A$6:$CZ$64,CA$102,FALSE),\"\")","v":""},{"$f":"IFERROR(VLOOKUP($A58,'All Running Order'!$A$6:$CZ$64,CB$102,FALSE),\"\")","v":""},{"$f":"IFERROR(VLOOKUP($A58,'All Running Order'!$A$6:$CZ$64,CC$102,FALSE),\"\")","v":""},{"$f":"IFERROR(VLOOKUP($A58,'All Running Order'!$A$6:$CZ$64,CD$102,FALSE),\"\")","v":""},{"$f":"IFERROR(VLOOKUP($A58,'All Running Order'!$A$6:$CZ$64,CE$102,FALSE),\"\")","v":""},{"$f":"IFERROR(VLOOKUP($A58,'All Running Order'!$A$6:$CZ$64,CF$102,FALSE),\"\")","v":""},{"$f":"IFERROR(VLOOKUP($A58,'All Running Order'!$A$6:$CZ$64,CG$102,FALSE),\"\")","v":""},{"$f":"IFERROR(VLOOKUP($A58,'All Running Order'!$A$6:$CZ$64,CH$102,FALSE),\"\")","v":""},{"$f":"IFERROR(VLOOKUP($A58,'All Running Order'!$A$6:$CZ$64,CI$102,FALSE),\"\")","v":""},{"$f":"IFERROR(VLOOKUP($A58,'All Running Order'!$A$6:$CZ$64,CJ$102,FALSE),\"\")","v":""},{"$f":"IFERROR(VLOOKUP($A58,'All Running Order'!$A$6:$CZ$64,CK$102,FALSE),\"\")","v":""},{"$f":"IFERROR(VLOOKUP($A58,'All Running Order'!$A$6:$CZ$64,CL$102,FALSE),\"\")","v":""},{"$f":"IFERROR(VLOOKUP($A58,'All Running Order'!$A$6:$CZ$64,CM$102,FALSE),\"\")","v":""},{"$f":"IFERROR(VLOOKUP($A58,'All Running Order'!$A$6:$CZ$64,CN$102,FALSE),\"\")","v":""},{"$f":"IFERROR(VLOOKUP($A58,'All Running Order'!$A$6:$CZ$64,CO$102,FALSE),\"\")","v":""},{"$f":"IFERROR(VLOOKUP($A58,'All Running Order'!$A$6:$CZ$64,CP$102,FALSE),\"\")","v":""},{"$f":"IFERROR(VLOOKUP($A58,'All Running Order'!$A$6:$CZ$64,CQ$102,FALSE),\"\")","v":""},{"$f":"IFERROR(VLOOKUP($A58,'All Running Order'!$A$6:$CZ$64,CR$102,FALSE),\"\")","v":""},{"$f":"IFERROR(VLOOKUP($A58,'All Running Order'!$A$6:$CZ$64,CS$102,FALSE),\"\")","v":""},{"$f":"IFERROR(VLOOKUP($A58,'All Running Order'!$A$6:$CZ$64,CT$102,FALSE),\"\")","v":""},{"$f":"IFERROR(VLOOKUP($A58,'All Running Order'!$A$6:$CZ$64,CU$102,FALSE),\"\")","v":""},{"$f":"IFERROR(VLOOKUP($A58,'All Running Order'!$A$6:$CZ$64,CV$102,FALSE),\"\")","v":""},{"$f":"IFERROR(VLOOKUP($A58,'All Running Order'!$A$6:$CZ$64,CW$102,FALSE),\"\")","v":""},{"$f":"IFERROR(VLOOKUP($A58,'All Running Order'!$A$6:$CZ$64,CX$102,FALSE),\"\")","v":""},{"$f":"IFERROR(VLOOKUP($A58,'All Running Order'!$A$6:$CZ$64,CY$102,FALSE),\"\")","v":""},{"$f":"IFERROR(VLOOKUP($A58,'All Running Order'!$A$6:$CZ$64,CZ$102,FALSE),\"\")","v":""}]
[54,{"$f":"IFERROR(VLOOKUP($A59,'All Running Order'!$A$6:$CZ$64,B$102,FALSE),\"\")","v":""},{"$f":"IFERROR(VLOOKUP($A59,'All Running Order'!$A$6:$CZ$64,C$102,FALSE),\"\")","v":""},{"$f":"IFERROR(VLOOKUP($A59,'All Running Order'!$A$6:$CZ$64,D$102,FALSE),\"\")","v":""},{"$f":"IFERROR(VLOOKUP($A59,'All Running Order'!$A$6:$CZ$64,E$102,FALSE),\"\")","v":""},{"$f":"IFERROR(VLOOKUP($A59,'All Running Order'!$A$6:$CZ$64,F$102,FALSE),\"\")","v":""},{"$f":"IFERROR(VLOOKUP($A59,'All Running Order'!$A$6:$CZ$64,G$102,FALSE),\"\")","v":""},{"$f":"IFERROR(VLOOKUP($A59,'All Running Order'!$A$6:$CZ$64,H$102,FALSE),\"\")","v":""},{"$f":"IFERROR(VLOOKUP($A59,'All Running Order'!$A$6:$CZ$64,I$102,FALSE),\"\")","v":""},{"$f":"IFERROR(VLOOKUP($A59,'All Running Order'!$A$6:$CZ$64,J$102,FALSE),\"\")","v":""},{"$f":"IFERROR(VLOOKUP($A59,'All Running Order'!$A$6:$CZ$64,K$102,FALSE),\"\")","v":""},{"$f":"IFERROR(VLOOKUP($A59,'All Running Order'!$A$6:$CZ$64,L$102,FALSE),\"\")","v":""},{"$f":"IFERROR(VLOOKUP($A59,'All Running Order'!$A$6:$CZ$64,M$102,FALSE),\"\")","v":""},{"$f":"IFERROR(VLOOKUP($A59,'All Running Order'!$A$6:$CZ$64,N$102,FALSE),\"\")","v":""},{"$f":"IFERROR(VLOOKUP($A59,'All Running Order'!$A$6:$CZ$64,O$102,FALSE),\"\")","v":""},{"$f":"IFERROR(VLOOKUP($A59,'All Running Order'!$A$6:$CZ$64,P$102,FALSE),\"\")","v":""},{"$f":"IFERROR(VLOOKUP($A59,'All Running Order'!$A$6:$CZ$64,Q$102,FALSE),\"\")","v":""},{"$f":"IFERROR(VLOOKUP($A59,'All Running Order'!$A$6:$CZ$64,R$102,FALSE),\"\")","v":""},{"$f":"IFERROR(VLOOKUP($A59,'All Running Order'!$A$6:$CZ$64,S$102,FALSE),\"\")","v":""},{"$f":"IFERROR(VLOOKUP($A59,'All Running Order'!$A$6:$CZ$64,T$102,FALSE),\"\")","v":""},{"$f":"IFERROR(VLOOKUP($A59,'All Running Order'!$A$6:$CZ$64,U$102,FALSE),\"\")","v":""},{"$f":"IFERROR(VLOOKUP($A59,'All Running Order'!$A$6:$CZ$64,V$102,FALSE),\"\")","v":""},{"$f":"IFERROR(VLOOKUP($A59,'All Running Order'!$A$6:$CZ$64,W$102,FALSE),\"\")","v":""},{"$f":"IFERROR(VLOOKUP($A59,'All Running Order'!$A$6:$CZ$64,X$102,FALSE),\"\")","v":""},{"$f":"IFERROR(VLOOKUP($A59,'All Running Order'!$A$6:$CZ$64,Y$102,FALSE),\"\")","v":""},{"$f":"IFERROR(VLOOKUP($A59,'All Running Order'!$A$6:$CZ$64,Z$102,FALSE),\"\")","v":""},{"$f":"IFERROR(VLOOKUP($A59,'All Running Order'!$A$6:$CZ$64,AA$102,FALSE),\"\")","v":""},{"$f":"IFERROR(VLOOKUP($A59,'All Running Order'!$A$6:$CZ$64,AB$102,FALSE),\"\")","v":""},{"$f":"IFERROR(VLOOKUP($A59,'All Running Order'!$A$6:$CZ$64,AC$102,FALSE),\"\")","v":""},{"$f":"IFERROR(VLOOKUP($A59,'All Running Order'!$A$6:$CZ$64,AD$102,FALSE),\"\")","v":""},{"$f":"IFERROR(VLOOKUP($A59,'All Running Order'!$A$6:$CZ$64,AE$102,FALSE),\"\")","v":""},{"$f":"IFERROR(VLOOKUP($A59,'All Running Order'!$A$6:$CZ$64,AF$102,FALSE),\"\")","v":""},{"$f":"IFERROR(VLOOKUP($A59,'All Running Order'!$A$6:$CZ$64,AG$102,FALSE),\"\")","v":""},{"$f":"IFERROR(VLOOKUP($A59,'All Running Order'!$A$6:$CZ$64,AH$102,FALSE),\"\")","v":""},{"$f":"IFERROR(VLOOKUP($A59,'All Running Order'!$A$6:$CZ$64,AI$102,FALSE),\"\")","v":""},{"$f":"IFERROR(VLOOKUP($A59,'All Running Order'!$A$6:$CZ$64,AJ$102,FALSE),\"\")","v":""},{"$f":"IFERROR(VLOOKUP($A59,'All Running Order'!$A$6:$CZ$64,AK$102,FALSE),\"\")","v":""},{"$f":"IFERROR(VLOOKUP($A59,'All Running Order'!$A$6:$CZ$64,AL$102,FALSE),\"\")","v":""},{"$f":"IFERROR(VLOOKUP($A59,'All Running Order'!$A$6:$CZ$64,AM$102,FALSE),\"\")","v":""},{"$f":"IFERROR(VLOOKUP($A59,'All Running Order'!$A$6:$CZ$64,AN$102,FALSE),\"\")","v":""},{"$f":"IFERROR(VLOOKUP($A59,'All Running Order'!$A$6:$CZ$64,AO$102,FALSE),\"\")","v":""},{"$f":"IFERROR(VLOOKUP($A59,'All Running Order'!$A$6:$CZ$64,AP$102,FALSE),\"\")","v":""},{"$f":"IFERROR(VLOOKUP($A59,'All Running Order'!$A$6:$CZ$64,AQ$102,FALSE),\"\")","v":""},{"$f":"IFERROR(VLOOKUP($A59,'All Running Order'!$A$6:$CZ$64,AR$102,FALSE),\"\")","v":""},{"$f":"IFERROR(VLOOKUP($A59,'All Running Order'!$A$6:$CZ$64,AS$102,FALSE),\"\")","v":""},{"$f":"IFERROR(VLOOKUP($A59,'All Running Order'!$A$6:$CZ$64,AT$102,FALSE),\"\")","v":""},{"$f":"IFERROR(VLOOKUP($A59,'All Running Order'!$A$6:$CZ$64,AU$102,FALSE),\"\")","v":""},{"$f":"IFERROR(VLOOKUP($A59,'All Running Order'!$A$6:$CZ$64,AV$102,FALSE),\"\")","v":""},{"$f":"IFERROR(VLOOKUP($A59,'All Running Order'!$A$6:$CZ$64,AW$102,FALSE),\"\")","v":""},{"$f":"IFERROR(VLOOKUP($A59,'All Running Order'!$A$6:$CZ$64,AX$102,FALSE),\"\")","v":""},{"$f":"IFERROR(VLOOKUP($A59,'All Running Order'!$A$6:$CZ$64,AY$102,FALSE),\"\")","v":""},{"$f":"IFERROR(VLOOKUP($A59,'All Running Order'!$A$6:$CZ$64,AZ$102,FALSE),\"\")","v":""},{"$f":"IFERROR(VLOOKUP($A59,'All Running Order'!$A$6:$CZ$64,BA$102,FALSE),\"\")","v":""},{"$f":"IFERROR(VLOOKUP($A59,'All Running Order'!$A$6:$CZ$64,BB$102,FALSE),\"\")","v":""},{"$f":"IFERROR(VLOOKUP($A59,'All Running Order'!$A$6:$CZ$64,BC$102,FALSE),\"\")","v":""},{"$f":"IFERROR(VLOOKUP($A59,'All Running Order'!$A$6:$CZ$64,BD$102,FALSE),\"\")","v":""},{"$f":"IFERROR(VLOOKUP($A59,'All Running Order'!$A$6:$CZ$64,BE$102,FALSE),\"\")","v":""},{"$f":"IFERROR(VLOOKUP($A59,'All Running Order'!$A$6:$CZ$64,BF$102,FALSE),\"\")","v":""},{"$f":"IFERROR(VLOOKUP($A59,'All Running Order'!$A$6:$CZ$64,BG$102,FALSE),\"\")","v":""},{"$f":"IFERROR(VLOOKUP($A59,'All Running Order'!$A$6:$CZ$64,BH$102,FALSE),\"\")","v":""},{"$f":"IFERROR(VLOOKUP($A59,'All Running Order'!$A$6:$CZ$64,BI$102,FALSE),\"\")","v":""},{"$f":"IFERROR(VLOOKUP($A59,'All Running Order'!$A$6:$CZ$64,BJ$102,FALSE),\"\")","v":""},{"$f":"IFERROR(VLOOKUP($A59,'All Running Order'!$A$6:$CZ$64,BK$102,FALSE),\"\")","v":""},{"$f":"IFERROR(VLOOKUP($A59,'All Running Order'!$A$6:$CZ$64,BL$102,FALSE),\"\")","v":""},{"$f":"IFERROR(VLOOKUP($A59,'All Running Order'!$A$6:$CZ$64,BM$102,FALSE),\"\")","v":""},{"$f":"IFERROR(VLOOKUP($A59,'All Running Order'!$A$6:$CZ$64,BN$102,FALSE),\"\")","v":""},{"$f":"IFERROR(VLOOKUP($A59,'All Running Order'!$A$6:$CZ$64,BO$102,FALSE),\"\")","v":""},{"$f":"IFERROR(VLOOKUP($A59,'All Running Order'!$A$6:$CZ$64,BP$102,FALSE),\"\")","v":""},{"$f":"IFERROR(VLOOKUP($A59,'All Running Order'!$A$6:$CZ$64,BQ$102,FALSE),\"\")","v":""},{"$f":"IFERROR(VLOOKUP($A59,'All Running Order'!$A$6:$CZ$64,BR$102,FALSE),\"\")","v":""},{"$f":"IFERROR(VLOOKUP($A59,'All Running Order'!$A$6:$CZ$64,BS$102,FALSE),\"\")","v":""},{"$f":"IFERROR(VLOOKUP($A59,'All Running Order'!$A$6:$CZ$64,BT$102,FALSE),\"\")","v":""},{"$f":"IFERROR(VLOOKUP($A59,'All Running Order'!$A$6:$CZ$64,BU$102,FALSE),\"\")","v":""},{"$f":"IFERROR(VLOOKUP($A59,'All Running Order'!$A$6:$CZ$64,BV$102,FALSE),\"\")","v":""},{"$f":"IFERROR(VLOOKUP($A59,'All Running Order'!$A$6:$CZ$64,BW$102,FALSE),\"\")","v":""},{"$f":"IFERROR(VLOOKUP($A59,'All Running Order'!$A$6:$CZ$64,BX$102,FALSE),\"\")","v":""},{"$f":"IFERROR(VLOOKUP($A59,'All Running Order'!$A$6:$CZ$64,BY$102,FALSE),\"\")","v":""},{"$f":"IFERROR(VLOOKUP($A59,'All Running Order'!$A$6:$CZ$64,BZ$102,FALSE),\"\")","v":""},{"$f":"IFERROR(VLOOKUP($A59,'All Running Order'!$A$6:$CZ$64,CA$102,FALSE),\"\")","v":""},{"$f":"IFERROR(VLOOKUP($A59,'All Running Order'!$A$6:$CZ$64,CB$102,FALSE),\"\")","v":""},{"$f":"IFERROR(VLOOKUP($A59,'All Running Order'!$A$6:$CZ$64,CC$102,FALSE),\"\")","v":""},{"$f":"IFERROR(VLOOKUP($A59,'All Running Order'!$A$6:$CZ$64,CD$102,FALSE),\"\")","v":""},{"$f":"IFERROR(VLOOKUP($A59,'All Running Order'!$A$6:$CZ$64,CE$102,FALSE),\"\")","v":""},{"$f":"IFERROR(VLOOKUP($A59,'All Running Order'!$A$6:$CZ$64,CF$102,FALSE),\"\")","v":""},{"$f":"IFERROR(VLOOKUP($A59,'All Running Order'!$A$6:$CZ$64,CG$102,FALSE),\"\")","v":""},{"$f":"IFERROR(VLOOKUP($A59,'All Running Order'!$A$6:$CZ$64,CH$102,FALSE),\"\")","v":""},{"$f":"IFERROR(VLOOKUP($A59,'All Running Order'!$A$6:$CZ$64,CI$102,FALSE),\"\")","v":""},{"$f":"IFERROR(VLOOKUP($A59,'All Running Order'!$A$6:$CZ$64,CJ$102,FALSE),\"\")","v":""},{"$f":"IFERROR(VLOOKUP($A59,'All Running Order'!$A$6:$CZ$64,CK$102,FALSE),\"\")","v":""},{"$f":"IFERROR(VLOOKUP($A59,'All Running Order'!$A$6:$CZ$64,CL$102,FALSE),\"\")","v":""},{"$f":"IFERROR(VLOOKUP($A59,'All Running Order'!$A$6:$CZ$64,CM$102,FALSE),\"\")","v":""},{"$f":"IFERROR(VLOOKUP($A59,'All Running Order'!$A$6:$CZ$64,CN$102,FALSE),\"\")","v":""},{"$f":"IFERROR(VLOOKUP($A59,'All Running Order'!$A$6:$CZ$64,CO$102,FALSE),\"\")","v":""},{"$f":"IFERROR(VLOOKUP($A59,'All Running Order'!$A$6:$CZ$64,CP$102,FALSE),\"\")","v":""},{"$f":"IFERROR(VLOOKUP($A59,'All Running Order'!$A$6:$CZ$64,CQ$102,FALSE),\"\")","v":""},{"$f":"IFERROR(VLOOKUP($A59,'All Running Order'!$A$6:$CZ$64,CR$102,FALSE),\"\")","v":""},{"$f":"IFERROR(VLOOKUP($A59,'All Running Order'!$A$6:$CZ$64,CS$102,FALSE),\"\")","v":""},{"$f":"IFERROR(VLOOKUP($A59,'All Running Order'!$A$6:$CZ$64,CT$102,FALSE),\"\")","v":""},{"$f":"IFERROR(VLOOKUP($A59,'All Running Order'!$A$6:$CZ$64,CU$102,FALSE),\"\")","v":""},{"$f":"IFERROR(VLOOKUP($A59,'All Running Order'!$A$6:$CZ$64,CV$102,FALSE),\"\")","v":""},{"$f":"IFERROR(VLOOKUP($A59,'All Running Order'!$A$6:$CZ$64,CW$102,FALSE),\"\")","v":""},{"$f":"IFERROR(VLOOKUP($A59,'All Running Order'!$A$6:$CZ$64,CX$102,FALSE),\"\")","v":""},{"$f":"IFERROR(VLOOKUP($A59,'All Running Order'!$A$6:$CZ$64,CY$102,FALSE),\"\")","v":""},{"$f":"IFERROR(VLOOKUP($A59,'All Running Order'!$A$6:$CZ$64,CZ$102,FALSE),\"\")","v":""}]
[55,{"$f":"IFERROR(VLOOKUP($A60,'All Running Order'!$A$6:$CZ$64,B$102,FALSE),\"\")","v":""},{"$f":"IFERROR(VLOOKUP($A60,'All Running Order'!$A$6:$CZ$64,C$102,FALSE),\"\")","v":""},{"$f":"IFERROR(VLOOKUP($A60,'All Running Order'!$A$6:$CZ$64,D$102,FALSE),\"\")","v":""},{"$f":"IFERROR(VLOOKUP($A60,'All Running Order'!$A$6:$CZ$64,E$102,FALSE),\"\")","v":""},{"$f":"IFERROR(VLOOKUP($A60,'All Running Order'!$A$6:$CZ$64,F$102,FALSE),\"\")","v":""},{"$f":"IFERROR(VLOOKUP($A60,'All Running Order'!$A$6:$CZ$64,G$102,FALSE),\"\")","v":""},{"$f":"IFERROR(VLOOKUP($A60,'All Running Order'!$A$6:$CZ$64,H$102,FALSE),\"\")","v":""},{"$f":"IFERROR(VLOOKUP($A60,'All Running Order'!$A$6:$CZ$64,I$102,FALSE),\"\")","v":""},{"$f":"IFERROR(VLOOKUP($A60,'All Running Order'!$A$6:$CZ$64,J$102,FALSE),\"\")","v":""},{"$f":"IFERROR(VLOOKUP($A60,'All Running Order'!$A$6:$CZ$64,K$102,FALSE),\"\")","v":""},{"$f":"IFERROR(VLOOKUP($A60,'All Running Order'!$A$6:$CZ$64,L$102,FALSE),\"\")","v":""},{"$f":"IFERROR(VLOOKUP($A60,'All Running Order'!$A$6:$CZ$64,M$102,FALSE),\"\")","v":""},{"$f":"IFERROR(VLOOKUP($A60,'All Running Order'!$A$6:$CZ$64,N$102,FALSE),\"\")","v":""},{"$f":"IFERROR(VLOOKUP($A60,'All Running Order'!$A$6:$CZ$64,O$102,FALSE),\"\")","v":""},{"$f":"IFERROR(VLOOKUP($A60,'All Running Order'!$A$6:$CZ$64,P$102,FALSE),\"\")","v":""},{"$f":"IFERROR(VLOOKUP($A60,'All Running Order'!$A$6:$CZ$64,Q$102,FALSE),\"\")","v":""},{"$f":"IFERROR(VLOOKUP($A60,'All Running Order'!$A$6:$CZ$64,R$102,FALSE),\"\")","v":""},{"$f":"IFERROR(VLOOKUP($A60,'All Running Order'!$A$6:$CZ$64,S$102,FALSE),\"\")","v":""},{"$f":"IFERROR(VLOOKUP($A60,'All Running Order'!$A$6:$CZ$64,T$102,FALSE),\"\")","v":""},{"$f":"IFERROR(VLOOKUP($A60,'All Running Order'!$A$6:$CZ$64,U$102,FALSE),\"\")","v":""},{"$f":"IFERROR(VLOOKUP($A60,'All Running Order'!$A$6:$CZ$64,V$102,FALSE),\"\")","v":""},{"$f":"IFERROR(VLOOKUP($A60,'All Running Order'!$A$6:$CZ$64,W$102,FALSE),\"\")","v":""},{"$f":"IFERROR(VLOOKUP($A60,'All Running Order'!$A$6:$CZ$64,X$102,FALSE),\"\")","v":""},{"$f":"IFERROR(VLOOKUP($A60,'All Running Order'!$A$6:$CZ$64,Y$102,FALSE),\"\")","v":""},{"$f":"IFERROR(VLOOKUP($A60,'All Running Order'!$A$6:$CZ$64,Z$102,FALSE),\"\")","v":""},{"$f":"IFERROR(VLOOKUP($A60,'All Running Order'!$A$6:$CZ$64,AA$102,FALSE),\"\")","v":""},{"$f":"IFERROR(VLOOKUP($A60,'All Running Order'!$A$6:$CZ$64,AB$102,FALSE),\"\")","v":""},{"$f":"IFERROR(VLOOKUP($A60,'All Running Order'!$A$6:$CZ$64,AC$102,FALSE),\"\")","v":""},{"$f":"IFERROR(VLOOKUP($A60,'All Running Order'!$A$6:$CZ$64,AD$102,FALSE),\"\")","v":""},{"$f":"IFERROR(VLOOKUP($A60,'All Running Order'!$A$6:$CZ$64,AE$102,FALSE),\"\")","v":""},{"$f":"IFERROR(VLOOKUP($A60,'All Running Order'!$A$6:$CZ$64,AF$102,FALSE),\"\")","v":""},{"$f":"IFERROR(VLOOKUP($A60,'All Running Order'!$A$6:$CZ$64,AG$102,FALSE),\"\")","v":""},{"$f":"IFERROR(VLOOKUP($A60,'All Running Order'!$A$6:$CZ$64,AH$102,FALSE),\"\")","v":""},{"$f":"IFERROR(VLOOKUP($A60,'All Running Order'!$A$6:$CZ$64,AI$102,FALSE),\"\")","v":""},{"$f":"IFERROR(VLOOKUP($A60,'All Running Order'!$A$6:$CZ$64,AJ$102,FALSE),\"\")","v":""},{"$f":"IFERROR(VLOOKUP($A60,'All Running Order'!$A$6:$CZ$64,AK$102,FALSE),\"\")","v":""},{"$f":"IFERROR(VLOOKUP($A60,'All Running Order'!$A$6:$CZ$64,AL$102,FALSE),\"\")","v":""},{"$f":"IFERROR(VLOOKUP($A60,'All Running Order'!$A$6:$CZ$64,AM$102,FALSE),\"\")","v":""},{"$f":"IFERROR(VLOOKUP($A60,'All Running Order'!$A$6:$CZ$64,AN$102,FALSE),\"\")","v":""},{"$f":"IFERROR(VLOOKUP($A60,'All Running Order'!$A$6:$CZ$64,AO$102,FALSE),\"\")","v":""},{"$f":"IFERROR(VLOOKUP($A60,'All Running Order'!$A$6:$CZ$64,AP$102,FALSE),\"\")","v":""},{"$f":"IFERROR(VLOOKUP($A60,'All Running Order'!$A$6:$CZ$64,AQ$102,FALSE),\"\")","v":""},{"$f":"IFERROR(VLOOKUP($A60,'All Running Order'!$A$6:$CZ$64,AR$102,FALSE),\"\")","v":""},{"$f":"IFERROR(VLOOKUP($A60,'All Running Order'!$A$6:$CZ$64,AS$102,FALSE),\"\")","v":""},{"$f":"IFERROR(VLOOKUP($A60,'All Running Order'!$A$6:$CZ$64,AT$102,FALSE),\"\")","v":""},{"$f":"IFERROR(VLOOKUP($A60,'All Running Order'!$A$6:$CZ$64,AU$102,FALSE),\"\")","v":""},{"$f":"IFERROR(VLOOKUP($A60,'All Running Order'!$A$6:$CZ$64,AV$102,FALSE),\"\")","v":""},{"$f":"IFERROR(VLOOKUP($A60,'All Running Order'!$A$6:$CZ$64,AW$102,FALSE),\"\")","v":""},{"$f":"IFERROR(VLOOKUP($A60,'All Running Order'!$A$6:$CZ$64,AX$102,FALSE),\"\")","v":""},{"$f":"IFERROR(VLOOKUP($A60,'All Running Order'!$A$6:$CZ$64,AY$102,FALSE),\"\")","v":""},{"$f":"IFERROR(VLOOKUP($A60,'All Running Order'!$A$6:$CZ$64,AZ$102,FALSE),\"\")","v":""},{"$f":"IFERROR(VLOOKUP($A60,'All Running Order'!$A$6:$CZ$64,BA$102,FALSE),\"\")","v":""},{"$f":"IFERROR(VLOOKUP($A60,'All Running Order'!$A$6:$CZ$64,BB$102,FALSE),\"\")","v":""},{"$f":"IFERROR(VLOOKUP($A60,'All Running Order'!$A$6:$CZ$64,BC$102,FALSE),\"\")","v":""},{"$f":"IFERROR(VLOOKUP($A60,'All Running Order'!$A$6:$CZ$64,BD$102,FALSE),\"\")","v":""},{"$f":"IFERROR(VLOOKUP($A60,'All Running Order'!$A$6:$CZ$64,BE$102,FALSE),\"\")","v":""},{"$f":"IFERROR(VLOOKUP($A60,'All Running Order'!$A$6:$CZ$64,BF$102,FALSE),\"\")","v":""},{"$f":"IFERROR(VLOOKUP($A60,'All Running Order'!$A$6:$CZ$64,BG$102,FALSE),\"\")","v":""},{"$f":"IFERROR(VLOOKUP($A60,'All Running Order'!$A$6:$CZ$64,BH$102,FALSE),\"\")","v":""},{"$f":"IFERROR(VLOOKUP($A60,'All Running Order'!$A$6:$CZ$64,BI$102,FALSE),\"\")","v":""},{"$f":"IFERROR(VLOOKUP($A60,'All Running Order'!$A$6:$CZ$64,BJ$102,FALSE),\"\")","v":""},{"$f":"IFERROR(VLOOKUP($A60,'All Running Order'!$A$6:$CZ$64,BK$102,FALSE),\"\")","v":""},{"$f":"IFERROR(VLOOKUP($A60,'All Running Order'!$A$6:$CZ$64,BL$102,FALSE),\"\")","v":""},{"$f":"IFERROR(VLOOKUP($A60,'All Running Order'!$A$6:$CZ$64,BM$102,FALSE),\"\")","v":""},{"$f":"IFERROR(VLOOKUP($A60,'All Running Order'!$A$6:$CZ$64,BN$102,FALSE),\"\")","v":""},{"$f":"IFERROR(VLOOKUP($A60,'All Running Order'!$A$6:$CZ$64,BO$102,FALSE),\"\")","v":""},{"$f":"IFERROR(VLOOKUP($A60,'All Running Order'!$A$6:$CZ$64,BP$102,FALSE),\"\")","v":""},{"$f":"IFERROR(VLOOKUP($A60,'All Running Order'!$A$6:$CZ$64,BQ$102,FALSE),\"\")","v":""},{"$f":"IFERROR(VLOOKUP($A60,'All Running Order'!$A$6:$CZ$64,BR$102,FALSE),\"\")","v":""},{"$f":"IFERROR(VLOOKUP($A60,'All Running Order'!$A$6:$CZ$64,BS$102,FALSE),\"\")","v":""},{"$f":"IFERROR(VLOOKUP($A60,'All Running Order'!$A$6:$CZ$64,BT$102,FALSE),\"\")","v":""},{"$f":"IFERROR(VLOOKUP($A60,'All Running Order'!$A$6:$CZ$64,BU$102,FALSE),\"\")","v":""},{"$f":"IFERROR(VLOOKUP($A60,'All Running Order'!$A$6:$CZ$64,BV$102,FALSE),\"\")","v":""},{"$f":"IFERROR(VLOOKUP($A60,'All Running Order'!$A$6:$CZ$64,BW$102,FALSE),\"\")","v":""},{"$f":"IFERROR(VLOOKUP($A60,'All Running Order'!$A$6:$CZ$64,BX$102,FALSE),\"\")","v":""},{"$f":"IFERROR(VLOOKUP($A60,'All Running Order'!$A$6:$CZ$64,BY$102,FALSE),\"\")","v":""},{"$f":"IFERROR(VLOOKUP($A60,'All Running Order'!$A$6:$CZ$64,BZ$102,FALSE),\"\")","v":""},{"$f":"IFERROR(VLOOKUP($A60,'All Running Order'!$A$6:$CZ$64,CA$102,FALSE),\"\")","v":""},{"$f":"IFERROR(VLOOKUP($A60,'All Running Order'!$A$6:$CZ$64,CB$102,FALSE),\"\")","v":""},{"$f":"IFERROR(VLOOKUP($A60,'All Running Order'!$A$6:$CZ$64,CC$102,FALSE),\"\")","v":""},{"$f":"IFERROR(VLOOKUP($A60,'All Running Order'!$A$6:$CZ$64,CD$102,FALSE),\"\")","v":""},{"$f":"IFERROR(VLOOKUP($A60,'All Running Order'!$A$6:$CZ$64,CE$102,FALSE),\"\")","v":""},{"$f":"IFERROR(VLOOKUP($A60,'All Running Order'!$A$6:$CZ$64,CF$102,FALSE),\"\")","v":""},{"$f":"IFERROR(VLOOKUP($A60,'All Running Order'!$A$6:$CZ$64,CG$102,FALSE),\"\")","v":""},{"$f":"IFERROR(VLOOKUP($A60,'All Running Order'!$A$6:$CZ$64,CH$102,FALSE),\"\")","v":""},{"$f":"IFERROR(VLOOKUP($A60,'All Running Order'!$A$6:$CZ$64,CI$102,FALSE),\"\")","v":""},{"$f":"IFERROR(VLOOKUP($A60,'All Running Order'!$A$6:$CZ$64,CJ$102,FALSE),\"\")","v":""},{"$f":"IFERROR(VLOOKUP($A60,'All Running Order'!$A$6:$CZ$64,CK$102,FALSE),\"\")","v":""},{"$f":"IFERROR(VLOOKUP($A60,'All Running Order'!$A$6:$CZ$64,CL$102,FALSE),\"\")","v":""},{"$f":"IFERROR(VLOOKUP($A60,'All Running Order'!$A$6:$CZ$64,CM$102,FALSE),\"\")","v":""},{"$f":"IFERROR(VLOOKUP($A60,'All Running Order'!$A$6:$CZ$64,CN$102,FALSE),\"\")","v":""},{"$f":"IFERROR(VLOOKUP($A60,'All Running Order'!$A$6:$CZ$64,CO$102,FALSE),\"\")","v":""},{"$f":"IFERROR(VLOOKUP($A60,'All Running Order'!$A$6:$CZ$64,CP$102,FALSE),\"\")","v":""},{"$f":"IFERROR(VLOOKUP($A60,'All Running Order'!$A$6:$CZ$64,CQ$102,FALSE),\"\")","v":""},{"$f":"IFERROR(VLOOKUP($A60,'All Running Order'!$A$6:$CZ$64,CR$102,FALSE),\"\")","v":""},{"$f":"IFERROR(VLOOKUP($A60,'All Running Order'!$A$6:$CZ$64,CS$102,FALSE),\"\")","v":""},{"$f":"IFERROR(VLOOKUP($A60,'All Running Order'!$A$6:$CZ$64,CT$102,FALSE),\"\")","v":""},{"$f":"IFERROR(VLOOKUP($A60,'All Running Order'!$A$6:$CZ$64,CU$102,FALSE),\"\")","v":""},{"$f":"IFERROR(VLOOKUP($A60,'All Running Order'!$A$6:$CZ$64,CV$102,FALSE),\"\")","v":""},{"$f":"IFERROR(VLOOKUP($A60,'All Running Order'!$A$6:$CZ$64,CW$102,FALSE),\"\")","v":""},{"$f":"IFERROR(VLOOKUP($A60,'All Running Order'!$A$6:$CZ$64,CX$102,FALSE),\"\")","v":""},{"$f":"IFERROR(VLOOKUP($A60,'All Running Order'!$A$6:$CZ$64,CY$102,FALSE),\"\")","v":""},{"$f":"IFERROR(VLOOKUP($A60,'All Running Order'!$A$6:$CZ$64,CZ$102,FALSE),\"\")","v":""}]
[56,{"$f":"IFERROR(VLOOKUP($A61,'All Running Order'!$A$6:$CZ$64,B$102,FALSE),\"\")","v":""},{"$f":"IFERROR(VLOOKUP($A61,'All Running Order'!$A$6:$CZ$64,C$102,FALSE),\"\")","v":""},{"$f":"IFERROR(VLOOKUP($A61,'All Running Order'!$A$6:$CZ$64,D$102,FALSE),\"\")","v":""},{"$f":"IFERROR(VLOOKUP($A61,'All Running Order'!$A$6:$CZ$64,E$102,FALSE),\"\")","v":""},{"$f":"IFERROR(VLOOKUP($A61,'All Running Order'!$A$6:$CZ$64,F$102,FALSE),\"\")","v":""},{"$f":"IFERROR(VLOOKUP($A61,'All Running Order'!$A$6:$CZ$64,G$102,FALSE),\"\")","v":""},{"$f":"IFERROR(VLOOKUP($A61,'All Running Order'!$A$6:$CZ$64,H$102,FALSE),\"\")","v":""},{"$f":"IFERROR(VLOOKUP($A61,'All Running Order'!$A$6:$CZ$64,I$102,FALSE),\"\")","v":""},{"$f":"IFERROR(VLOOKUP($A61,'All Running Order'!$A$6:$CZ$64,J$102,FALSE),\"\")","v":""},{"$f":"IFERROR(VLOOKUP($A61,'All Running Order'!$A$6:$CZ$64,K$102,FALSE),\"\")","v":""},{"$f":"IFERROR(VLOOKUP($A61,'All Running Order'!$A$6:$CZ$64,L$102,FALSE),\"\")","v":""},{"$f":"IFERROR(VLOOKUP($A61,'All Running Order'!$A$6:$CZ$64,M$102,FALSE),\"\")","v":""},{"$f":"IFERROR(VLOOKUP($A61,'All Running Order'!$A$6:$CZ$64,N$102,FALSE),\"\")","v":""},{"$f":"IFERROR(VLOOKUP($A61,'All Running Order'!$A$6:$CZ$64,O$102,FALSE),\"\")","v":""},{"$f":"IFERROR(VLOOKUP($A61,'All Running Order'!$A$6:$CZ$64,P$102,FALSE),\"\")","v":""},{"$f":"IFERROR(VLOOKUP($A61,'All Running Order'!$A$6:$CZ$64,Q$102,FALSE),\"\")","v":""},{"$f":"IFERROR(VLOOKUP($A61,'All Running Order'!$A$6:$CZ$64,R$102,FALSE),\"\")","v":""},{"$f":"IFERROR(VLOOKUP($A61,'All Running Order'!$A$6:$CZ$64,S$102,FALSE),\"\")","v":""},{"$f":"IFERROR(VLOOKUP($A61,'All Running Order'!$A$6:$CZ$64,T$102,FALSE),\"\")","v":""},{"$f":"IFERROR(VLOOKUP($A61,'All Running Order'!$A$6:$CZ$64,U$102,FALSE),\"\")","v":""},{"$f":"IFERROR(VLOOKUP($A61,'All Running Order'!$A$6:$CZ$64,V$102,FALSE),\"\")","v":""},{"$f":"IFERROR(VLOOKUP($A61,'All Running Order'!$A$6:$CZ$64,W$102,FALSE),\"\")","v":""},{"$f":"IFERROR(VLOOKUP($A61,'All Running Order'!$A$6:$CZ$64,X$102,FALSE),\"\")","v":""},{"$f":"IFERROR(VLOOKUP($A61,'All Running Order'!$A$6:$CZ$64,Y$102,FALSE),\"\")","v":""},{"$f":"IFERROR(VLOOKUP($A61,'All Running Order'!$A$6:$CZ$64,Z$102,FALSE),\"\")","v":""},{"$f":"IFERROR(VLOOKUP($A61,'All Running Order'!$A$6:$CZ$64,AA$102,FALSE),\"\")","v":""},{"$f":"IFERROR(VLOOKUP($A61,'All Running Order'!$A$6:$CZ$64,AB$102,FALSE),\"\")","v":""},{"$f":"IFERROR(VLOOKUP($A61,'All Running Order'!$A$6:$CZ$64,AC$102,FALSE),\"\")","v":""},{"$f":"IFERROR(VLOOKUP($A61,'All Running Order'!$A$6:$CZ$64,AD$102,FALSE),\"\")","v":""},{"$f":"IFERROR(VLOOKUP($A61,'All Running Order'!$A$6:$CZ$64,AE$102,FALSE),\"\")","v":""},{"$f":"IFERROR(VLOOKUP($A61,'All Running Order'!$A$6:$CZ$64,AF$102,FALSE),\"\")","v":""},{"$f":"IFERROR(VLOOKUP($A61,'All Running Order'!$A$6:$CZ$64,AG$102,FALSE),\"\")","v":""},{"$f":"IFERROR(VLOOKUP($A61,'All Running Order'!$A$6:$CZ$64,AH$102,FALSE),\"\")","v":""},{"$f":"IFERROR(VLOOKUP($A61,'All Running Order'!$A$6:$CZ$64,AI$102,FALSE),\"\")","v":""},{"$f":"IFERROR(VLOOKUP($A61,'All Running Order'!$A$6:$CZ$64,AJ$102,FALSE),\"\")","v":""},{"$f":"IFERROR(VLOOKUP($A61,'All Running Order'!$A$6:$CZ$64,AK$102,FALSE),\"\")","v":""},{"$f":"IFERROR(VLOOKUP($A61,'All Running Order'!$A$6:$CZ$64,AL$102,FALSE),\"\")","v":""},{"$f":"IFERROR(VLOOKUP($A61,'All Running Order'!$A$6:$CZ$64,AM$102,FALSE),\"\")","v":""},{"$f":"IFERROR(VLOOKUP($A61,'All Running Order'!$A$6:$CZ$64,AN$102,FALSE),\"\")","v":""},{"$f":"IFERROR(VLOOKUP($A61,'All Running Order'!$A$6:$CZ$64,AO$102,FALSE),\"\")","v":""},{"$f":"IFERROR(VLOOKUP($A61,'All Running Order'!$A$6:$CZ$64,AP$102,FALSE),\"\")","v":""},{"$f":"IFERROR(VLOOKUP($A61,'All Running Order'!$A$6:$CZ$64,AQ$102,FALSE),\"\")","v":""},{"$f":"IFERROR(VLOOKUP($A61,'All Running Order'!$A$6:$CZ$64,AR$102,FALSE),\"\")","v":""},{"$f":"IFERROR(VLOOKUP($A61,'All Running Order'!$A$6:$CZ$64,AS$102,FALSE),\"\")","v":""},{"$f":"IFERROR(VLOOKUP($A61,'All Running Order'!$A$6:$CZ$64,AT$102,FALSE),\"\")","v":""},{"$f":"IFERROR(VLOOKUP($A61,'All Running Order'!$A$6:$CZ$64,AU$102,FALSE),\"\")","v":""},{"$f":"IFERROR(VLOOKUP($A61,'All Running Order'!$A$6:$CZ$64,AV$102,FALSE),\"\")","v":""},{"$f":"IFERROR(VLOOKUP($A61,'All Running Order'!$A$6:$CZ$64,AW$102,FALSE),\"\")","v":""},{"$f":"IFERROR(VLOOKUP($A61,'All Running Order'!$A$6:$CZ$64,AX$102,FALSE),\"\")","v":""},{"$f":"IFERROR(VLOOKUP($A61,'All Running Order'!$A$6:$CZ$64,AY$102,FALSE),\"\")","v":""},{"$f":"IFERROR(VLOOKUP($A61,'All Running Order'!$A$6:$CZ$64,AZ$102,FALSE),\"\")","v":""},{"$f":"IFERROR(VLOOKUP($A61,'All Running Order'!$A$6:$CZ$64,BA$102,FALSE),\"\")","v":""},{"$f":"IFERROR(VLOOKUP($A61,'All Running Order'!$A$6:$CZ$64,BB$102,FALSE),\"\")","v":""},{"$f":"IFERROR(VLOOKUP($A61,'All Running Order'!$A$6:$CZ$64,BC$102,FALSE),\"\")","v":""},{"$f":"IFERROR(VLOOKUP($A61,'All Running Order'!$A$6:$CZ$64,BD$102,FALSE),\"\")","v":""},{"$f":"IFERROR(VLOOKUP($A61,'All Running Order'!$A$6:$CZ$64,BE$102,FALSE),\"\")","v":""},{"$f":"IFERROR(VLOOKUP($A61,'All Running Order'!$A$6:$CZ$64,BF$102,FALSE),\"\")","v":""},{"$f":"IFERROR(VLOOKUP($A61,'All Running Order'!$A$6:$CZ$64,BG$102,FALSE),\"\")","v":""},{"$f":"IFERROR(VLOOKUP($A61,'All Running Order'!$A$6:$CZ$64,BH$102,FALSE),\"\")","v":""},{"$f":"IFERROR(VLOOKUP($A61,'All Running Order'!$A$6:$CZ$64,BI$102,FALSE),\"\")","v":""},{"$f":"IFERROR(VLOOKUP($A61,'All Running Order'!$A$6:$CZ$64,BJ$102,FALSE),\"\")","v":""},{"$f":"IFERROR(VLOOKUP($A61,'All Running Order'!$A$6:$CZ$64,BK$102,FALSE),\"\")","v":""},{"$f":"IFERROR(VLOOKUP($A61,'All Running Order'!$A$6:$CZ$64,BL$102,FALSE),\"\")","v":""},{"$f":"IFERROR(VLOOKUP($A61,'All Running Order'!$A$6:$CZ$64,BM$102,FALSE),\"\")","v":""},{"$f":"IFERROR(VLOOKUP($A61,'All Running Order'!$A$6:$CZ$64,BN$102,FALSE),\"\")","v":""},{"$f":"IFERROR(VLOOKUP($A61,'All Running Order'!$A$6:$CZ$64,BO$102,FALSE),\"\")","v":""},{"$f":"IFERROR(VLOOKUP($A61,'All Running Order'!$A$6:$CZ$64,BP$102,FALSE),\"\")","v":""},{"$f":"IFERROR(VLOOKUP($A61,'All Running Order'!$A$6:$CZ$64,BQ$102,FALSE),\"\")","v":""},{"$f":"IFERROR(VLOOKUP($A61,'All Running Order'!$A$6:$CZ$64,BR$102,FALSE),\"\")","v":""},{"$f":"IFERROR(VLOOKUP($A61,'All Running Order'!$A$6:$CZ$64,BS$102,FALSE),\"\")","v":""},{"$f":"IFERROR(VLOOKUP($A61,'All Running Order'!$A$6:$CZ$64,BT$102,FALSE),\"\")","v":""},{"$f":"IFERROR(VLOOKUP($A61,'All Running Order'!$A$6:$CZ$64,BU$102,FALSE),\"\")","v":""},{"$f":"IFERROR(VLOOKUP($A61,'All Running Order'!$A$6:$CZ$64,BV$102,FALSE),\"\")","v":""},{"$f":"IFERROR(VLOOKUP($A61,'All Running Order'!$A$6:$CZ$64,BW$102,FALSE),\"\")","v":""},{"$f":"IFERROR(VLOOKUP($A61,'All Running Order'!$A$6:$CZ$64,BX$102,FALSE),\"\")","v":""},{"$f":"IFERROR(VLOOKUP($A61,'All Running Order'!$A$6:$CZ$64,BY$102,FALSE),\"\")","v":""},{"$f":"IFERROR(VLOOKUP($A61,'All Running Order'!$A$6:$CZ$64,BZ$102,FALSE),\"\")","v":""},{"$f":"IFERROR(VLOOKUP($A61,'All Running Order'!$A$6:$CZ$64,CA$102,FALSE),\"\")","v":""},{"$f":"IFERROR(VLOOKUP($A61,'All Running Order'!$A$6:$CZ$64,CB$102,FALSE),\"\")","v":""},{"$f":"IFERROR(VLOOKUP($A61,'All Running Order'!$A$6:$CZ$64,CC$102,FALSE),\"\")","v":""},{"$f":"IFERROR(VLOOKUP($A61,'All Running Order'!$A$6:$CZ$64,CD$102,FALSE),\"\")","v":""},{"$f":"IFERROR(VLOOKUP($A61,'All Running Order'!$A$6:$CZ$64,CE$102,FALSE),\"\")","v":""},{"$f":"IFERROR(VLOOKUP($A61,'All Running Order'!$A$6:$CZ$64,CF$102,FALSE),\"\")","v":""},{"$f":"IFERROR(VLOOKUP($A61,'All Running Order'!$A$6:$CZ$64,CG$102,FALSE),\"\")","v":""},{"$f":"IFERROR(VLOOKUP($A61,'All Running Order'!$A$6:$CZ$64,CH$102,FALSE),\"\")","v":""},{"$f":"IFERROR(VLOOKUP($A61,'All Running Order'!$A$6:$CZ$64,CI$102,FALSE),\"\")","v":""},{"$f":"IFERROR(VLOOKUP($A61,'All Running Order'!$A$6:$CZ$64,CJ$102,FALSE),\"\")","v":""},{"$f":"IFERROR(VLOOKUP($A61,'All Running Order'!$A$6:$CZ$64,CK$102,FALSE),\"\")","v":""},{"$f":"IFERROR(VLOOKUP($A61,'All Running Order'!$A$6:$CZ$64,CL$102,FALSE),\"\")","v":""},{"$f":"IFERROR(VLOOKUP($A61,'All Running Order'!$A$6:$CZ$64,CM$102,FALSE),\"\")","v":""},{"$f":"IFERROR(VLOOKUP($A61,'All Running Order'!$A$6:$CZ$64,CN$102,FALSE),\"\")","v":""},{"$f":"IFERROR(VLOOKUP($A61,'All Running Order'!$A$6:$CZ$64,CO$102,FALSE),\"\")","v":""},{"$f":"IFERROR(VLOOKUP($A61,'All Running Order'!$A$6:$CZ$64,CP$102,FALSE),\"\")","v":""},{"$f":"IFERROR(VLOOKUP($A61,'All Running Order'!$A$6:$CZ$64,CQ$102,FALSE),\"\")","v":""},{"$f":"IFERROR(VLOOKUP($A61,'All Running Order'!$A$6:$CZ$64,CR$102,FALSE),\"\")","v":""},{"$f":"IFERROR(VLOOKUP($A61,'All Running Order'!$A$6:$CZ$64,CS$102,FALSE),\"\")","v":""},{"$f":"IFERROR(VLOOKUP($A61,'All Running Order'!$A$6:$CZ$64,CT$102,FALSE),\"\")","v":""},{"$f":"IFERROR(VLOOKUP($A61,'All Running Order'!$A$6:$CZ$64,CU$102,FALSE),\"\")","v":""},{"$f":"IFERROR(VLOOKUP($A61,'All Running Order'!$A$6:$CZ$64,CV$102,FALSE),\"\")","v":""},{"$f":"IFERROR(VLOOKUP($A61,'All Running Order'!$A$6:$CZ$64,CW$102,FALSE),\"\")","v":""},{"$f":"IFERROR(VLOOKUP($A61,'All Running Order'!$A$6:$CZ$64,CX$102,FALSE),\"\")","v":""},{"$f":"IFERROR(VLOOKUP($A61,'All Running Order'!$A$6:$CZ$64,CY$102,FALSE),\"\")","v":""},{"$f":"IFERROR(VLOOKUP($A61,'All Running Order'!$A$6:$CZ$64,CZ$102,FALSE),\"\")","v":""}]
[57,{"$f":"IFERROR(VLOOKUP($A62,'All Running Order'!$A$6:$CZ$64,B$102,FALSE),\"\")","v":""},{"$f":"IFERROR(VLOOKUP($A62,'All Running Order'!$A$6:$CZ$64,C$102,FALSE),\"\")","v":""},{"$f":"IFERROR(VLOOKUP($A62,'All Running Order'!$A$6:$CZ$64,D$102,FALSE),\"\")","v":""},{"$f":"IFERROR(VLOOKUP($A62,'All Running Order'!$A$6:$CZ$64,E$102,FALSE),\"\")","v":""},{"$f":"IFERROR(VLOOKUP($A62,'All Running Order'!$A$6:$CZ$64,F$102,FALSE),\"\")","v":""},{"$f":"IFERROR(VLOOKUP($A62,'All Running Order'!$A$6:$CZ$64,G$102,FALSE),\"\")","v":""},{"$f":"IFERROR(VLOOKUP($A62,'All Running Order'!$A$6:$CZ$64,H$102,FALSE),\"\")","v":""},{"$f":"IFERROR(VLOOKUP($A62,'All Running Order'!$A$6:$CZ$64,I$102,FALSE),\"\")","v":""},{"$f":"IFERROR(VLOOKUP($A62,'All Running Order'!$A$6:$CZ$64,J$102,FALSE),\"\")","v":""},{"$f":"IFERROR(VLOOKUP($A62,'All Running Order'!$A$6:$CZ$64,K$102,FALSE),\"\")","v":""},{"$f":"IFERROR(VLOOKUP($A62,'All Running Order'!$A$6:$CZ$64,L$102,FALSE),\"\")","v":""},{"$f":"IFERROR(VLOOKUP($A62,'All Running Order'!$A$6:$CZ$64,M$102,FALSE),\"\")","v":""},{"$f":"IFERROR(VLOOKUP($A62,'All Running Order'!$A$6:$CZ$64,N$102,FALSE),\"\")","v":""},{"$f":"IFERROR(VLOOKUP($A62,'All Running Order'!$A$6:$CZ$64,O$102,FALSE),\"\")","v":""},{"$f":"IFERROR(VLOOKUP($A62,'All Running Order'!$A$6:$CZ$64,P$102,FALSE),\"\")","v":""},{"$f":"IFERROR(VLOOKUP($A62,'All Running Order'!$A$6:$CZ$64,Q$102,FALSE),\"\")","v":""},{"$f":"IFERROR(VLOOKUP($A62,'All Running Order'!$A$6:$CZ$64,R$102,FALSE),\"\")","v":""},{"$f":"IFERROR(VLOOKUP($A62,'All Running Order'!$A$6:$CZ$64,S$102,FALSE),\"\")","v":""},{"$f":"IFERROR(VLOOKUP($A62,'All Running Order'!$A$6:$CZ$64,T$102,FALSE),\"\")","v":""},{"$f":"IFERROR(VLOOKUP($A62,'All Running Order'!$A$6:$CZ$64,U$102,FALSE),\"\")","v":""},{"$f":"IFERROR(VLOOKUP($A62,'All Running Order'!$A$6:$CZ$64,V$102,FALSE),\"\")","v":""},{"$f":"IFERROR(VLOOKUP($A62,'All Running Order'!$A$6:$CZ$64,W$102,FALSE),\"\")","v":""},{"$f":"IFERROR(VLOOKUP($A62,'All Running Order'!$A$6:$CZ$64,X$102,FALSE),\"\")","v":""},{"$f":"IFERROR(VLOOKUP($A62,'All Running Order'!$A$6:$CZ$64,Y$102,FALSE),\"\")","v":""},{"$f":"IFERROR(VLOOKUP($A62,'All Running Order'!$A$6:$CZ$64,Z$102,FALSE),\"\")","v":""},{"$f":"IFERROR(VLOOKUP($A62,'All Running Order'!$A$6:$CZ$64,AA$102,FALSE),\"\")","v":""},{"$f":"IFERROR(VLOOKUP($A62,'All Running Order'!$A$6:$CZ$64,AB$102,FALSE),\"\")","v":""},{"$f":"IFERROR(VLOOKUP($A62,'All Running Order'!$A$6:$CZ$64,AC$102,FALSE),\"\")","v":""},{"$f":"IFERROR(VLOOKUP($A62,'All Running Order'!$A$6:$CZ$64,AD$102,FALSE),\"\")","v":""},{"$f":"IFERROR(VLOOKUP($A62,'All Running Order'!$A$6:$CZ$64,AE$102,FALSE),\"\")","v":""},{"$f":"IFERROR(VLOOKUP($A62,'All Running Order'!$A$6:$CZ$64,AF$102,FALSE),\"\")","v":""},{"$f":"IFERROR(VLOOKUP($A62,'All Running Order'!$A$6:$CZ$64,AG$102,FALSE),\"\")","v":""},{"$f":"IFERROR(VLOOKUP($A62,'All Running Order'!$A$6:$CZ$64,AH$102,FALSE),\"\")","v":""},{"$f":"IFERROR(VLOOKUP($A62,'All Running Order'!$A$6:$CZ$64,AI$102,FALSE),\"\")","v":""},{"$f":"IFERROR(VLOOKUP($A62,'All Running Order'!$A$6:$CZ$64,AJ$102,FALSE),\"\")","v":""},{"$f":"IFERROR(VLOOKUP($A62,'All Running Order'!$A$6:$CZ$64,AK$102,FALSE),\"\")","v":""},{"$f":"IFERROR(VLOOKUP($A62,'All Running Order'!$A$6:$CZ$64,AL$102,FALSE),\"\")","v":""},{"$f":"IFERROR(VLOOKUP($A62,'All Running Order'!$A$6:$CZ$64,AM$102,FALSE),\"\")","v":""},{"$f":"IFERROR(VLOOKUP($A62,'All Running Order'!$A$6:$CZ$64,AN$102,FALSE),\"\")","v":""},{"$f":"IFERROR(VLOOKUP($A62,'All Running Order'!$A$6:$CZ$64,AO$102,FALSE),\"\")","v":""},{"$f":"IFERROR(VLOOKUP($A62,'All Running Order'!$A$6:$CZ$64,AP$102,FALSE),\"\")","v":""},{"$f":"IFERROR(VLOOKUP($A62,'All Running Order'!$A$6:$CZ$64,AQ$102,FALSE),\"\")","v":""},{"$f":"IFERROR(VLOOKUP($A62,'All Running Order'!$A$6:$CZ$64,AR$102,FALSE),\"\")","v":""},{"$f":"IFERROR(VLOOKUP($A62,'All Running Order'!$A$6:$CZ$64,AS$102,FALSE),\"\")","v":""},{"$f":"IFERROR(VLOOKUP($A62,'All Running Order'!$A$6:$CZ$64,AT$102,FALSE),\"\")","v":""},{"$f":"IFERROR(VLOOKUP($A62,'All Running Order'!$A$6:$CZ$64,AU$102,FALSE),\"\")","v":""},{"$f":"IFERROR(VLOOKUP($A62,'All Running Order'!$A$6:$CZ$64,AV$102,FALSE),\"\")","v":""},{"$f":"IFERROR(VLOOKUP($A62,'All Running Order'!$A$6:$CZ$64,AW$102,FALSE),\"\")","v":""},{"$f":"IFERROR(VLOOKUP($A62,'All Running Order'!$A$6:$CZ$64,AX$102,FALSE),\"\")","v":""},{"$f":"IFERROR(VLOOKUP($A62,'All Running Order'!$A$6:$CZ$64,AY$102,FALSE),\"\")","v":""},{"$f":"IFERROR(VLOOKUP($A62,'All Running Order'!$A$6:$CZ$64,AZ$102,FALSE),\"\")","v":""},{"$f":"IFERROR(VLOOKUP($A62,'All Running Order'!$A$6:$CZ$64,BA$102,FALSE),\"\")","v":""},{"$f":"IFERROR(VLOOKUP($A62,'All Running Order'!$A$6:$CZ$64,BB$102,FALSE),\"\")","v":""},{"$f":"IFERROR(VLOOKUP($A62,'All Running Order'!$A$6:$CZ$64,BC$102,FALSE),\"\")","v":""},{"$f":"IFERROR(VLOOKUP($A62,'All Running Order'!$A$6:$CZ$64,BD$102,FALSE),\"\")","v":""},{"$f":"IFERROR(VLOOKUP($A62,'All Running Order'!$A$6:$CZ$64,BE$102,FALSE),\"\")","v":""},{"$f":"IFERROR(VLOOKUP($A62,'All Running Order'!$A$6:$CZ$64,BF$102,FALSE),\"\")","v":""},{"$f":"IFERROR(VLOOKUP($A62,'All Running Order'!$A$6:$CZ$64,BG$102,FALSE),\"\")","v":""},{"$f":"IFERROR(VLOOKUP($A62,'All Running Order'!$A$6:$CZ$64,BH$102,FALSE),\"\")","v":""},{"$f":"IFERROR(VLOOKUP($A62,'All Running Order'!$A$6:$CZ$64,BI$102,FALSE),\"\")","v":""},{"$f":"IFERROR(VLOOKUP($A62,'All Running Order'!$A$6:$CZ$64,BJ$102,FALSE),\"\")","v":""},{"$f":"IFERROR(VLOOKUP($A62,'All Running Order'!$A$6:$CZ$64,BK$102,FALSE),\"\")","v":""},{"$f":"IFERROR(VLOOKUP($A62,'All Running Order'!$A$6:$CZ$64,BL$102,FALSE),\"\")","v":""},{"$f":"IFERROR(VLOOKUP($A62,'All Running Order'!$A$6:$CZ$64,BM$102,FALSE),\"\")","v":""},{"$f":"IFERROR(VLOOKUP($A62,'All Running Order'!$A$6:$CZ$64,BN$102,FALSE),\"\")","v":""},{"$f":"IFERROR(VLOOKUP($A62,'All Running Order'!$A$6:$CZ$64,BO$102,FALSE),\"\")","v":""},{"$f":"IFERROR(VLOOKUP($A62,'All Running Order'!$A$6:$CZ$64,BP$102,FALSE),\"\")","v":""},{"$f":"IFERROR(VLOOKUP($A62,'All Running Order'!$A$6:$CZ$64,BQ$102,FALSE),\"\")","v":""},{"$f":"IFERROR(VLOOKUP($A62,'All Running Order'!$A$6:$CZ$64,BR$102,FALSE),\"\")","v":""},{"$f":"IFERROR(VLOOKUP($A62,'All Running Order'!$A$6:$CZ$64,BS$102,FALSE),\"\")","v":""},{"$f":"IFERROR(VLOOKUP($A62,'All Running Order'!$A$6:$CZ$64,BT$102,FALSE),\"\")","v":""},{"$f":"IFERROR(VLOOKUP($A62,'All Running Order'!$A$6:$CZ$64,BU$102,FALSE),\"\")","v":""},{"$f":"IFERROR(VLOOKUP($A62,'All Running Order'!$A$6:$CZ$64,BV$102,FALSE),\"\")","v":""},{"$f":"IFERROR(VLOOKUP($A62,'All Running Order'!$A$6:$CZ$64,BW$102,FALSE),\"\")","v":""},{"$f":"IFERROR(VLOOKUP($A62,'All Running Order'!$A$6:$CZ$64,BX$102,FALSE),\"\")","v":""},{"$f":"IFERROR(VLOOKUP($A62,'All Running Order'!$A$6:$CZ$64,BY$102,FALSE),\"\")","v":""},{"$f":"IFERROR(VLOOKUP($A62,'All Running Order'!$A$6:$CZ$64,BZ$102,FALSE),\"\")","v":""},{"$f":"IFERROR(VLOOKUP($A62,'All Running Order'!$A$6:$CZ$64,CA$102,FALSE),\"\")","v":""},{"$f":"IFERROR(VLOOKUP($A62,'All Running Order'!$A$6:$CZ$64,CB$102,FALSE),\"\")","v":""},{"$f":"IFERROR(VLOOKUP($A62,'All Running Order'!$A$6:$CZ$64,CC$102,FALSE),\"\")","v":""},{"$f":"IFERROR(VLOOKUP($A62,'All Running Order'!$A$6:$CZ$64,CD$102,FALSE),\"\")","v":""},{"$f":"IFERROR(VLOOKUP($A62,'All Running Order'!$A$6:$CZ$64,CE$102,FALSE),\"\")","v":""},{"$f":"IFERROR(VLOOKUP($A62,'All Running Order'!$A$6:$CZ$64,CF$102,FALSE),\"\")","v":""},{"$f":"IFERROR(VLOOKUP($A62,'All Running Order'!$A$6:$CZ$64,CG$102,FALSE),\"\")","v":""},{"$f":"IFERROR(VLOOKUP($A62,'All Running Order'!$A$6:$CZ$64,CH$102,FALSE),\"\")","v":""},{"$f":"IFERROR(VLOOKUP($A62,'All Running Order'!$A$6:$CZ$64,CI$102,FALSE),\"\")","v":""},{"$f":"IFERROR(VLOOKUP($A62,'All Running Order'!$A$6:$CZ$64,CJ$102,FALSE),\"\")","v":""},{"$f":"IFERROR(VLOOKUP($A62,'All Running Order'!$A$6:$CZ$64,CK$102,FALSE),\"\")","v":""},{"$f":"IFERROR(VLOOKUP($A62,'All Running Order'!$A$6:$CZ$64,CL$102,FALSE),\"\")","v":""},{"$f":"IFERROR(VLOOKUP($A62,'All Running Order'!$A$6:$CZ$64,CM$102,FALSE),\"\")","v":""},{"$f":"IFERROR(VLOOKUP($A62,'All Running Order'!$A$6:$CZ$64,CN$102,FALSE),\"\")","v":""},{"$f":"IFERROR(VLOOKUP($A62,'All Running Order'!$A$6:$CZ$64,CO$102,FALSE),\"\")","v":""},{"$f":"IFERROR(VLOOKUP($A62,'All Running Order'!$A$6:$CZ$64,CP$102,FALSE),\"\")","v":""},{"$f":"IFERROR(VLOOKUP($A62,'All Running Order'!$A$6:$CZ$64,CQ$102,FALSE),\"\")","v":""},{"$f":"IFERROR(VLOOKUP($A62,'All Running Order'!$A$6:$CZ$64,CR$102,FALSE),\"\")","v":""},{"$f":"IFERROR(VLOOKUP($A62,'All Running Order'!$A$6:$CZ$64,CS$102,FALSE),\"\")","v":""},{"$f":"IFERROR(VLOOKUP($A62,'All Running Order'!$A$6:$CZ$64,CT$102,FALSE),\"\")","v":""},{"$f":"IFERROR(VLOOKUP($A62,'All Running Order'!$A$6:$CZ$64,CU$102,FALSE),\"\")","v":""},{"$f":"IFERROR(VLOOKUP($A62,'All Running Order'!$A$6:$CZ$64,CV$102,FALSE),\"\")","v":""},{"$f":"IFERROR(VLOOKUP($A62,'All Running Order'!$A$6:$CZ$64,CW$102,FALSE),\"\")","v":""},{"$f":"IFERROR(VLOOKUP($A62,'All Running Order'!$A$6:$CZ$64,CX$102,FALSE),\"\")","v":""},{"$f":"IFERROR(VLOOKUP($A62,'All Running Order'!$A$6:$CZ$64,CY$102,FALSE),\"\")","v":""},{"$f":"IFERROR(VLOOKUP($A62,'All Running Order'!$A$6:$CZ$64,CZ$102,FALSE),\"\")","v":""}]
[58,{"$f":"IFERROR(VLOOKUP($A63,'All Running Order'!$A$6:$CZ$64,B$102,FALSE),\"\")","v":""},{"$f":"IFERROR(VLOOKUP($A63,'All Running Order'!$A$6:$CZ$64,C$102,FALSE),\"\")","v":""},{"$f":"IFERROR(VLOOKUP($A63,'All Running Order'!$A$6:$CZ$64,D$102,FALSE),\"\")","v":""},{"$f":"IFERROR(VLOOKUP($A63,'All Running Order'!$A$6:$CZ$64,E$102,FALSE),\"\")","v":""},{"$f":"IFERROR(VLOOKUP($A63,'All Running Order'!$A$6:$CZ$64,F$102,FALSE),\"\")","v":""},{"$f":"IFERROR(VLOOKUP($A63,'All Running Order'!$A$6:$CZ$64,G$102,FALSE),\"\")","v":""},{"$f":"IFERROR(VLOOKUP($A63,'All Running Order'!$A$6:$CZ$64,H$102,FALSE),\"\")","v":""},{"$f":"IFERROR(VLOOKUP($A63,'All Running Order'!$A$6:$CZ$64,I$102,FALSE),\"\")","v":""},{"$f":"IFERROR(VLOOKUP($A63,'All Running Order'!$A$6:$CZ$64,J$102,FALSE),\"\")","v":""},{"$f":"IFERROR(VLOOKUP($A63,'All Running Order'!$A$6:$CZ$64,K$102,FALSE),\"\")","v":""},{"$f":"IFERROR(VLOOKUP($A63,'All Running Order'!$A$6:$CZ$64,L$102,FALSE),\"\")","v":""},{"$f":"IFERROR(VLOOKUP($A63,'All Running Order'!$A$6:$CZ$64,M$102,FALSE),\"\")","v":""},{"$f":"IFERROR(VLOOKUP($A63,'All Running Order'!$A$6:$CZ$64,N$102,FALSE),\"\")","v":""},{"$f":"IFERROR(VLOOKUP($A63,'All Running Order'!$A$6:$CZ$64,O$102,FALSE),\"\")","v":""},{"$f":"IFERROR(VLOOKUP($A63,'All Running Order'!$A$6:$CZ$64,P$102,FALSE),\"\")","v":""},{"$f":"IFERROR(VLOOKUP($A63,'All Running Order'!$A$6:$CZ$64,Q$102,FALSE),\"\")","v":""},{"$f":"IFERROR(VLOOKUP($A63,'All Running Order'!$A$6:$CZ$64,R$102,FALSE),\"\")","v":""},{"$f":"IFERROR(VLOOKUP($A63,'All Running Order'!$A$6:$CZ$64,S$102,FALSE),\"\")","v":""},{"$f":"IFERROR(VLOOKUP($A63,'All Running Order'!$A$6:$CZ$64,T$102,FALSE),\"\")","v":""},{"$f":"IFERROR(VLOOKUP($A63,'All Running Order'!$A$6:$CZ$64,U$102,FALSE),\"\")","v":""},{"$f":"IFERROR(VLOOKUP($A63,'All Running Order'!$A$6:$CZ$64,V$102,FALSE),\"\")","v":""},{"$f":"IFERROR(VLOOKUP($A63,'All Running Order'!$A$6:$CZ$64,W$102,FALSE),\"\")","v":""},{"$f":"IFERROR(VLOOKUP($A63,'All Running Order'!$A$6:$CZ$64,X$102,FALSE),\"\")","v":""},{"$f":"IFERROR(VLOOKUP($A63,'All Running Order'!$A$6:$CZ$64,Y$102,FALSE),\"\")","v":""},{"$f":"IFERROR(VLOOKUP($A63,'All Running Order'!$A$6:$CZ$64,Z$102,FALSE),\"\")","v":""},{"$f":"IFERROR(VLOOKUP($A63,'All Running Order'!$A$6:$CZ$64,AA$102,FALSE),\"\")","v":""},{"$f":"IFERROR(VLOOKUP($A63,'All Running Order'!$A$6:$CZ$64,AB$102,FALSE),\"\")","v":""},{"$f":"IFERROR(VLOOKUP($A63,'All Running Order'!$A$6:$CZ$64,AC$102,FALSE),\"\")","v":""},{"$f":"IFERROR(VLOOKUP($A63,'All Running Order'!$A$6:$CZ$64,AD$102,FALSE),\"\")","v":""},{"$f":"IFERROR(VLOOKUP($A63,'All Running Order'!$A$6:$CZ$64,AE$102,FALSE),\"\")","v":""},{"$f":"IFERROR(VLOOKUP($A63,'All Running Order'!$A$6:$CZ$64,AF$102,FALSE),\"\")","v":""},{"$f":"IFERROR(VLOOKUP($A63,'All Running Order'!$A$6:$CZ$64,AG$102,FALSE),\"\")","v":""},{"$f":"IFERROR(VLOOKUP($A63,'All Running Order'!$A$6:$CZ$64,AH$102,FALSE),\"\")","v":""},{"$f":"IFERROR(VLOOKUP($A63,'All Running Order'!$A$6:$CZ$64,AI$102,FALSE),\"\")","v":""},{"$f":"IFERROR(VLOOKUP($A63,'All Running Order'!$A$6:$CZ$64,AJ$102,FALSE),\"\")","v":""},{"$f":"IFERROR(VLOOKUP($A63,'All Running Order'!$A$6:$CZ$64,AK$102,FALSE),\"\")","v":""},{"$f":"IFERROR(VLOOKUP($A63,'All Running Order'!$A$6:$CZ$64,AL$102,FALSE),\"\")","v":""},{"$f":"IFERROR(VLOOKUP($A63,'All Running Order'!$A$6:$CZ$64,AM$102,FALSE),\"\")","v":""},{"$f":"IFERROR(VLOOKUP($A63,'All Running Order'!$A$6:$CZ$64,AN$102,FALSE),\"\")","v":""},{"$f":"IFERROR(VLOOKUP($A63,'All Running Order'!$A$6:$CZ$64,AO$102,FALSE),\"\")","v":""},{"$f":"IFERROR(VLOOKUP($A63,'All Running Order'!$A$6:$CZ$64,AP$102,FALSE),\"\")","v":""},{"$f":"IFERROR(VLOOKUP($A63,'All Running Order'!$A$6:$CZ$64,AQ$102,FALSE),\"\")","v":""},{"$f":"IFERROR(VLOOKUP($A63,'All Running Order'!$A$6:$CZ$64,AR$102,FALSE),\"\")","v":""},{"$f":"IFERROR(VLOOKUP($A63,'All Running Order'!$A$6:$CZ$64,AS$102,FALSE),\"\")","v":""},{"$f":"IFERROR(VLOOKUP($A63,'All Running Order'!$A$6:$CZ$64,AT$102,FALSE),\"\")","v":""},{"$f":"IFERROR(VLOOKUP($A63,'All Running Order'!$A$6:$CZ$64,AU$102,FALSE),\"\")","v":""},{"$f":"IFERROR(VLOOKUP($A63,'All Running Order'!$A$6:$CZ$64,AV$102,FALSE),\"\")","v":""},{"$f":"IFERROR(VLOOKUP($A63,'All Running Order'!$A$6:$CZ$64,AW$102,FALSE),\"\")","v":""},{"$f":"IFERROR(VLOOKUP($A63,'All Running Order'!$A$6:$CZ$64,AX$102,FALSE),\"\")","v":""},{"$f":"IFERROR(VLOOKUP($A63,'All Running Order'!$A$6:$CZ$64,AY$102,FALSE),\"\")","v":""},{"$f":"IFERROR(VLOOKUP($A63,'All Running Order'!$A$6:$CZ$64,AZ$102,FALSE),\"\")","v":""},{"$f":"IFERROR(VLOOKUP($A63,'All Running Order'!$A$6:$CZ$64,BA$102,FALSE),\"\")","v":""},{"$f":"IFERROR(VLOOKUP($A63,'All Running Order'!$A$6:$CZ$64,BB$102,FALSE),\"\")","v":""},{"$f":"IFERROR(VLOOKUP($A63,'All Running Order'!$A$6:$CZ$64,BC$102,FALSE),\"\")","v":""},{"$f":"IFERROR(VLOOKUP($A63,'All Running Order'!$A$6:$CZ$64,BD$102,FALSE),\"\")","v":""},{"$f":"IFERROR(VLOOKUP($A63,'All Running Order'!$A$6:$CZ$64,BE$102,FALSE),\"\")","v":""},{"$f":"IFERROR(VLOOKUP($A63,'All Running Order'!$A$6:$CZ$64,BF$102,FALSE),\"\")","v":""},{"$f":"IFERROR(VLOOKUP($A63,'All Running Order'!$A$6:$CZ$64,BG$102,FALSE),\"\")","v":""},{"$f":"IFERROR(VLOOKUP($A63,'All Running Order'!$A$6:$CZ$64,BH$102,FALSE),\"\")","v":""},{"$f":"IFERROR(VLOOKUP($A63,'All Running Order'!$A$6:$CZ$64,BI$102,FALSE),\"\")","v":""},{"$f":"IFERROR(VLOOKUP($A63,'All Running Order'!$A$6:$CZ$64,BJ$102,FALSE),\"\")","v":""},{"$f":"IFERROR(VLOOKUP($A63,'All Running Order'!$A$6:$CZ$64,BK$102,FALSE),\"\")","v":""},{"$f":"IFERROR(VLOOKUP($A63,'All Running Order'!$A$6:$CZ$64,BL$102,FALSE),\"\")","v":""},{"$f":"IFERROR(VLOOKUP($A63,'All Running Order'!$A$6:$CZ$64,BM$102,FALSE),\"\")","v":""},{"$f":"IFERROR(VLOOKUP($A63,'All Running Order'!$A$6:$CZ$64,BN$102,FALSE),\"\")","v":""},{"$f":"IFERROR(VLOOKUP($A63,'All Running Order'!$A$6:$CZ$64,BO$102,FALSE),\"\")","v":""},{"$f":"IFERROR(VLOOKUP($A63,'All Running Order'!$A$6:$CZ$64,BP$102,FALSE),\"\")","v":""},{"$f":"IFERROR(VLOOKUP($A63,'All Running Order'!$A$6:$CZ$64,BQ$102,FALSE),\"\")","v":""},{"$f":"IFERROR(VLOOKUP($A63,'All Running Order'!$A$6:$CZ$64,BR$102,FALSE),\"\")","v":""},{"$f":"IFERROR(VLOOKUP($A63,'All Running Order'!$A$6:$CZ$64,BS$102,FALSE),\"\")","v":""},{"$f":"IFERROR(VLOOKUP($A63,'All Running Order'!$A$6:$CZ$64,BT$102,FALSE),\"\")","v":""},{"$f":"IFERROR(VLOOKUP($A63,'All Running Order'!$A$6:$CZ$64,BU$102,FALSE),\"\")","v":""},{"$f":"IFERROR(VLOOKUP($A63,'All Running Order'!$A$6:$CZ$64,BV$102,FALSE),\"\")","v":""},{"$f":"IFERROR(VLOOKUP($A63,'All Running Order'!$A$6:$CZ$64,BW$102,FALSE),\"\")","v":""},{"$f":"IFERROR(VLOOKUP($A63,'All Running Order'!$A$6:$CZ$64,BX$102,FALSE),\"\")","v":""},{"$f":"IFERROR(VLOOKUP($A63,'All Running Order'!$A$6:$CZ$64,BY$102,FALSE),\"\")","v":""},{"$f":"IFERROR(VLOOKUP($A63,'All Running Order'!$A$6:$CZ$64,BZ$102,FALSE),\"\")","v":""},{"$f":"IFERROR(VLOOKUP($A63,'All Running Order'!$A$6:$CZ$64,CA$102,FALSE),\"\")","v":""},{"$f":"IFERROR(VLOOKUP($A63,'All Running Order'!$A$6:$CZ$64,CB$102,FALSE),\"\")","v":""},{"$f":"IFERROR(VLOOKUP($A63,'All Running Order'!$A$6:$CZ$64,CC$102,FALSE),\"\")","v":""},{"$f":"IFERROR(VLOOKUP($A63,'All Running Order'!$A$6:$CZ$64,CD$102,FALSE),\"\")","v":""},{"$f":"IFERROR(VLOOKUP($A63,'All Running Order'!$A$6:$CZ$64,CE$102,FALSE),\"\")","v":""},{"$f":"IFERROR(VLOOKUP($A63,'All Running Order'!$A$6:$CZ$64,CF$102,FALSE),\"\")","v":""},{"$f":"IFERROR(VLOOKUP($A63,'All Running Order'!$A$6:$CZ$64,CG$102,FALSE),\"\")","v":""},{"$f":"IFERROR(VLOOKUP($A63,'All Running Order'!$A$6:$CZ$64,CH$102,FALSE),\"\")","v":""},{"$f":"IFERROR(VLOOKUP($A63,'All Running Order'!$A$6:$CZ$64,CI$102,FALSE),\"\")","v":""},{"$f":"IFERROR(VLOOKUP($A63,'All Running Order'!$A$6:$CZ$64,CJ$102,FALSE),\"\")","v":""},{"$f":"IFERROR(VLOOKUP($A63,'All Running Order'!$A$6:$CZ$64,CK$102,FALSE),\"\")","v":""},{"$f":"IFERROR(VLOOKUP($A63,'All Running Order'!$A$6:$CZ$64,CL$102,FALSE),\"\")","v":""},{"$f":"IFERROR(VLOOKUP($A63,'All Running Order'!$A$6:$CZ$64,CM$102,FALSE),\"\")","v":""},{"$f":"IFERROR(VLOOKUP($A63,'All Running Order'!$A$6:$CZ$64,CN$102,FALSE),\"\")","v":""},{"$f":"IFERROR(VLOOKUP($A63,'All Running Order'!$A$6:$CZ$64,CO$102,FALSE),\"\")","v":""},{"$f":"IFERROR(VLOOKUP($A63,'All Running Order'!$A$6:$CZ$64,CP$102,FALSE),\"\")","v":""},{"$f":"IFERROR(VLOOKUP($A63,'All Running Order'!$A$6:$CZ$64,CQ$102,FALSE),\"\")","v":""},{"$f":"IFERROR(VLOOKUP($A63,'All Running Order'!$A$6:$CZ$64,CR$102,FALSE),\"\")","v":""},{"$f":"IFERROR(VLOOKUP($A63,'All Running Order'!$A$6:$CZ$64,CS$102,FALSE),\"\")","v":""},{"$f":"IFERROR(VLOOKUP($A63,'All Running Order'!$A$6:$CZ$64,CT$102,FALSE),\"\")","v":""},{"$f":"IFERROR(VLOOKUP($A63,'All Running Order'!$A$6:$CZ$64,CU$102,FALSE),\"\")","v":""},{"$f":"IFERROR(VLOOKUP($A63,'All Running Order'!$A$6:$CZ$64,CV$102,FALSE),\"\")","v":""},{"$f":"IFERROR(VLOOKUP($A63,'All Running Order'!$A$6:$CZ$64,CW$102,FALSE),\"\")","v":""},{"$f":"IFERROR(VLOOKUP($A63,'All Running Order'!$A$6:$CZ$64,CX$102,FALSE),\"\")","v":""},{"$f":"IFERROR(VLOOKUP($A63,'All Running Order'!$A$6:$CZ$64,CY$102,FALSE),\"\")","v":""},{"$f":"IFERROR(VLOOKUP($A63,'All Running Order'!$A$6:$CZ$64,CZ$102,FALSE),\"\")","v":""}]
[59,{"$f":"IFERROR(VLOOKUP($A64,'All Running Order'!$A$6:$CZ$64,B$102,FALSE),\"\")","v":""},{"$f":"IFERROR(VLOOKUP($A64,'All Running Order'!$A$6:$CZ$64,C$102,FALSE),\"\")","v":""},{"$f":"IFERROR(VLOOKUP($A64,'All Running Order'!$A$6:$CZ$64,D$102,FALSE),\"\")","v":""},{"$f":"IFERROR(VLOOKUP($A64,'All Running Order'!$A$6:$CZ$64,E$102,FALSE),\"\")","v":""},{"$f":"IFERROR(VLOOKUP($A64,'All Running Order'!$A$6:$CZ$64,F$102,FALSE),\"\")","v":""},{"$f":"IFERROR(VLOOKUP($A64,'All Running Order'!$A$6:$CZ$64,G$102,FALSE),\"\")","v":""},{"$f":"IFERROR(VLOOKUP($A64,'All Running Order'!$A$6:$CZ$64,H$102,FALSE),\"\")","v":""},{"$f":"IFERROR(VLOOKUP($A64,'All Running Order'!$A$6:$CZ$64,I$102,FALSE),\"\")","v":""},{"$f":"IFERROR(VLOOKUP($A64,'All Running Order'!$A$6:$CZ$64,J$102,FALSE),\"\")","v":""},{"$f":"IFERROR(VLOOKUP($A64,'All Running Order'!$A$6:$CZ$64,K$102,FALSE),\"\")","v":""},{"$f":"IFERROR(VLOOKUP($A64,'All Running Order'!$A$6:$CZ$64,L$102,FALSE),\"\")","v":""},{"$f":"IFERROR(VLOOKUP($A64,'All Running Order'!$A$6:$CZ$64,M$102,FALSE),\"\")","v":""},{"$f":"IFERROR(VLOOKUP($A64,'All Running Order'!$A$6:$CZ$64,N$102,FALSE),\"\")","v":""},{"$f":"IFERROR(VLOOKUP($A64,'All Running Order'!$A$6:$CZ$64,O$102,FALSE),\"\")","v":""},{"$f":"IFERROR(VLOOKUP($A64,'All Running Order'!$A$6:$CZ$64,P$102,FALSE),\"\")","v":""},{"$f":"IFERROR(VLOOKUP($A64,'All Running Order'!$A$6:$CZ$64,Q$102,FALSE),\"\")","v":""},{"$f":"IFERROR(VLOOKUP($A64,'All Running Order'!$A$6:$CZ$64,R$102,FALSE),\"\")","v":""},{"$f":"IFERROR(VLOOKUP($A64,'All Running Order'!$A$6:$CZ$64,S$102,FALSE),\"\")","v":""},{"$f":"IFERROR(VLOOKUP($A64,'All Running Order'!$A$6:$CZ$64,T$102,FALSE),\"\")","v":""},{"$f":"IFERROR(VLOOKUP($A64,'All Running Order'!$A$6:$CZ$64,U$102,FALSE),\"\")","v":""},{"$f":"IFERROR(VLOOKUP($A64,'All Running Order'!$A$6:$CZ$64,V$102,FALSE),\"\")","v":""},{"$f":"IFERROR(VLOOKUP($A64,'All Running Order'!$A$6:$CZ$64,W$102,FALSE),\"\")","v":""},{"$f":"IFERROR(VLOOKUP($A64,'All Running Order'!$A$6:$CZ$64,X$102,FALSE),\"\")","v":""},{"$f":"IFERROR(VLOOKUP($A64,'All Running Order'!$A$6:$CZ$64,Y$102,FALSE),\"\")","v":""},{"$f":"IFERROR(VLOOKUP($A64,'All Running Order'!$A$6:$CZ$64,Z$102,FALSE),\"\")","v":""},{"$f":"IFERROR(VLOOKUP($A64,'All Running Order'!$A$6:$CZ$64,AA$102,FALSE),\"\")","v":""},{"$f":"IFERROR(VLOOKUP($A64,'All Running Order'!$A$6:$CZ$64,AB$102,FALSE),\"\")","v":""},{"$f":"IFERROR(VLOOKUP($A64,'All Running Order'!$A$6:$CZ$64,AC$102,FALSE),\"\")","v":""},{"$f":"IFERROR(VLOOKUP($A64,'All Running Order'!$A$6:$CZ$64,AD$102,FALSE),\"\")","v":""},{"$f":"IFERROR(VLOOKUP($A64,'All Running Order'!$A$6:$CZ$64,AE$102,FALSE),\"\")","v":""},{"$f":"IFERROR(VLOOKUP($A64,'All Running Order'!$A$6:$CZ$64,AF$102,FALSE),\"\")","v":""},{"$f":"IFERROR(VLOOKUP($A64,'All Running Order'!$A$6:$CZ$64,AG$102,FALSE),\"\")","v":""},{"$f":"IFERROR(VLOOKUP($A64,'All Running Order'!$A$6:$CZ$64,AH$102,FALSE),\"\")","v":""},{"$f":"IFERROR(VLOOKUP($A64,'All Running Order'!$A$6:$CZ$64,AI$102,FALSE),\"\")","v":""},{"$f":"IFERROR(VLOOKUP($A64,'All Running Order'!$A$6:$CZ$64,AJ$102,FALSE),\"\")","v":""},{"$f":"IFERROR(VLOOKUP($A64,'All Running Order'!$A$6:$CZ$64,AK$102,FALSE),\"\")","v":""},{"$f":"IFERROR(VLOOKUP($A64,'All Running Order'!$A$6:$CZ$64,AL$102,FALSE),\"\")","v":""},{"$f":"IFERROR(VLOOKUP($A64,'All Running Order'!$A$6:$CZ$64,AM$102,FALSE),\"\")","v":""},{"$f":"IFERROR(VLOOKUP($A64,'All Running Order'!$A$6:$CZ$64,AN$102,FALSE),\"\")","v":""},{"$f":"IFERROR(VLOOKUP($A64,'All Running Order'!$A$6:$CZ$64,AO$102,FALSE),\"\")","v":""},{"$f":"IFERROR(VLOOKUP($A64,'All Running Order'!$A$6:$CZ$64,AP$102,FALSE),\"\")","v":""},{"$f":"IFERROR(VLOOKUP($A64,'All Running Order'!$A$6:$CZ$64,AQ$102,FALSE),\"\")","v":""},{"$f":"IFERROR(VLOOKUP($A64,'All Running Order'!$A$6:$CZ$64,AR$102,FALSE),\"\")","v":""},{"$f":"IFERROR(VLOOKUP($A64,'All Running Order'!$A$6:$CZ$64,AS$102,FALSE),\"\")","v":""},{"$f":"IFERROR(VLOOKUP($A64,'All Running Order'!$A$6:$CZ$64,AT$102,FALSE),\"\")","v":""},{"$f":"IFERROR(VLOOKUP($A64,'All Running Order'!$A$6:$CZ$64,AU$102,FALSE),\"\")","v":""},{"$f":"IFERROR(VLOOKUP($A64,'All Running Order'!$A$6:$CZ$64,AV$102,FALSE),\"\")","v":""},{"$f":"IFERROR(VLOOKUP($A64,'All Running Order'!$A$6:$CZ$64,AW$102,FALSE),\"\")","v":""},{"$f":"IFERROR(VLOOKUP($A64,'All Running Order'!$A$6:$CZ$64,AX$102,FALSE),\"\")","v":""},{"$f":"IFERROR(VLOOKUP($A64,'All Running Order'!$A$6:$CZ$64,AY$102,FALSE),\"\")","v":""},{"$f":"IFERROR(VLOOKUP($A64,'All Running Order'!$A$6:$CZ$64,AZ$102,FALSE),\"\")","v":""},{"$f":"IFERROR(VLOOKUP($A64,'All Running Order'!$A$6:$CZ$64,BA$102,FALSE),\"\")","v":""},{"$f":"IFERROR(VLOOKUP($A64,'All Running Order'!$A$6:$CZ$64,BB$102,FALSE),\"\")","v":""},{"$f":"IFERROR(VLOOKUP($A64,'All Running Order'!$A$6:$CZ$64,BC$102,FALSE),\"\")","v":""},{"$f":"IFERROR(VLOOKUP($A64,'All Running Order'!$A$6:$CZ$64,BD$102,FALSE),\"\")","v":""},{"$f":"IFERROR(VLOOKUP($A64,'All Running Order'!$A$6:$CZ$64,BE$102,FALSE),\"\")","v":""},{"$f":"IFERROR(VLOOKUP($A64,'All Running Order'!$A$6:$CZ$64,BF$102,FALSE),\"\")","v":""},{"$f":"IFERROR(VLOOKUP($A64,'All Running Order'!$A$6:$CZ$64,BG$102,FALSE),\"\")","v":""},{"$f":"IFERROR(VLOOKUP($A64,'All Running Order'!$A$6:$CZ$64,BH$102,FALSE),\"\")","v":""},{"$f":"IFERROR(VLOOKUP($A64,'All Running Order'!$A$6:$CZ$64,BI$102,FALSE),\"\")","v":""},{"$f":"IFERROR(VLOOKUP($A64,'All Running Order'!$A$6:$CZ$64,BJ$102,FALSE),\"\")","v":""},{"$f":"IFERROR(VLOOKUP($A64,'All Running Order'!$A$6:$CZ$64,BK$102,FALSE),\"\")","v":""},{"$f":"IFERROR(VLOOKUP($A64,'All Running Order'!$A$6:$CZ$64,BL$102,FALSE),\"\")","v":""},{"$f":"IFERROR(VLOOKUP($A64,'All Running Order'!$A$6:$CZ$64,BM$102,FALSE),\"\")","v":""},{"$f":"IFERROR(VLOOKUP($A64,'All Running Order'!$A$6:$CZ$64,BN$102,FALSE),\"\")","v":""},{"$f":"IFERROR(VLOOKUP($A64,'All Running Order'!$A$6:$CZ$64,BO$102,FALSE),\"\")","v":""},{"$f":"IFERROR(VLOOKUP($A64,'All Running Order'!$A$6:$CZ$64,BP$102,FALSE),\"\")","v":""},{"$f":"IFERROR(VLOOKUP($A64,'All Running Order'!$A$6:$CZ$64,BQ$102,FALSE),\"\")","v":""},{"$f":"IFERROR(VLOOKUP($A64,'All Running Order'!$A$6:$CZ$64,BR$102,FALSE),\"\")","v":""},{"$f":"IFERROR(VLOOKUP($A64,'All Running Order'!$A$6:$CZ$64,BS$102,FALSE),\"\")","v":""},{"$f":"IFERROR(VLOOKUP($A64,'All Running Order'!$A$6:$CZ$64,BT$102,FALSE),\"\")","v":""},{"$f":"IFERROR(VLOOKUP($A64,'All Running Order'!$A$6:$CZ$64,BU$102,FALSE),\"\")","v":""},{"$f":"IFERROR(VLOOKUP($A64,'All Running Order'!$A$6:$CZ$64,BV$102,FALSE),\"\")","v":""},{"$f":"IFERROR(VLOOKUP($A64,'All Running Order'!$A$6:$CZ$64,BW$102,FALSE),\"\")","v":""},{"$f":"IFERROR(VLOOKUP($A64,'All Running Order'!$A$6:$CZ$64,BX$102,FALSE),\"\")","v":""},{"$f":"IFERROR(VLOOKUP($A64,'All Running Order'!$A$6:$CZ$64,BY$102,FALSE),\"\")","v":""},{"$f":"IFERROR(VLOOKUP($A64,'All Running Order'!$A$6:$CZ$64,BZ$102,FALSE),\"\")","v":""},{"$f":"IFERROR(VLOOKUP($A64,'All Running Order'!$A$6:$CZ$64,CA$102,FALSE),\"\")","v":""},{"$f":"IFERROR(VLOOKUP($A64,'All Running Order'!$A$6:$CZ$64,CB$102,FALSE),\"\")","v":""},{"$f":"IFERROR(VLOOKUP($A64,'All Running Order'!$A$6:$CZ$64,CC$102,FALSE),\"\")","v":""},{"$f":"IFERROR(VLOOKUP($A64,'All Running Order'!$A$6:$CZ$64,CD$102,FALSE),\"\")","v":""},{"$f":"IFERROR(VLOOKUP($A64,'All Running Order'!$A$6:$CZ$64,CE$102,FALSE),\"\")","v":""},{"$f":"IFERROR(VLOOKUP($A64,'All Running Order'!$A$6:$CZ$64,CF$102,FALSE),\"\")","v":""},{"$f":"IFERROR(VLOOKUP($A64,'All Running Order'!$A$6:$CZ$64,CG$102,FALSE),\"\")","v":""},{"$f":"IFERROR(VLOOKUP($A64,'All Running Order'!$A$6:$CZ$64,CH$102,FALSE),\"\")","v":""},{"$f":"IFERROR(VLOOKUP($A64,'All Running Order'!$A$6:$CZ$64,CI$102,FALSE),\"\")","v":""},{"$f":"IFERROR(VLOOKUP($A64,'All Running Order'!$A$6:$CZ$64,CJ$102,FALSE),\"\")","v":""},{"$f":"IFERROR(VLOOKUP($A64,'All Running Order'!$A$6:$CZ$64,CK$102,FALSE),\"\")","v":""},{"$f":"IFERROR(VLOOKUP($A64,'All Running Order'!$A$6:$CZ$64,CL$102,FALSE),\"\")","v":""},{"$f":"IFERROR(VLOOKUP($A64,'All Running Order'!$A$6:$CZ$64,CM$102,FALSE),\"\")","v":""},{"$f":"IFERROR(VLOOKUP($A64,'All Running Order'!$A$6:$CZ$64,CN$102,FALSE),\"\")","v":""},{"$f":"IFERROR(VLOOKUP($A64,'All Running Order'!$A$6:$CZ$64,CO$102,FALSE),\"\")","v":""},{"$f":"IFERROR(VLOOKUP($A64,'All Running Order'!$A$6:$CZ$64,CP$102,FALSE),\"\")","v":""},{"$f":"IFERROR(VLOOKUP($A64,'All Running Order'!$A$6:$CZ$64,CQ$102,FALSE),\"\")","v":""},{"$f":"IFERROR(VLOOKUP($A64,'All Running Order'!$A$6:$CZ$64,CR$102,FALSE),\"\")","v":""},{"$f":"IFERROR(VLOOKUP($A64,'All Running Order'!$A$6:$CZ$64,CS$102,FALSE),\"\")","v":""},{"$f":"IFERROR(VLOOKUP($A64,'All Running Order'!$A$6:$CZ$64,CT$102,FALSE),\"\")","v":""},{"$f":"IFERROR(VLOOKUP($A64,'All Running Order'!$A$6:$CZ$64,CU$102,FALSE),\"\")","v":""},{"$f":"IFERROR(VLOOKUP($A64,'All Running Order'!$A$6:$CZ$64,CV$102,FALSE),\"\")","v":""},{"$f":"IFERROR(VLOOKUP($A64,'All Running Order'!$A$6:$CZ$64,CW$102,FALSE),\"\")","v":""},{"$f":"IFERROR(VLOOKUP($A64,'All Running Order'!$A$6:$CZ$64,CX$102,FALSE),\"\")","v":""},{"$f":"IFERROR(VLOOKUP($A64,'All Running Order'!$A$6:$CZ$64,CY$102,FALSE),\"\")","v":""},{"$f":"IFERROR(VLOOKUP($A64,'All Running Order'!$A$6:$CZ$64,CZ$102,FALSE),\"\")","v":""}]
[]
[]
[]
[]
[]
[]
[]
[]
[]
[]
[]
[]
[]
[]
[]
[]
[]
[]
[]
[]
[]
[]
[]
[]
[]
[]
[]
[]
[]
[]
[]
[]
[]
[]
[]
[]
[]
[1,2,3,4,5,6,7,8,9,10,11,12,13,14,15,16,17,18,19,20,21,22,23,24,25,26,27,28,29,30,31,32,33,34,35,36,37,38,39,40,41,42,43,44,45,46,47,48,49,50,51,52,53,54,55,56,57,58,59,60,61,62,63,64,65,66,67,68,69,70,71,72,73,74,75,76,77,78,79,80,81,82,83,84,85,86,87,88,89,90,91,92,93,94,95,96,97,98,99,100,101,102,103,104]
[]
[]
[]
[]
[]
[]
[]
[]
[]
[]
[]
[]
[]
[]
[]
[]
[]
[]
[]
[]
[]
[]
[]
[]
[]
[]
[]
[]
[]
[]
[]
[]
[]
[]
[]
[]
[]
[]
[]
[]
[]
[]
[]
[]
[]
[]
[]
[]
[]
[]
[]
[]
[]
[]
[]
[]
[]
[]
[]
[]
[]
[]
[]
[]
[]
[]
[]
[]
[]
[]
[]
[]
[]
[]
[]
[]
[]
[]
[]
[]
[]
[]
[]
[]
[]
[]
[]
[]
[]
[]
[]
[]
[]
[]
[]
[]
[]
[]
[]
[]
[]
[]
[]
[]
[]
[]
[]
[]
[]
[]
[]
[]
[]
[]
[]
[]
[]
[]
[]
[]
[]
[]
[]
[]
[]
[]
[]
[]
[]
[]
[]
[]
[]
[]
[]
[]
[]
[]
[]
[]
[]
[]
[]
[]
[]
[]
[]
[]
[]
[]
[]
[]
[]
[]
[]
[]
[]
[]
[]
[]
[]
[]
[]
[]
[]
[]
[]
[]
[]
[]
[]
[]
[]
[]
[]
[]
[]
[]
[]
[]
[]
[]
[]
[]
[]
[]
[]
[]
[]
[]
[]
[]
[]
[]
[]
[]
[]
[]
[]
[]
[]
[]
[]
[]
[]
[]
[]
[]
[]
[]
[]
[]
[]
[]
[]
[]
[]
[]
[]
[]
[]
[]
[]
[]
[]
[]
[]
[]
[]
[]
[]
[]
[]
[]
[]
[]
[]
[]
[]
[]
[]
[]
[]
[]
[]
[]
[]
[]
[]
[]
[]
[]
[]
[]
[]
[]
[]
[]
[]
[]
[]
[]
[]
[]
[]
[]
[]
[]
[]
[]
[]
[]
[]
[]
[]
[]
[]
[]
[]
[]
[]
[]
[]
[]
[]
[]
[]
[]
[]
[]
[]
[]
[]
[]
[]
[]
[]
[]
[]
[]
[]
[]
[]
[]
[]
[]
[]
[]
[]
[]
[]
[]
[]
[]
[]
[]
[]
[]
[]
[]
[]
[]
[]
[]
[]
[]
[]
[]
[]
[]
[]
[]
[]
[]
[]
[]
[]
[]
[]
[]
[]
[]
[]
[]
[]
[]
[]
[]
[]
[]
[]
[]
[]
[]
[]
[]
[]
[]
[]
[]
[]
[]
[]
[]
[]
[]
[]
[]
[]
[]
[]
[]
[]
[]
[]
[]
[]
[]
[]
[]
[]
[]
[]
[]
[]
[]
[]
[]
[]
[]
[]
[]
[]
[]
[]
[]
[]
[]
[]
[]
[]
[]
[]
[]
[]
[]
[]
[]
[]
[]
[]
[]
[]
[]
[]
[]
[]
[]
[]
[]
[]
[]
[]
[]
[]
[]
[]
[]
[]
[]
[]
[]
[]
[]
[]
[]
[]
[]
[]
[]
[]
[]
[]
[]
[]
[]
[]
[]
[]
[]
[]
[]
[]
[]
[]
[]
[]
[]
[]
[]
[]
[]
[]
[]
[]
[]
[]
[]
[]
[]
[]
[]
[]
[]
[]
[]
[]
[]
[]
[]
[]
[]
[]
[]
[]
[]
[]
[]
[]
[]
[]
[]
[]
[]
[]
[]
[]
[]
[]
[]
[]
[]
[]
[]
[]
[]
[]
[]
[]
[]
[]
[]
[]
[]
[]
[]
[]
[]
[]
[]
[]
[]
[]
[]
[]
[]
[]
[]
[]
[]
[]
[]
[]
[]
[]
[]
[]
[]
[]
[]
[]
[]
[]
[]
[]
[]
[]
[]
[]
[]
[]
[]
[]
[]
[]
[]
[]
[]
[]
[]
[]
[]
[]
[]
[]
[]
[]
[]
[]
[]
[]
[]
[]
[]
[]
[]
[]
[]
[]
[]
[]
[]
[]
[]
[]
[]
[]
[]
[]
[]
[]
[]
[]
[]
[]
[]
[]
[]
[]
[]
[]
[]
[]
[]
[]
[]
[]
[]
[]
[]
[]
[]
[]
[]
[]
[]
[]
[]
[]
[]
[]
[]
[]
[]
[]
[]
[]
[]
[]
[]
[]
[]
[]
[]
[]
[]
[]
[]
[]
[]
[]
[]
[]
[]
[]
[]
[]
[]
[]
[]
[]
[]
[]
[]
[]
[]
[]
[]
[]
[]
[]
[]
[]
[]
[]
[]
[]
[]
[]
[]
[]
[]
[]
[]
[]
[]
[]
[]
[]
[]
[]
[]
[]
[]
[]
[]
[]
[]
[]
[]
[]
[]
[]
[]
[]
[]
[]
[]
[]
[]
[]
[]
[]
[]
[]
[]
[]
[]
[]
[]
[]
[]
[]
[]
[]
[]
[]
[]
[]
[]
[]
[]
[]
[]
[]
[]
[]
[]
[]
[]
[]
[]
[]
[]
[]
[]
[]
[]
[]
[]
[]
[]
[]
[]
[]
[]
[]
[]
[]
[]
[]
[]
[]
[]
[]
[]
[]
[]
[]
[]
[]
[]
[]
[]
[]
[]
[]
[]
[]
[]
[]
[]
[]
[]
[]
[]
[]
[]
[]
[]
[]
[]
[]
[]
[]
[]
[]
[]
[]
[]
[]
[]
[]
[]
[]
[]
[]
[]
[]
[]
[]
[]
[]
[]
[]
[]
[]
[]
[]
[]
[]
[]
[]
[]
[]
[]
[]
[]
[]
[]
[]
[]
[]
[]
[]
[]
[]
[]
[]
[]
[]
[]
[]
[]
[]
[]
[]
[]
[]
[]
[]
[]
[]
[]
[]
[]
[]
[]
[]
[]
[]
[]
[]
[]
[]
[]
[]
[]
[]
[]
[]
[]
[]
[]
[]
[]
[]
[]
[]
[]
[]
[]
[]
[]
[]
[]
[]
[]
[]
[]
[]
[]
[]
[]
[]
[]
[]
[]
[]
[]
[]
[]
[]
[]
[]
[]
[]
[]
[]
[]
[]
[null,null,null,null,"Class"]
[null,null,null,null,"Red","Live"]
[null,null,null,null,"Blue","Indy"]
[null,null,null,null,"Green"]
[null,null,null,null,"Club"]

{"sheet":"Finishing Order By Class & Axle","index":3,"n_rows":5,"n_cols":104,"rows_kept":5,"cut":false,"hidden":false,"merged":[[2,89,3,89],[2,90,3,90],[2,91,3,91],[2,92,3,92],[2,13,3,13],[2,37,3,37],[2,49,3,49],[2,38,3,38],[2,39,2,48],[2,50,3,50],[2,51,2,60],[2,88,3,88],[2,75,2,79],[2,85,3,85],[2,80,2,84],[2,86,3,86],[2,8,2,12],[2,15,3,15],[2,16,2,25],[2,26,3,26],[2,27,2,36],[2,87,3,87],[2,61,3,61],[2,73,3,73],[2,74,3,74],[2,62,3,62],[2,63,2,72],[2,101,3,101],[2,93,3,93],[2,94,3,94],[2,95,3,95],[2,96,3,96],[2,97,3,97],[2,98,3,98],[2,99,3,99],[2,100,3,100]]}
[null,null,null,{"$f":"'All Running Order'!D1","v":"J B Taylor"}]
[null,null,null,{"$f":"'All Running Order'!D2","v":"2026-03-15"}]
[null,null,null,null,null,null,null,null,"START HILL",null,null,null,null,"Ret/NS",null,"BTRDA CLASS","ROUND 1: HILL NO. ",null,null,null,null,null,null,null,null,null,"ROUND TOTAL","ROUND 2: HILL NO. ",null,null,null,null,null,null,null,null,null,"ROUND TOTAL","SUB TOTAL","ROUND 3: HILL NO. ",null,null,null,null,null,null,null,null,null,"ROUND TOTAL","SUB TOTAL","ROUND 4: HILL NO. ",null,null,null,null,null,null,null,null,null,"ROUND TOTAL","SUB TOTAL","ROUND 5: HILL NO. ",null,null,null,null,null,null,null,null,null,"ROUND TOTAL","GRAND TOTAL","POSITION AFTER ROUND",null,null,null,null,"Round position pre-calculation",null,null,null,null,{"$f":"CONCATENATE(,\"CLASS\",\" \",Constants!$B$2)","v":"CLASS Red"},{"$f":"'All Running Order'!CI3:CI4","v":"Position in Red CLASS"},{"$f":"'All Running Order'!CJ3:CJ4","v":"CLASS Blue"},{"$f":"'All Running Order'!CK3:CK4","v":"Position in Blue CLASS"},{"$f":"'All Running Order'!CL3:CL4","v":"Rookie CLASS"},{"$f":"'All Running Order'!CM3:CM4","v":"Position in Rookie CLASS"},{"$f":"'All Running Order'!CN3:CN4","v":"750-A CLASS"},{"$f":"'All Running Order'!CO3:CO4","v":"Position in 750-A CLASS"},{"$f":"'All Running Order'!CP3:CP4","v":"750-B CLASS"},{"$f":"'All Running Order'!CQ3:CQ4","v":"Position in 750-B CLASS"},{"$f":"'All Running Order'!CR3:CR4","v":"750-N CLASS"},{"$f":"'All Running Order'!CS3:CS4","v":"Position in 750-N CLASS"},{"$f":"'All Running Order'!CT3:CT4","v":"Post-Historic Class"},{"$f":"'All Running Order'!CU3:CU4","v":"Position in Post Historic CLASS"},{"$f":"'All Running Order'!CV3:CV4","v":"Live Class"},{"$f":"'All Running Order'!CW3:CW4","v":"Position in Live CLASS"},{"$f":"'All Running Order'!CX3:CX4","v":"POSITION IN CLASS"}]
[null,"NO.","DRIVER","PASSENGER","CAR","CC","Live/IRS","Tyres",1,2,3,4,5,null,"Club CLASS",null,"1","2","3","4","5","6","7","8","9","10",null,"1","2","3","4","5","6","7","8","9","10",null,null,"1","2","3","4","5","6","7","8","9","10",null,null,"1","2","3","4","5","6","7","8","9","10",null,null,"1","2","3","4","5","6","7","8","9","10",null,null,1,2,3,4,5,1,2,3,4,5,null,null,null,null,null,null,null,null,null,null,null,null,null,null,null,null,null,{"$f":"'All Running Order'!CY4","v":"Class"},{"$f":"'All Running Order'!CZ4","v":"Type"}]
[null,null,"Best score",null,null,null,null,null,null,null,null,null,null,null,null,"N/A",{"$f":"'All Running Order'!Q5","v":0},{"$f":"'All Running Order'!R5","v":0},{"$f":"'All Running Order'!S5","v":0},{"$f":"'All Running Order'!T5","v":0},{"$f":"'All Running Order'!U5","v":1},{"$f":"'All Running Order'!V5","v":1},{"$f":"'All Running Order'!W5","v":0},{"$f":"'All Running Order'!X5","v":0},{"$f":"'All Running Order'!Y5","v":0},{"$f":"'All Running Order'!Z5","v":0},{"$f":"'All Running Order'!AA5","v":2},{"$f":"'All Running Order'!AB5","v":0},{"$f":"'All Running Order'!AC5","v":0},{"$f":"'All Running Order'!AD5","v":0},{"$f":"'All Running Order'!AE5","v":1},{"$f":"'All Running Order'!AF5","v":0},{"$f":"'All Running Order'!AG5","v":0},{"$f":"'All Running Order'!AH5","v":0},{"$f":"'All Running Order'!AI5","v":0},{"$f":"'All Running Order'!AJ5","v":0},{"$f":"'All Running Order'!AK5","v":0},{"$f":"'All Running Order'!AL5","v":1},{"$f":"'All Running Order'!AM5","v":3},{"$f":"'All Running Order'!AN5","v":0},{"$f":"'All Running Order'!AO5","v":0},{"$f":"'All Running Order'!AP5","v":0},{"$f":"'All Running Order'!AQ5","v":0},{"$f":"'All Running Order'!AR5","v":0},{"$f":"'All Running Order'!AS5","v":0},{"$f":"'All Running Order'!AT5","v":0},{"$f":"'All Running Order'!AU5","v":0},{"$f":"'All Running Order'!AV5","v":0},{"$f":"'All Running Order'!AW5","v":0},{"$f":"'All Running Order'!AX5","v":0},{"$f":"'All Running Order'!AY5","v":3},{"$f":"'All Running Order'!AZ5","v":0},{"$f":"'All Running Order'!BA5","v":0},{"$f":"'All Running Order'!BB5","v":0},{"$f":"'All Running Order'!BC5","v":0},{"$f":"'All Running Order'!BD5","v":0},{"$f":"'All Running Order'!BE5","v":0},{"$f":"'All Running Order'!BF5","v":0},{"$f":"'All Running Order'!BG5","v":0},{"$f":"'All Running Order'!BH5","v":0},{"$f":"'All Running Order'!BI5","v":0},{"$f":"'All Running Order'!BJ5","v":0},{"$f":"'All Running Order'!BK5","v":3},{"$f":"'All Running Order'!BL5","v":0},{"$f":"'All Running Order'!BM5","v":0},{"$f":"'All Running Order'!BN5","v":0},{"$f":"'All Running Order'!BO5","v":0},{"$f":"'All Running Order'!BP5","v":0},{"$f":"'All Running Order'!BQ5","v":0},{"$f":"'All Running Order'!BR5","v":0},{"$f":"'All Running Order'!BS5","v":0},{"$f":"'All Running Order'!BT5","v":0},{"$f":"'All Running Order'!BU5","v":0},{"$f":"'All Running Order'!BV5","v":0},{"$f":"'All Running Order'!BW5","v":3}]

{"sheet":"Database Entry","index":4,"n_rows":60,"n_cols":58,"rows_kept":60,"cut":false,"hidden":false,"merged":[]}
["Entrynumber","DRIVER","PASSENGER","Make","Engine","axle","tyres","Posthistoric","a1","a2","a3","a4","a5","a6","a7","a8","a9","a10","b1","b2","b3","b4","b5","b6","b7","b8","b9","b10","c1","c2","c3","c4","c5","c6","c7","c8","c9","c10","d1","d2","d3","d4","d5","d6","d7","d8","d9","d10","e1","e2","e3","e4","e5","e6","e7","e8","e9","e10"]
[{"$f":"'All Running Order'!B6","v":1},{"$f":"IF('All Running Order'!C6=\"\",\"\",'All Running Order'!C6)","v":"Stuart Beare"},{"$f":"IF('All Running Order'!D6=\"\",\"\",'All Running Order'!D6)","v":"Sue Underwood"},{"$f":"IF('All Running Order'!E6=\"\",\"\",'All Running Order'!E6)","v":"Sherpa Indy"},{"$f":"IF('All Running Order'!F6=\"\",\"\",'All Running Order'!F6)","v":""},{"$f":"IF('All Running Order'!G6=\"\",\"\",'All Running Order'!G6)","v":"IRS"},{"$f":"IF('All Running Order'!H6=\"\",\"\",'All Running Order'!H6)","v":"Yes"},null,{"$f":"IF('All Running Order'!Q6=\"\",\"\",'All Running Order'!Q6)","v":0},{"$f":"IF('All Running Order'!R6=\"\",\"\",'All Running Order'!R6)","v":0},{"$f":"IF('All Running Order'!S6=\"\",\"\",'All Running Order'!S6)","v":1},{"$f":"IF('All Running Order'!T6=\"\",\"\",'All Running Order'!T6)","v":0},{"$f":"IF('All Running Order'!U6=\"\",\"\",'All Running Order'!U6)","v":1},{"$f":"IF('All Running Order'!V6=\"\",\"\",'All Running Order'!V6)","v":2},{"$f":"IF('All Running Order'!W6=\"\",\"\",'All Running Order'!W6)","v":""},{"$f":"IF('All Running Order'!X6=\"\",\"\",'All Running Order'!X6)","v":""},{"$f":"IF('All Running Order'!Y6=\"\",\"\",'All Running Order'!Y6)","v":""},{"$f":"IF('All Running Order'!Z6=\"\",\"\",'All Running Order'!Z6)","v":""},{"$f":"IF('All Running Order'!AB6=\"\",\"\",'All Running Order'!AB6)","v":0},{"$f":"IF('All Running Order'!AC6=\"\",\"\",'All Running Order'!AC6)","v":0},{"$f":"IF('All Running Order'!AD6=\"\",\"\",'All Running Order'!AD6)","v":0},{"$f":"IF('All Running Order'!AE6=\"\",\"\",'All Running Order'!AE6)","v":1},{"$f":"IF('All Running Order'!AF6=\"\",\"\",'All Running Order'!AF6)","v":1},{"$f":"IF('All Running Order'!AG6=\"\",\"\",'All Running Order'!AG6)","v":0},{"$f":"IF('All Running Order'!AH6=\"\",\"\",'All Running Order'!AH6)","v":""},{"$f":"IF('All Running Order'!AI6=\"\",\"\",'All Running Order'!AI6)","v":""},{"$f":"IF('All Running Order'!AJ6=\"\",\"\",'All Running Order'!AJ6)","v":""},{"$f":"IF('All Running Order'!AK6=\"\",\"\",'All Running Order'!AK6)","v":""},{"$f":"IF('All Running Order'!AN6=\"\",\"\",'All Running Order'!AN6)","v":0},{"$f":"IF('All Running Order'!AO6=\"\",\"\",'All Running Order'!AO6)","v":2},{"$f":"IF('All Running Order'!AP6=\"\",\"\",'All Running Order'!AP6)","v":0},{"$f":"IF('All Running Order'!AQ6=\"\",\"\",'All Running Order'!AQ6)","v":1},{"$f":"IF('All Running Order'!AR6=\"\",\"\",'All Running Order'!AR6)","v":0},{"$f":"IF('All Running Order'!AS6=\"\",\"\",'All Running Order'!AS6)","v":0},{"$f":"IF('All Running Order'!AT6=\"\",\"\",'All Running Order'!AT6)","v":""},{"$f":"IF('All Running Order'!AU6=\"\",\"\",'All Running Order'!AU6)","v":""},{"$f":"IF('All Running Order'!AV6=\"\",\"\",'All Running Order'!AV6)","v":""},{"$f":"IF('All Running Order'!AW6=\"\",\"\",'All Running Order'!AW6)","v":""},{"$f":"IF('All Running Order'!AZ6=\"\",\"\",'All Running Order'!AZ6)","v":0},{"$f":"IF('All Running Order'!BA6=\"\",\"\",'All Running Order'!BA6)","v":0},{"$f":"IF('All Running Order'!BB6=\"\",\"\",'All Running Order'!BB6)","v":0},{"$f":"IF('All Running Order'!BC6=\"\",\"\",'All Running Order'!BC6)","v":1},{"$f":"IF('All Running Order'!BD6=\"\",\"\",'All Running Order'!BD6)","v":0},{"$f":"IF('All Running Order'!BE6=\"\",\"\",'All Running Order'!BE6)","v":0},{"$f":"IF('All Running Order'!BF6=\"\",\"\",'All Running Order'!BF6)","v":""},{"$f":"IF('All Running Order'!BG6=\"\",\"\",'All Running Order'!BG6)","v":""},{"$f":"IF('All Running Order'!BH6=\"\",\"\",'All Running Order'!BH6)","v":""},{"$f":"IF('All Running Order'!BI6=\"\",\"\",'All Running Order'!BI6)","v":""},{"$f":"IF('All Running Order'!BL6=\"\",\"\",'All Running Order'!BL6)","v":""},{"$f":"IF('All Running Order'!BM6=\"\",\"\",'All Running Order'!BM6)","v":""},{"$f":"IF('All Running Order'!BN6=\"\",\"\",'All Running Order'!BN6)","v":""},{"$f":"IF('All Running Order'!BO6=\"\",\"\",'All Running Order'!BO6)","v":""},{"$f":"IF('All Running Order'!BP6=\"\",\"\",'All Running Order'!BP6)","v":""},{"$f":"IF('All Running Order'!BQ6=\"\",\"\",'All Running Order'!BQ6)","v":""},{"$f":"IF('All Running Order'!BR6=\"\",\"\",'All Running Order'!BR6)","v":""},{"$f":"IF('All Running Order'!BS6=\"\",\"\",'All Running Order'!BS6)","v":""},{"$f":"IF('All Running Order'!BT6=\"\",\"\",'All Running Order'!BT6)","v":""},{"$f":"IF('All Running Order'!BU6=\"\",\"\",'All Running Order'!BU6)","v":""}]
[{"$f":"'All Running Order'!B7","v":2},{"$f":"IF('All Running Order'!C7=\"\",\"\",'All Running Order'!C7)","v":"Darren Underwood"},{"$f":"IF('All Running Order'!D7=\"\",\"\",'All Running Order'!D7)","v":"Sue Underwood"},{"$f":"IF('All Running Order'!E7=\"\",\"\",'All Running Order'!E7)","v":"Crossle "},{"$f":"IF('All Running Order'!F7=\"\",\"\",'All Running Order'!F7)","v":""},{"$f":"IF('All Running Order'!G7=\"\",\"\",'All Running Order'!G7)","v":"IRS"},{"$f":"IF('All Running Order'!H7=\"\",\"\",'All Running Order'!H7)","v":"Yes"},null,{"$f":"IF('All Running Order'!Q7=\"\",\"\",'All Running Order'!Q7)","v":""},{"$f":"IF('All Running Order'!R7=\"\",\"\",'All Running Order'!R7)","v":""},{"$f":"IF('All Running Order'!S7=\"\",\"\",'All Running Order'!S7)","v":""},{"$f":"IF('All Running Order'!T7=\"\",\"\",'All Running Order'!T7)","v":""},{"$f":"IF('All Running Order'!U7=\"\",\"\",'All Running Order'!U7)","v":""},{"$f":"IF('All Running Order'!V7=\"\",\"\",'All Running Order'!V7)","v":""},{"$f":"IF('All Running Order'!W7=\"\",\"\",'All Running Order'!W7)","v":""},{"$f":"IF('All Running Order'!X7=\"\",\"\",'All Running Order'!X7)","v":""},{"$f":"IF('All Running Order'!Y7=\"\",\"\",'All Running Order'!Y7)","v":""},{"$f":"IF('All Running Order'!Z7=\"\",\"\",'All Running Order'!Z7)","v":""},{"$f":"IF('All Running Order'!AB7=\"\",\"\",'All Running Order'!AB7)","v":""},{"$f":"IF('All Running Order'!AC7=\"\",\"\",'All Running Order'!AC7)","v":""},{"$f":"IF('All Running Order'!AD7=\"\",\"\",'All Running Order'!AD7)","v":""},{"$f":"IF('All Running Order'!AE7=\"\",\"\",'All Running Order'!AE7)","v":""},{"$f":"IF('All Running Order'!AF7=\"\",\"\",'All Running Order'!AF7)","v":""},{"$f":"IF('All Running Order'!AG7=\"\",\"\",'All Running Order'!AG7)","v":""},{"$f":"IF('All Running Order'!AH7=\"\",\"\",'All Running Order'!AH7)","v":""},{"$f":"IF('All Running Order'!AI7=\"\",\"\",'All Running Order'!AI7)","v":""},{"$f":"IF('All Running Order'!AJ7=\"\",\"\",'All Running Order'!AJ7)","v":""},{"$f":"IF('All Running Order'!AK7=\"\",\"\",'All Running Order'!AK7)","v":""},{"$f":"IF('All Running Order'!AN7=\"\",\"\",'All Running Order'!AN7)","v":""},{"$f":"IF('All Running Order'!AO7=\"\",\"\",'All Running Order'!AO7)","v":""},{"$f":"IF('All Running Order'!AP7=\"\",\"\",'All Running Order'!AP7)","v":""},{"$f":"IF('All Running Order'!AQ7=\"\",\"\",'All Running Order'!AQ7)","v":""},{"$f":"IF('All Running Order'!AR7=\"\",\"\",'All Running Order'!AR7)","v":""},{"$f":"IF('All Running Order'!AS7=\"\",\"\",'All Running Order'!AS7)","v":""},{"$f":"IF('All Running Order'!AT7=\"\",\"\",'All Running Order'!AT7)","v":""},{"$f":"IF('All Running Order'!AU7=\"\",\"\",'All Running Order'!AU7)","v":""},{"$f":"IF('All Running Order'!AV7=\"\",\"\",'All Running Order'!AV7)","v":""},{"$f":"IF('All Running Order'!AW7=\"\",\"\",'All Running Order'!AW7)","v":""},{"$f":"IF('All Running Order'!AZ7=\"\",\"\",'All Running Order'!AZ7)","v":""},{"$f":"IF('All Running Order'!BA7=\"\",\"\",'All Running Order'!BA7)","v":""},{"$f":"IF('All Running Order'!BB7=\"\",\"\",'All Running Order'!BB7)","v":""},{"$f":"IF('All Running Order'!BC7=\"\",\"\",'All Running Order'!BC7)","v":""},{"$f":"IF('All Running Order'!BD7=\"\",\"\",'All Running Order'!BD7)","v":""},{"$f":"IF('All Running Order'!BE7=\"\",\"\",'All Running Order'!BE7)","v":""},{"$f":"IF('All Running Order'!BF7=\"\",\"\",'All Running Order'!BF7)","v":""},{"$f":"IF('All Running Order'!BG7=\"\",\"\",'All Running Order'!BG7)","v":""},{"$f":"IF('All Running Order'!BH7=\"\",\"\",'All Running Order'!BH7)","v":""},{"$f":"IF('All Running Order'!BI7=\"\",\"\",'All Running Order'!BI7)","v":""},{"$f":"IF('All Running Order'!BL7=\"\",\"\",'All Running Order'!BL7)","v":""},{"$f":"IF('All Running Order'!BM7=\"\",\"\",'All Running Order'!BM7)","v":""},{"$f":"IF('All Running Order'!BN7=\"\",\"\",'All Running Order'!BN7)","v":""},{"$f":"IF('All Running Order'!BO7=\"\",\"\",'All Running Order'!BO7)","v":""},{"$f":"IF('All Running Order'!BP7=\"\",\"\",'All Running Order'!BP7)","v":""},{"$f":"IF('All Running Order'!BQ7=\"\",\"\",'All Running Order'!BQ7)","v":""},{"$f":"IF('All Running Order'!BR7=\"\",\"\",'All Running Order'!BR7)","v":""},{"$f":"IF('All Running Order'!BS7=\"\",\"\",'All Running Order'!BS7)","v":""},{"$f":"IF('All Running Order'!BT7=\"\",\"\",'All Running Order'!BT7)","v":""},{"$f":"IF('All Running Order'!BU7=\"\",\"\",'All Running Order'!BU7)","v":""}]
[{"$f":"'All Running Order'!B8","v":3},{"$f":"IF('All Running Order'!C8=\"\",\"\",'All Running Order'!C8)","v":"George Barnes"},{"$f":"IF('All Running Order'!D8=\"\",\"\",'All Running Order'!D8)","v":"Rob Uryc"},{"$f":"IF('All Running Order'!E8=\"\",\"\",'All Running Order'!E8)","v":"Sherpa"},{"$f":"IF('All Running Order'!F8=\"\",\"\",'All Running Order'!F8)","v":""},{"$f":"IF('All Running Order'!G8=\"\",\"\",'All Running Order'!G8)","v":"Live"},{"$f":"IF('All Running Order'!H8=\"\",\"\",'All Running Order'!H8)","v":"Yes"},null,{"$f":"IF('All Running Order'!Q8=\"\",\"\",'All Running Order'!Q8)","v":0},{"$f":"IF('All Running Order'!R8=\"\",\"\",'All Running Order'!R8)","v":0},{"$f":"IF('All Running Order'!S8=\"\",\"\",'All Running Order'!S8)","v":2},{"$f":"IF('All Running Order'!T8=\"\",\"\",'All Running Order'!T8)","v":0},{"$f":"IF('All Running Order'!U8=\"\",\"\",'All Running Order'!U8)","v":1},{"$f":"IF('All Running Order'!V8=\"\",\"\",'All Running Order'!V8)","v":1},{"$f":"IF('All Running Order'!W8=\"\",\"\",'All Running Order'!W8)","v":""},{"$f":"IF('All Running Order'!X8=\"\",\"\",'All Running Order'!X8)","v":""},{"$f":"IF('All Running Order'!Y8=\"\",\"\",'All Running Order'!Y8)","v":""},{"$f":"IF('All Running Order'!Z8=\"\",\"\",'All Running Order'!Z8)","v":""},{"$f":"IF('All Running Order'!AB8=\"\",\"\",'All Running Order'!AB8)","v":0},{"$f":"IF('All Running Order'!AC8=\"\",\"\",'All Running Order'!AC8)","v":0},{"$f":"IF('All Running Order'!AD8=\"\",\"\",'All Running Order'!AD8)","v":1},{"$f":"IF('All Running Order'!AE8=\"\",\"\",'All Running Order'!AE8)","v":1},{"$f":"IF('All Running Order'!AF8=\"\",\"\",'All Running Order'!AF8)","v":6},{"$f":"IF('All Running Order'!AG8=\"\",\"\",'All Running Order'!AG8)","v":0},{"$f":"IF('All Running Order'!AH8=\"\",\"\",'All Running Order'!AH8)","v":""},{"$f":"IF('All Running Order'!AI8=\"\",\"\",'All Running Order'!AI8)","v":""},{"$f":"IF('All Running Order'!AJ8=\"\",\"\",'All Running Order'!AJ8)","v":""},{"$f":"IF('All Running Order'!AK8=\"\",\"\",'All Running Order'!AK8)","v":""},{"$f":"IF('All Running Order'!AN8=\"\",\"\",'All Running Order'!AN8)","v":0},{"$f":"IF('All Running Order'!AO8=\"\",\"\",'All Running Order'!AO8)","v":2},{"$f":"IF('All Running Order'!AP8=\"\",\"\",'All Running Order'!AP8)","v":0},{"$f":"IF('All Running Order'!AQ8=\"\",\"\",'All Running Order'!AQ8)","v":1},{"$f":"IF('All Running Order'!AR8=\"\",\"\",'All Running Order'!AR8)","v":0},{"$f":"IF('All Running Order'!AS8=\"\",\"\",'All Running Order'!AS8)","v":0},{"$f":"IF('All Running Order'!AT8=\"\",\"\",'All Running Order'!AT8)","v":""},{"$f":"IF('All Running Order'!AU8=\"\",\"\",'All Running Order'!AU8)","v":""},{"$f":"IF('All Running Order'!AV8=\"\",\"\",'All Running Order'!AV8)","v":""},{"$f":"IF('All Running Order'!AW8=\"\",\"\",'All Running Order'!AW8)","v":""},{"$f":"IF('All Running Order'!AZ8=\"\",\"\",'All Running Order'!AZ8)","v":0},{"$f":"IF('All Running Order'!BA8=\"\",\"\",'All Running Order'!BA8)","v":2},{"$f":"IF('All Running Order'!BB8=\"\",\"\",'All Running Order'!BB8)","v":0},{"$f":"IF('All Running Order'!BC8=\"\",\"\",'All Running Order'!BC8)","v":1},{"$f":"IF('All Running Order'!BD8=\"\",\"\",'All Running Order'!BD8)","v":1},{"$f":"IF('All Running Order'!BE8=\"\",\"\",'All Running Order'!BE8)","v":0},{"$f":"IF('All Running Order'!BF8=\"\",\"\",'All Running Order'!BF8)","v":""},{"$f":"IF('All Running Order'!BG8=\"\",\"\",'All Running Order'!BG8)","v":""},{"$f":"IF('All Running Order'!BH8=\"\",\"\",'All Running Order'!BH8)","v":""},{"$f":"IF('All Running Order'!BI8=\"\",\"\",'All Running Order'!BI8)","v":""},{"$f":"IF('All Running Order'!BL8=\"\",\"\",'All Running Order'!BL8)","v":""},{"$f":"IF('All Running Order'!BM8=\"\",\"\",'All Running Order'!BM8)","v":""},{"$f":"IF('All Running Order'!BN8=\"\",\"\",'All Running Order'!BN8)","v":""},{"$f":"IF('All Running Order'!BO8=\"\",\"\",'All Running Order'!BO8)","v":""},{"$f":"IF('All Running Order'!BP8=\"\",\"\",'All Running Order'!BP8)","v":""},{"$f":"IF('All Running Order'!BQ8=\"\",\"\",'All Running Order'!BQ8)","v":""},{"$f":"IF('All Running Order'!BR8=\"\",\"\",'All Running Order'!BR8)","v":""},{"$f":"IF('All Running Order'!BS8=\"\",\"\",'All Running Order'!BS8)","v":""},{"$f":"IF('All Running Order'!BT8=\"\",\"\",'All Running Order'!BT8)","v":""},{"$f":"IF('All Running Order'!BU8=\"\",\"\",'All Running Order'!BU8)","v":""}]
[{"$f":"'All Running Order'!B9","v":4},{"$f":"IF('All Running Order'!C9=\"\",\"\",'All Running Order'!C9)","v":"Trevor Wood"},{"$f":"IF('All Running Order'!D9=\"\",\"\",'All Running Order'!D9)","v":"Ralph Brown"},{"$f":"IF('All Running Order'!E9=\"\",\"\",'All Running Order'!E9)","v":"MSR"},{"$f":"IF('All Running Order'!F9=\"\",\"\",'All Running Order'!F9)","v":""},{"$f":"IF('All Running Order'!G9=\"\",\"\",'All Running Order'!G9)","v":"IRS"},{"$f":"IF('All Running Order'!H9=\"\",\"\",'All Running Order'!H9)","v":"Yes"},null,{"$f":"IF('All Running Order'!Q9=\"\",\"\",'All Running Order'!Q9)","v":9},{"$f":"IF('All Running Order'!R9=\"\",\"\",'All Running Order'!R9)","v":2},{"$f":"IF('All Running Order'!S9=\"\",\"\",'All Running Order'!S9)","v":8},{"$f":"IF('All Running Order'!T9=\"\",\"\",'All Running Order'!T9)","v":9},{"$f":"IF('All Running Order'!U9=\"\",\"\",'All Running Order'!U9)","v":10},{"$f":"IF('All Running Order'!V9=\"\",\"\",'All Running Order'!V9)","v":8},{"$f":"IF('All Running Order'!W9=\"\",\"\",'All Running Order'!W9)","v":""},{"$f":"IF('All Running Order'!X9=\"\",\"\",'All Running Order'!X9)","v":""},{"$f":"IF('All Running Order'!Y9=\"\",\"\",'All Running Order'!Y9)","v":""},{"$f":"IF('All Running Order'!Z9=\"\",\"\",'All Running Order'!Z9)","v":""},{"$f":"IF('All Running Order'!AB9=\"\",\"\",'All Running Order'!AB9)","v":5},{"$f":"IF('All Running Order'!AC9=\"\",\"\",'All Running Order'!AC9)","v":2},{"$f":"IF('All Running Order'!AD9=\"\",\"\",'All Running Order'!AD9)","v":3},{"$f":"IF('All Running Order'!AE9=\"\",\"\",'All Running Order'!AE9)","v":10},{"$f":"IF('All Running Order'!AF9=\"\",\"\",'All Running Order'!AF9)","v":11},{"$f":"IF('All Running Order'!AG9=\"\",\"\",'All Running Order'!AG9)","v":8},{"$f":"IF('All Running Order'!AH9=\"\",\"\",'All Running Order'!AH9)","v":""},{"$f":"IF('All Running Order'!AI9=\"\",\"\",'All Running Order'!AI9)","v":""},{"$f":"IF('All Running Order'!AJ9=\"\",\"\",'All Running Order'!AJ9)","v":""},{"$f":"IF('All Running Order'!AK9=\"\",\"\",'All Running Order'!AK9)","v":""},{"$f":"IF('All Running Order'!AN9=\"\",\"\",'All Running Order'!AN9)","v":6},{"$f":"IF('All Running Order'!AO9=\"\",\"\",'All Running Order'!AO9)","v":9},{"$f":"IF('All Running Order'!AP9=\"\",\"\",'All Running Order'!AP9)","v":2},{"$f":"IF('All Running Order'!AQ9=\"\",\"\",'All Running Order'!AQ9)","v":9},{"$f":"IF('All Running Order'!AR9=\"\",\"\",'All Running Order'!AR9)","v":10},{"$f":"IF('All Running Order'!AS9=\"\",\"\",'All Running Order'!AS9)","v":11},{"$f":"IF('All Running Order'!AT9=\"\",\"\",'All Running Order'!AT9)","v":""},{"$f":"IF('All Running Order'!AU9=\"\",\"\",'All Running Order'!AU9)","v":""},{"$f":"IF('All Running Order'!AV9=\"\",\"\",'All Running Order'!AV9)","v":""},{"$f":"IF('All Running Order'!AW9=\"\",\"\",'All Running Order'!AW9)","v":""},{"$f":"IF('All Running Order'!AZ9=\"\",\"\",'All Running Order'!AZ9)","v":8},{"$f":"IF('All Running Order'!BA9=\"\",\"\",'All Running Order'!BA9)","v":11},{"$f":"IF('All Running Order'!BB9=\"\",\"\",'All Running Order'!BB9)","v":3},{"$f":"IF('All Running Order'!BC9=\"\",\"\",'All Running Order'!BC9)","v":9},{"$f":"IF('All Running Order'!BD9=\"\",\"\",'All Running Order'!BD9)","v":11},{"$f":"IF('All Running Order'!BE9=\"\",\"\",'All Running Order'!BE9)","v":11},{"$f":"IF('All Running Order'!BF9=\"\",\"\",'All Running Order'!BF9)","v":""},{"$f":"IF('All Running Order'!BG9=\"\",\"\",'All Running Order'!BG9)","v":""},{"$f":"IF('All Running Order'!BH9=\"\",\"\",'All Running Order'!BH9)","v":""},{"$f":"IF('All Running Order'!BI9=\"\",\"\",'All Running Order'!BI9)","v":""},{"$f":"IF('All Running Order'!BL9=\"\",\"\",'All Running Order'!BL9)","v":""},{"$f":"IF('All Running Order'!BM9=\"\",\"\",'All Running Order'!BM9)","v":""},{"$f":"IF('All Running Order'!BN9=\"\",\"\",'All Running Order'!BN9)","v":""},{"$f":"IF('All Running Order'!BO9=\"\",\"\",'All Running Order'!BO9)","v":""},{"$f":"IF('All Running Order'!BP9=\"\",\"\",'All Running Order'!BP9)","v":""},{"$f":"IF('All Running Order'!BQ9=\"\",\"\",'All Running Order'!BQ9)","v":""},{"$f":"IF('All Running Order'!BR9=\"\",\"\",'All Running Order'!BR9)","v":""},{"$f":"IF('All Running Order'!BS9=\"\",\"\",'All Running Order'!BS9)","v":""},{"$f":"IF('All Running Order'!BT9=\"\",\"\",'All Running Order'!BT9)","v":""},{"$f":"IF('All Running Order'!BU9=\"\",\"\",'All Running Order'!BU9)","v":""}]
[{"$f":"'All Running Order'!B10","v":5},{"$f":"IF('All Running Order'!C10=\"\",\"\",'All Running Order'!C10)","v":"Ian Wright"},{"$f":"IF('All Running Order'!D10=\"\",\"\",'All Running Order'!D10)","v":"Chris Taylor"},{"$f":"IF('All Running Order'!E10=\"\",\"\",'All Running Order'!E10)","v":"Sherpa Indy"},{"$f":"IF('All Running Order'!F10=\"\",\"\",'All Running Order'!F10)","v":""},{"$f":"IF('All Running Order'!G10=\"\",\"\",'All Running Order'!G10)","v":"IRS"},{"$f":"IF('All Running Order'!H10=\"\",\"\",'All Running Order'!H10)","v":"Yes"},null,{"$f":"IF('All Running Order'!Q10=\"\",\"\",'All Running Order'!Q10)","v":0},{"$f":"IF('All Running Order'!R10=\"\",\"\",'All Running Order'!R10)","v":1},{"$f":"IF('All Running Order'!S10=\"\",\"\",'All Running Order'!S10)","v":2},{"$f":"IF('All Running Order'!T10=\"\",\"\",'All Running Order'!T10)","v":0},{"$f":"IF('All Running Order'!U10=\"\",\"\",'All Running Order'!U10)","v":2},{"$f":"IF('All Running Order'!V10=\"\",\"\",'All Running Order'!V10)","v":1},{"$f":"IF('All Running Order'!W10=\"\",\"\",'All Running Order'!W10)","v":""},{"$f":"IF('All Running Order'!X10=\"\",\"\",'All Running Order'!X10)","v":""},{"$f":"IF('All Running Order'!Y10=\"\",\"\",'All Running Order'!Y10)","v":""},{"$f":"IF('All Running Order'!Z10=\"\",\"\",'All Running Order'!Z10)","v":""},{"$f":"IF('All Running Order'!AB10=\"\",\"\",'All Running Order'!AB10)","v":0},{"$f":"IF('All Running Order'!AC10=\"\",\"\",'All Running Order'!AC10)","v":0},{"$f":"IF('All Running Order'!AD10=\"\",\"\",'All Running Order'!AD10)","v":0},{"$f":"IF('All Running Order'!AE10=\"\",\"\",'All Running Order'!AE10)","v":1},{"$f":"IF('All Running Order'!AF10=\"\",\"\",'All Running Order'!AF10)","v":1},{"$f":"IF('All Running Order'!AG10=\"\",\"\",'All Running Order'!AG10)","v":0},{"$f":"IF('All Running Order'!AH10=\"\",\"\",'All Running Order'!AH10)","v":""},{"$f":"IF('All Running Order'!AI10=\"\",\"\",'All Running Order'!AI10)","v":""},{"$f":"IF('All Running Order'!AJ10=\"\",\"\",'All Running Order'!AJ10)","v":""},{"$f":"IF('All Running Order'!AK10=\"\",\"\",'All Running Order'!AK10)","v":""},{"$f":"IF('All Running Order'!AN10=\"\",\"\",'All Running Order'!AN10)","v":0},{"$f":"IF('All Running Order'!AO10=\"\",\"\",'All Running Order'!AO10)","v":0},{"$f":"IF('All Running Order'!AP10=\"\",\"\",'All Running Order'!AP10)","v":0},{"$f":"IF('All Running Order'!AQ10=\"\",\"\",'All Running Order'!AQ10)","v":0},{"$f":"IF('All Running Order'!AR10=\"\",\"\",'All Running Order'!AR10)","v":0},{"$f":"IF('All Running Order'!AS10=\"\",\"\",'All Running Order'!AS10)","v":0},{"$f":"IF('All Running Order'!AT10=\"\",\"\",'All Running Order'!AT10)","v":""},{"$f":"IF('All Running Order'!AU10=\"\",\"\",'All Running Order'!AU10)","v":""},{"$f":"IF('All Running Order'!AV10=\"\",\"\",'All Running Order'!AV10)","v":""},{"$f":"IF('All Running Order'!AW10=\"\",\"\",'All Running Order'!AW10)","v":""},{"$f":"IF('All Running Order'!AZ10=\"\",\"\",'All Running Order'!AZ10)","v":0},{"$f":"IF('All Running Order'!BA10=\"\",\"\",'All Running Order'!BA10)","v":2},{"$f":"IF('All Running Order'!BB10=\"\",\"\",'All Running Order'!BB10)","v":2},{"$f":"IF('All Running Order'!BC10=\"\",\"\",'All Running Order'!BC10)","v":0},{"$f":"IF('All Running Order'!BD10=\"\",\"\",'All Running Order'!BD10)","v":2},{"$f":"IF('All Running Order'!BE10=\"\",\"\",'All Running Order'!BE10)","v":0},{"$f":"IF('All Running Order'!BF10=\"\",\"\",'All Running Order'!BF10)","v":""},{"$f":"IF('All Running Order'!BG10=\"\",\"\",'All Running Order'!BG10)","v":""},{"$f":"IF('All Running Order'!BH10=\"\",\"\",'All Running Order'!BH10)","v":""},{"$f":"IF('All Running Order'!BI10=\"\",\"\",'All Running Order'!BI10)","v":""},{"$f":"IF('All Running Order'!BL10=\"\",\"\",'All Running Order'!BL10)","v":""},{"$f":"IF('All Running Order'!BM10=\"\",\"\",'All Running Order'!BM10)","v":""},{"$f":"IF('All Running Order'!BN10=\"\",\"\",'All Running Order'!BN10)","v":""},{"$f":"IF('All Running Order'!BO10=\"\",\"\",'All Running Order'!BO10)","v":""},{"$f":"IF('All Running Order'!BP10=\"\",\"\",'All Running Order'!BP10)","v":""},{"$f":"IF('All Running Order'!BQ10=\"\",\"\",'All Running Order'!BQ10)","v":""},{"$f":"IF('All Running Order'!BR10=\"\",\"\",'All Running Order'!BR10)","v":""},{"$f":"IF('All Running Order'!BS10=\"\",\"\",'All Running Order'!BS10)","v":""},{"$f":"IF('All Running Order'!BT10=\"\",\"\",'All Running Order'!BT10)","v":""},{"$f":"IF('All Running Order'!BU10=\"\",\"\",'All Running Order'!BU10)","v":""}]
[{"$f":"'All Running Order'!B11","v":6},{"$f":"IF('All Running Order'!C11=\"\",\"\",'All Running Order'!C11)","v":"Peter Fensom"},{"$f":"IF('All Running Order'!D11=\"\",\"\",'All Running Order'!D11)","v":"Liz Fensom"},{"$f":"IF('All Running Order'!E11=\"\",\"\",'All Running Order'!E11)","v":"Hamilton"},{"$f":"IF('All Running Order'!F11=\"\",\"\",'All Running Order'!F11)","v":""},{"$f":"IF('All Running Order'!G11=\"\",\"\",'All Running Order'!G11)","v":"IRS"},{"$f":"IF('All Running Order'!H11=\"\",\"\",'All Running Order'!H11)","v":"Yes"},null,{"$f":"IF('All Running Order'!Q11=\"\",\"\",'All Running Order'!Q11)","v":0},{"$f":"IF('All Running Order'!R11=\"\",\"\",'All Running Order'!R11)","v":2},{"$f":"IF('All Running Order'!S11=\"\",\"\",'All Running Order'!S11)","v":2},{"$f":"IF('All Running Order'!T11=\"\",\"\",'All Running Order'!T11)","v":0},{"$f":"IF('All Running Order'!U11=\"\",\"\",'All Running Order'!U11)","v":2},{"$f":"IF('All Running Order'!V11=\"\",\"\",'All Running Order'!V11)","v":1},{"$f":"IF('All Running Order'!W11=\"\",\"\",'All Running Order'!W11)","v":""},{"$f":"IF('All Running Order'!X11=\"\",\"\",'All Running Order'!X11)","v":""},{"$f":"IF('All Running Order'!Y11=\"\",\"\",'All Running Order'!Y11)","v":""},{"$f":"IF('All Running Order'!Z11=\"\",\"\",'All Running Order'!Z11)","v":""},{"$f":"IF('All Running Order'!AB11=\"\",\"\",'All Running Order'!AB11)","v":0},{"$f":"IF('All Running Order'!AC11=\"\",\"\",'All Running Order'!AC11)","v":0},{"$f":"IF('All Running Order'!AD11=\"\",\"\",'All Running Order'!AD11)","v":2},{"$f":"IF('All Running Order'!AE11=\"\",\"\",'All Running Order'!AE11)","v":4},{"$f":"IF('All Running Order'!AF11=\"\",\"\",'All Running Order'!AF11)","v":2},{"$f":"IF('All Running Order'!AG11=\"\",\"\",'All Running Order'!AG11)","v":0},{"$f":"IF('All Running Order'!AH11=\"\",\"\",'All Running Order'!AH11)","v":""},{"$f":"IF('All Running Order'!AI11=\"\",\"\",'All Running Order'!AI11)","v":""},{"$f":"IF('All Running Order'!AJ11=\"\",\"\",'All Running Order'!AJ11)","v":""},{"$f":"IF('All Running Order'!AK11=\"\",\"\",'All Running Order'!AK11)","v":""},{"$f":"IF('All Running Order'!AN11=\"\",\"\",'All Running Order'!AN11)","v":0},{"$f":"IF('All Running Order'!AO11=\"\",\"\",'All Running Order'!AO11)","v":2},{"$f":"IF('All Running Order'!AP11=\"\",\"\",'All Running Order'!AP11)","v":2},{"$f":"IF('All Running Order'!AQ11=\"\",\"\",'All Running Order'!AQ11)","v":1},{"$f":"IF('All Running Order'!AR11=\"\",\"\",'All Running Order'!AR11)","v":0},{"$f":"IF('All Running Order'!AS11=\"\",\"\",'All Running Order'!AS11)","v":0},{"$f":"IF('All Running Order'!AT11=\"\",\"\",'All Running Order'!AT11)","v":""},{"$f":"IF('All Running Order'!AU11=\"\",\"\",'All Running Order'!AU11)","v":""},{"$f":"IF('All Running Order'!AV11=\"\",\"\",'All Running Order'!AV11)","v":""},{"$f":"IF('All Running Order'!AW11=\"\",\"\",'All Running Order'!AW11)","v":""},{"$f":"IF('All Running Order'!AZ11=\"\",\"\",'All Running Order'!AZ11)","v":12},{"$f":"IF('All Running Order'!BA11=\"\",\"\",'All Running Order'!BA11)","v":2},{"$f":"IF('All Running Order'!BB11=\"\",\"\",'All Running Order'!BB11)","v":2},{"$f":"IF('All Running Order'!BC11=\"\",\"\",'All Running Order'!BC11)","v":2},{"$f":"IF('All Running Order'!BD11=\"\",\"\",'All Running Order'!BD11)","v":2},{"$f":"IF('All Running Order'!BE11=\"\",\"\",'All Running Order'!BE11)","v":0},{"$f":"IF('All Running Order'!BF11=\"\",\"\",'All Running Order'!BF11)","v":""},{"$f":"IF('All Running Order'!BG11=\"\",\"\",'All Running Order'!BG11)","v":""},{"$f":"IF('All Running Order'!BH11=\"\",\"\",'All Running Order'!BH11)","v":""},{"$f":"IF('All Running Order'!BI11=\"\",\"\",'All Running Order'!BI11)","v":""},{"$f":"IF('All Running Order'!BL11=\"\",\"\",'All Running Order'!BL11)","v":""},{"$f":"IF('All Running Order'!BM11=\"\",\"\",'All Running Order'!BM11)","v":""},{"$f":"IF('All Running Order'!BN11=\"\",\"\",'All Running Order'!BN11)","v":""},{"$f":"IF('All Running Order'!BO11=\"\",\"\",'All Running Order'!BO11)","v":""},{"$f":"IF('All Running Order'!BP11=\"\",\"\",'All Running Order'!BP11)","v":""},{"$f":"IF('All Running Order'!BQ11=\"\",\"\",'All Running Order'!BQ11)","v":""},{"$f":"IF('All Running Order'!BR11=\"\",\"\",'All Running Order'!BR11)","v":""},{"$f":"IF('All Running Order'!BS11=\"\",\"\",'All Running Order'!BS11)","v":""},{"$f":"IF('All Running Order'!BT11=\"\",\"\",'All Running Order'!BT11)","v":""},{"$f":"IF('All Running Order'!BU11=\"\",\"\",'All Running Order'!BU11)","v":""}]
[{"$f":"'All Running Order'!B12","v":7},{"$f":"IF('All Running Order'!C12=\"\",\"\",'All Running Order'!C12)","v":"Ian Brooks"},{"$f":"IF('All Running Order'!D12=\"\",\"\",'All Running Order'!D12)","v":"Matt Sunderland"},{"$f":"IF('All Running Order'!E12=\"\",\"\",'All Running Order'!E12)","v":"Sabson"},{"$f":"IF('All Running Order'!F12=\"\",\"\",'All Running Order'!F12)","v":""},{"$f":"IF('All Running Order'!G12=\"\",\"\",'All Running Order'!G12)","v":"Live"},{"$f":"IF('All Running Order'!H12=\"\",\"\",'All Running Order'!H12)","v":"Yes"},null,{"$f":"IF('All Running Order'!Q12=\"\",\"\",'All Running Order'!Q12)","v":8},{"$f":"IF('All Running Order'!R12=\"\",\"\",'All Running Order'!R12)","v":2},{"$f":"IF('All Running Order'!S12=\"\",\"\",'All Running Order'!S12)","v":2},{"$f":"IF('All Running Order'!T12=\"\",\"\",'All Running Order'!T12)","v":5},{"$f":"IF('All Running Order'!U12=\"\",\"\",'All Running Order'!U12)","v":9},{"$f":"IF('All Running Order'!V12=\"\",\"\",'All Running Order'!V12)","v":8},{"$f":"IF('All Running Order'!W12=\"\",\"\",'All Running Order'!W12)","v":""},{"$f":"IF('All Running Order'!X12=\"\",\"\",'All Running Order'!X12)","v":""},{"$f":"IF('All Running Order'!Y12=\"\",\"\",'All Running Order'!Y12)","v":""},{"$f":"IF('All Running Order'!Z12=\"\",\"\",'All Running Order'!Z12)","v":""},{"$f":"IF('All Running Order'!AB12=\"\",\"\",'All Running Order'!AB12)","v":8},{"$f":"IF('All Running Order'!AC12=\"\",\"\",'All Running Order'!AC12)","v":3},{"$f":"IF('All Running Order'!AD12=\"\",\"\",'All Running Order'!AD12)","v":4},{"$f":"IF('All Running Order'!AE12=\"\",\"\",'All Running Order'!AE12)","v":9},{"$f":"IF('All Running Order'!AF12=\"\",\"\",'All Running Order'!AF12)","v":9},{"$f":"IF('All Running Order'!AG12=\"\",\"\",'All Running Order'!AG12)","v":1},{"$f":"IF('All Running Order'!AH12=\"\",\"\",'All Running Order'!AH12)","v":""},{"$f":"IF('All Running Order'!AI12=\"\",\"\",'All Running Order'!AI12)","v":""},{"$f":"IF('All Running Order'!AJ12=\"\",\"\",'All Running Order'!AJ12)","v":""},{"$f":"IF('All Running Order'!AK12=\"\",\"\",'All Running Order'!AK12)","v":""},{"$f":"IF('All Running Order'!AN12=\"\",\"\",'All Running Order'!AN12)","v":2},{"$f":"IF('All Running Order'!AO12=\"\",\"\",'All Running Order'!AO12)","v":8},{"$f":"IF('All Running Order'!AP12=\"\",\"\",'All Running Order'!AP12)","v":4},{"$f":"IF('All Running Order'!AQ12=\"\",\"\",'All Running Order'!AQ12)","v":6},{"$f":"IF('All Running Order'!AR12=\"\",\"\",'All Running Order'!AR12)","v":10},{"$f":"IF('All Running Order'!AS12=\"\",\"\",'All Running Order'!AS12)","v":11},{"$f":"IF('All Running Order'!AT12=\"\",\"\",'All Running Order'!AT12)","v":""},{"$f":"IF('All Running Order'!AU12=\"\",\"\",'All Running Order'!AU12)","v":""},{"$f":"IF('All Running Order'!AV12=\"\",\"\",'All Running Order'!AV12)","v":""},{"$f":"IF('All Running Order'!AW12=\"\",\"\",'All Running Order'!AW12)","v":""},{"$f":"IF('All Running Order'!AZ12=\"\",\"\",'All Running Order'!AZ12)","v":2},{"$f":"IF('All Running Order'!BA12=\"\",\"\",'All Running Order'!BA12)","v":11},{"$f":"IF('All Running Order'!BB12=\"\",\"\",'All Running Order'!BB12)","v":2},{"$f":"IF('All Running Order'!BC12=\"\",\"\",'All Running Order'!BC12)","v":10},{"$f":"IF('All Running Order'!BD12=\"\",\"\",'All Running Order'!BD12)","v":10},{"$f":"IF('All Running Order'!BE12=\"\",\"\",'All Running Order'!BE12)","v":11},{"$f":"IF('All Running Order'!BF12=\"\",\"\",'All Running Order'!BF12)","v":""},{"$f":"IF('All Running Order'!BG12=\"\",\"\",'All Running Order'!BG12)","v":""},{"$f":"IF('All Running Order'!BH12=\"\",\"\",'All Running Order'!BH12)","v":""},{"$f":"IF('All Running Order'!BI12=\"\",\"\",'All Running Order'!BI12)","v":""},{"$f":"IF('All Running Order'!BL12=\"\",\"\",'All Running Order'!BL12)","v":""},{"$f":"IF('All Running Order'!BM12=\"\",\"\",'All Running Order'!BM12)","v":""},{"$f":"IF('All Running Order'!BN12=\"\",\"\",'All Running Order'!BN12)","v":""},{"$f":"IF('All Running Order'!BO12=\"\",\"\",'All Running Order'!BO12)","v":""},{"$f":"IF('All Running Order'!BP12=\"\",\"\",'All Running Order'!BP12)","v":""},{"$f":"IF('All Running Order'!BQ12=\"\",\"\",'All Running Order'!BQ12)","v":""},{"$f":"IF('All Running Order'!BR12=\"\",\"\",'All Running Order'!BR12)","v":""},{"$f":"IF('All Running Order'!BS12=\"\",\"\",'All Running Order'!BS12)","v":""},{"$f":"IF('All Running Order'!BT12=\"\",\"\",'All Running Order'!BT12)","v":""},{"$f":"IF('All Running Order'!BU12=\"\",\"\",'All Running Order'!BU12)","v":""}]
[{"$f":"'All Running Order'!B13","v":8},{"$f":"IF('All Running Order'!C13=\"\",\"\",'All Running Order'!C13)","v":"Tom Bricknell"},{"$f":"IF('All Running Order'!D13=\"\",\"\",'All Running Order'!D13)","v":"Andy Beveridge"},{"$f":"IF('All Running Order'!E13=\"\",\"\",'All Running Order'!E13)","v":"Crossle "},{"$f":"IF('All Running Order'!F13=\"\",\"\",'All Running Order'!F13)","v":""},{"$f":"IF('All Running Order'!G13=\"\",\"\",'All Running Order'!G13)","v":"IRS"},{"$f":"IF('All Running Order'!H13=\"\",\"\",'All Running Order'!H13)","v":"Yes"},null,{"$f":"IF('All Running Order'!Q13=\"\",\"\",'All Running Order'!Q13)","v":0},{"$f":"IF('All Running Order'!R13=\"\",\"\",'All Running Order'!R13)","v":0},{"$f":"IF('All Running Order'!S13=\"\",\"\",'All Running Order'!S13)","v":0},{"$f":"IF('All Running Order'!T13=\"\",\"\",'All Running Order'!T13)","v":5},{"$f":"IF('All Running Order'!U13=\"\",\"\",'All Running Order'!U13)","v":2},{"$f":"IF('All Running Order'!V13=\"\",\"\",'All Running Order'!V13)","v":2},{"$f":"IF('All Running Order'!W13=\"\",\"\",'All Running Order'!W13)","v":""},{"$f":"IF('All Running Order'!X13=\"\",\"\",'All Running Order'!X13)","v":""},{"$f":"IF('All Running Order'!Y13=\"\",\"\",'All Running Order'!Y13)","v":""},{"$f":"IF('All Running Order'!Z13=\"\",\"\",'All Running Order'!Z13)","v":""},{"$f":"IF('All Running Order'!AB13=\"\",\"\",'All Running Order'!AB13)","v":0},{"$f":"IF('All Running Order'!AC13=\"\",\"\",'All Running Order'!AC13)","v":0},{"$f":"IF('All Running Order'!AD13=\"\",\"\",'All Running Order'!AD13)","v":0},{"$f":"IF('All Running Order'!AE13=\"\",\"\",'All Running Order'!AE13)","v":1},{"$f":"IF('All Running Order'!AF13=\"\",\"\",'All Running Order'!AF13)","v":0},{"$f":"IF('All Running Order'!AG13=\"\",\"\",'All Running Order'!AG13)","v":0},{"$f":"IF('All Running Order'!AH13=\"\",\"\",'All Running Order'!AH13)","v":""},{"$f":"IF('All Running Order'!AI13=\"\",\"\",'All Running Order'!AI13)","v":""},{"$f":"IF('All Running Order'!AJ13=\"\",\"\",'All Running Order'!AJ13)","v":""},{"$f":"IF('All Running Order'!AK13=\"\",\"\",'All Running Order'!AK13)","v":""},{"$f":"IF('All Running Order'!AN13=\"\",\"\",'All Running Order'!AN13)","v":3},{"$f":"IF('All Running Order'!AO13=\"\",\"\",'All Running Order'!AO13)","v":0},{"$f":"IF('All Running Order'!AP13=\"\",\"\",'All Running Order'!AP13)","v":0},{"$f":"IF('All Running Order'!AQ13=\"\",\"\",'All Running Order'!AQ13)","v":1},{"$f":"IF('All Running Order'!AR13=\"\",\"\",'All Running Order'!AR13)","v":0},{"$f":"IF('All Running Order'!AS13=\"\",\"\",'All Running Order'!AS13)","v":0},{"$f":"IF('All Running Order'!AT13=\"\",\"\",'All Running Order'!AT13)","v":""},{"$f":"IF('All Running Order'!AU13=\"\",\"\",'All Running Order'!AU13)","v":""},{"$f":"IF('All Running Order'!AV13=\"\",\"\",'All Running Order'!AV13)","v":""},{"$f":"IF('All Running Order'!AW13=\"\",\"\",'All Running Order'!AW13)","v":""},{"$f":"IF('All Running Order'!AZ13=\"\",\"\",'All Running Order'!AZ13)","v":0},{"$f":"IF('All Running Order'!BA13=\"\",\"\",'All Running Order'!BA13)","v":2},{"$f":"IF('All Running Order'!BB13=\"\",\"\",'All Running Order'!BB13)","v":2},{"$f":"IF('All Running Order'!BC13=\"\",\"\",'All Running Order'!BC13)","v":0},{"$f":"IF('All Running Order'!BD13=\"\",\"\",'All Running Order'!BD13)","v":0},{"$f":"IF('All Running Order'!BE13=\"\",\"\",'All Running Order'!BE13)","v":0},{"$f":"IF('All Running Order'!BF13=\"\",\"\",'All Running Order'!BF13)","v":""},{"$f":"IF('All Running Order'!BG13=\"\",\"\",'All Running Order'!BG13)","v":""},{"$f":"IF('All Running Order'!BH13=\"\",\"\",'All Running Order'!BH13)","v":""},{"$f":"IF('All Running Order'!BI13=\"\",\"\",'All Running Order'!BI13)","v":""},{"$f":"IF('All Running Order'!BL13=\"\",\"\",'All Running Order'!BL13)","v":""},{"$f":"IF('All Running Order'!BM13=\"\",\"\",'All Running Order'!BM13)","v":""},{"$f":"IF('All Running Order'!BN13=\"\",\"\",'All Running Order'!BN13)","v":""},{"$f":"IF('All Running Order'!BO13=\"\",\"\",'All Running Order'!BO13)","v":""},{"$f":"IF('All Running Order'!BP13=\"\",\"\",'All Running Order'!BP13)","v":""},{"$f":"IF('All Running Order'!BQ13=\"\",\"\",'All Running Order'!BQ13)","v":""},{"$f":"IF('All Running Order'!BR13=\"\",\"\",'All Running Order'!BR13)","v":""},{"$f":"IF('All Running Order'!BS13=\"\",\"\",'All Running Order'!BS13)","v":""},{"$f":"IF('All Running Order'!BT13=\"\",\"\",'All Running Order'!BT13)","v":""},{"$f":"IF('All Running Order'!BU13=\"\",\"\",'All Running Order'!BU13)","v":""}]
[{"$f":"'All Running Order'!B14","v":9},{"$f":"IF('All Running Order'!C14=\"\",\"\",'All Running Order'!C14)","v":"Sam Beare"},{"$f":"IF('All Running Order'!D14=\"\",\"\",'All Running Order'!D14)","v":"Jemima Beare"},{"$f":"IF('All Running Order'!E14=\"\",\"\",'All Running Order'!E14)","v":"Sherpa"},{"$f":"IF('All Running Order'!F14=\"\",\"\",'All Running Order'!F14)","v":""},{"$f":"IF('All Running Order'!G14=\"\",\"\",'All Running Order'!G14)","v":"Live"},{"$f":"IF('All Running Order'!H14=\"\",\"\",'All Running Order'!H14)","v":"Yes"},null,{"$f":"IF('All Running Order'!Q14=\"\",\"\",'All Running Order'!Q14)","v":0},{"$f":"IF('All Running Order'!R14=\"\",\"\",'All Running Order'!R14)","v":0},{"$f":"IF('All Running Order'!S14=\"\",\"\",'All Running Order'!S14)","v":2},{"$f":"IF('All Running Order'!T14=\"\",\"\",'All Running Order'!T14)","v":0},{"$f":"IF('All Running Order'!U14=\"\",\"\",'All Running Order'!U14)","v":1},{"$f":"IF('All Running Order'!V14=\"\",\"\",'All Running Order'!V14)","v":2},{"$f":"IF('All Running Order'!W14=\"\",\"\",'All Running Order'!W14)","v":""},{"$f":"IF('All Running Order'!X14=\"\",\"\",'All Running Order'!X14)","v":""},{"$f":"IF('All Running Order'!Y14=\"\",\"\",'All Running Order'!Y14)","v":""},{"$f":"IF('All Running Order'!Z14=\"\",\"\",'All Running Order'!Z14)","v":""},{"$f":"IF('All Running Order'!AB14=\"\",\"\",'All Running Order'!AB14)","v":0},{"$f":"IF('All Running Order'!AC14=\"\",\"\",'All Running Order'!AC14)","v":0},{"$f":"IF('All Running Order'!AD14=\"\",\"\",'All Running Order'!AD14)","v":0},{"$f":"IF('All Running Order'!AE14=\"\",\"\",'All Running Order'!AE14)","v":1},{"$f":"IF('All Running Order'!AF14=\"\",\"\",'All Running Order'!AF14)","v":1},{"$f":"IF('All Running Order'!AG14=\"\",\"\",'All Running Order'!AG14)","v":1},{"$f":"IF('All Running Order'!AH14=\"\",\"\",'All Running Order'!AH14)","v":""},{"$f":"IF('All Running Order'!AI14=\"\",\"\",'All Running Order'!AI14)","v":""},{"$f":"IF('All Running Order'!AJ14=\"\",\"\",'All Running Order'!AJ14)","v":""},{"$f":"IF('All Running Order'!AK14=\"\",\"\",'All Running Order'!AK14)","v":""},{"$f":"IF('All Running Order'!AN14=\"\",\"\",'All Running Order'!AN14)","v":0},{"$f":"IF('All Running Order'!AO14=\"\",\"\",'All Running Order'!AO14)","v":0},{"$f":"IF('All Running Order'!AP14=\"\",\"\",'All Running Order'!AP14)","v":0},{"$f":"IF('All Running Order'!AQ14=\"\",\"\",'All Running Order'!AQ14)","v":0},{"$f":"IF('All Running Order'!AR14=\"\",\"\",'All Running Order'!AR14)","v":0},{"$f":"IF('All Running Order'!AS14=\"\",\"\",'All Running Order'!AS14)","v":0},{"$f":"IF('All Running Order'!AT14=\"\",\"\",'All Running Order'!AT14)","v":""},{"$f":"IF('All Running Order'!AU14=\"\",\"\",'All Running Order'!AU14)","v":""},{"$f":"IF('All Running Order'!AV14=\"\",\"\",'All Running Order'!AV14)","v":""},{"$f":"IF('All Running Order'!AW14=\"\",\"\",'All Running Order'!AW14)","v":""},{"$f":"IF('All Running Order'!AZ14=\"\",\"\",'All Running Order'!AZ14)","v":0},{"$f":"IF('All Running Order'!BA14=\"\",\"\",'All Running Order'!BA14)","v":0},{"$f":"IF('All Running Order'!BB14=\"\",\"\",'All Running Order'!BB14)","v":0},{"$f":"IF('All Running Order'!BC14=\"\",\"\",'All Running Order'!BC14)","v":10},{"$f":"IF('All Running Order'!BD14=\"\",\"\",'All Running Order'!BD14)","v":0},{"$f":"IF('All Running Order'!BE14=\"\",\"\",'All Running Order'!BE14)","v":0},{"$f":"IF('All Running Order'!BF14=\"\",\"\",'All Running Order'!BF14)","v":""},{"$f":"IF('All Running Order'!BG14=\"\",\"\",'All Running Order'!BG14)","v":""},{"$f":"IF('All Running Order'!BH14=\"\",\"\",'All Running Order'!BH14)","v":""},{"$f":"IF('All Running Order'!BI14=\"\",\"\",'All Running Order'!BI14)","v":""},{"$f":"IF('All Running Order'!BL14=\"\",\"\",'All Running Order'!BL14)","v":""},{"$f":"IF('All Running Order'!BM14=\"\",\"\",'All Running Order'!BM14)","v":""},{"$f":"IF('All Running Order'!BN14=\"\",\"\",'All Running Order'!BN14)","v":""},{"$f":"IF('All Running Order'!BO14=\"\",\"\",'All Running Order'!BO14)","v":""},{"$f":"IF('All Running Order'!BP14=\"\",\"\",'All Running Order'!BP14)","v":""},{"$f":"IF('All Running Order'!BQ14=\"\",\"\",'All Running Order'!BQ14)","v":""},{"$f":"IF('All Running Order'!BR14=\"\",\"\",'All Running Order'!BR14)","v":""},{"$f":"IF('All Running Order'!BS14=\"\",\"\",'All Running Order'!BS14)","v":""},{"$f":"IF('All Running Order'!BT14=\"\",\"\",'All Running Order'!BT14)","v":""},{"$f":"IF('All Running Order'!BU14=\"\",\"\",'All Running Order'!BU14)","v":""}]
[{"$f":"'All Running Order'!B15","v":10},{"$f":"IF('All Running Order'!C15=\"\",\"\",'All Running Order'!C15)","v":"Mike Readings"},{"$f":"IF('All Running Order'!D15=\"\",\"\",'All Running Order'!D15)","v":"Carole Readings"},{"$f":"IF('All Running Order'!E15=\"\",\"\",'All Running Order'!E15)","v":"Sherpa Indy"},{"$f":"IF('All Running Order'!F15=\"\",\"\",'All Running Order'!F15)","v":""},{"$f":"IF('All Running Order'!G15=\"\",\"\",'All Running Order'!G15)","v":"IRS"},{"$f":"IF('All Running Order'!H15=\"\",\"\",'All Running Order'!H15)","v":"Yes"},null,{"$f":"IF('All Running Order'!Q15=\"\",\"\",'All Running Order'!Q15)","v":""},{"$f":"IF('All Running Order'!R15=\"\",\"\",'All Running Order'!R15)","v":""},{"$f":"IF('All Running Order'!S15=\"\",\"\",'All Running Order'!S15)","v":""},{"$f":"IF('All Running Order'!T15=\"\",\"\",'All Running Order'!T15)","v":""},{"$f":"IF('All Running Order'!U15=\"\",\"\",'All Running Order'!U15)","v":""},{"$f":"IF('All Running Order'!V15=\"\",\"\",'All Running Order'!V15)","v":""},{"$f":"IF('All Running Order'!W15=\"\",\"\",'All Running Order'!W15)","v":""},{"$f":"IF('All Running Order'!X15=\"\",\"\",'All Running Order'!X15)","v":""},{"$f":"IF('All Running Order'!Y15=\"\",\"\",'All Running Order'!Y15)","v":""},{"$f":"IF('All Running Order'!Z15=\"\",\"\",'All Running Order'!Z15)","v":""},{"$f":"IF('All Running Order'!AB15=\"\",\"\",'All Running Order'!AB15)","v":""},{"$f":"IF('All Running Order'!AC15=\"\",\"\",'All Running Order'!AC15)","v":""},{"$f":"IF('All Running Order'!AD15=\"\",\"\",'All Running Order'!AD15)","v":""},{"$f":"IF('All Running Order'!AE15=\"\",\"\",'All Running Order'!AE15)","v":""},{"$f":"IF('All Running Order'!AF15=\"\",\"\",'All Running Order'!AF15)","v":""},{"$f":"IF('All Running Order'!AG15=\"\",\"\",'All Running Order'!AG15)","v":""},{"$f":"IF('All Running Order'!AH15=\"\",\"\",'All Running Order'!AH15)","v":""},{"$f":"IF('All Running Order'!AI15=\"\",\"\",'All Running Order'!AI15)","v":""},{"$f":"IF('All Running Order'!AJ15=\"\",\"\",'All Running Order'!AJ15)","v":""},{"$f":"IF('All Running Order'!AK15=\"\",\"\",'All Running Order'!AK15)","v":""},{"$f":"IF('All Running Order'!AN15=\"\",\"\",'All Running Order'!AN15)","v":""},{"$f":"IF('All Running Order'!AO15=\"\",\"\",'All Running Order'!AO15)","v":""},{"$f":"IF('All Running Order'!AP15=\"\",\"\",'All Running Order'!AP15)","v":""},{"$f":"IF('All Running Order'!AQ15=\"\",\"\",'All Running Order'!AQ15)","v":""},{"$f":"IF('All Running Order'!AR15=\"\",\"\",'All Running Order'!AR15)","v":""},{"$f":"IF('All Running Order'!AS15=\"\",\"\",'All Running Order'!AS15)","v":""},{"$f":"IF('All Running Order'!AT15=\"\",\"\",'All Running Order'!AT15)","v":""},{"$f":"IF('All Running Order'!AU15=\"\",\"\",'All Running Order'!AU15)","v":""},{"$f":"IF('All Running Order'!AV15=\"\",\"\",'All Running Order'!AV15)","v":""},{"$f":"IF('All Running Order'!AW15=\"\",\"\",'All Running Order'!AW15)","v":""},{"$f":"IF('All Running Order'!AZ15=\"\",\"\",'All Running Order'!AZ15)","v":""},{"$f":"IF('All Running Order'!BA15=\"\",\"\",'All Running Order'!BA15)","v":""},{"$f":"IF('All Running Order'!BB15=\"\",\"\",'All Running Order'!BB15)","v":""},{"$f":"IF('All Running Order'!BC15=\"\",\"\",'All Running Order'!BC15)","v":""},{"$f":"IF('All Running Order'!BD15=\"\",\"\",'All Running Order'!BD15)","v":""},{"$f":"IF('All Running Order'!BE15=\"\",\"\",'All Running Order'!BE15)","v":""},{"$f":"IF('All Running Order'!BF15=\"\",\"\",'All Running Order'!BF15)","v":""},{"$f":"IF('All Running Order'!BG15=\"\",\"\",'All Running Order'!BG15)","v":""},{"$f":"IF('All Running Order'!BH15=\"\",\"\",'All Running Order'!BH15)","v":""},{"$f":"IF('All Running Order'!BI15=\"\",\"\",'All Running Order'!BI15)","v":""},{"$f":"IF('All Running Order'!BL15=\"\",\"\",'All Running Order'!BL15)","v":""},{"$f":"IF('All Running Order'!BM15=\"\",\"\",'All Running Order'!BM15)","v":""},{"$f":"IF('All Running Order'!BN15=\"\",\"\",'All Running Order'!BN15)","v":""},{"$f":"IF('All Running Order'!BO15=\"\",\"\",'All Running Order'!BO15)","v":""},{"$f":"IF('All Running Order'!BP15=\"\",\"\",'All Running Order'!BP15)","v":""},{"$f":"IF('All Running Order'!BQ15=\"\",\"\",'All Running Order'!BQ15)","v":""},{"$f":"IF('All Running Order'!BR15=\"\",\"\",'All Running Order'!BR15)","v":""},{"$f":"IF('All Running Order'!BS15=\"\",\"\",'All Running Order'!BS15)","v":""},{"$f":"IF('All Running Order'!BT15=\"\",\"\",'All Running Order'!BT15)","v":""},{"$f":"IF('All Running Order'!BU15=\"\",\"\",'All Running Order'!BU15)","v":""}]
[{"$f":"'All Running Order'!B16","v":11},{"$f":"IF('All Running Order'!C16=\"\",\"\",'All Running Order'!C16)","v":"Jamie Bartholomew"},{"$f":"IF('All Running Order'!D16=\"\",\"\",'All Running Order'!D16)","v":"Fiona Bartholomew"},{"$f":"IF('All Running Order'!E16=\"\",\"\",'All Running Order'!E16)","v":"Avonova"},{"$f":"IF('All Running Order'!F16=\"\",\"\",'All Running Order'!F16)","v":""},{"$f":"IF('All Running Order'!G16=\"\",\"\",'All Running Order'!G16)","v":"Live"},{"$f":"IF('All Running Order'!H16=\"\",\"\",'All Running Order'!H16)","v":"Yes"},null,{"$f":"IF('All Running Order'!Q16=\"\",\"\",'All Running Order'!Q16)","v":8},{"$f":"IF('All Running Order'!R16=\"\",\"\",'All Running Order'!R16)","v":0},{"$f":"IF('All Running Order'!S16=\"\",\"\",'All Running Order'!S16)","v":4},{"$f":"IF('All Running Order'!T16=\"\",\"\",'All Running Order'!T16)","v":1},{"$f":"IF('All Running Order'!U16=\"\",\"\",'All Running Order'!U16)","v":5},{"$f":"IF('All Running Order'!V16=\"\",\"\",'All Running Order'!V16)","v":2},{"$f":"IF('All Running Order'!W16=\"\",\"\",'All Running Order'!W16)","v":""},{"$f":"IF('All Running Order'!X16=\"\",\"\",'All Running Order'!X16)","v":""},{"$f":"IF('All Running Order'!Y16=\"\",\"\",'All Running Order'!Y16)","v":""},{"$f":"IF('All Running Order'!Z16=\"\",\"\",'All Running Order'!Z16)","v":""},{"$f":"IF('All Running Order'!AB16=\"\",\"\",'All Running Order'!AB16)","v":0},{"$f":"IF('All Running Order'!AC16=\"\",\"\",'All Running Order'!AC16)","v":0},{"$f":"IF('All Running Order'!AD16=\"\",\"\",'All Running Order'!AD16)","v":2},{"$f":"IF('All Running Order'!AE16=\"\",\"\",'All Running Order'!AE16)","v":2},{"$f":"IF('All Running Order'!AF16=\"\",\"\",'All Running Order'!AF16)","v":5},{"$f":"IF('All Running Order'!AG16=\"\",\"\",'All Running Order'!AG16)","v":11},{"$f":"IF('All Running Order'!AH16=\"\",\"\",'All Running Order'!AH16)","v":""},{"$f":"IF('All Running Order'!AI16=\"\",\"\",'All Running Order'!AI16)","v":""},{"$f":"IF('All Running Order'!AJ16=\"\",\"\",'All Running Order'!AJ16)","v":""},{"$f":"IF('All Running Order'!AK16=\"\",\"\",'All Running Order'!AK16)","v":""},{"$f":"IF('All Running Order'!AN16=\"\",\"\",'All Running Order'!AN16)","v":0},{"$f":"IF('All Running Order'!AO16=\"\",\"\",'All Running Order'!AO16)","v":8},{"$f":"IF('All Running Order'!AP16=\"\",\"\",'All Running Order'!AP16)","v":2},{"$f":"IF('All Running Order'!AQ16=\"\",\"\",'All Running Order'!AQ16)","v":10},{"$f":"IF('All Running Order'!AR16=\"\",\"\",'All Running Order'!AR16)","v":5},{"$f":"IF('All Running Order'!AS16=\"\",\"\",'All Running Order'!AS16)","v":11},{"$f":"IF('All Running Order'!AT16=\"\",\"\",'All Running Order'!AT16)","v":""},{"$f":"IF('All Running Order'!AU16=\"\",\"\",'All Running Order'!AU16)","v":""},{"$f":"IF('All Running Order'!AV16=\"\",\"\",'All Running Order'!AV16)","v":""},{"$f":"IF('All Running Order'!AW16=\"\",\"\",'All Running Order'!AW16)","v":""},{"$f":"IF('All Running Order'!AZ16=\"\",\"\",'All Running Order'!AZ16)","v":0},{"$f":"IF('All Running Order'!BA16=\"\",\"\",'All Running Order'!BA16)","v":2},{"$f":"IF('All Running Order'!BB16=\"\",\"\",'All Running Order'!BB16)","v":2},{"$f":"IF('All Running Order'!BC16=\"\",\"\",'All Running Order'!BC16)","v":4},{"$f":"IF('All Running Order'!BD16=\"\",\"\",'All Running Order'!BD16)","v":2},{"$f":"IF('All Running Order'!BE16=\"\",\"\",'All Running Order'!BE16)","v":4},{"$f":"IF('All Running Order'!BF16=\"\",\"\",'All Running Order'!BF16)","v":""},{"$f":"IF('All Running Order'!BG16=\"\",\"\",'All Running Order'!BG16)","v":""},{"$f":"IF('All Running Order'!BH16=\"\",\"\",'All Running Order'!BH16)","v":""},{"$f":"IF('All Running Order'!BI16=\"\",\"\",'All Running Order'!BI16)","v":""},{"$f":"IF('All Running Order'!BL16=\"\",\"\",'All Running Order'!BL16)","v":""},{"$f":"IF('All Running Order'!BM16=\"\",\"\",'All Running Order'!BM16)","v":""},{"$f":"IF('All Running Order'!BN16=\"\",\"\",'All Running Order'!BN16)","v":""},{"$f":"IF('All Running Order'!BO16=\"\",\"\",'All Running Order'!BO16)","v":""},{"$f":"IF('All Running Order'!BP16=\"\",\"\",'All Running Order'!BP16)","v":""},{"$f":"IF('All Running Order'!BQ16=\"\",\"\",'All Running Order'!BQ16)","v":""},{"$f":"IF('All Running Order'!BR16=\"\",\"\",'All Running Order'!BR16)","v":""},{"$f":"IF('All Running Order'!BS16=\"\",\"\",'All Running Order'!BS16)","v":""},{"$f":"IF('All Running Order'!BT16=\"\",\"\",'All Running Order'!BT16)","v":""},{"$f":"IF('All Running Order'!BU16=\"\",\"\",'All Running Order'!BU16)","v":""}]
[{"$f":"'All Running Order'!B17","v":12},{"$f":"IF('All Running Order'!#REF!=\"\",\"\",'All Running Order'!#REF!)","v":{"$error":"#REF!"}},{"$f":"IF('All Running Order'!#REF!=\"\",\"\",'All Running Order'!#REF!)","v":{"$error":"#REF!"}},{"$f":"IF('All Running Order'!#REF!=\"\",\"\",'All Running Order'!#REF!)","v":{"$error":"#REF!"}},{"$f":"IF('All Running Order'!#REF!=\"\",\"\",'All Running Order'!#REF!)","v":{"$error":"#REF!"}},{"$f":"IF('All Running Order'!#REF!=\"\",\"\",'All Running Order'!#REF!)","v":{"$error":"#REF!"}},{"$f":"IF('All Running Order'!#REF!=\"\",\"\",'All Running Order'!#REF!)","v":{"$error":"#REF!"}},null,{"$f":"IF('All Running Order'!Q17=\"\",\"\",'All Running Order'!Q17)","v":0},{"$f":"IF('All Running Order'!R17=\"\",\"\",'All Running Order'!R17)","v":2},{"$f":"IF('All Running Order'!S17=\"\",\"\",'All Running Order'!S17)","v":0},{"$f":"IF('All Running Order'!T17=\"\",\"\",'All Running Order'!T17)","v":0},{"$f":"IF('All Running Order'!U17=\"\",\"\",'All Running Order'!U17)","v":5},{"$f":"IF('All Running Order'!V17=\"\",\"\",'All Running Order'!V17)","v":2},{"$f":"IF('All Running Order'!W17=\"\",\"\",'All Running Order'!W17)","v":""},{"$f":"IF('All Running Order'!X17=\"\",\"\",'All Running Order'!X17)","v":""},{"$f":"IF('All Running Order'!Y17=\"\",\"\",'All Running Order'!Y17)","v":""},{"$f":"IF('All Running Order'!Z17=\"\",\"\",'All Running Order'!Z17)","v":""},{"$f":"IF('All Running Order'!AB17=\"\",\"\",'All Running Order'!AB17)","v":12},{"$f":"IF('All Running Order'!AC17=\"\",\"\",'All Running Order'!AC17)","v":2},{"$f":"IF('All Running Order'!AD17=\"\",\"\",'All Running Order'!AD17)","v":0},{"$f":"IF('All Running Order'!AE17=\"\",\"\",'All Running Order'!AE17)","v":2},{"$f":"IF('All Running Order'!AF17=\"\",\"\",'All Running Order'!AF17)","v":2},{"$f":"IF('All Running Order'!AG17=\"\",\"\",'All Running Order'!AG17)","v":2},{"$f":"IF('All Running Order'!AH17=\"\",\"\",'All Running Order'!AH17)","v":""},{"$f":"IF('All Running Order'!AI17=\"\",\"\",'All Running Order'!AI17)","v":""},{"$f":"IF('All Running Order'!AJ17=\"\",\"\",'All Running Order'!AJ17)","v":""},{"$f":"IF('All Running Order'!AK17=\"\",\"\",'All Running Order'!AK17)","v":""},{"$f":"IF('All Running Order'!AN17=\"\",\"\",'All Running Order'!AN17)","v":3},{"$f":"IF('All Running Order'!AO17=\"\",\"\",'All Running Order'!AO17)","v":2},{"$f":"IF('All Running Order'!AP17=\"\",\"\",'All Running Order'!AP17)","v":0},{"$f":"IF('All Running Order'!AQ17=\"\",\"\",'All Running Order'!AQ17)","v":3},{"$f":"IF('All Running Order'!AR17=\"\",\"\",'All Running Order'!AR17)","v":2},{"$f":"IF('All Running Order'!AS17=\"\",\"\",'All Running Order'!AS17)","v":0},{"$f":"IF('All Running Order'!AT17=\"\",\"\",'All Running Order'!AT17)","v":""},{"$f":"IF('All Running Order'!AU17=\"\",\"\",'All Running Order'!AU17)","v":""},{"$f":"IF('All Running Order'!AV17=\"\",\"\",'All Running Order'!AV17)","v":""},{"$f":"IF('All Running Order'!AW17=\"\",\"\",'All Running Order'!AW17)","v":""},{"$f":"IF('All Running Order'!AZ17=\"\",\"\",'All Running Order'!AZ17)","v":2},{"$f":"IF('All Running Order'!BA17=\"\",\"\",'All Running Order'!BA17)","v":2},{"$f":"IF('All Running Order'!BB17=\"\",\"\",'All Running Order'!BB17)","v":1},{"$f":"IF('All Running Order'!BC17=\"\",\"\",'All Running Order'!BC17)","v":0},{"$f":"IF('All Running Order'!BD17=\"\",\"\",'All Running Order'!BD17)","v":2},{"$f":"IF('All Running Order'!BE17=\"\",\"\",'All Running Order'!BE17)","v":5},{"$f":"IF('All Running Order'!BF17=\"\",\"\",'All Running Order'!BF17)","v":""},{"$f":"IF('All Running Order'!BG17=\"\",\"\",'All Running Order'!BG17)","v":""},{"$f":"IF('All Running Order'!BH17=\"\",\"\",'All Running Order'!BH17)","v":""},{"$f":"IF('All Running Order'!BI17=\"\",\"\",'All Running Order'!BI17)","v":""},{"$f":"IF('All Running Order'!BL17=\"\",\"\",'All Running Order'!BL17)","v":""},{"$f":"IF('All Running Order'!BM17=\"\",\"\",'All Running Order'!BM17)","v":""},{"$f":"IF('All Running Order'!BN17=\"\",\"\",'All Running Order'!BN17)","v":""},{"$f":"IF('All Running Order'!BO17=\"\",\"\",'All Running Order'!BO17)","v":""},{"$f":"IF('All Running Order'!BP17=\"\",\"\",'All Running Order'!BP17)","v":""},{"$f":"IF('All Running Order'!BQ17=\"\",\"\",'All Running Order'!BQ17)","v":""},{"$f":"IF('All Running Order'!BR17=\"\",\"\",'All Running Order'!BR17)","v":""},{"$f":"IF('All Running Order'!BS17=\"\",\"\",'All Running Order'!BS17)","v":""},{"$f":"IF('All Running Order'!BT17=\"\",\"\",'All Running Order'!BT17)","v":""},{"$f":"IF('All Running Order'!BU17=\"\",\"\",'All Running Order'!BU17)","v":""}]
[{"$f":"'All Running Order'!B18","v":14},{"$f":"IF('All Running Order'!C18=\"\",\"\",'All Running Order'!C18)","v":""},{"$f":"IF('All Running Order'!D18=\"\",\"\",'All Running Order'!D18)","v":""},{"$f":"IF('All Running Order'!E18=\"\",\"\",'All Running Order'!E18)","v":""},{"$f":"IF('All Running Order'!F18=\"\",\"\",'All Running Order'!F18)","v":""},{"$f":"IF('All Running Order'!G18=\"\",\"\",'All Running Order'!G18)","v":""},{"$f":"IF('All Running Order'!H18=\"\",\"\",'All Running Order'!H18)","v":""},null,{"$f":"IF('All Running Order'!Q18=\"\",\"\",'All Running Order'!Q18)","v":""},{"$f":"IF('All Running Order'!R18=\"\",\"\",'All Running Order'!R18)","v":""},{"$f":"IF('All Running Order'!S18=\"\",\"\",'All Running Order'!S18)","v":""},{"$f":"IF('All Running Order'!T18=\"\",\"\",'All Running Order'!T18)","v":""},{"$f":"IF('All Running Order'!U18=\"\",\"\",'All Running Order'!U18)","v":""},{"$f":"IF('All Running Order'!V18=\"\",\"\",'All Running Order'!V18)","v":""},{"$f":"IF('All Running Order'!W18=\"\",\"\",'All Running Order'!W18)","v":""},{"$f":"IF('All Running Order'!X18=\"\",\"\",'All Running Order'!X18)","v":""},{"$f":"IF('All Running Order'!Y18=\"\",\"\",'All Running Order'!Y18)","v":""},{"$f":"IF('All Running Order'!Z18=\"\",\"\",'All Running Order'!Z18)","v":""},{"$f":"IF('All Running Order'!AB18=\"\",\"\",'All Running Order'!AB18)","v":""},{"$f":"IF('All Running Order'!AC18=\"\",\"\",'All Running Order'!AC18)","v":""},{"$f":"IF('All Running Order'!AD18=\"\",\"\",'All Running Order'!AD18)","v":""},{"$f":"IF('All Running Order'!AE18=\"\",\"\",'All Running Order'!AE18)","v":""},{"$f":"IF('All Running Order'!AF18=\"\",\"\",'All Running Order'!AF18)","v":""},{"$f":"IF('All Running Order'!AG18=\"\",\"\",'All Running Order'!AG18)","v":""},{"$f":"IF('All Running Order'!AH18=\"\",\"\",'All Running Order'!AH18)","v":""},{"$f":"IF('All Running Order'!AI18=\"\",\"\",'All Running Order'!AI18)","v":""},{"$f":"IF('All Running Order'!AJ18=\"\",\"\",'All Running Order'!AJ18)","v":""},{"$f":"IF('All Running Order'!AK18=\"\",\"\",'All Running Order'!AK18)","v":""},{"$f":"IF('All Running Order'!AN18=\"\",\"\",'All Running Order'!AN18)","v":""},{"$f":"IF('All Running Order'!AO18=\"\",\"\",'All Running Order'!AO18)","v":""},{"$f":"IF('All Running Order'!AP18=\"\",\"\",'All Running Order'!AP18)","v":""},{"$f":"IF('All Running Order'!AQ18=\"\",\"\",'All Running Order'!AQ18)","v":""},{"$f":"IF('All Running Order'!AR18=\"\",\"\",'All Running Order'!AR18)","v":""},{"$f":"IF('All Running Order'!AS18=\"\",\"\",'All Running Order'!AS18)","v":""},{"$f":"IF('All Running Order'!AT18=\"\",\"\",'All Running Order'!AT18)","v":""},{"$f":"IF('All Running Order'!AU18=\"\",\"\",'All Running Order'!AU18)","v":""},{"$f":"IF('All Running Order'!AV18=\"\",\"\",'All Running Order'!AV18)","v":""},{"$f":"IF('All Running Order'!AW18=\"\",\"\",'All Running Order'!AW18)","v":""},{"$f":"IF('All Running Order'!AZ18=\"\",\"\",'All Running Order'!AZ18)","v":""},{"$f":"IF('All Running Order'!BA18=\"\",\"\",'All Running Order'!BA18)","v":""},{"$f":"IF('All Running Order'!BB18=\"\",\"\",'All Running Order'!BB18)","v":""},{"$f":"IF('All Running Order'!BC18=\"\",\"\",'All Running Order'!BC18)","v":""},{"$f":"IF('All Running Order'!BD18=\"\",\"\",'All Running Order'!BD18)","v":""},{"$f":"IF('All Running Order'!BE18=\"\",\"\",'All Running Order'!BE18)","v":""},{"$f":"IF('All Running Order'!BF18=\"\",\"\",'All Running Order'!BF18)","v":""},{"$f":"IF('All Running Order'!BG18=\"\",\"\",'All Running Order'!BG18)","v":""},{"$f":"IF('All Running Order'!BH18=\"\",\"\",'All Running Order'!BH18)","v":""},{"$f":"IF('All Running Order'!BI18=\"\",\"\",'All Running Order'!BI18)","v":""},{"$f":"IF('All Running Order'!BL18=\"\",\"\",'All Running Order'!BL18)","v":""},{"$f":"IF('All Running Order'!BM18=\"\",\"\",'All Running Order'!BM18)","v":""},{"$f":"IF('All Running Order'!BN18=\"\",\"\",'All Running Order'!BN18)","v":""},{"$f":"IF('All Running Order'!BO18=\"\",\"\",'All Running Order'!BO18)","v":""},{"$f":"IF('All Running Order'!BP18=\"\",\"\",'All Running Order'!BP18)","v":""},{"$f":"IF('All Running Order'!BQ18=\"\",\"\",'All Running Order'!BQ18)","v":""},{"$f":"IF('All Running Order'!BR18=\"\",\"\",'All Running Order'!BR18)","v":""},{"$f":"IF('All Running Order'!BS18=\"\",\"\",'All Running Order'!BS18)","v":""},{"$f":"IF('All Running Order'!BT18=\"\",\"\",'All Running Order'!BT18)","v":""},{"$f":"IF('All Running Order'!BU18=\"\",\"\",'All Running Order'!BU18)","v":""}]
[{"$f":"'All Running Order'!B19","v":15},{"$f":"IF('All Running Order'!C19=\"\",\"\",'All Running Order'!C19)","v":""},{"$f":"IF('All Running Order'!D19=\"\",\"\",'All Running Order'!D19)","v":""},{"$f":"IF('All Running Order'!E19=\"\",\"\",'All Running Order'!E19)","v":""},{"$f":"IF('All Running Order'!F19=\"\",\"\",'All Running Order'!F19)","v":""},{"$f":"IF('All Running Order'!G19=\"\",\"\",'All Running Order'!G19)","v":""},{"$f":"IF('All Running Order'!H19=\"\",\"\",'All Running Order'!H19)","v":""},null,{"$f":"IF('All Running Order'!Q19=\"\",\"\",'All Running Order'!Q19)","v":""},{"$f":"IF('All Running Order'!R19=\"\",\"\",'All Running Order'!R19)","v":""},{"$f":"IF('All Running Order'!S19=\"\",\"\",'All Running Order'!S19)","v":""},{"$f":"IF('All Running Order'!T19=\"\",\"\",'All Running Order'!T19)","v":""},{"$f":"IF('All Running Order'!U19=\"\",\"\",'All Running Order'!U19)","v":""},{"$f":"IF('All Running Order'!V19=\"\",\"\",'All Running Order'!V19)","v":""},{"$f":"IF('All Running Order'!W19=\"\",\"\",'All Running Order'!W19)","v":""},{"$f":"IF('All Running Order'!X19=\"\",\"\",'All Running Order'!X19)","v":""},{"$f":"IF('All Running Order'!Y19=\"\",\"\",'All Running Order'!Y19)","v":""},{"$f":"IF('All Running Order'!Z19=\"\",\"\",'All Running Order'!Z19)","v":""},{"$f":"IF('All Running Order'!AB19=\"\",\"\",'All Running Order'!AB19)","v":""},{"$f":"IF('All Running Order'!AC19=\"\",\"\",'All Running Order'!AC19)","v":""},{"$f":"IF('All Running Order'!AD19=\"\",\"\",'All Running Order'!AD19)","v":""},{"$f":"IF('All Running Order'!AE19=\"\",\"\",'All Running Order'!AE19)","v":""},{"$f":"IF('All Running Order'!AF19=\"\",\"\",'All Running Order'!AF19)","v":""},{"$f":"IF('All Running Order'!AG19=\"\",\"\",'All Running Order'!AG19)","v":""},{"$f":"IF('All Running Order'!AH19=\"\",\"\",'All Running Order'!AH19)","v":""},{"$f":"IF('All Running Order'!AI19=\"\",\"\",'All Running Order'!AI19)","v":""},{"$f":"IF('All Running Order'!AJ19=\"\",\"\",'All Running Order'!AJ19)","v":""},{"$f":"IF('All Running Order'!AK19=\"\",\"\",'All Running Order'!AK19)","v":""},{"$f":"IF('All Running Order'!AN19=\"\",\"\",'All Running Order'!AN19)","v":""},{"$f":"IF('All Running Order'!AO19=\"\",\"\",'All Running Order'!AO19)","v":""},{"$f":"IF('All Running Order'!AP19=\"\",\"\",'All Running Order'!AP19)","v":""},{"$f":"IF('All Running Order'!AQ19=\"\",\"\",'All Running Order'!AQ19)","v":""},{"$f":"IF('All Running Order'!AR19=\"\",\"\",'All Running Order'!AR19)","v":""},{"$f":"IF('All Running Order'!AS19=\"\",\"\",'All Running Order'!AS19)","v":""},{"$f":"IF('All Running Order'!AT19=\"\",\"\",'All Running Order'!AT19)","v":""},{"$f":"IF('All Running Order'!AU19=\"\",\"\",'All Running Order'!AU19)","v":""},{"$f":"IF('All Running Order'!AV19=\"\",\"\",'All Running Order'!AV19)","v":""},{"$f":"IF('All Running Order'!AW19=\"\",\"\",'All Running Order'!AW19)","v":""},{"$f":"IF('All Running Order'!AZ19=\"\",\"\",'All Running Order'!AZ19)","v":""},{"$f":"IF('All Running Order'!BA19=\"\",\"\",'All Running Order'!BA19)","v":""},{"$f":"IF('All Running Order'!BB19=\"\",\"\",'All Running Order'!BB19)","v":""},{"$f":"IF('All Running Order'!BC19=\"\",\"\",'All Running Order'!BC19)","v":""},{"$f":"IF('All Running Order'!BD19=\"\",\"\",'All Running Order'!BD19)","v":""},{"$f":"IF('All Running Order'!BE19=\"\",\"\",'All Running Order'!BE19)","v":""},{"$f":"IF('All Running Order'!BF19=\"\",\"\",'All Running Order'!BF19)","v":""},{"$f":"IF('All Running Order'!BG19=\"\",\"\",'All Running Order'!BG19)","v":""},{"$f":"IF('All Running Order'!BH19=\"\",\"\",'All Running Order'!BH19)","v":""},{"$f":"IF('All Running Order'!BI19=\"\",\"\",'All Running Order'!BI19)","v":""},{"$f":"IF('All Running Order'!BL19=\"\",\"\",'All Running Order'!BL19)","v":""},{"$f":"IF('All Running Order'!BM19=\"\",\"\",'All Running Order'!BM19)","v":""},{"$f":"IF('All Running Order'!BN19=\"\",\"\",'All Running Order'!BN19)","v":""},{"$f":"IF('All Running Order'!BO19=\"\",\"\",'All Running Order'!BO19)","v":""},{"$f":"IF('All Running Order'!BP19=\"\",\"\",'All Running Order'!BP19)","v":""},{"$f":"IF('All Running Order'!BQ19=\"\",\"\",'All Running Order'!BQ19)","v":""},{"$f":"IF('All Running Order'!BR19=\"\",\"\",'All Running Order'!BR19)","v":""},{"$f":"IF('All Running Order'!BS19=\"\",\"\",'All Running Order'!BS19)","v":""},{"$f":"IF('All Running Order'!BT19=\"\",\"\",'All Running Order'!BT19)","v":""},{"$f":"IF('All Running Order'!BU19=\"\",\"\",'All Running Order'!BU19)","v":""}]
[{"$f":"'All Running Order'!B20","v":16},{"$f":"IF('All Running Order'!C20=\"\",\"\",'All Running Order'!C20)","v":""},{"$f":"IF('All Running Order'!D20=\"\",\"\",'All Running Order'!D20)","v":""},{"$f":"IF('All Running Order'!E20=\"\",\"\",'All Running Order'!E20)","v":""},{"$f":"IF('All Running Order'!F20=\"\",\"\",'All Running Order'!F20)","v":""},{"$f":"IF('All Running Order'!G20=\"\",\"\",'All Running Order'!G20)","v":""},{"$f":"IF('All Running Order'!H20=\"\",\"\",'All Running Order'!H20)","v":""},null,{"$f":"IF('All Running Order'!Q20=\"\",\"\",'All Running Order'!Q20)","v":""},{"$f":"IF('All Running Order'!R20=\"\",\"\",'All Running Order'!R20)","v":""},{"$f":"IF('All Running Order'!S20=\"\",\"\",'All Running Order'!S20)","v":""},{"$f":"IF('All Running Order'!T20=\"\",\"\",'All Running Order'!T20)","v":""},{"$f":"IF('All Running Order'!U20=\"\",\"\",'All Running Order'!U20)","v":""},{"$f":"IF('All Running Order'!V20=\"\",\"\",'All Running Order'!V20)","v":""},{"$f":"IF('All Running Order'!W20=\"\",\"\",'All Running Order'!W20)","v":""},{"$f":"IF('All Running Order'!X20=\"\",\"\",'All Running Order'!X20)","v":""},{"$f":"IF('All Running Order'!Y20=\"\",\"\",'All Running Order'!Y20)","v":""},{"$f":"IF('All Running Order'!Z20=\"\",\"\",'All Running Order'!Z20)","v":""},{"$f":"IF('All Running Order'!AB20=\"\",\"\",'All Running Order'!AB20)","v":""},{"$f":"IF('All Running Order'!AC20=\"\",\"\",'All Running Order'!AC20)","v":""},{"$f":"IF('All Running Order'!AD20=\"\",\"\",'All Running Order'!AD20)","v":""},{"$f":"IF('All Running Order'!AE20=\"\",\"\",'All Running Order'!AE20)","v":""},{"$f":"IF('All Running Order'!AF20=\"\",\"\",'All Running Order'!AF20)","v":""},{"$f":"IF('All Running Order'!AG20=\"\",\"\",'All Running Order'!AG20)","v":""},{"$f":"IF('All Running Order'!AH20=\"\",\"\",'All Running Order'!AH20)","v":""},{"$f":"IF('All Running Order'!AI20=\"\",\"\",'All Running Order'!AI20)","v":""},{"$f":"IF('All Running Order'!AJ20=\"\",\"\",'All Running Order'!AJ20)","v":""},{"$f":"IF('All Running Order'!AK20=\"\",\"\",'All Running Order'!AK20)","v":""},{"$f":"IF('All Running Order'!AN20=\"\",\"\",'All Running Order'!AN20)","v":""},{"$f":"IF('All Running Order'!AO20=\"\",\"\",'All Running Order'!AO20)","v":""},{"$f":"IF('All Running Order'!AP20=\"\",\"\",'All Running Order'!AP20)","v":""},{"$f":"IF('All Running Order'!AQ20=\"\",\"\",'All Running Order'!AQ20)","v":""},{"$f":"IF('All Running Order'!AR20=\"\",\"\",'All Running Order'!AR20)","v":""},{"$f":"IF('All Running Order'!AS20=\"\",\"\",'All Running Order'!AS20)","v":""},{"$f":"IF('All Running Order'!AT20=\"\",\"\",'All Running Order'!AT20)","v":""},{"$f":"IF('All Running Order'!AU20=\"\",\"\",'All Running Order'!AU20)","v":""},{"$f":"IF('All Running Order'!AV20=\"\",\"\",'All Running Order'!AV20)","v":""},{"$f":"IF('All Running Order'!AW20=\"\",\"\",'All Running Order'!AW20)","v":""},{"$f":"IF('All Running Order'!AZ20=\"\",\"\",'All Running Order'!AZ20)","v":""},{"$f":"IF('All Running Order'!BA20=\"\",\"\",'All Running Order'!BA20)","v":""},{"$f":"IF('All Running Order'!BB20=\"\",\"\",'All Running Order'!BB20)","v":""},{"$f":"IF('All Running Order'!BC20=\"\",\"\",'All Running Order'!BC20)","v":""},{"$f":"IF('All Running Order'!BD20=\"\",\"\",'All Running Order'!BD20)","v":""},{"$f":"IF('All Running Order'!BE20=\"\",\"\",'All Running Order'!BE20)","v":""},{"$f":"IF('All Running Order'!BF20=\"\",\"\",'All Running Order'!BF20)","v":""},{"$f":"IF('All Running Order'!BG20=\"\",\"\",'All Running Order'!BG20)","v":""},{"$f":"IF('All Running Order'!BH20=\"\",\"\",'All Running Order'!BH20)","v":""},{"$f":"IF('All Running Order'!BI20=\"\",\"\",'All Running Order'!BI20)","v":""},{"$f":"IF('All Running Order'!BL20=\"\",\"\",'All Running Order'!BL20)","v":""},{"$f":"IF('All Running Order'!BM20=\"\",\"\",'All Running Order'!BM20)","v":""},{"$f":"IF('All Running Order'!BN20=\"\",\"\",'All Running Order'!BN20)","v":""},{"$f":"IF('All Running Order'!BO20=\"\",\"\",'All Running Order'!BO20)","v":""},{"$f":"IF('All Running Order'!BP20=\"\",\"\",'All Running Order'!BP20)","v":""},{"$f":"IF('All Running Order'!BQ20=\"\",\"\",'All Running Order'!BQ20)","v":""},{"$f":"IF('All Running Order'!BR20=\"\",\"\",'All Running Order'!BR20)","v":""},{"$f":"IF('All Running Order'!BS20=\"\",\"\",'All Running Order'!BS20)","v":""},{"$f":"IF('All Running Order'!BT20=\"\",\"\",'All Running Order'!BT20)","v":""},{"$f":"IF('All Running Order'!BU20=\"\",\"\",'All Running Order'!BU20)","v":""}]
[{"$f":"'All Running Order'!B21","v":17},{"$f":"IF('All Running Order'!C21=\"\",\"\",'All Running Order'!C21)","v":""},{"$f":"IF('All Running Order'!D21=\"\",\"\",'All Running Order'!D21)","v":""},{"$f":"IF('All Running Order'!E21=\"\",\"\",'All Running Order'!E21)","v":""},{"$f":"IF('All Running Order'!F21=\"\",\"\",'All Running Order'!F21)","v":""},{"$f":"IF('All Running Order'!G21=\"\",\"\",'All Running Order'!G21)","v":""},{"$f":"IF('All Running Order'!H21=\"\",\"\",'All Running Order'!H21)","v":""},null,{"$f":"IF('All Running Order'!Q21=\"\",\"\",'All Running Order'!Q21)","v":""},{"$f":"IF('All Running Order'!R21=\"\",\"\",'All Running Order'!R21)","v":""},{"$f":"IF('All Running Order'!S21=\"\",\"\",'All Running Order'!S21)","v":""},{"$f":"IF('All Running Order'!T21=\"\",\"\",'All Running Order'!T21)","v":""},{"$f":"IF('All Running Order'!U21=\"\",\"\",'All Running Order'!U21)","v":""},{"$f":"IF('All Running Order'!V21=\"\",\"\",'All Running Order'!V21)","v":""},{"$f":"IF('All Running Order'!W21=\"\",\"\",'All Running Order'!W21)","v":""},{"$f":"IF('All Running Order'!X21=\"\",\"\",'All Running Order'!X21)","v":""},{"$f":"IF('All Running Order'!Y21=\"\",\"\",'All Running Order'!Y21)","v":""},{"$f":"IF('All Running Order'!Z21=\"\",\"\",'All Running Order'!Z21)","v":""},{"$f":"IF('All Running Order'!AB21=\"\",\"\",'All Running Order'!AB21)","v":""},{"$f":"IF('All Running Order'!AC21=\"\",\"\",'All Running Order'!AC21)","v":""},{"$f":"IF('All Running Order'!AD21=\"\",\"\",'All Running Order'!AD21)","v":""},{"$f":"IF('All Running Order'!AE21=\"\",\"\",'All Running Order'!AE21)","v":""},{"$f":"IF('All Running Order'!AF21=\"\",\"\",'All Running Order'!AF21)","v":""},{"$f":"IF('All Running Order'!AG21=\"\",\"\",'All Running Order'!AG21)","v":""},{"$f":"IF('All Running Order'!AH21=\"\",\"\",'All Running Order'!AH21)","v":""},{"$f":"IF('All Running Order'!AI21=\"\",\"\",'All Running Order'!AI21)","v":""},{"$f":"IF('All Running Order'!AJ21=\"\",\"\",'All Running Order'!AJ21)","v":""},{"$f":"IF('All Running Order'!AK21=\"\",\"\",'All Running Order'!AK21)","v":""},{"$f":"IF('All Running Order'!AN21=\"\",\"\",'All Running Order'!AN21)","v":""},{"$f":"IF('All Running Order'!AO21=\"\",\"\",'All Running Order'!AO21)","v":""},{"$f":"IF('All Running Order'!AP21=\"\",\"\",'All Running Order'!AP21)","v":""},{"$f":"IF('All Running Order'!AQ21=\"\",\"\",'All Running Order'!AQ21)","v":""},{"$f":"IF('All Running Order'!AR21=\"\",\"\",'All Running Order'!AR21)","v":""},{"$f":"IF('All Running Order'!AS21=\"\",\"\",'All Running Order'!AS21)","v":""},{"$f":"IF('All Running Order'!AT21=\"\",\"\",'All Running Order'!AT21)","v":""},{"$f":"IF('All Running Order'!AU21=\"\",\"\",'All Running Order'!AU21)","v":""},{"$f":"IF('All Running Order'!AV21=\"\",\"\",'All Running Order'!AV21)","v":""},{"$f":"IF('All Running Order'!AW21=\"\",\"\",'All Running Order'!AW21)","v":""},{"$f":"IF('All Running Order'!AZ21=\"\",\"\",'All Running Order'!AZ21)","v":""},{"$f":"IF('All Running Order'!BA21=\"\",\"\",'All Running Order'!BA21)","v":""},{"$f":"IF('All Running Order'!BB21=\"\",\"\",'All Running Order'!BB21)","v":""},{"$f":"IF('All Running Order'!BC21=\"\",\"\",'All Running Order'!BC21)","v":""},{"$f":"IF('All Running Order'!BD21=\"\",\"\",'All Running Order'!BD21)","v":""},{"$f":"IF('All Running Order'!BE21=\"\",\"\",'All Running Order'!BE21)","v":""},{"$f":"IF('All Running Order'!BF21=\"\",\"\",'All Running Order'!BF21)","v":""},{"$f":"IF('All Running Order'!BG21=\"\",\"\",'All Running Order'!BG21)","v":""},{"$f":"IF('All Running Order'!BH21=\"\",\"\",'All Running Order'!BH21)","v":""},{"$f":"IF('All Running Order'!BI21=\"\",\"\",'All Running Order'!BI21)","v":""},{"$f":"IF('All Running Order'!BL21=\"\",\"\",'All Running Order'!BL21)","v":""},{"$f":"IF('All Running Order'!BM21=\"\",\"\",'All Running Order'!BM21)","v":""},{"$f":"IF('All Running Order'!BN21=\"\",\"\",'All Running Order'!BN21)","v":""},{"$f":"IF('All Running Order'!BO21=\"\",\"\",'All Running Order'!BO21)","v":""},{"$f":"IF('All Running Order'!BP21=\"\",\"\",'All Running Order'!BP21)","v":""},{"$f":"IF('All Running Order'!BQ21=\"\",\"\",'All Running Order'!BQ21)","v":""},{"$f":"IF('All Running Order'!BR21=\"\",\"\",'All Running Order'!BR21)","v":""},{"$f":"IF('All Running Order'!BS21=\"\",\"\",'All Running Order'!BS21)","v":""},{"$f":"IF('All Running Order'!BT21=\"\",\"\",'All Running Order'!BT21)","v":""},{"$f":"IF('All Running Order'!BU21=\"\",\"\",'All Running Order'!BU21)","v":""}]
[{"$f":"'All Running Order'!B22","v":18},{"$f":"IF('All Running Order'!C22=\"\",\"\",'All Running Order'!C22)","v":""},{"$f":"IF('All Running Order'!D22=\"\",\"\",'All Running Order'!D22)","v":""},{"$f":"IF('All Running Order'!E22=\"\",\"\",'All Running Order'!E22)","v":""},{"$f":"IF('All Running Order'!F22=\"\",\"\",'All Running Order'!F22)","v":""},{"$f":"IF('All Running Order'!G22=\"\",\"\",'All Running Order'!G22)","v":""},{"$f":"IF('All Running Order'!H22=\"\",\"\",'All Running Order'!H22)","v":""},null,{"$f":"IF('All Running Order'!Q22=\"\",\"\",'All Running Order'!Q22)","v":""},{"$f":"IF('All Running Order'!R22=\"\",\"\",'All Running Order'!R22)","v":""},{"$f":"IF('All Running Order'!S22=\"\",\"\",'All Running Order'!S22)","v":""},{"$f":"IF('All Running Order'!T22=\"\",\"\",'All Running Order'!T22)","v":""},{"$f":"IF('All Running Order'!U22=\"\",\"\",'All Running Order'!U22)","v":""},{"$f":"IF('All Running Order'!V22=\"\",\"\",'All Running Order'!V22)","v":""},{"$f":"IF('All Running Order'!W22=\"\",\"\",'All Running Order'!W22)","v":""},{"$f":"IF('All Running Order'!X22=\"\",\"\",'All Running Order'!X22)","v":""},{"$f":"IF('All Running Order'!Y22=\"\",\"\",'All Running Order'!Y22)","v":""},{"$f":"IF('All Running Order'!Z22=\"\",\"\",'All Running Order'!Z22)","v":""},{"$f":"IF('All Running Order'!AB22=\"\",\"\",'All Running Order'!AB22)","v":""},{"$f":"IF('All Running Order'!AC22=\"\",\"\",'All Running Order'!AC22)","v":""},{"$f":"IF('All Running Order'!AD22=\"\",\"\",'All Running Order'!AD22)","v":""},{"$f":"IF('All Running Order'!AE22=\"\",\"\",'All Running Order'!AE22)","v":""},{"$f":"IF('All Running Order'!AF22=\"\",\"\",'All Running Order'!AF22)","v":""},{"$f":"IF('All Running Order'!AG22=\"\",\"\",'All Running Order'!AG22)","v":""},{"$f":"IF('All Running Order'!AH22=\"\",\"\",'All Running Order'!AH22)","v":""},{"$f":"IF('All Running Order'!AI22=\"\",\"\",'All Running Order'!AI22)","v":""},{"$f":"IF('All Running Order'!AJ22=\"\",\"\",'All Running Order'!AJ22)","v":""},{"$f":"IF('All Running Order'!AK22=\"\",\"\",'All Running Order'!AK22)","v":""},{"$f":"IF('All Running Order'!AN22=\"\",\"\",'All Running Order'!AN22)","v":""},{"$f":"IF('All Running Order'!AO22=\"\",\"\",'All Running Order'!AO22)","v":""},{"$f":"IF('All Running Order'!AP22=\"\",\"\",'All Running Order'!AP22)","v":""},{"$f":"IF('All Running Order'!AQ22=\"\",\"\",'All Running Order'!AQ22)","v":""},{"$f":"IF('All Running Order'!AR22=\"\",\"\",'All Running Order'!AR22)","v":""},{"$f":"IF('All Running Order'!AS22=\"\",\"\",'All Running Order'!AS22)","v":""},{"$f":"IF('All Running Order'!AT22=\"\",\"\",'All Running Order'!AT22)","v":""},{"$f":"IF('All Running Order'!AU22=\"\",\"\",'All Running Order'!AU22)","v":""},{"$f":"IF('All Running Order'!AV22=\"\",\"\",'All Running Order'!AV22)","v":""},{"$f":"IF('All Running Order'!AW22=\"\",\"\",'All Running Order'!AW22)","v":""},{"$f":"IF('All Running Order'!AZ22=\"\",\"\",'All Running Order'!AZ22)","v":""},{"$f":"IF('All Running Order'!BA22=\"\",\"\",'All Running Order'!BA22)","v":""},{"$f":"IF('All Running Order'!BB22=\"\",\"\",'All Running Order'!BB22)","v":""},{"$f":"IF('All Running Order'!BC22=\"\",\"\",'All Running Order'!BC22)","v":""},{"$f":"IF('All Running Order'!BD22=\"\",\"\",'All Running Order'!BD22)","v":""},{"$f":"IF('All Running Order'!BE22=\"\",\"\",'All Running Order'!BE22)","v":""},{"$f":"IF('All Running Order'!BF22=\"\",\"\",'All Running Order'!BF22)","v":""},{"$f":"IF('All Running Order'!BG22=\"\",\"\",'All Running Order'!BG22)","v":""},{"$f":"IF('All Running Order'!BH22=\"\",\"\",'All Running Order'!BH22)","v":""},{"$f":"IF('All Running Order'!BI22=\"\",\"\",'All Running Order'!BI22)","v":""},{"$f":"IF('All Running Order'!BL22=\"\",\"\",'All Running Order'!BL22)","v":""},{"$f":"IF('All Running Order'!BM22=\"\",\"\",'All Running Order'!BM22)","v":""},{"$f":"IF('All Running Order'!BN22=\"\",\"\",'All Running Order'!BN22)","v":""},{"$f":"IF('All Running Order'!BO22=\"\",\"\",'All Running Order'!BO22)","v":""},{"$f":"IF('All Running Order'!BP22=\"\",\"\",'All Running Order'!BP22)","v":""},{"$f":"IF('All Running Order'!BQ22=\"\",\"\",'All Running Order'!BQ22)","v":""},{"$f":"IF('All Running Order'!BR22=\"\",\"\",'All Running Order'!BR22)","v":""},{"$f":"IF('All Running Order'!BS22=\"\",\"\",'All Running Order'!BS22)","v":""},{"$f":"IF('All Running Order'!BT22=\"\",\"\",'All Running Order'!BT22)","v":""},{"$f":"IF('All Running Order'!BU22=\"\",\"\",'All Running Order'!BU22)","v":""}]
[{"$f":"'All Running Order'!B23","v":19},{"$f":"IF('All Running Order'!C23=\"\",\"\",'All Running Order'!C23)","v":""},{"$f":"IF('All Running Order'!D23=\"\",\"\",'All Running Order'!D23)","v":""},{"$f":"IF('All Running Order'!E23=\"\",\"\",'All Running Order'!E23)","v":""},{"$f":"IF('All Running Order'!F23=\"\",\"\",'All Running Order'!F23)","v":""},{"$f":"IF('All Running Order'!G23=\"\",\"\",'All Running Order'!G23)","v":""},{"$f":"IF('All Running Order'!H23=\"\",\"\",'All Running Order'!H23)","v":""},null,{"$f":"IF('All Running Order'!Q23=\"\",\"\",'All Running Order'!Q23)","v":""},{"$f":"IF('All Running Order'!R23=\"\",\"\",'All Running Order'!R23)","v":""},{"$f":"IF('All Running Order'!S23=\"\",\"\",'All Running Order'!S23)","v":""},{"$f":"IF('All Running Order'!T23=\"\",\"\",'All Running Order'!T23)","v":""},{"$f":"IF('All Running Order'!U23=\"\",\"\",'All Running Order'!U23)","v":""},{"$f":"IF('All Running Order'!V23=\"\",\"\",'All Running Order'!V23)","v":""},{"$f":"IF('All Running Order'!W23=\"\",\"\",'All Running Order'!W23)","v":""},{"$f":"IF('All Running Order'!X23=\"\",\"\",'All Running Order'!X23)","v":""},{"$f":"IF('All Running Order'!Y23=\"\",\"\",'All Running Order'!Y23)","v":""},{"$f":"IF('All Running Order'!Z23=\"\",\"\",'All Running Order'!Z23)","v":""},{"$f":"IF('All Running Order'!AB23=\"\",\"\",'All Running Order'!AB23)","v":""},{"$f":"IF('All Running Order'!AC23=\"\",\"\",'All Running Order'!AC23)","v":""},{"$f":"IF('All Running Order'!AD23=\"\",\"\",'All Running Order'!AD23)","v":""},{"$f":"IF('All Running Order'!AE23=\"\",\"\",'All Running Order'!AE23)","v":""},{"$f":"IF('All Running Order'!AF23=\"\",\"\",'All Running Order'!AF23)","v":""},{"$f":"IF('All Running Order'!AG23=\"\",\"\",'All Running Order'!AG23)","v":""},{"$f":"IF('All Running Order'!AH23=\"\",\"\",'All Running Order'!AH23)","v":""},{"$f":"IF('All Running Order'!AI23=\"\",\"\",'All Running Order'!AI23)","v":""},{"$f":"IF('All Running Order'!AJ23=\"\",\"\",'All Running Order'!AJ23)","v":""},{"$f":"IF('All Running Order'!AK23=\"\",\"\",'All Running Order'!AK23)","v":""},{"$f":"IF('All Running Order'!AN23=\"\",\"\",'All Running Order'!AN23)","v":""},{"$f":"IF('All Running Order'!AO23=\"\",\"\",'All Running Order'!AO23)","v":""},{"$f":"IF('All Running Order'!AP23=\"\",\"\",'All Running Order'!AP23)","v":""},{"$f":"IF('All Running Order'!AQ23=\"\",\"\",'All Running Order'!AQ23)","v":""},{"$f":"IF('All Running Order'!AR23=\"\",\"\",'All Running Order'!AR23)","v":""},{"$f":"IF('All Running Order'!AS23=\"\",\"\",'All Running Order'!AS23)","v":""},{"$f":"IF('All Running Order'!AT23=\"\",\"\",'All Running Order'!AT23)","v":""},{"$f":"IF('All Running Order'!AU23=\"\",\"\",'All Running Order'!AU23)","v":""},{"$f":"IF('All Running Order'!AV23=\"\",\"\",'All Running Order'!AV23)","v":""},{"$f":"IF('All Running Order'!AW23=\"\",\"\",'All Running Order'!AW23)","v":""},{"$f":"IF('All Running Order'!AZ23=\"\",\"\",'All Running Order'!AZ23)","v":""},{"$f":"IF('All Running Order'!BA23=\"\",\"\",'All Running Order'!BA23)","v":""},{"$f":"IF('All Running Order'!BB23=\"\",\"\",'All Running Order'!BB23)","v":""},{"$f":"IF('All Running Order'!BC23=\"\",\"\",'All Running Order'!BC23)","v":""},{"$f":"IF('All Running Order'!BD23=\"\",\"\",'All Running Order'!BD23)","v":""},{"$f":"IF('All Running Order'!BE23=\"\",\"\",'All Running Order'!BE23)","v":""},{"$f":"IF('All Running Order'!BF23=\"\",\"\",'All Running Order'!BF23)","v":""},{"$f":"IF('All Running Order'!BG23=\"\",\"\",'All Running Order'!BG23)","v":""},{"$f":"IF('All Running Order'!BH23=\"\",\"\",'All Running Order'!BH23)","v":""},{"$f":"IF('All Running Order'!BI23=\"\",\"\",'All Running Order'!BI23)","v":""},{"$f":"IF('All Running Order'!BL23=\"\",\"\",'All Running Order'!BL23)","v":""},{"$f":"IF('All Running Order'!BM23=\"\",\"\",'All Running Order'!BM23)","v":""},{"$f":"IF('All Running Order'!BN23=\"\",\"\",'All Running Order'!BN23)","v":""},{"$f":"IF('All Running Order'!BO23=\"\",\"\",'All Running Order'!BO23)","v":""},{"$f":"IF('All Running Order'!BP23=\"\",\"\",'All Running Order'!BP23)","v":""},{"$f":"IF('All Running Order'!BQ23=\"\",\"\",'All Running Order'!BQ23)","v":""},{"$f":"IF('All Running Order'!BR23=\"\",\"\",'All Running Order'!BR23)","v":""},{"$f":"IF('All Running Order'!BS23=\"\",\"\",'All Running Order'!BS23)","v":""},{"$f":"IF('All Running Order'!BT23=\"\",\"\",'All Running Order'!BT23)","v":""},{"$f":"IF('All Running Order'!BU23=\"\",\"\",'All Running Order'!BU23)","v":""}]
[{"$f":"'All Running Order'!B24","v":20},{"$f":"IF('All Running Order'!C24=\"\",\"\",'All Running Order'!C24)","v":""},{"$f":"IF('All Running Order'!D24=\"\",\"\",'All Running Order'!D24)","v":""},{"$f":"IF('All Running Order'!E24=\"\",\"\",'All Running Order'!E24)","v":""},{"$f":"IF('All Running Order'!F24=\"\",\"\",'All Running Order'!F24)","v":""},{"$f":"IF('All Running Order'!G24=\"\",\"\",'All Running Order'!G24)","v":""},{"$f":"IF('All Running Order'!H24=\"\",\"\",'All Running Order'!H24)","v":""},null,{"$f":"IF('All Running Order'!Q24=\"\",\"\",'All Running Order'!Q24)","v":""},{"$f":"IF('All Running Order'!R24=\"\",\"\",'All Running Order'!R24)","v":""},{"$f":"IF('All Running Order'!S24=\"\",\"\",'All Running Order'!S24)","v":""},{"$f":"IF('All Running Order'!T24=\"\",\"\",'All Running Order'!T24)","v":""},{"$f":"IF('All Running Order'!U24=\"\",\"\",'All Running Order'!U24)","v":""},{"$f":"IF('All Running Order'!V24=\"\",\"\",'All Running Order'!V24)","v":""},{"$f":"IF('All Running Order'!W24=\"\",\"\",'All Running Order'!W24)","v":""},{"$f":"IF('All Running Order'!X24=\"\",\"\",'All Running Order'!X24)","v":""},{"$f":"IF('All Running Order'!Y24=\"\",\"\",'All Running Order'!Y24)","v":""},{"$f":"IF('All Running Order'!Z24=\"\",\"\",'All Running Order'!Z24)","v":""},{"$f":"IF('All Running Order'!AB24=\"\",\"\",'All Running Order'!AB24)","v":""},{"$f":"IF('All Running Order'!AC24=\"\",\"\",'All Running Order'!AC24)","v":""},{"$f":"IF('All Running Order'!AD24=\"\",\"\",'All Running Order'!AD24)","v":""},{"$f":"IF('All Running Order'!AE24=\"\",\"\",'All Running Order'!AE24)","v":""},{"$f":"IF('All Running Order'!AF24=\"\",\"\",'All Running Order'!AF24)","v":""},{"$f":"IF('All Running Order'!AG24=\"\",\"\",'All Running Order'!AG24)","v":""},{"$f":"IF('All Running Order'!AH24=\"\",\"\",'All Running Order'!AH24)","v":""},{"$f":"IF('All Running Order'!AI24=\"\",\"\",'All Running Order'!AI24)","v":""},{"$f":"IF('All Running Order'!AJ24=\"\",\"\",'All Running Order'!AJ24)","v":""},{"$f":"IF('All Running Order'!AK24=\"\",\"\",'All Running Order'!AK24)","v":""},{"$f":"IF('All Running Order'!AN24=\"\",\"\",'All Running Order'!AN24)","v":""},{"$f":"IF('All Running Order'!AO24=\"\",\"\",'All Running Order'!AO24)","v":""},{"$f":"IF('All Running Order'!AP24=\"\",\"\",'All Running Order'!AP24)","v":""},{"$f":"IF('All Running Order'!AQ24=\"\",\"\",'All Running Order'!AQ24)","v":""},{"$f":"IF('All Running Order'!AR24=\"\",\"\",'All Running Order'!AR24)","v":""},{"$f":"IF('All Running Order'!AS24=\"\",\"\",'All Running Order'!AS24)","v":""},{"$f":"IF('All Running Order'!AT24=\"\",\"\",'All Running Order'!AT24)","v":""},{"$f":"IF('All Running Order'!AU24=\"\",\"\",'All Running Order'!AU24)","v":""},{"$f":"IF('All Running Order'!AV24=\"\",\"\",'All Running Order'!AV24)","v":""},{"$f":"IF('All Running Order'!AW24=\"\",\"\",'All Running Order'!AW24)","v":""},{"$f":"IF('All Running Order'!AZ24=\"\",\"\",'All Running Order'!AZ24)","v":""},{"$f":"IF('All Running Order'!BA24=\"\",\"\",'All Running Order'!BA24)","v":""},{"$f":"IF('All Running Order'!BB24=\"\",\"\",'All Running Order'!BB24)","v":""},{"$f":"IF('All Running Order'!BC24=\"\",\"\",'All Running Order'!BC24)","v":""},{"$f":"IF('All Running Order'!BD24=\"\",\"\",'All Running Order'!BD24)","v":""},{"$f":"IF('All Running Order'!BE24=\"\",\"\",'All Running Order'!BE24)","v":""},{"$f":"IF('All Running Order'!BF24=\"\",\"\",'All Running Order'!BF24)","v":""},{"$f":"IF('All Running Order'!BG24=\"\",\"\",'All Running Order'!BG24)","v":""},{"$f":"IF('All Running Order'!BH24=\"\",\"\",'All Running Order'!BH24)","v":""},{"$f":"IF('All Running Order'!BI24=\"\",\"\",'All Running Order'!BI24)","v":""},{"$f":"IF('All Running Order'!BL24=\"\",\"\",'All Running Order'!BL24)","v":""},{"$f":"IF('All Running Order'!BM24=\"\",\"\",'All Running Order'!BM24)","v":""},{"$f":"IF('All Running Order'!BN24=\"\",\"\",'All Running Order'!BN24)","v":""},{"$f":"IF('All Running Order'!BO24=\"\",\"\",'All Running Order'!BO24)","v":""},{"$f":"IF('All Running Order'!BP24=\"\",\"\",'All Running Order'!BP24)","v":""},{"$f":"IF('All Running Order'!BQ24=\"\",\"\",'All Running Order'!BQ24)","v":""},{"$f":"IF('All Running Order'!BR24=\"\",\"\",'All Running Order'!BR24)","v":""},{"$f":"IF('All Running Order'!BS24=\"\",\"\",'All Running Order'!BS24)","v":""},{"$f":"IF('All Running Order'!BT24=\"\",\"\",'All Running Order'!BT24)","v":""},{"$f":"IF('All Running Order'!BU24=\"\",\"\",'All Running Order'!BU24)","v":""}]
[{"$f":"'All Running Order'!B25","v":21},{"$f":"IF('All Running Order'!C25=\"\",\"\",'All Running Order'!C25)","v":""},{"$f":"IF('All Running Order'!D25=\"\",\"\",'All Running Order'!D25)","v":""},{"$f":"IF('All Running Order'!E25=\"\",\"\",'All Running Order'!E25)","v":""},{"$f":"IF('All Running Order'!F25=\"\",\"\",'All Running Order'!F25)","v":""},{"$f":"IF('All Running Order'!G25=\"\",\"\",'All Running Order'!G25)","v":""},{"$f":"IF('All Running Order'!H25=\"\",\"\",'All Running Order'!H25)","v":""},null,{"$f":"IF('All Running Order'!Q25=\"\",\"\",'All Running Order'!Q25)","v":""},{"$f":"IF('All Running Order'!R25=\"\",\"\",'All Running Order'!R25)","v":""},{"$f":"IF('All Running Order'!S25=\"\",\"\",'All Running Order'!S25)","v":""},{"$f":"IF('All Running Order'!T25=\"\",\"\",'All Running Order'!T25)","v":""},{"$f":"IF('All Running Order'!U25=\"\",\"\",'All Running Order'!U25)","v":""},{"$f":"IF('All Running Order'!V25=\"\",\"\",'All Running Order'!V25)","v":""},{"$f":"IF('All Running Order'!W25=\"\",\"\",'All Running Order'!W25)","v":""},{"$f":"IF('All Running Order'!X25=\"\",\"\",'All Running Order'!X25)","v":""},{"$f":"IF('All Running Order'!Y25=\"\",\"\",'All Running Order'!Y25)","v":""},{"$f":"IF('All Running Order'!Z25=\"\",\"\",'All Running Order'!Z25)","v":""},{"$f":"IF('All Running Order'!AB25=\"\",\"\",'All Running Order'!AB25)","v":""},{"$f":"IF('All Running Order'!AC25=\"\",\"\",'All Running Order'!AC25)","v":""},{"$f":"IF('All Running Order'!AD25=\"\",\"\",'All Running Order'!AD25)","v":""},{"$f":"IF('All Running Order'!AE25=\"\",\"\",'All Running Order'!AE25)","v":""},{"$f":"IF('All Running Order'!AF25=\"\",\"\",'All Running Order'!AF25)","v":""},{"$f":"IF('All Running Order'!AG25=\"\",\"\",'All Running Order'!AG25)","v":""},{"$f":"IF('All Running Order'!AH25=\"\",\"\",'All Running Order'!AH25)","v":""},{"$f":"IF('All Running Order'!AI25=\"\",\"\",'All Running Order'!AI25)","v":""},{"$f":"IF('All Running Order'!AJ25=\"\",\"\",'All Running Order'!AJ25)","v":""},{"$f":"IF('All Running Order'!AK25=\"\",\"\",'All Running Order'!AK25)","v":""},{"$f":"IF('All Running Order'!AN25=\"\",\"\",'All Running Order'!AN25)","v":""},{"$f":"IF('All Running Order'!AO25=\"\",\"\",'All Running Order'!AO25)","v":""},{"$f":"IF('All Running Order'!AP25=\"\",\"\",'All Running Order'!AP25)","v":""},{"$f":"IF('All Running Order'!AQ25=\"\",\"\",'All Running Order'!AQ25)","v":""},{"$f":"IF('All Running Order'!AR25=\"\",\"\",'All Running Order'!AR25)","v":""},{"$f":"IF('All Running Order'!AS25=\"\",\"\",'All Running Order'!AS25)","v":""},{"$f":"IF('All Running Order'!AT25=\"\",\"\",'All Running Order'!AT25)","v":""},{"$f":"IF('All Running Order'!AU25=\"\",\"\",'All Running Order'!AU25)","v":""},{"$f":"IF('All Running Order'!AV25=\"\",\"\",'All Running Order'!AV25)","v":""},{"$f":"IF('All Running Order'!AW25=\"\",\"\",'All Running Order'!AW25)","v":""},{"$f":"IF('All Running Order'!AZ25=\"\",\"\",'All Running Order'!AZ25)","v":""},{"$f":"IF('All Running Order'!BA25=\"\",\"\",'All Running Order'!BA25)","v":""},{"$f":"IF('All Running Order'!BB25=\"\",\"\",'All Running Order'!BB25)","v":""},{"$f":"IF('All Running Order'!BC25=\"\",\"\",'All Running Order'!BC25)","v":""},{"$f":"IF('All Running Order'!BD25=\"\",\"\",'All Running Order'!BD25)","v":""},{"$f":"IF('All Running Order'!BE25=\"\",\"\",'All Running Order'!BE25)","v":""},{"$f":"IF('All Running Order'!BF25=\"\",\"\",'All Running Order'!BF25)","v":""},{"$f":"IF('All Running Order'!BG25=\"\",\"\",'All Running Order'!BG25)","v":""},{"$f":"IF('All Running Order'!BH25=\"\",\"\",'All Running Order'!BH25)","v":""},{"$f":"IF('All Running Order'!BI25=\"\",\"\",'All Running Order'!BI25)","v":""},{"$f":"IF('All Running Order'!BL25=\"\",\"\",'All Running Order'!BL25)","v":""},{"$f":"IF('All Running Order'!BM25=\"\",\"\",'All Running Order'!BM25)","v":""},{"$f":"IF('All Running Order'!BN25=\"\",\"\",'All Running Order'!BN25)","v":""},{"$f":"IF('All Running Order'!BO25=\"\",\"\",'All Running Order'!BO25)","v":""},{"$f":"IF('All Running Order'!BP25=\"\",\"\",'All Running Order'!BP25)","v":""},{"$f":"IF('All Running Order'!BQ25=\"\",\"\",'All Running Order'!BQ25)","v":""},{"$f":"IF('All Running Order'!BR25=\"\",\"\",'All Running Order'!BR25)","v":""},{"$f":"IF('All Running Order'!BS25=\"\",\"\",'All Running Order'!BS25)","v":""},{"$f":"IF('All Running Order'!BT25=\"\",\"\",'All Running Order'!BT25)","v":""},{"$f":"IF('All Running Order'!BU25=\"\",\"\",'All Running Order'!BU25)","v":""}]
[{"$f":"'All Running Order'!B26","v":22},{"$f":"IF('All Running Order'!C26=\"\",\"\",'All Running Order'!C26)","v":""},{"$f":"IF('All Running Order'!D26=\"\",\"\",'All Running Order'!D26)","v":""},{"$f":"IF('All Running Order'!E26=\"\",\"\",'All Running Order'!E26)","v":""},{"$f":"IF('All Running Order'!F26=\"\",\"\",'All Running Order'!F26)","v":""},{"$f":"IF('All Running Order'!G26=\"\",\"\",'All Running Order'!G26)","v":""},{"$f":"IF('All Running Order'!H26=\"\",\"\",'All Running Order'!H26)","v":""},null,{"$f":"IF('All Running Order'!Q26=\"\",\"\",'All Running Order'!Q26)","v":""},{"$f":"IF('All Running Order'!R26=\"\",\"\",'All Running Order'!R26)","v":""},{"$f":"IF('All Running Order'!S26=\"\",\"\",'All Running Order'!S26)","v":""},{"$f":"IF('All Running Order'!T26=\"\",\"\",'All Running Order'!T26)","v":""},{"$f":"IF('All Running Order'!U26=\"\",\"\",'All Running Order'!U26)","v":""},{"$f":"IF('All Running Order'!V26=\"\",\"\",'All Running Order'!V26)","v":""},{"$f":"IF('All Running Order'!W26=\"\",\"\",'All Running Order'!W26)","v":""},{"$f":"IF('All Running Order'!X26=\"\",\"\",'All Running Order'!X26)","v":""},{"$f":"IF('All Running Order'!Y26=\"\",\"\",'All Running Order'!Y26)","v":""},{"$f":"IF('All Running Order'!Z26=\"\",\"\",'All Running Order'!Z26)","v":""},{"$f":"IF('All Running Order'!AB26=\"\",\"\",'All Running Order'!AB26)","v":""},{"$f":"IF('All Running Order'!AC26=\"\",\"\",'All Running Order'!AC26)","v":""},{"$f":"IF('All Running Order'!AD26=\"\",\"\",'All Running Order'!AD26)","v":""},{"$f":"IF('All Running Order'!AE26=\"\",\"\",'All Running Order'!AE26)","v":""},{"$f":"IF('All Running Order'!AF26=\"\",\"\",'All Running Order'!AF26)","v":""},{"$f":"IF('All Running Order'!AG26=\"\",\"\",'All Running Order'!AG26)","v":""},{"$f":"IF('All Running Order'!AH26=\"\",\"\",'All Running Order'!AH26)","v":""},{"$f":"IF('All Running Order'!AI26=\"\",\"\",'All Running Order'!AI26)","v":""},{"$f":"IF('All Running Order'!AJ26=\"\",\"\",'All Running Order'!AJ26)","v":""},{"$f":"IF('All Running Order'!AK26=\"\",\"\",'All Running Order'!AK26)","v":""},{"$f":"IF('All Running Order'!AN26=\"\",\"\",'All Running Order'!AN26)","v":""},{"$f":"IF('All Running Order'!AO26=\"\",\"\",'All Running Order'!AO26)","v":""},{"$f":"IF('All Running Order'!AP26=\"\",\"\",'All Running Order'!AP26)","v":""},{"$f":"IF('All Running Order'!AQ26=\"\",\"\",'All Running Order'!AQ26)","v":""},{"$f":"IF('All Running Order'!AR26=\"\",\"\",'All Running Order'!AR26)","v":""},{"$f":"IF('All Running Order'!AS26=\"\",\"\",'All Running Order'!AS26)","v":""},{"$f":"IF('All Running Order'!AT26=\"\",\"\",'All Running Order'!AT26)","v":""},{"$f":"IF('All Running Order'!AU26=\"\",\"\",'All Running Order'!AU26)","v":""},{"$f":"IF('All Running Order'!AV26=\"\",\"\",'All Running Order'!AV26)","v":""},{"$f":"IF('All Running Order'!AW26=\"\",\"\",'All Running Order'!AW26)","v":""},{"$f":"IF('All Running Order'!AZ26=\"\",\"\",'All Running Order'!AZ26)","v":""},{"$f":"IF('All Running Order'!BA26=\"\",\"\",'All Running Order'!BA26)","v":""},{"$f":"IF('All Running Order'!BB26=\"\",\"\",'All Running Order'!BB26)","v":""},{"$f":"IF('All Running Order'!BC26=\"\",\"\",'All Running Order'!BC26)","v":""},{"$f":"IF('All Running Order'!BD26=\"\",\"\",'All Running Order'!BD26)","v":""},{"$f":"IF('All Running Order'!BE26=\"\",\"\",'All Running Order'!BE26)","v":""},{"$f":"IF('All Running Order'!BF26=\"\",\"\",'All Running Order'!BF26)","v":""},{"$f":"IF('All Running Order'!BG26=\"\",\"\",'All Running Order'!BG26)","v":""},{"$f":"IF('All Running Order'!BH26=\"\",\"\",'All Running Order'!BH26)","v":""},{"$f":"IF('All Running Order'!BI26=\"\",\"\",'All Running Order'!BI26)","v":""},{"$f":"IF('All Running Order'!BL26=\"\",\"\",'All Running Order'!BL26)","v":""},{"$f":"IF('All Running Order'!BM26=\"\",\"\",'All Running Order'!BM26)","v":""},{"$f":"IF('All Running Order'!BN26=\"\",\"\",'All Running Order'!BN26)","v":""},{"$f":"IF('All Running Order'!BO26=\"\",\"\",'All Running Order'!BO26)","v":""},{"$f":"IF('All Running Order'!BP26=\"\",\"\",'All Running Order'!BP26)","v":""},{"$f":"IF('All Running Order'!BQ26=\"\",\"\",'All Running Order'!BQ26)","v":""},{"$f":"IF('All Running Order'!BR26=\"\",\"\",'All Running Order'!BR26)","v":""},{"$f":"IF('All Running Order'!BS26=\"\",\"\",'All Running Order'!BS26)","v":""},{"$f":"IF('All Running Order'!BT26=\"\",\"\",'All Running Order'!BT26)","v":""},{"$f":"IF('All Running Order'!BU26=\"\",\"\",'All Running Order'!BU26)","v":""}]
[{"$f":"'All Running Order'!B27","v":23},{"$f":"IF('All Running Order'!C27=\"\",\"\",'All Running Order'!C27)","v":""},{"$f":"IF('All Running Order'!D27=\"\",\"\",'All Running Order'!D27)","v":""},{"$f":"IF('All Running Order'!E27=\"\",\"\",'All Running Order'!E27)","v":""},{"$f":"IF('All Running Order'!F27=\"\",\"\",'All Running Order'!F27)","v":""},{"$f":"IF('All Running Order'!G27=\"\",\"\",'All Running Order'!G27)","v":""},{"$f":"IF('All Running Order'!H27=\"\",\"\",'All Running Order'!H27)","v":""},null,{"$f":"IF('All Running Order'!Q27=\"\",\"\",'All Running Order'!Q27)","v":""},{"$f":"IF('All Running Order'!R27=\"\",\"\",'All Running Order'!R27)","v":""},{"$f":"IF('All Running Order'!S27=\"\",\"\",'All Running Order'!S27)","v":""},{"$f":"IF('All Running Order'!T27=\"\",\"\",'All Running Order'!T27)","v":""},{"$f":"IF('All Running Order'!U27=\"\",\"\",'All Running Order'!U27)","v":""},{"$f":"IF('All Running Order'!V27=\"\",\"\",'All Running Order'!V27)","v":""},{"$f":"IF('All Running Order'!W27=\"\",\"\",'All Running Order'!W27)","v":""},{"$f":"IF('All Running Order'!X27=\"\",\"\",'All Running Order'!X27)","v":""},{"$f":"IF('All Running Order'!Y27=\"\",\"\",'All Running Order'!Y27)","v":""},{"$f":"IF('All Running Order'!Z27=\"\",\"\",'All Running Order'!Z27)","v":""},{"$f":"IF('All Running Order'!AB27=\"\",\"\",'All Running Order'!AB27)","v":""},{"$f":"IF('All Running Order'!AC27=\"\",\"\",'All Running Order'!AC27)","v":""},{"$f":"IF('All Running Order'!AD27=\"\",\"\",'All Running Order'!AD27)","v":""},{"$f":"IF('All Running Order'!AE27=\"\",\"\",'All Running Order'!AE27)","v":""},{"$f":"IF('All Running Order'!AF27=\"\",\"\",'All Running Order'!AF27)","v":""},{"$f":"IF('All Running Order'!AG27=\"\",\"\",'All Running Order'!AG27)","v":""},{"$f":"IF('All Running Order'!AH27=\"\",\"\",'All Running Order'!AH27)","v":""},{"$f":"IF('All Running Order'!AI27=\"\",\"\",'All Running Order'!AI27)","v":""},{"$f":"IF('All Running Order'!AJ27=\"\",\"\",'All Running Order'!AJ27)","v":""},{"$f":"IF('All Running Order'!AK27=\"\",\"\",'All Running Order'!AK27)","v":""},{"$f":"IF('All Running Order'!AN27=\"\",\"\",'All Running Order'!AN27)","v":""},{"$f":"IF('All Running Order'!AO27=\"\",\"\",'All Running Order'!AO27)","v":""},{"$f":"IF('All Running Order'!AP27=\"\",\"\",'All Running Order'!AP27)","v":""},{"$f":"IF('All Running Order'!AQ27=\"\",\"\",'All Running Order'!AQ27)","v":""},{"$f":"IF('All Running Order'!AR27=\"\",\"\",'All Running Order'!AR27)","v":""},{"$f":"IF('All Running Order'!AS27=\"\",\"\",'All Running Order'!AS27)","v":""},{"$f":"IF('All Running Order'!AT27=\"\",\"\",'All Running Order'!AT27)","v":""},{"$f":"IF('All Running Order'!AU27=\"\",\"\",'All Running Order'!AU27)","v":""},{"$f":"IF('All Running Order'!AV27=\"\",\"\",'All Running Order'!AV27)","v":""},{"$f":"IF('All Running Order'!AW27=\"\",\"\",'All Running Order'!AW27)","v":""},{"$f":"IF('All Running Order'!AZ27=\"\",\"\",'All Running Order'!AZ27)","v":""},{"$f":"IF('All Running Order'!BA27=\"\",\"\",'All Running Order'!BA27)","v":""},{"$f":"IF('All Running Order'!BB27=\"\",\"\",'All Running Order'!BB27)","v":""},{"$f":"IF('All Running Order'!BC27=\"\",\"\",'All Running Order'!BC27)","v":""},{"$f":"IF('All Running Order'!BD27=\"\",\"\",'All Running Order'!BD27)","v":""},{"$f":"IF('All Running Order'!BE27=\"\",\"\",'All Running Order'!BE27)","v":""},{"$f":"IF('All Running Order'!BF27=\"\",\"\",'All Running Order'!BF27)","v":""},{"$f":"IF('All Running Order'!BG27=\"\",\"\",'All Running Order'!BG27)","v":""},{"$f":"IF('All Running Order'!BH27=\"\",\"\",'All Running Order'!BH27)","v":""},{"$f":"IF('All Running Order'!BI27=\"\",\"\",'All Running Order'!BI27)","v":""},{"$f":"IF('All Running Order'!BL27=\"\",\"\",'All Running Order'!BL27)","v":""},{"$f":"IF('All Running Order'!BM27=\"\",\"\",'All Running Order'!BM27)","v":""},{"$f":"IF('All Running Order'!BN27=\"\",\"\",'All Running Order'!BN27)","v":""},{"$f":"IF('All Running Order'!BO27=\"\",\"\",'All Running Order'!BO27)","v":""},{"$f":"IF('All Running Order'!BP27=\"\",\"\",'All Running Order'!BP27)","v":""},{"$f":"IF('All Running Order'!BQ27=\"\",\"\",'All Running Order'!BQ27)","v":""},{"$f":"IF('All Running Order'!BR27=\"\",\"\",'All Running Order'!BR27)","v":""},{"$f":"IF('All Running Order'!BS27=\"\",\"\",'All Running Order'!BS27)","v":""},{"$f":"IF('All Running Order'!BT27=\"\",\"\",'All Running Order'!BT27)","v":""},{"$f":"IF('All Running Order'!BU27=\"\",\"\",'All Running Order'!BU27)","v":""}]
[{"$f":"'All Running Order'!B28","v":24},{"$f":"IF('All Running Order'!C28=\"\",\"\",'All Running Order'!C28)","v":""},{"$f":"IF('All Running Order'!D28=\"\",\"\",'All Running Order'!D28)","v":""},{"$f":"IF('All Running Order'!E28=\"\",\"\",'All Running Order'!E28)","v":""},{"$f":"IF('All Running Order'!F28=\"\",\"\",'All Running Order'!F28)","v":""},{"$f":"IF('All Running Order'!G28=\"\",\"\",'All Running Order'!G28)","v":""},{"$f":"IF('All Running Order'!H28=\"\",\"\",'All Running Order'!H28)","v":""},null,{"$f":"IF('All Running Order'!Q28=\"\",\"\",'All Running Order'!Q28)","v":""},{"$f":"IF('All Running Order'!R28=\"\",\"\",'All Running Order'!R28)","v":""},{"$f":"IF('All Running Order'!S28=\"\",\"\",'All Running Order'!S28)","v":""},{"$f":"IF('All Running Order'!T28=\"\",\"\",'All Running Order'!T28)","v":""},{"$f":"IF('All Running Order'!U28=\"\",\"\",'All Running Order'!U28)","v":""},{"$f":"IF('All Running Order'!V28=\"\",\"\",'All Running Order'!V28)","v":""},{"$f":"IF('All Running Order'!W28=\"\",\"\",'All Running Order'!W28)","v":""},{"$f":"IF('All Running Order'!X28=\"\",\"\",'All Running Order'!X28)","v":""},{"$f":"IF('All Running Order'!Y28=\"\",\"\",'All Running Order'!Y28)","v":""},{"$f":"IF('All Running Order'!Z28=\"\",\"\",'All Running Order'!Z28)","v":""},{"$f":"IF('All Running Order'!AB28=\"\",\"\",'All Running Order'!AB28)","v":""},{"$f":"IF('All Running Order'!AC28=\"\",\"\",'All Running Order'!AC28)","v":""},{"$f":"IF('All Running Order'!AD28=\"\",\"\",'All Running Order'!AD28)","v":""},{"$f":"IF('All Running Order'!AE28=\"\",\"\",'All Running Order'!AE28)","v":""},{"$f":"IF('All Running Order'!AF28=\"\",\"\",'All Running Order'!AF28)","v":""},{"$f":"IF('All Running Order'!AG28=\"\",\"\",'All Running Order'!AG28)","v":""},{"$f":"IF('All Running Order'!AH28=\"\",\"\",'All Running Order'!AH28)","v":""},{"$f":"IF('All Running Order'!AI28=\"\",\"\",'All Running Order'!AI28)","v":""},{"$f":"IF('All Running Order'!AJ28=\"\",\"\",'All Running Order'!AJ28)","v":""},{"$f":"IF('All Running Order'!AK28=\"\",\"\",'All Running Order'!AK28)","v":""},{"$f":"IF('All Running Order'!AN28=\"\",\"\",'All Running Order'!AN28)","v":""},{"$f":"IF('All Running Order'!AO28=\"\",\"\",'All Running Order'!AO28)","v":""},{"$f":"IF('All Running Order'!AP28=\"\",\"\",'All Running Order'!AP28)","v":""},{"$f":"IF('All Running Order'!AQ28=\"\",\"\",'All Running Order'!AQ28)","v":""},{"$f":"IF('All Running Order'!AR28=\"\",\"\",'All Running Order'!AR28)","v":""},{"$f":"IF('All Running Order'!AS28=\"\",\"\",'All Running Order'!AS28)","v":""},{"$f":"IF('All Running Order'!AT28=\"\",\"\",'All Running Order'!AT28)","v":""},{"$f":"IF('All Running Order'!AU28=\"\",\"\",'All Running Order'!AU28)","v":""},{"$f":"IF('All Running Order'!AV28=\"\",\"\",'All Running Order'!AV28)","v":""},{"$f":"IF('All Running Order'!AW28=\"\",\"\",'All Running Order'!AW28)","v":""},{"$f":"IF('All Running Order'!AZ28=\"\",\"\",'All Running Order'!AZ28)","v":""},{"$f":"IF('All Running Order'!BA28=\"\",\"\",'All Running Order'!BA28)","v":""},{"$f":"IF('All Running Order'!BB28=\"\",\"\",'All Running Order'!BB28)","v":""},{"$f":"IF('All Running Order'!BC28=\"\",\"\",'All Running Order'!BC28)","v":""},{"$f":"IF('All Running Order'!BD28=\"\",\"\",'All Running Order'!BD28)","v":""},{"$f":"IF('All Running Order'!BE28=\"\",\"\",'All Running Order'!BE28)","v":""},{"$f":"IF('All Running Order'!BF28=\"\",\"\",'All Running Order'!BF28)","v":""},{"$f":"IF('All Running Order'!BG28=\"\",\"\",'All Running Order'!BG28)","v":""},{"$f":"IF('All Running Order'!BH28=\"\",\"\",'All Running Order'!BH28)","v":""},{"$f":"IF('All Running Order'!BI28=\"\",\"\",'All Running Order'!BI28)","v":""},{"$f":"IF('All Running Order'!BL28=\"\",\"\",'All Running Order'!BL28)","v":""},{"$f":"IF('All Running Order'!BM28=\"\",\"\",'All Running Order'!BM28)","v":""},{"$f":"IF('All Running Order'!BN28=\"\",\"\",'All Running Order'!BN28)","v":""},{"$f":"IF('All Running Order'!BO28=\"\",\"\",'All Running Order'!BO28)","v":""},{"$f":"IF('All Running Order'!BP28=\"\",\"\",'All Running Order'!BP28)","v":""},{"$f":"IF('All Running Order'!BQ28=\"\",\"\",'All Running Order'!BQ28)","v":""},{"$f":"IF('All Running Order'!BR28=\"\",\"\",'All Running Order'!BR28)","v":""},{"$f":"IF('All Running Order'!BS28=\"\",\"\",'All Running Order'!BS28)","v":""},{"$f":"IF('All Running Order'!BT28=\"\",\"\",'All Running Order'!BT28)","v":""},{"$f":"IF('All Running Order'!BU28=\"\",\"\",'All Running Order'!BU28)","v":""}]
[{"$f":"'All Running Order'!B29","v":25},{"$f":"IF('All Running Order'!C29=\"\",\"\",'All Running Order'!C29)","v":""},{"$f":"IF('All Running Order'!D29=\"\",\"\",'All Running Order'!D29)","v":""},{"$f":"IF('All Running Order'!E29=\"\",\"\",'All Running Order'!E29)","v":""},{"$f":"IF('All Running Order'!F29=\"\",\"\",'All Running Order'!F29)","v":""},{"$f":"IF('All Running Order'!G29=\"\",\"\",'All Running Order'!G29)","v":""},{"$f":"IF('All Running Order'!H29=\"\",\"\",'All Running Order'!H29)","v":""},null,{"$f":"IF('All Running Order'!Q29=\"\",\"\",'All Running Order'!Q29)","v":""},{"$f":"IF('All Running Order'!R29=\"\",\"\",'All Running Order'!R29)","v":""},{"$f":"IF('All Running Order'!S29=\"\",\"\",'All Running Order'!S29)","v":""},{"$f":"IF('All Running Order'!T29=\"\",\"\",'All Running Order'!T29)","v":""},{"$f":"IF('All Running Order'!U29=\"\",\"\",'All Running Order'!U29)","v":""},{"$f":"IF('All Running Order'!V29=\"\",\"\",'All Running Order'!V29)","v":""},{"$f":"IF('All Running Order'!W29=\"\",\"\",'All Running Order'!W29)","v":""},{"$f":"IF('All Running Order'!X29=\"\",\"\",'All Running Order'!X29)","v":""},{"$f":"IF('All Running Order'!Y29=\"\",\"\",'All Running Order'!Y29)","v":""},{"$f":"IF('All Running Order'!Z29=\"\",\"\",'All Running Order'!Z29)","v":""},{"$f":"IF('All Running Order'!AB29=\"\",\"\",'All Running Order'!AB29)","v":""},{"$f":"IF('All Running Order'!AC29=\"\",\"\",'All Running Order'!AC29)","v":""},{"$f":"IF('All Running Order'!AD29=\"\",\"\",'All Running Order'!AD29)","v":""},{"$f":"IF('All Running Order'!AE29=\"\",\"\",'All Running Order'!AE29)","v":""},{"$f":"IF('All Running Order'!AF29=\"\",\"\",'All Running Order'!AF29)","v":""},{"$f":"IF('All Running Order'!AG29=\"\",\"\",'All Running Order'!AG29)","v":""},{"$f":"IF('All Running Order'!AH29=\"\",\"\",'All Running Order'!AH29)","v":""},{"$f":"IF('All Running Order'!AI29=\"\",\"\",'All Running Order'!AI29)","v":""},{"$f":"IF('All Running Order'!AJ29=\"\",\"\",'All Running Order'!AJ29)","v":""},{"$f":"IF('All Running Order'!AK29=\"\",\"\",'All Running Order'!AK29)","v":""},{"$f":"IF('All Running Order'!AN29=\"\",\"\",'All Running Order'!AN29)","v":""},{"$f":"IF('All Running Order'!AO29=\"\",\"\",'All Running Order'!AO29)","v":""},{"$f":"IF('All Running Order'!AP29=\"\",\"\",'All Running Order'!AP29)","v":""},{"$f":"IF('All Running Order'!AQ29=\"\",\"\",'All Running Order'!AQ29)","v":""},{"$f":"IF('All Running Order'!AR29=\"\",\"\",'All Running Order'!AR29)","v":""},{"$f":"IF('All Running Order'!AS29=\"\",\"\",'All Running Order'!AS29)","v":""},{"$f":"IF('All Running Order'!AT29=\"\",\"\",'All Running Order'!AT29)","v":""},{"$f":"IF('All Running Order'!AU29=\"\",\"\",'All Running Order'!AU29)","v":""},{"$f":"IF('All Running Order'!AV29=\"\",\"\",'All Running Order'!AV29)","v":""},{"$f":"IF('All Running Order'!AW29=\"\",\"\",'All Running Order'!AW29)","v":""},{"$f":"IF('All Running Order'!AZ29=\"\",\"\",'All Running Order'!AZ29)","v":""},{"$f":"IF('All Running Order'!BA29=\"\",\"\",'All Running Order'!BA29)","v":""},{"$f":"IF('All Running Order'!BB29=\"\",\"\",'All Running Order'!BB29)","v":""},{"$f":"IF('All Running Order'!BC29=\"\",\"\",'All Running Order'!BC29)","v":""},{"$f":"IF('All Running Order'!BD29=\"\",\"\",'All Running Order'!BD29)","v":""},{"$f":"IF('All Running Order'!BE29=\"\",\"\",'All Running Order'!BE29)","v":""},{"$f":"IF('All Running Order'!BF29=\"\",\"\",'All Running Order'!BF29)","v":""},{"$f":"IF('All Running Order'!BG29=\"\",\"\",'All Running Order'!BG29)","v":""},{"$f":"IF('All Running Order'!BH29=\"\",\"\",'All Running Order'!BH29)","v":""},{"$f":"IF('All Running Order'!BI29=\"\",\"\",'All Running Order'!BI29)","v":""},{"$f":"IF('All Running Order'!BL29=\"\",\"\",'All Running Order'!BL29)","v":""},{"$f":"IF('All Running Order'!BM29=\"\",\"\",'All Running Order'!BM29)","v":""},{"$f":"IF('All Running Order'!BN29=\"\",\"\",'All Running Order'!BN29)","v":""},{"$f":"IF('All Running Order'!BO29=\"\",\"\",'All Running Order'!BO29)","v":""},{"$f":"IF('All Running Order'!BP29=\"\",\"\",'All Running Order'!BP29)","v":""},{"$f":"IF('All Running Order'!BQ29=\"\",\"\",'All Running Order'!BQ29)","v":""},{"$f":"IF('All Running Order'!BR29=\"\",\"\",'All Running Order'!BR29)","v":""},{"$f":"IF('All Running Order'!BS29=\"\",\"\",'All Running Order'!BS29)","v":""},{"$f":"IF('All Running Order'!BT29=\"\",\"\",'All Running Order'!BT29)","v":""},{"$f":"IF('All Running Order'!BU29=\"\",\"\",'All Running Order'!BU29)","v":""}]
[{"$f":"'All Running Order'!B30","v":26},{"$f":"IF('All Running Order'!C30=\"\",\"\",'All Running Order'!C30)","v":""},{"$f":"IF('All Running Order'!D30=\"\",\"\",'All Running Order'!D30)","v":""},{"$f":"IF('All Running Order'!E30=\"\",\"\",'All Running Order'!E30)","v":""},{"$f":"IF('All Running Order'!F30=\"\",\"\",'All Running Order'!F30)","v":""},{"$f":"IF('All Running Order'!G30=\"\",\"\",'All Running Order'!G30)","v":""},{"$f":"IF('All Running Order'!H30=\"\",\"\",'All Running Order'!H30)","v":""},null,{"$f":"IF('All Running Order'!Q30=\"\",\"\",'All Running Order'!Q30)","v":""},{"$f":"IF('All Running Order'!R30=\"\",\"\",'All Running Order'!R30)","v":""},{"$f":"IF('All Running Order'!S30=\"\",\"\",'All Running Order'!S30)","v":""},{"$f":"IF('All Running Order'!T30=\"\",\"\",'All Running Order'!T30)","v":""},{"$f":"IF('All Running Order'!U30=\"\",\"\",'All Running Order'!U30)","v":""},{"$f":"IF('All Running Order'!V30=\"\",\"\",'All Running Order'!V30)","v":""},{"$f":"IF('All Running Order'!W30=\"\",\"\",'All Running Order'!W30)","v":""},{"$f":"IF('All Running Order'!X30=\"\",\"\",'All Running Order'!X30)","v":""},{"$f":"IF('All Running Order'!Y30=\"\",\"\",'All Running Order'!Y30)","v":""},{"$f":"IF('All Running Order'!Z30=\"\",\"\",'All Running Order'!Z30)","v":""},{"$f":"IF('All Running Order'!AB30=\"\",\"\",'All Running Order'!AB30)","v":""},{"$f":"IF('All Running Order'!AC30=\"\",\"\",'All Running Order'!AC30)","v":""},{"$f":"IF('All Running Order'!AD30=\"\",\"\",'All Running Order'!AD30)","v":""},{"$f":"IF('All Running Order'!AE30=\"\",\"\",'All Running Order'!AE30)","v":""},{"$f":"IF('All Running Order'!AF30=\"\",\"\",'All Running Order'!AF30)","v":""},{"$f":"IF('All Running Order'!AG30=\"\",\"\",'All Running Order'!AG30)","v":""},{"$f":"IF('All Running Order'!AH30=\"\",\"\",'All Running Order'!AH30)","v":""},{"$f":"IF('All Running Order'!AI30=\"\",\"\",'All Running Order'!AI30)","v":""},{"$f":"IF('All Running Order'!AJ30=\"\",\"\",'All Running Order'!AJ30)","v":""},{"$f":"IF('All Running Order'!AK30=\"\",\"\",'All Running Order'!AK30)","v":""},{"$f":"IF('All Running Order'!AN30=\"\",\"\",'All Running Order'!AN30)","v":""},{"$f":"IF('All Running Order'!AO30=\"\",\"\",'All Running Order'!AO30)","v":""},{"$f":"IF('All Running Order'!AP30=\"\",\"\",'All Running Order'!AP30)","v":""},{"$f":"IF('All Running Order'!AQ30=\"\",\"\",'All Running Order'!AQ30)","v":""},{"$f":"IF('All Running Order'!AR30=\"\",\"\",'All Running Order'!AR30)","v":""},{"$f":"IF('All Running Order'!AS30=\"\",\"\",'All Running Order'!AS30)","v":""},{"$f":"IF('All Running Order'!AT30=\"\",\"\",'All Running Order'!AT30)","v":""},{"$f":"IF('All Running Order'!AU30=\"\",\"\",'All Running Order'!AU30)","v":""},{"$f":"IF('All Running Order'!AV30=\"\",\"\",'All Running Order'!AV30)","v":""},{"$f":"IF('All Running Order'!AW30=\"\",\"\",'All Running Order'!AW30)","v":""},{"$f":"IF('All Running Order'!AZ30=\"\",\"\",'All Running Order'!AZ30)","v":""},{"$f":"IF('All Running Order'!BA30=\"\",\"\",'All Running Order'!BA30)","v":""},{"$f":"IF('All Running Order'!BB30=\"\",\"\",'All Running Order'!BB30)","v":""},{"$f":"IF('All Running Order'!BC30=\"\",\"\",'All Running Order'!BC30)","v":""},{"$f":"IF('All Running Order'!BD30=\"\",\"\",'All Running Order'!BD30)","v":""},{"$f":"IF('All Running Order'!BE30=\"\",\"\",'All Running Order'!BE30)","v":""},{"$f":"IF('All Running Order'!BF30=\"\",\"\",'All Running Order'!BF30)","v":""},{"$f":"IF('All Running Order'!BG30=\"\",\"\",'All Running Order'!BG30)","v":""},{"$f":"IF('All Running Order'!BH30=\"\",\"\",'All Running Order'!BH30)","v":""},{"$f":"IF('All Running Order'!BI30=\"\",\"\",'All Running Order'!BI30)","v":""},{"$f":"IF('All Running Order'!BL30=\"\",\"\",'All Running Order'!BL30)","v":""},{"$f":"IF('All Running Order'!BM30=\"\",\"\",'All Running Order'!BM30)","v":""},{"$f":"IF('All Running Order'!BN30=\"\",\"\",'All Running Order'!BN30)","v":""},{"$f":"IF('All Running Order'!BO30=\"\",\"\",'All Running Order'!BO30)","v":""},{"$f":"IF('All Running Order'!BP30=\"\",\"\",'All Running Order'!BP30)","v":""},{"$f":"IF('All Running Order'!BQ30=\"\",\"\",'All Running Order'!BQ30)","v":""},{"$f":"IF('All Running Order'!BR30=\"\",\"\",'All Running Order'!BR30)","v":""},{"$f":"IF('All Running Order'!BS30=\"\",\"\",'All Running Order'!BS30)","v":""},{"$f":"IF('All Running Order'!BT30=\"\",\"\",'All Running Order'!BT30)","v":""},{"$f":"IF('All Running Order'!BU30=\"\",\"\",'All Running Order'!BU30)","v":""}]
[{"$f":"'All Running Order'!B31","v":27},{"$f":"IF('All Running Order'!C31=\"\",\"\",'All Running Order'!C31)","v":""},{"$f":"IF('All Running Order'!D31=\"\",\"\",'All Running Order'!D31)","v":""},{"$f":"IF('All Running Order'!E31=\"\",\"\",'All Running Order'!E31)","v":""},{"$f":"IF('All Running Order'!F31=\"\",\"\",'All Running Order'!F31)","v":""},{"$f":"IF('All Running Order'!G31=\"\",\"\",'All Running Order'!G31)","v":""},{"$f":"IF('All Running Order'!H31=\"\",\"\",'All Running Order'!H31)","v":""},null,{"$f":"IF('All Running Order'!Q31=\"\",\"\",'All Running Order'!Q31)","v":""},{"$f":"IF('All Running Order'!R31=\"\",\"\",'All Running Order'!R31)","v":""},{"$f":"IF('All Running Order'!S31=\"\",\"\",'All Running Order'!S31)","v":""},{"$f":"IF('All Running Order'!T31=\"\",\"\",'All Running Order'!T31)","v":""},{"$f":"IF('All Running Order'!U31=\"\",\"\",'All Running Order'!U31)","v":""},{"$f":"IF('All Running Order'!V31=\"\",\"\",'All Running Order'!V31)","v":""},{"$f":"IF('All Running Order'!W31=\"\",\"\",'All Running Order'!W31)","v":""},{"$f":"IF('All Running Order'!X31=\"\",\"\",'All Running Order'!X31)","v":""},{"$f":"IF('All Running Order'!Y31=\"\",\"\",'All Running Order'!Y31)","v":""},{"$f":"IF('All Running Order'!Z31=\"\",\"\",'All Running Order'!Z31)","v":""},{"$f":"IF('All Running Order'!AB31=\"\",\"\",'All Running Order'!AB31)","v":""},{"$f":"IF('All Running Order'!AC31=\"\",\"\",'All Running Order'!AC31)","v":""},{"$f":"IF('All Running Order'!AD31=\"\",\"\",'All Running Order'!AD31)","v":""},{"$f":"IF('All Running Order'!AE31=\"\",\"\",'All Running Order'!AE31)","v":""},{"$f":"IF('All Running Order'!AF31=\"\",\"\",'All Running Order'!AF31)","v":""},{"$f":"IF('All Running Order'!AG31=\"\",\"\",'All Running Order'!AG31)","v":""},{"$f":"IF('All Running Order'!AH31=\"\",\"\",'All Running Order'!AH31)","v":""},{"$f":"IF('All Running Order'!AI31=\"\",\"\",'All Running Order'!AI31)","v":""},{"$f":"IF('All Running Order'!AJ31=\"\",\"\",'All Running Order'!AJ31)","v":""},{"$f":"IF('All Running Order'!AK31=\"\",\"\",'All Running Order'!AK31)","v":""},{"$f":"IF('All Running Order'!AN31=\"\",\"\",'All Running Order'!AN31)","v":""},{"$f":"IF('All Running Order'!AO31=\"\",\"\",'All Running Order'!AO31)","v":""},{"$f":"IF('All Running Order'!AP31=\"\",\"\",'All Running Order'!AP31)","v":""},{"$f":"IF('All Running Order'!AQ31=\"\",\"\",'All Running Order'!AQ31)","v":""},{"$f":"IF('All Running Order'!AR31=\"\",\"\",'All Running Order'!AR31)","v":""},{"$f":"IF('All Running Order'!AS31=\"\",\"\",'All Running Order'!AS31)","v":""},{"$f":"IF('All Running Order'!AT31=\"\",\"\",'All Running Order'!AT31)","v":""},{"$f":"IF('All Running Order'!AU31=\"\",\"\",'All Running Order'!AU31)","v":""},{"$f":"IF('All Running Order'!AV31=\"\",\"\",'All Running Order'!AV31)","v":""},{"$f":"IF('All Running Order'!AW31=\"\",\"\",'All Running Order'!AW31)","v":""},{"$f":"IF('All Running Order'!AZ31=\"\",\"\",'All Running Order'!AZ31)","v":""},{"$f":"IF('All Running Order'!BA31=\"\",\"\",'All Running Order'!BA31)","v":""},{"$f":"IF('All Running Order'!BB31=\"\",\"\",'All Running Order'!BB31)","v":""},{"$f":"IF('All Running Order'!BC31=\"\",\"\",'All Running Order'!BC31)","v":""},{"$f":"IF('All Running Order'!BD31=\"\",\"\",'All Running Order'!BD31)","v":""},{"$f":"IF('All Running Order'!BE31=\"\",\"\",'All Running Order'!BE31)","v":""},{"$f":"IF('All Running Order'!BF31=\"\",\"\",'All Running Order'!BF31)","v":""},{"$f":"IF('All Running Order'!BG31=\"\",\"\",'All Running Order'!BG31)","v":""},{"$f":"IF('All Running Order'!BH31=\"\",\"\",'All Running Order'!BH31)","v":""},{"$f":"IF('All Running Order'!BI31=\"\",\"\",'All Running Order'!BI31)","v":""},{"$f":"IF('All Running Order'!BL31=\"\",\"\",'All Running Order'!BL31)","v":""},{"$f":"IF('All Running Order'!BM31=\"\",\"\",'All Running Order'!BM31)","v":""},{"$f":"IF('All Running Order'!BN31=\"\",\"\",'All Running Order'!BN31)","v":""},{"$f":"IF('All Running Order'!BO31=\"\",\"\",'All Running Order'!BO31)","v":""},{"$f":"IF('All Running Order'!BP31=\"\",\"\",'All Running Order'!BP31)","v":""},{"$f":"IF('All Running Order'!BQ31=\"\",\"\",'All Running Order'!BQ31)","v":""},{"$f":"IF('All Running Order'!BR31=\"\",\"\",'All Running Order'!BR31)","v":""},{"$f":"IF('All Running Order'!BS31=\"\",\"\",'All Running Order'!BS31)","v":""},{"$f":"IF('All Running Order'!BT31=\"\",\"\",'All Running Order'!BT31)","v":""},{"$f":"IF('All Running Order'!BU31=\"\",\"\",'All Running Order'!BU31)","v":""}]
[{"$f":"'All Running Order'!B32","v":28},{"$f":"IF('All Running Order'!C32=\"\",\"\",'All Running Order'!C32)","v":""},{"$f":"IF('All Running Order'!D32=\"\",\"\",'All Running Order'!D32)","v":""},{"$f":"IF('All Running Order'!E32=\"\",\"\",'All Running Order'!E32)","v":""},{"$f":"IF('All Running Order'!F32=\"\",\"\",'All Running Order'!F32)","v":""},{"$f":"IF('All Running Order'!G32=\"\",\"\",'All Running Order'!G32)","v":""},{"$f":"IF('All Running Order'!H32=\"\",\"\",'All Running Order'!H32)","v":""},null,{"$f":"IF('All Running Order'!Q32=\"\",\"\",'All Running Order'!Q32)","v":""},{"$f":"IF('All Running Order'!R32=\"\",\"\",'All Running Order'!R32)","v":""},{"$f":"IF('All Running Order'!S32=\"\",\"\",'All Running Order'!S32)","v":""},{"$f":"IF('All Running Order'!T32=\"\",\"\",'All Running Order'!T32)","v":""},{"$f":"IF('All Running Order'!U32=\"\",\"\",'All Running Order'!U32)","v":""},{"$f":"IF('All Running Order'!V32=\"\",\"\",'All Running Order'!V32)","v":""},{"$f":"IF('All Running Order'!W32=\"\",\"\",'All Running Order'!W32)","v":""},{"$f":"IF('All Running Order'!X32=\"\",\"\",'All Running Order'!X32)","v":""},{"$f":"IF('All Running Order'!Y32=\"\",\"\",'All Running Order'!Y32)","v":""},{"$f":"IF('All Running Order'!Z32=\"\",\"\",'All Running Order'!Z32)","v":""},{"$f":"IF('All Running Order'!AB32=\"\",\"\",'All Running Order'!AB32)","v":""},{"$f":"IF('All Running Order'!AC32=\"\",\"\",'All Running Order'!AC32)","v":""},{"$f":"IF('All Running Order'!AD32=\"\",\"\",'All Running Order'!AD32)","v":""},{"$f":"IF('All Running Order'!AE32=\"\",\"\",'All Running Order'!AE32)","v":""},{"$f":"IF('All Running Order'!AF32=\"\",\"\",'All Running Order'!AF32)","v":""},{"$f":"IF('All Running Order'!AG32=\"\",\"\",'All Running Order'!AG32)","v":""},{"$f":"IF('All Running Order'!AH32=\"\",\"\",'All Running Order'!AH32)","v":""},{"$f":"IF('All Running Order'!AI32=\"\",\"\",'All Running Order'!AI32)","v":""},{"$f":"IF('All Running Order'!AJ32=\"\",\"\",'All Running Order'!AJ32)","v":""},{"$f":"IF('All Running Order'!AK32=\"\",\"\",'All Running Order'!AK32)","v":""},{"$f":"IF('All Running Order'!AN32=\"\",\"\",'All Running Order'!AN32)","v":""},{"$f":"IF('All Running Order'!AO32=\"\",\"\",'All Running Order'!AO32)","v":""},{"$f":"IF('All Running Order'!AP32=\"\",\"\",'All Running Order'!AP32)","v":""},{"$f":"IF('All Running Order'!AQ32=\"\",\"\",'All Running Order'!AQ32)","v":""},{"$f":"IF('All Running Order'!AR32=\"\",\"\",'All Running Order'!AR32)","v":""},{"$f":"IF('All Running Order'!AS32=\"\",\"\",'All Running Order'!AS32)","v":""},{"$f":"IF('All Running Order'!AT32=\"\",\"\",'All Running Order'!AT32)","v":""},{"$f":"IF('All Running Order'!AU32=\"\",\"\",'All Running Order'!AU32)","v":""},{"$f":"IF('All Running Order'!AV32=\"\",\"\",'All Running Order'!AV32)","v":""},{"$f":"IF('All Running Order'!AW32=\"\",\"\",'All Running Order'!AW32)","v":""},{"$f":"IF('All Running Order'!AZ32=\"\",\"\",'All Running Order'!AZ32)","v":""},{"$f":"IF('All Running Order'!BA32=\"\",\"\",'All Running Order'!BA32)","v":""},{"$f":"IF('All Running Order'!BB32=\"\",\"\",'All Running Order'!BB32)","v":""},{"$f":"IF('All Running Order'!BC32=\"\",\"\",'All Running Order'!BC32)","v":""},{"$f":"IF('All Running Order'!BD32=\"\",\"\",'All Running Order'!BD32)","v":""},{"$f":"IF('All Running Order'!BE32=\"\",\"\",'All Running Order'!BE32)","v":""},{"$f":"IF('All Running Order'!BF32=\"\",\"\",'All Running Order'!BF32)","v":""},{"$f":"IF('All Running Order'!BG32=\"\",\"\",'All Running Order'!BG32)","v":""},{"$f":"IF('All Running Order'!BH32=\"\",\"\",'All Running Order'!BH32)","v":""},{"$f":"IF('All Running Order'!BI32=\"\",\"\",'All Running Order'!BI32)","v":""},{"$f":"IF('All Running Order'!BL32=\"\",\"\",'All Running Order'!BL32)","v":""},{"$f":"IF('All Running Order'!BM32=\"\",\"\",'All Running Order'!BM32)","v":""},{"$f":"IF('All Running Order'!BN32=\"\",\"\",'All Running Order'!BN32)","v":""},{"$f":"IF('All Running Order'!BO32=\"\",\"\",'All Running Order'!BO32)","v":""},{"$f":"IF('All Running Order'!BP32=\"\",\"\",'All Running Order'!BP32)","v":""},{"$f":"IF('All Running Order'!BQ32=\"\",\"\",'All Running Order'!BQ32)","v":""},{"$f":"IF('All Running Order'!BR32=\"\",\"\",'All Running Order'!BR32)","v":""},{"$f":"IF('All Running Order'!BS32=\"\",\"\",'All Running Order'!BS32)","v":""},{"$f":"IF('All Running Order'!BT32=\"\",\"\",'All Running Order'!BT32)","v":""},{"$f":"IF('All Running Order'!BU32=\"\",\"\",'All Running Order'!BU32)","v":""}]
[{"$f":"'All Running Order'!B33","v":29},{"$f":"IF('All Running Order'!C33=\"\",\"\",'All Running Order'!C33)","v":""},{"$f":"IF('All Running Order'!D33=\"\",\"\",'All Running Order'!D33)","v":""},{"$f":"IF('All Running Order'!E33=\"\",\"\",'All Running Order'!E33)","v":""},{"$f":"IF('All Running Order'!F33=\"\",\"\",'All Running Order'!F33)","v":""},{"$f":"IF('All Running Order'!G33=\"\",\"\",'All Running Order'!G33)","v":""},{"$f":"IF('All Running Order'!H33=\"\",\"\",'All Running Order'!H33)","v":""},null,{"$f":"IF('All Running Order'!Q33=\"\",\"\",'All Running Order'!Q33)","v":""},{"$f":"IF('All Running Order'!R33=\"\",\"\",'All Running Order'!R33)","v":""},{"$f":"IF('All Running Order'!S33=\"\",\"\",'All Running Order'!S33)","v":""},{"$f":"IF('All Running Order'!T33=\"\",\"\",'All Running Order'!T33)","v":""},{"$f":"IF('All Running Order'!U33=\"\",\"\",'All Running Order'!U33)","v":""},{"$f":"IF('All Running Order'!V33=\"\",\"\",'All Running Order'!V33)","v":""},{"$f":"IF('All Running Order'!W33=\"\",\"\",'All Running Order'!W33)","v":""},{"$f":"IF('All Running Order'!X33=\"\",\"\",'All Running Order'!X33)","v":""},{"$f":"IF('All Running Order'!Y33=\"\",\"\",'All Running Order'!Y33)","v":""},{"$f":"IF('All Running Order'!Z33=\"\",\"\",'All Running Order'!Z33)","v":""},{"$f":"IF('All Running Order'!AB33=\"\",\"\",'All Running Order'!AB33)","v":""},{"$f":"IF('All Running Order'!AC33=\"\",\"\",'All Running Order'!AC33)","v":""},{"$f":"IF('All Running Order'!AD33=\"\",\"\",'All Running Order'!AD33)","v":""},{"$f":"IF('All Running Order'!AE33=\"\",\"\",'All Running Order'!AE33)","v":""},{"$f":"IF('All Running Order'!AF33=\"\",\"\",'All Running Order'!AF33)","v":""},{"$f":"IF('All Running Order'!AG33=\"\",\"\",'All Running Order'!AG33)","v":""},{"$f":"IF('All Running Order'!AH33=\"\",\"\",'All Running Order'!AH33)","v":""},{"$f":"IF('All Running Order'!AI33=\"\",\"\",'All Running Order'!AI33)","v":""},{"$f":"IF('All Running Order'!AJ33=\"\",\"\",'All Running Order'!AJ33)","v":""},{"$f":"IF('All Running Order'!AK33=\"\",\"\",'All Running Order'!AK33)","v":""},{"$f":"IF('All Running Order'!AN33=\"\",\"\",'All Running Order'!AN33)","v":""},{"$f":"IF('All Running Order'!AO33=\"\",\"\",'All Running Order'!AO33)","v":""},{"$f":"IF('All Running Order'!AP33=\"\",\"\",'All Running Order'!AP33)","v":""},{"$f":"IF('All Running Order'!AQ33=\"\",\"\",'All Running Order'!AQ33)","v":""},{"$f":"IF('All Running Order'!AR33=\"\",\"\",'All Running Order'!AR33)","v":""},{"$f":"IF('All Running Order'!AS33=\"\",\"\",'All Running Order'!AS33)","v":""},{"$f":"IF('All Running Order'!AT33=\"\",\"\",'All Running Order'!AT33)","v":""},{"$f":"IF('All Running Order'!AU33=\"\",\"\",'All Running Order'!AU33)","v":""},{"$f":"IF('All Running Order'!AV33=\"\",\"\",'All Running Order'!AV33)","v":""},{"$f":"IF('All Running Order'!AW33=\"\",\"\",'All Running Order'!AW33)","v":""},{"$f":"IF('All Running Order'!AZ33=\"\",\"\",'All Running Order'!AZ33)","v":""},{"$f":"IF('All Running Order'!BA33=\"\",\"\",'All Running Order'!BA33)","v":""},{"$f":"IF('All Running Order'!BB33=\"\",\"\",'All Running Order'!BB33)","v":""},{"$f":"IF('All Running Order'!BC33=\"\",\"\",'All Running Order'!BC33)","v":""},{"$f":"IF('All Running Order'!BD33=\"\",\"\",'All Running Order'!BD33)","v":""},{"$f":"IF('All Running Order'!BE33=\"\",\"\",'All Running Order'!BE33)","v":""},{"$f":"IF('All Running Order'!BF33=\"\",\"\",'All Running Order'!BF33)","v":""},{"$f":"IF('All Running Order'!BG33=\"\",\"\",'All Running Order'!BG33)","v":""},{"$f":"IF('All Running Order'!BH33=\"\",\"\",'All Running Order'!BH33)","v":""},{"$f":"IF('All Running Order'!BI33=\"\",\"\",'All Running Order'!BI33)","v":""},{"$f":"IF('All Running Order'!BL33=\"\",\"\",'All Running Order'!BL33)","v":""},{"$f":"IF('All Running Order'!BM33=\"\",\"\",'All Running Order'!BM33)","v":""},{"$f":"IF('All Running Order'!BN33=\"\",\"\",'All Running Order'!BN33)","v":""},{"$f":"IF('All Running Order'!BO33=\"\",\"\",'All Running Order'!BO33)","v":""},{"$f":"IF('All Running Order'!BP33=\"\",\"\",'All Running Order'!BP33)","v":""},{"$f":"IF('All Running Order'!BQ33=\"\",\"\",'All Running Order'!BQ33)","v":""},{"$f":"IF('All Running Order'!BR33=\"\",\"\",'All Running Order'!BR33)","v":""},{"$f":"IF('All Running Order'!BS33=\"\",\"\",'All Running Order'!BS33)","v":""},{"$f":"IF('All Running Order'!BT33=\"\",\"\",'All Running Order'!BT33)","v":""},{"$f":"IF('All Running Order'!BU33=\"\",\"\",'All Running Order'!BU33)","v":""}]
[{"$f":"'All Running Order'!B34","v":30},{"$f":"IF('All Running Order'!C34=\"\",\"\",'All Running Order'!C34)","v":""},{"$f":"IF('All Running Order'!D34=\"\",\"\",'All Running Order'!D34)","v":""},{"$f":"IF('All Running Order'!E34=\"\",\"\",'All Running Order'!E34)","v":""},{"$f":"IF('All Running Order'!F34=\"\",\"\",'All Running Order'!F34)","v":""},{"$f":"IF('All Running Order'!G34=\"\",\"\",'All Running Order'!G34)","v":""},{"$f":"IF('All Running Order'!H34=\"\",\"\",'All Running Order'!H34)","v":""},null,{"$f":"IF('All Running Order'!Q34=\"\",\"\",'All Running Order'!Q34)","v":""},{"$f":"IF('All Running Order'!R34=\"\",\"\",'All Running Order'!R34)","v":""},{"$f":"IF('All Running Order'!S34=\"\",\"\",'All Running Order'!S34)","v":""},{"$f":"IF('All Running Order'!T34=\"\",\"\",'All Running Order'!T34)","v":""},{"$f":"IF('All Running Order'!U34=\"\",\"\",'All Running Order'!U34)","v":""},{"$f":"IF('All Running Order'!V34=\"\",\"\",'All Running Order'!V34)","v":""},{"$f":"IF('All Running Order'!W34=\"\",\"\",'All Running Order'!W34)","v":""},{"$f":"IF('All Running Order'!X34=\"\",\"\",'All Running Order'!X34)","v":""},{"$f":"IF('All Running Order'!Y34=\"\",\"\",'All Running Order'!Y34)","v":""},{"$f":"IF('All Running Order'!Z34=\"\",\"\",'All Running Order'!Z34)","v":""},{"$f":"IF('All Running Order'!AB34=\"\",\"\",'All Running Order'!AB34)","v":""},{"$f":"IF('All Running Order'!AC34=\"\",\"\",'All Running Order'!AC34)","v":""},{"$f":"IF('All Running Order'!AD34=\"\",\"\",'All Running Order'!AD34)","v":""},{"$f":"IF('All Running Order'!AE34=\"\",\"\",'All Running Order'!AE34)","v":""},{"$f":"IF('All Running Order'!AF34=\"\",\"\",'All Running Order'!AF34)","v":""},{"$f":"IF('All Running Order'!AG34=\"\",\"\",'All Running Order'!AG34)","v":""},{"$f":"IF('All Running Order'!AH34=\"\",\"\",'All Running Order'!AH34)","v":""},{"$f":"IF('All Running Order'!AI34=\"\",\"\",'All Running Order'!AI34)","v":""},{"$f":"IF('All Running Order'!AJ34=\"\",\"\",'All Running Order'!AJ34)","v":""},{"$f":"IF('All Running Order'!AK34=\"\",\"\",'All Running Order'!AK34)","v":""},{"$f":"IF('All Running Order'!AN34=\"\",\"\",'All Running Order'!AN34)","v":""},{"$f":"IF('All Running Order'!AO34=\"\",\"\",'All Running Order'!AO34)","v":""},{"$f":"IF('All Running Order'!AP34=\"\",\"\",'All Running Order'!AP34)","v":""},{"$f":"IF('All Running Order'!AQ34=\"\",\"\",'All Running Order'!AQ34)","v":""},{"$f":"IF('All Running Order'!AR34=\"\",\"\",'All Running Order'!AR34)","v":""},{"$f":"IF('All Running Order'!AS34=\"\",\"\",'All Running Order'!AS34)","v":""},{"$f":"IF('All Running Order'!AT34=\"\",\"\",'All Running Order'!AT34)","v":""},{"$f":"IF('All Running Order'!AU34=\"\",\"\",'All Running Order'!AU34)","v":""},{"$f":"IF('All Running Order'!AV34=\"\",\"\",'All Running Order'!AV34)","v":""},{"$f":"IF('All Running Order'!AW34=\"\",\"\",'All Running Order'!AW34)","v":""},{"$f":"IF('All Running Order'!AZ34=\"\",\"\",'All Running Order'!AZ34)","v":""},{"$f":"IF('All Running Order'!BA34=\"\",\"\",'All Running Order'!BA34)","v":""},{"$f":"IF('All Running Order'!BB34=\"\",\"\",'All Running Order'!BB34)","v":""},{"$f":"IF('All Running Order'!BC34=\"\",\"\",'All Running Order'!BC34)","v":""},{"$f":"IF('All Running Order'!BD34=\"\",\"\",'All Running Order'!BD34)","v":""},{"$f":"IF('All Running Order'!BE34=\"\",\"\",'All Running Order'!BE34)","v":""},{"$f":"IF('All Running Order'!BF34=\"\",\"\",'All Running Order'!BF34)","v":""},{"$f":"IF('All Running Order'!BG34=\"\",\"\",'All Running Order'!BG34)","v":""},{"$f":"IF('All Running Order'!BH34=\"\",\"\",'All Running Order'!BH34)","v":""},{"$f":"IF('All Running Order'!BI34=\"\",\"\",'All Running Order'!BI34)","v":""},{"$f":"IF('All Running Order'!BL34=\"\",\"\",'All Running Order'!BL34)","v":""},{"$f":"IF('All Running Order'!BM34=\"\",\"\",'All Running Order'!BM34)","v":""},{"$f":"IF('All Running Order'!BN34=\"\",\"\",'All Running Order'!BN34)","v":""},{"$f":"IF('All Running Order'!BO34=\"\",\"\",'All Running Order'!BO34)","v":""},{"$f":"IF('All Running Order'!BP34=\"\",\"\",'All Running Order'!BP34)","v":""},{"$f":"IF('All Running Order'!BQ34=\"\",\"\",'All Running Order'!BQ34)","v":""},{"$f":"IF('All Running Order'!BR34=\"\",\"\",'All Running Order'!BR34)","v":""},{"$f":"IF('All Running Order'!BS34=\"\",\"\",'All Running Order'!BS34)","v":""},{"$f":"IF('All Running Order'!BT34=\"\",\"\",'All Running Order'!BT34)","v":""},{"$f":"IF('All Running Order'!BU34=\"\",\"\",'All Running Order'!BU34)","v":""}]
[{"$f":"'All Running Order'!B35","v":31},{"$f":"IF('All Running Order'!C35=\"\",\"\",'All Running Order'!C35)","v":""},{"$f":"IF('All Running Order'!D35=\"\",\"\",'All Running Order'!D35)","v":""},{"$f":"IF('All Running Order'!E35=\"\",\"\",'All Running Order'!E35)","v":""},{"$f":"IF('All Running Order'!F35=\"\",\"\",'All Running Order'!F35)","v":""},{"$f":"IF('All Running Order'!G35=\"\",\"\",'All Running Order'!G35)","v":""},{"$f":"IF('All Running Order'!H35=\"\",\"\",'All Running Order'!H35)","v":""},null,{"$f":"IF('All Running Order'!Q35=\"\",\"\",'All Running Order'!Q35)","v":""},{"$f":"IF('All Running Order'!R35=\"\",\"\",'All Running Order'!R35)","v":""},{"$f":"IF('All Running Order'!S35=\"\",\"\",'All Running Order'!S35)","v":""},{"$f":"IF('All Running Order'!T35=\"\",\"\",'All Running Order'!T35)","v":""},{"$f":"IF('All Running Order'!U35=\"\",\"\",'All Running Order'!U35)","v":""},{"$f":"IF('All Running Order'!V35=\"\",\"\",'All Running Order'!V35)","v":""},{"$f":"IF('All Running Order'!W35=\"\",\"\",'All Running Order'!W35)","v":""},{"$f":"IF('All Running Order'!X35=\"\",\"\",'All Running Order'!X35)","v":""},{"$f":"IF('All Running Order'!Y35=\"\",\"\",'All Running Order'!Y35)","v":""},{"$f":"IF('All Running Order'!Z35=\"\",\"\",'All Running Order'!Z35)","v":""},{"$f":"IF('All Running Order'!AB35=\"\",\"\",'All Running Order'!AB35)","v":""},{"$f":"IF('All Running Order'!AC35=\"\",\"\",'All Running Order'!AC35)","v":""},{"$f":"IF('All Running Order'!AD35=\"\",\"\",'All Running Order'!AD35)","v":""},{"$f":"IF('All Running Order'!AE35=\"\",\"\",'All Running Order'!AE35)","v":""},{"$f":"IF('All Running Order'!AF35=\"\",\"\",'All Running Order'!AF35)","v":""},{"$f":"IF('All Running Order'!AG35=\"\",\"\",'All Running Order'!AG35)","v":""},{"$f":"IF('All Running Order'!AH35=\"\",\"\",'All Running Order'!AH35)","v":""},{"$f":"IF('All Running Order'!AI35=\"\",\"\",'All Running Order'!AI35)","v":""},{"$f":"IF('All Running Order'!AJ35=\"\",\"\",'All Running Order'!AJ35)","v":""},{"$f":"IF('All Running Order'!AK35=\"\",\"\",'All Running Order'!AK35)","v":""},{"$f":"IF('All Running Order'!AN35=\"\",\"\",'All Running Order'!AN35)","v":""},{"$f":"IF('All Running Order'!AO35=\"\",\"\",'All Running Order'!AO35)","v":""},{"$f":"IF('All Running Order'!AP35=\"\",\"\",'All Running Order'!AP35)","v":""},{"$f":"IF('All Running Order'!AQ35=\"\",\"\",'All Running Order'!AQ35)","v":""},{"$f":"IF('All Running Order'!AR35=\"\",\"\",'All Running Order'!AR35)","v":""},{"$f":"IF('All Running Order'!AS35=\"\",\"\",'All Running Order'!AS35)","v":""},{"$f":"IF('All Running Order'!AT35=\"\",\"\",'All Running Order'!AT35)","v":""},{"$f":"IF('All Running Order'!AU35=\"\",\"\",'All Running Order'!AU35)","v":""},{"$f":"IF('All Running Order'!AV35=\"\",\"\",'All Running Order'!AV35)","v":""},{"$f":"IF('All Running Order'!AW35=\"\",\"\",'All Running Order'!AW35)","v":""},{"$f":"IF('All Running Order'!AZ35=\"\",\"\",'All Running Order'!AZ35)","v":""},{"$f":"IF('All Running Order'!BA35=\"\",\"\",'All Running Order'!BA35)","v":""},{"$f":"IF('All Running Order'!BB35=\"\",\"\",'All Running Order'!BB35)","v":""},{"$f":"IF('All Running Order'!BC35=\"\",\"\",'All Running Order'!BC35)","v":""},{"$f":"IF('All Running Order'!BD35=\"\",\"\",'All Running Order'!BD35)","v":""},{"$f":"IF('All Running Order'!BE35=\"\",\"\",'All Running Order'!BE35)","v":""},{"$f":"IF('All Running Order'!BF35=\"\",\"\",'All Running Order'!BF35)","v":""},{"$f":"IF('All Running Order'!BG35=\"\",\"\",'All Running Order'!BG35)","v":""},{"$f":"IF('All Running Order'!BH35=\"\",\"\",'All Running Order'!BH35)","v":""},{"$f":"IF('All Running Order'!BI35=\"\",\"\",'All Running Order'!BI35)","v":""},{"$f":"IF('All Running Order'!BL35=\"\",\"\",'All Running Order'!BL35)","v":""},{"$f":"IF('All Running Order'!BM35=\"\",\"\",'All Running Order'!BM35)","v":""},{"$f":"IF('All Running Order'!BN35=\"\",\"\",'All Running Order'!BN35)","v":""},{"$f":"IF('All Running Order'!BO35=\"\",\"\",'All Running Order'!BO35)","v":""},{"$f":"IF('All Running Order'!BP35=\"\",\"\",'All Running Order'!BP35)","v":""},{"$f":"IF('All Running Order'!BQ35=\"\",\"\",'All Running Order'!BQ35)","v":""},{"$f":"IF('All Running Order'!BR35=\"\",\"\",'All Running Order'!BR35)","v":""},{"$f":"IF('All Running Order'!BS35=\"\",\"\",'All Running Order'!BS35)","v":""},{"$f":"IF('All Running Order'!BT35=\"\",\"\",'All Running Order'!BT35)","v":""},{"$f":"IF('All Running Order'!BU35=\"\",\"\",'All Running Order'!BU35)","v":""}]
[{"$f":"'All Running Order'!B36","v":32},{"$f":"IF('All Running Order'!C36=\"\",\"\",'All Running Order'!C36)","v":""},{"$f":"IF('All Running Order'!D36=\"\",\"\",'All Running Order'!D36)","v":""},{"$f":"IF('All Running Order'!E36=\"\",\"\",'All Running Order'!E36)","v":""},{"$f":"IF('All Running Order'!F36=\"\",\"\",'All Running Order'!F36)","v":""},{"$f":"IF('All Running Order'!G36=\"\",\"\",'All Running Order'!G36)","v":""},{"$f":"IF('All Running Order'!H36=\"\",\"\",'All Running Order'!H36)","v":""},null,{"$f":"IF('All Running Order'!Q36=\"\",\"\",'All Running Order'!Q36)","v":""},{"$f":"IF('All Running Order'!R36=\"\",\"\",'All Running Order'!R36)","v":""},{"$f":"IF('All Running Order'!S36=\"\",\"\",'All Running Order'!S36)","v":""},{"$f":"IF('All Running Order'!T36=\"\",\"\",'All Running Order'!T36)","v":""},{"$f":"IF('All Running Order'!U36=\"\",\"\",'All Running Order'!U36)","v":""},{"$f":"IF('All Running Order'!V36=\"\",\"\",'All Running Order'!V36)","v":""},{"$f":"IF('All Running Order'!W36=\"\",\"\",'All Running Order'!W36)","v":""},{"$f":"IF('All Running Order'!X36=\"\",\"\",'All Running Order'!X36)","v":""},{"$f":"IF('All Running Order'!Y36=\"\",\"\",'All Running Order'!Y36)","v":""},{"$f":"IF('All Running Order'!Z36=\"\",\"\",'All Running Order'!Z36)","v":""},{"$f":"IF('All Running Order'!AB36=\"\",\"\",'All Running Order'!AB36)","v":""},{"$f":"IF('All Running Order'!AC36=\"\",\"\",'All Running Order'!AC36)","v":""},{"$f":"IF('All Running Order'!AD36=\"\",\"\",'All Running Order'!AD36)","v":""},{"$f":"IF('All Running Order'!AE36=\"\",\"\",'All Running Order'!AE36)","v":""},{"$f":"IF('All Running Order'!AF36=\"\",\"\",'All Running Order'!AF36)","v":""},{"$f":"IF('All Running Order'!AG36=\"\",\"\",'All Running Order'!AG36)","v":""},{"$f":"IF('All Running Order'!AH36=\"\",\"\",'All Running Order'!AH36)","v":""},{"$f":"IF('All Running Order'!AI36=\"\",\"\",'All Running Order'!AI36)","v":""},{"$f":"IF('All Running Order'!AJ36=\"\",\"\",'All Running Order'!AJ36)","v":""},{"$f":"IF('All Running Order'!AK36=\"\",\"\",'All Running Order'!AK36)","v":""},{"$f":"IF('All Running Order'!AN36=\"\",\"\",'All Running Order'!AN36)","v":""},{"$f":"IF('All Running Order'!AO36=\"\",\"\",'All Running Order'!AO36)","v":""},{"$f":"IF('All Running Order'!AP36=\"\",\"\",'All Running Order'!AP36)","v":""},{"$f":"IF('All Running Order'!AQ36=\"\",\"\",'All Running Order'!AQ36)","v":""},{"$f":"IF('All Running Order'!AR36=\"\",\"\",'All Running Order'!AR36)","v":""},{"$f":"IF('All Running Order'!AS36=\"\",\"\",'All Running Order'!AS36)","v":""},{"$f":"IF('All Running Order'!AT36=\"\",\"\",'All Running Order'!AT36)","v":""},{"$f":"IF('All Running Order'!AU36=\"\",\"\",'All Running Order'!AU36)","v":""},{"$f":"IF('All Running Order'!AV36=\"\",\"\",'All Running Order'!AV36)","v":""},{"$f":"IF('All Running Order'!AW36=\"\",\"\",'All Running Order'!AW36)","v":""},{"$f":"IF('All Running Order'!AZ36=\"\",\"\",'All Running Order'!AZ36)","v":""},{"$f":"IF('All Running Order'!BA36=\"\",\"\",'All Running Order'!BA36)","v":""},{"$f":"IF('All Running Order'!BB36=\"\",\"\",'All Running Order'!BB36)","v":""},{"$f":"IF('All Running Order'!BC36=\"\",\"\",'All Running Order'!BC36)","v":""},{"$f":"IF('All Running Order'!BD36=\"\",\"\",'All Running Order'!BD36)","v":""},{"$f":"IF('All Running Order'!BE36=\"\",\"\",'All Running Order'!BE36)","v":""},{"$f":"IF('All Running Order'!BF36=\"\",\"\",'All Running Order'!BF36)","v":""},{"$f":"IF('All Running Order'!BG36=\"\",\"\",'All Running Order'!BG36)","v":""},{"$f":"IF('All Running Order'!BH36=\"\",\"\",'All Running Order'!BH36)","v":""},{"$f":"IF('All Running Order'!BI36=\"\",\"\",'All Running Order'!BI36)","v":""},{"$f":"IF('All Running Order'!BL36=\"\",\"\",'All Running Order'!BL36)","v":""},{"$f":"IF('All Running Order'!BM36=\"\",\"\",'All Running Order'!BM36)","v":""},{"$f":"IF('All Running Order'!BN36=\"\",\"\",'All Running Order'!BN36)","v":""},{"$f":"IF('All Running Order'!BO36=\"\",\"\",'All Running Order'!BO36)","v":""},{"$f":"IF('All Running Order'!BP36=\"\",\"\",'All Running Order'!BP36)","v":""},{"$f":"IF('All Running Order'!BQ36=\"\",\"\",'All Running Order'!BQ36)","v":""},{"$f":"IF('All Running Order'!BR36=\"\",\"\",'All Running Order'!BR36)","v":""},{"$f":"IF('All Running Order'!BS36=\"\",\"\",'All Running Order'!BS36)","v":""},{"$f":"IF('All Running Order'!BT36=\"\",\"\",'All Running Order'!BT36)","v":""},{"$f":"IF('All Running Order'!BU36=\"\",\"\",'All Running Order'!BU36)","v":""}]
[{"$f":"'All Running Order'!B37","v":33},{"$f":"IF('All Running Order'!C37=\"\",\"\",'All Running Order'!C37)","v":""},{"$f":"IF('All Running Order'!D37=\"\",\"\",'All Running Order'!D37)","v":""},{"$f":"IF('All Running Order'!E37=\"\",\"\",'All Running Order'!E37)","v":""},{"$f":"IF('All Running Order'!F37=\"\",\"\",'All Running Order'!F37)","v":""},{"$f":"IF('All Running Order'!G37=\"\",\"\",'All Running Order'!G37)","v":""},{"$f":"IF('All Running Order'!H37=\"\",\"\",'All Running Order'!H37)","v":""},null,{"$f":"IF('All Running Order'!Q37=\"\",\"\",'All Running Order'!Q37)","v":""},{"$f":"IF('All Running Order'!R37=\"\",\"\",'All Running Order'!R37)","v":""},{"$f":"IF('All Running Order'!S37=\"\",\"\",'All Running Order'!S37)","v":""},{"$f":"IF('All Running Order'!T37=\"\",\"\",'All Running Order'!T37)","v":""},{"$f":"IF('All Running Order'!U37=\"\",\"\",'All Running Order'!U37)","v":""},{"$f":"IF('All Running Order'!V37=\"\",\"\",'All Running Order'!V37)","v":""},{"$f":"IF('All Running Order'!W37=\"\",\"\",'All Running Order'!W37)","v":""},{"$f":"IF('All Running Order'!X37=\"\",\"\",'All Running Order'!X37)","v":""},{"$f":"IF('All Running Order'!Y37=\"\",\"\",'All Running Order'!Y37)","v":""},{"$f":"IF('All Running Order'!Z37=\"\",\"\",'All Running Order'!Z37)","v":""},{"$f":"IF('All Running Order'!AB37=\"\",\"\",'All Running Order'!AB37)","v":""},{"$f":"IF('All Running Order'!AC37=\"\",\"\",'All Running Order'!AC37)","v":""},{"$f":"IF('All Running Order'!AD37=\"\",\"\",'All Running Order'!AD37)","v":""},{"$f":"IF('All Running Order'!AE37=\"\",\"\",'All Running Order'!AE37)","v":""},{"$f":"IF('All Running Order'!AF37=\"\",\"\",'All Running Order'!AF37)","v":""},{"$f":"IF('All Running Order'!AG37=\"\",\"\",'All Running Order'!AG37)","v":""},{"$f":"IF('All Running Order'!AH37=\"\",\"\",'All Running Order'!AH37)","v":""},{"$f":"IF('All Running Order'!AI37=\"\",\"\",'All Running Order'!AI37)","v":""},{"$f":"IF('All Running Order'!AJ37=\"\",\"\",'All Running Order'!AJ37)","v":""},{"$f":"IF('All Running Order'!AK37=\"\",\"\",'All Running Order'!AK37)","v":""},{"$f":"IF('All Running Order'!AN37=\"\",\"\",'All Running Order'!AN37)","v":""},{"$f":"IF('All Running Order'!AO37=\"\",\"\",'All Running Order'!AO37)","v":""},{"$f":"IF('All Running Order'!AP37=\"\",\"\",'All Running Order'!AP37)","v":""},{"$f":"IF('All Running Order'!AQ37=\"\",\"\",'All Running Order'!AQ37)","v":""},{"$f":"IF('All Running Order'!AR37=\"\",\"\",'All Running Order'!AR37)","v":""},{"$f":"IF('All Running Order'!AS37=\"\",\"\",'All Running Order'!AS37)","v":""},{"$f":"IF('All Running Order'!AT37=\"\",\"\",'All Running Order'!AT37)","v":""},{"$f":"IF('All Running Order'!AU37=\"\",\"\",'All Running Order'!AU37)","v":""},{"$f":"IF('All Running Order'!AV37=\"\",\"\",'All Running Order'!AV37)","v":""},{"$f":"IF('All Running Order'!AW37=\"\",\"\",'All Running Order'!AW37)","v":""},{"$f":"IF('All Running Order'!AZ37=\"\",\"\",'All Running Order'!AZ37)","v":""},{"$f":"IF('All Running Order'!BA37=\"\",\"\",'All Running Order'!BA37)","v":""},{"$f":"IF('All Running Order'!BB37=\"\",\"\",'All Running Order'!BB37)","v":""},{"$f":"IF('All Running Order'!BC37=\"\",\"\",'All Running Order'!BC37)","v":""},{"$f":"IF('All Running Order'!BD37=\"\",\"\",'All Running Order'!BD37)","v":""},{"$f":"IF('All Running Order'!BE37=\"\",\"\",'All Running Order'!BE37)","v":""},{"$f":"IF('All Running Order'!BF37=\"\",\"\",'All Running Order'!BF37)","v":""},{"$f":"IF('All Running Order'!BG37=\"\",\"\",'All Running Order'!BG37)","v":""},{"$f":"IF('All Running Order'!BH37=\"\",\"\",'All Running Order'!BH37)","v":""},{"$f":"IF('All Running Order'!BI37=\"\",\"\",'All Running Order'!BI37)","v":""},{"$f":"IF('All Running Order'!BL37=\"\",\"\",'All Running Order'!BL37)","v":""},{"$f":"IF('All Running Order'!BM37=\"\",\"\",'All Running Order'!BM37)","v":""},{"$f":"IF('All Running Order'!BN37=\"\",\"\",'All Running Order'!BN37)","v":""},{"$f":"IF('All Running Order'!BO37=\"\",\"\",'All Running Order'!BO37)","v":""},{"$f":"IF('All Running Order'!BP37=\"\",\"\",'All Running Order'!BP37)","v":""},{"$f":"IF('All Running Order'!BQ37=\"\",\"\",'All Running Order'!BQ37)","v":""},{"$f":"IF('All Running Order'!BR37=\"\",\"\",'All Running Order'!BR37)","v":""},{"$f":"IF('All Running Order'!BS37=\"\",\"\",'All Running Order'!BS37)","v":""},{"$f":"IF('All Running Order'!BT37=\"\",\"\",'All Running Order'!BT37)","v":""},{"$f":"IF('All Running Order'!BU37=\"\",\"\",'All Running Order'!BU37)","v":""}]
[{"$f":"'All Running Order'!B38","v":34},{"$f":"IF('All Running Order'!C38=\"\",\"\",'All Running Order'!C38)","v":""},{"$f":"IF('All Running Order'!D38=\"\",\"\",'All Running Order'!D38)","v":""},{"$f":"IF('All Running Order'!E38=\"\",\"\",'All Running Order'!E38)","v":""},{"$f":"IF('All Running Order'!F38=\"\",\"\",'All Running Order'!F38)","v":""},{"$f":"IF('All Running Order'!G38=\"\",\"\",'All Running Order'!G38)","v":""},{"$f":"IF('All Running Order'!H38=\"\",\"\",'All Running Order'!H38)","v":""},null,{"$f":"IF('All Running Order'!Q38=\"\",\"\",'All Running Order'!Q38)","v":""},{"$f":"IF('All Running Order'!R38=\"\",\"\",'All Running Order'!R38)","v":""},{"$f":"IF('All Running Order'!S38=\"\",\"\",'All Running Order'!S38)","v":""},{"$f":"IF('All Running Order'!T38=\"\",\"\",'All Running Order'!T38)","v":""},{"$f":"IF('All Running Order'!U38=\"\",\"\",'All Running Order'!U38)","v":""},{"$f":"IF('All Running Order'!V38=\"\",\"\",'All Running Order'!V38)","v":""},{"$f":"IF('All Running Order'!W38=\"\",\"\",'All Running Order'!W38)","v":""},{"$f":"IF('All Running Order'!X38=\"\",\"\",'All Running Order'!X38)","v":""},{"$f":"IF('All Running Order'!Y38=\"\",\"\",'All Running Order'!Y38)","v":""},{"$f":"IF('All Running Order'!Z38=\"\",\"\",'All Running Order'!Z38)","v":""},{"$f":"IF('All Running Order'!AB38=\"\",\"\",'All Running Order'!AB38)","v":""},{"$f":"IF('All Running Order'!AC38=\"\",\"\",'All Running Order'!AC38)","v":""},{"$f":"IF('All Running Order'!AD38=\"\",\"\",'All Running Order'!AD38)","v":""},{"$f":"IF('All Running Order'!AE38=\"\",\"\",'All Running Order'!AE38)","v":""},{"$f":"IF('All Running Order'!AF38=\"\",\"\",'All Running Order'!AF38)","v":""},{"$f":"IF('All Running Order'!AG38=\"\",\"\",'All Running Order'!AG38)","v":""},{"$f":"IF('All Running Order'!AH38=\"\",\"\",'All Running Order'!AH38)","v":""},{"$f":"IF('All Running Order'!AI38=\"\",\"\",'All Running Order'!AI38)","v":""},{"$f":"IF('All Running Order'!AJ38=\"\",\"\",'All Running Order'!AJ38)","v":""},{"$f":"IF('All Running Order'!AK38=\"\",\"\",'All Running Order'!AK38)","v":""},{"$f":"IF('All Running Order'!AN38=\"\",\"\",'All Running Order'!AN38)","v":""},{"$f":"IF('All Running Order'!AO38=\"\",\"\",'All Running Order'!AO38)","v":""},{"$f":"IF('All Running Order'!AP38=\"\",\"\",'All Running Order'!AP38)","v":""},{"$f":"IF('All Running Order'!AQ38=\"\",\"\",'All Running Order'!AQ38)","v":""},{"$f":"IF('All Running Order'!AR38=\"\",\"\",'All Running Order'!AR38)","v":""},{"$f":"IF('All Running Order'!AS38=\"\",\"\",'All Running Order'!AS38)","v":""},{"$f":"IF('All Running Order'!AT38=\"\",\"\",'All Running Order'!AT38)","v":""},{"$f":"IF('All Running Order'!AU38=\"\",\"\",'All Running Order'!AU38)","v":""},{"$f":"IF('All Running Order'!AV38=\"\",\"\",'All Running Order'!AV38)","v":""},{"$f":"IF('All Running Order'!AW38=\"\",\"\",'All Running Order'!AW38)","v":""},{"$f":"IF('All Running Order'!AZ38=\"\",\"\",'All Running Order'!AZ38)","v":""},{"$f":"IF('All Running Order'!BA38=\"\",\"\",'All Running Order'!BA38)","v":""},{"$f":"IF('All Running Order'!BB38=\"\",\"\",'All Running Order'!BB38)","v":""},{"$f":"IF('All Running Order'!BC38=\"\",\"\",'All Running Order'!BC38)","v":""},{"$f":"IF('All Running Order'!BD38=\"\",\"\",'All Running Order'!BD38)","v":""},{"$f":"IF('All Running Order'!BE38=\"\",\"\",'All Running Order'!BE38)","v":""},{"$f":"IF('All Running Order'!BF38=\"\",\"\",'All Running Order'!BF38)","v":""},{"$f":"IF('All Running Order'!BG38=\"\",\"\",'All Running Order'!BG38)","v":""},{"$f":"IF('All Running Order'!BH38=\"\",\"\",'All Running Order'!BH38)","v":""},{"$f":"IF('All Running Order'!BI38=\"\",\"\",'All Running Order'!BI38)","v":""},{"$f":"IF('All Running Order'!BL38=\"\",\"\",'All Running Order'!BL38)","v":""},{"$f":"IF('All Running Order'!BM38=\"\",\"\",'All Running Order'!BM38)","v":""},{"$f":"IF('All Running Order'!BN38=\"\",\"\",'All Running Order'!BN38)","v":""},{"$f":"IF('All Running Order'!BO38=\"\",\"\",'All Running Order'!BO38)","v":""},{"$f":"IF('All Running Order'!BP38=\"\",\"\",'All Running Order'!BP38)","v":""},{"$f":"IF('All Running Order'!BQ38=\"\",\"\",'All Running Order'!BQ38)","v":""},{"$f":"IF('All Running Order'!BR38=\"\",\"\",'All Running Order'!BR38)","v":""},{"$f":"IF('All Running Order'!BS38=\"\",\"\",'All Running Order'!BS38)","v":""},{"$f":"IF('All Running Order'!BT38=\"\",\"\",'All Running Order'!BT38)","v":""},{"$f":"IF('All Running Order'!BU38=\"\",\"\",'All Running Order'!BU38)","v":""}]
[{"$f":"'All Running Order'!B39","v":35},{"$f":"IF('All Running Order'!C39=\"\",\"\",'All Running Order'!C39)","v":""},{"$f":"IF('All Running Order'!D39=\"\",\"\",'All Running Order'!D39)","v":""},{"$f":"IF('All Running Order'!E39=\"\",\"\",'All Running Order'!E39)","v":""},{"$f":"IF('All Running Order'!F39=\"\",\"\",'All Running Order'!F39)","v":""},{"$f":"IF('All Running Order'!G39=\"\",\"\",'All Running Order'!G39)","v":""},{"$f":"IF('All Running Order'!H39=\"\",\"\",'All Running Order'!H39)","v":""},null,{"$f":"IF('All Running Order'!Q39=\"\",\"\",'All Running Order'!Q39)","v":""},{"$f":"IF('All Running Order'!R39=\"\",\"\",'All Running Order'!R39)","v":""},{"$f":"IF('All Running Order'!S39=\"\",\"\",'All Running Order'!S39)","v":""},{"$f":"IF('All Running Order'!T39=\"\",\"\",'All Running Order'!T39)","v":""},{"$f":"IF('All Running Order'!U39=\"\",\"\",'All Running Order'!U39)","v":""},{"$f":"IF('All Running Order'!V39=\"\",\"\",'All Running Order'!V39)","v":""},{"$f":"IF('All Running Order'!W39=\"\",\"\",'All Running Order'!W39)","v":""},{"$f":"IF('All Running Order'!X39=\"\",\"\",'All Running Order'!X39)","v":""},{"$f":"IF('All Running Order'!Y39=\"\",\"\",'All Running Order'!Y39)","v":""},{"$f":"IF('All Running Order'!Z39=\"\",\"\",'All Running Order'!Z39)","v":""},{"$f":"IF('All Running Order'!AB39=\"\",\"\",'All Running Order'!AB39)","v":""},{"$f":"IF('All Running Order'!AC39=\"\",\"\",'All Running Order'!AC39)","v":""},{"$f":"IF('All Running Order'!AD39=\"\",\"\",'All Running Order'!AD39)","v":""},{"$f":"IF('All Running Order'!AE39=\"\",\"\",'All Running Order'!AE39)","v":""},{"$f":"IF('All Running Order'!AF39=\"\",\"\",'All Running Order'!AF39)","v":""},{"$f":"IF('All Running Order'!AG39=\"\",\"\",'All Running Order'!AG39)","v":""},{"$f":"IF('All Running Order'!AH39=\"\",\"\",'All Running Order'!AH39)","v":""},{"$f":"IF('All Running Order'!AI39=\"\",\"\",'All Running Order'!AI39)","v":""},{"$f":"IF('All Running Order'!AJ39=\"\",\"\",'All Running Order'!AJ39)","v":""},{"$f":"IF('All Running Order'!AK39=\"\",\"\",'All Running Order'!AK39)","v":""},{"$f":"IF('All Running Order'!AN39=\"\",\"\",'All Running Order'!AN39)","v":""},{"$f":"IF('All Running Order'!AO39=\"\",\"\",'All Running Order'!AO39)","v":""},{"$f":"IF('All Running Order'!AP39=\"\",\"\",'All Running Order'!AP39)","v":""},{"$f":"IF('All Running Order'!AQ39=\"\",\"\",'All Running Order'!AQ39)","v":""},{"$f":"IF('All Running Order'!AR39=\"\",\"\",'All Running Order'!AR39)","v":""},{"$f":"IF('All Running Order'!AS39=\"\",\"\",'All Running Order'!AS39)","v":""},{"$f":"IF('All Running Order'!AT39=\"\",\"\",'All Running Order'!AT39)","v":""},{"$f":"IF('All Running Order'!AU39=\"\",\"\",'All Running Order'!AU39)","v":""},{"$f":"IF('All Running Order'!AV39=\"\",\"\",'All Running Order'!AV39)","v":""},{"$f":"IF('All Running Order'!AW39=\"\",\"\",'All Running Order'!AW39)","v":""},{"$f":"IF('All Running Order'!AZ39=\"\",\"\",'All Running Order'!AZ39)","v":""},{"$f":"IF('All Running Order'!BA39=\"\",\"\",'All Running Order'!BA39)","v":""},{"$f":"IF('All Running Order'!BB39=\"\",\"\",'All Running Order'!BB39)","v":""},{"$f":"IF('All Running Order'!BC39=\"\",\"\",'All Running Order'!BC39)","v":""},{"$f":"IF('All Running Order'!BD39=\"\",\"\",'All Running Order'!BD39)","v":""},{"$f":"IF('All Running Order'!BE39=\"\",\"\",'All Running Order'!BE39)","v":""},{"$f":"IF('All Running Order'!BF39=\"\",\"\",'All Running Order'!BF39)","v":""},{"$f":"IF('All Running Order'!BG39=\"\",\"\",'All Running Order'!BG39)","v":""},{"$f":"IF('All Running Order'!BH39=\"\",\"\",'All Running Order'!BH39)","v":""},{"$f":"IF('All Running Order'!BI39=\"\",\"\",'All Running Order'!BI39)","v":""},{"$f":"IF('All Running Order'!BL39=\"\",\"\",'All Running Order'!BL39)","v":""},{"$f":"IF('All Running Order'!BM39=\"\",\"\",'All Running Order'!BM39)","v":""},{"$f":"IF('All Running Order'!BN39=\"\",\"\",'All Running Order'!BN39)","v":""},{"$f":"IF('All Running Order'!BO39=\"\",\"\",'All Running Order'!BO39)","v":""},{"$f":"IF('All Running Order'!BP39=\"\",\"\",'All Running Order'!BP39)","v":""},{"$f":"IF('All Running Order'!BQ39=\"\",\"\",'All Running Order'!BQ39)","v":""},{"$f":"IF('All Running Order'!BR39=\"\",\"\",'All Running Order'!BR39)","v":""},{"$f":"IF('All Running Order'!BS39=\"\",\"\",'All Running Order'!BS39)","v":""},{"$f":"IF('All Running Order'!BT39=\"\",\"\",'All Running Order'!BT39)","v":""},{"$f":"IF('All Running Order'!BU39=\"\",\"\",'All Running Order'!BU39)","v":""}]
[{"$f":"'All Running Order'!B40","v":36},{"$f":"IF('All Running Order'!C40=\"\",\"\",'All Running Order'!C40)","v":""},{"$f":"IF('All Running Order'!D40=\"\",\"\",'All Running Order'!D40)","v":""},{"$f":"IF('All Running Order'!E40=\"\",\"\",'All Running Order'!E40)","v":""},{"$f":"IF('All Running Order'!F40=\"\",\"\",'All Running Order'!F40)","v":""},{"$f":"IF('All Running Order'!G40=\"\",\"\",'All Running Order'!G40)","v":""},{"$f":"IF('All Running Order'!H40=\"\",\"\",'All Running Order'!H40)","v":""},null,{"$f":"IF('All Running Order'!Q40=\"\",\"\",'All Running Order'!Q40)","v":""},{"$f":"IF('All Running Order'!R40=\"\",\"\",'All Running Order'!R40)","v":""},{"$f":"IF('All Running Order'!S40=\"\",\"\",'All Running Order'!S40)","v":""},{"$f":"IF('All Running Order'!T40=\"\",\"\",'All Running Order'!T40)","v":""},{"$f":"IF('All Running Order'!U40=\"\",\"\",'All Running Order'!U40)","v":""},{"$f":"IF('All Running Order'!V40=\"\",\"\",'All Running Order'!V40)","v":""},{"$f":"IF('All Running Order'!W40=\"\",\"\",'All Running Order'!W40)","v":""},{"$f":"IF('All Running Order'!X40=\"\",\"\",'All Running Order'!X40)","v":""},{"$f":"IF('All Running Order'!Y40=\"\",\"\",'All Running Order'!Y40)","v":""},{"$f":"IF('All Running Order'!Z40=\"\",\"\",'All Running Order'!Z40)","v":""},{"$f":"IF('All Running Order'!AB40=\"\",\"\",'All Running Order'!AB40)","v":""},{"$f":"IF('All Running Order'!AC40=\"\",\"\",'All Running Order'!AC40)","v":""},{"$f":"IF('All Running Order'!AD40=\"\",\"\",'All Running Order'!AD40)","v":""},{"$f":"IF('All Running Order'!AE40=\"\",\"\",'All Running Order'!AE40)","v":""},{"$f":"IF('All Running Order'!AF40=\"\",\"\",'All Running Order'!AF40)","v":""},{"$f":"IF('All Running Order'!AG40=\"\",\"\",'All Running Order'!AG40)","v":""},{"$f":"IF('All Running Order'!AH40=\"\",\"\",'All Running Order'!AH40)","v":""},{"$f":"IF('All Running Order'!AI40=\"\",\"\",'All Running Order'!AI40)","v":""},{"$f":"IF('All Running Order'!AJ40=\"\",\"\",'All Running Order'!AJ40)","v":""},{"$f":"IF('All Running Order'!AK40=\"\",\"\",'All Running Order'!AK40)","v":""},{"$f":"IF('All Running Order'!AN40=\"\",\"\",'All Running Order'!AN40)","v":""},{"$f":"IF('All Running Order'!AO40=\"\",\"\",'All Running Order'!AO40)","v":""},{"$f":"IF('All Running Order'!AP40=\"\",\"\",'All Running Order'!AP40)","v":""},{"$f":"IF('All Running Order'!AQ40=\"\",\"\",'All Running Order'!AQ40)","v":""},{"$f":"IF('All Running Order'!AR40=\"\",\"\",'All Running Order'!AR40)","v":""},{"$f":"IF('All Running Order'!AS40=\"\",\"\",'All Running Order'!AS40)","v":""},{"$f":"IF('All Running Order'!AT40=\"\",\"\",'All Running Order'!AT40)","v":""},{"$f":"IF('All Running Order'!AU40=\"\",\"\",'All Running Order'!AU40)","v":""},{"$f":"IF('All Running Order'!AV40=\"\",\"\",'All Running Order'!AV40)","v":""},{"$f":"IF('All Running Order'!AW40=\"\",\"\",'All Running Order'!AW40)","v":""},{"$f":"IF('All Running Order'!AZ40=\"\",\"\",'All Running Order'!AZ40)","v":""},{"$f":"IF('All Running Order'!BA40=\"\",\"\",'All Running Order'!BA40)","v":""},{"$f":"IF('All Running Order'!BB40=\"\",\"\",'All Running Order'!BB40)","v":""},{"$f":"IF('All Running Order'!BC40=\"\",\"\",'All Running Order'!BC40)","v":""},{"$f":"IF('All Running Order'!BD40=\"\",\"\",'All Running Order'!BD40)","v":""},{"$f":"IF('All Running Order'!BE40=\"\",\"\",'All Running Order'!BE40)","v":""},{"$f":"IF('All Running Order'!BF40=\"\",\"\",'All Running Order'!BF40)","v":""},{"$f":"IF('All Running Order'!BG40=\"\",\"\",'All Running Order'!BG40)","v":""},{"$f":"IF('All Running Order'!BH40=\"\",\"\",'All Running Order'!BH40)","v":""},{"$f":"IF('All Running Order'!BI40=\"\",\"\",'All Running Order'!BI40)","v":""},{"$f":"IF('All Running Order'!BL40=\"\",\"\",'All Running Order'!BL40)","v":""},{"$f":"IF('All Running Order'!BM40=\"\",\"\",'All Running Order'!BM40)","v":""},{"$f":"IF('All Running Order'!BN40=\"\",\"\",'All Running Order'!BN40)","v":""},{"$f":"IF('All Running Order'!BO40=\"\",\"\",'All Running Order'!BO40)","v":""},{"$f":"IF('All Running Order'!BP40=\"\",\"\",'All Running Order'!BP40)","v":""},{"$f":"IF('All Running Order'!BQ40=\"\",\"\",'All Running Order'!BQ40)","v":""},{"$f":"IF('All Running Order'!BR40=\"\",\"\",'All Running Order'!BR40)","v":""},{"$f":"IF('All Running Order'!BS40=\"\",\"\",'All Running Order'!BS40)","v":""},{"$f":"IF('All Running Order'!BT40=\"\",\"\",'All Running Order'!BT40)","v":""},{"$f":"IF('All Running Order'!BU40=\"\",\"\",'All Running Order'!BU40)","v":""}]
[{"$f":"'All Running Order'!B41","v":37},{"$f":"IF('All Running Order'!C41=\"\",\"\",'All Running Order'!C41)","v":""},{"$f":"IF('All Running Order'!D41=\"\",\"\",'All Running Order'!D41)","v":""},{"$f":"IF('All Running Order'!E41=\"\",\"\",'All Running Order'!E41)","v":""},{"$f":"IF('All Running Order'!F41=\"\",\"\",'All Running Order'!F41)","v":""},{"$f":"IF('All Running Order'!G41=\"\",\"\",'All Running Order'!G41)","v":""},{"$f":"IF('All Running Order'!H41=\"\",\"\",'All Running Order'!H41)","v":""},null,{"$f":"IF('All Running Order'!Q41=\"\",\"\",'All Running Order'!Q41)","v":""},{"$f":"IF('All Running Order'!R41=\"\",\"\",'All Running Order'!R41)","v":""},{"$f":"IF('All Running Order'!S41=\"\",\"\",'All Running Order'!S41)","v":""},{"$f":"IF('All Running Order'!T41=\"\",\"\",'All Running Order'!T41)","v":""},{"$f":"IF('All Running Order'!U41=\"\",\"\",'All Running Order'!U41)","v":""},{"$f":"IF('All Running Order'!V41=\"\",\"\",'All Running Order'!V41)","v":""},{"$f":"IF('All Running Order'!W41=\"\",\"\",'All Running Order'!W41)","v":""},{"$f":"IF('All Running Order'!X41=\"\",\"\",'All Running Order'!X41)","v":""},{"$f":"IF('All Running Order'!Y41=\"\",\"\",'All Running Order'!Y41)","v":""},{"$f":"IF('All Running Order'!Z41=\"\",\"\",'All Running Order'!Z41)","v":""},{"$f":"IF('All Running Order'!AB41=\"\",\"\",'All Running Order'!AB41)","v":""},{"$f":"IF('All Running Order'!AC41=\"\",\"\",'All Running Order'!AC41)","v":""},{"$f":"IF('All Running Order'!AD41=\"\",\"\",'All Running Order'!AD41)","v":""},{"$f":"IF('All Running Order'!AE41=\"\",\"\",'All Running Order'!AE41)","v":""},{"$f":"IF('All Running Order'!AF41=\"\",\"\",'All Running Order'!AF41)","v":""},{"$f":"IF('All Running Order'!AG41=\"\",\"\",'All Running Order'!AG41)","v":""},{"$f":"IF('All Running Order'!AH41=\"\",\"\",'All Running Order'!AH41)","v":""},{"$f":"IF('All Running Order'!AI41=\"\",\"\",'All Running Order'!AI41)","v":""},{"$f":"IF('All Running Order'!AJ41=\"\",\"\",'All Running Order'!AJ41)","v":""},{"$f":"IF('All Running Order'!AK41=\"\",\"\",'All Running Order'!AK41)","v":""},{"$f":"IF('All Running Order'!AN41=\"\",\"\",'All Running Order'!AN41)","v":""},{"$f":"IF('All Running Order'!AO41=\"\",\"\",'All Running Order'!AO41)","v":""},{"$f":"IF('All Running Order'!AP41=\"\",\"\",'All Running Order'!AP41)","v":""},{"$f":"IF('All Running Order'!AQ41=\"\",\"\",'All Running Order'!AQ41)","v":""},{"$f":"IF('All Running Order'!AR41=\"\",\"\",'All Running Order'!AR41)","v":""},{"$f":"IF('All Running Order'!AS41=\"\",\"\",'All Running Order'!AS41)","v":""},{"$f":"IF('All Running Order'!AT41=\"\",\"\",'All Running Order'!AT41)","v":""},{"$f":"IF('All Running Order'!AU41=\"\",\"\",'All Running Order'!AU41)","v":""},{"$f":"IF('All Running Order'!AV41=\"\",\"\",'All Running Order'!AV41)","v":""},{"$f":"IF('All Running Order'!AW41=\"\",\"\",'All Running Order'!AW41)","v":""},{"$f":"IF('All Running Order'!AZ41=\"\",\"\",'All Running Order'!AZ41)","v":""},{"$f":"IF('All Running Order'!BA41=\"\",\"\",'All Running Order'!BA41)","v":""},{"$f":"IF('All Running Order'!BB41=\"\",\"\",'All Running Order'!BB41)","v":""},{"$f":"IF('All Running Order'!BC41=\"\",\"\",'All Running Order'!BC41)","v":""},{"$f":"IF('All Running Order'!BD41=\"\",\"\",'All Running Order'!BD41)","v":""},{"$f":"IF('All Running Order'!BE41=\"\",\"\",'All Running Order'!BE41)","v":""},{"$f":"IF('All Running Order'!BF41=\"\",\"\",'All Running Order'!BF41)","v":""},{"$f":"IF('All Running Order'!BG41=\"\",\"\",'All Running Order'!BG41)","v":""},{"$f":"IF('All Running Order'!BH41=\"\",\"\",'All Running Order'!BH41)","v":""},{"$f":"IF('All Running Order'!BI41=\"\",\"\",'All Running Order'!BI41)","v":""},{"$f":"IF('All Running Order'!BL41=\"\",\"\",'All Running Order'!BL41)","v":""},{"$f":"IF('All Running Order'!BM41=\"\",\"\",'All Running Order'!BM41)","v":""},{"$f":"IF('All Running Order'!BN41=\"\",\"\",'All Running Order'!BN41)","v":""},{"$f":"IF('All Running Order'!BO41=\"\",\"\",'All Running Order'!BO41)","v":""},{"$f":"IF('All Running Order'!BP41=\"\",\"\",'All Running Order'!BP41)","v":""},{"$f":"IF('All Running Order'!BQ41=\"\",\"\",'All Running Order'!BQ41)","v":""},{"$f":"IF('All Running Order'!BR41=\"\",\"\",'All Running Order'!BR41)","v":""},{"$f":"IF('All Running Order'!BS41=\"\",\"\",'All Running Order'!BS41)","v":""},{"$f":"IF('All Running Order'!BT41=\"\",\"\",'All Running Order'!BT41)","v":""},{"$f":"IF('All Running Order'!BU41=\"\",\"\",'All Running Order'!BU41)","v":""}]
[{"$f":"'All Running Order'!B42","v":38},{"$f":"IF('All Running Order'!C42=\"\",\"\",'All Running Order'!C42)","v":""},{"$f":"IF('All Running Order'!D42=\"\",\"\",'All Running Order'!D42)","v":""},{"$f":"IF('All Running Order'!E42=\"\",\"\",'All Running Order'!E42)","v":""},{"$f":"IF('All Running Order'!F42=\"\",\"\",'All Running Order'!F42)","v":""},{"$f":"IF('All Running Order'!G42=\"\",\"\",'All Running Order'!G42)","v":""},{"$f":"IF('All Running Order'!H42=\"\",\"\",'All Running Order'!H42)","v":""},null,{"$f":"IF('All Running Order'!Q42=\"\",\"\",'All Running Order'!Q42)","v":""},{"$f":"IF('All Running Order'!R42=\"\",\"\",'All Running Order'!R42)","v":""},{"$f":"IF('All Running Order'!S42=\"\",\"\",'All Running Order'!S42)","v":""},{"$f":"IF('All Running Order'!T42=\"\",\"\",'All Running Order'!T42)","v":""},{"$f":"IF('All Running Order'!U42=\"\",\"\",'All Running Order'!U42)","v":""},{"$f":"IF('All Running Order'!V42=\"\",\"\",'All Running Order'!V42)","v":""},{"$f":"IF('All Running Order'!W42=\"\",\"\",'All Running Order'!W42)","v":""},{"$f":"IF('All Running Order'!X42=\"\",\"\",'All Running Order'!X42)","v":""},{"$f":"IF('All Running Order'!Y42=\"\",\"\",'All Running Order'!Y42)","v":""},{"$f":"IF('All Running Order'!Z42=\"\",\"\",'All Running Order'!Z42)","v":""},{"$f":"IF('All Running Order'!AB42=\"\",\"\",'All Running Order'!AB42)","v":""},{"$f":"IF('All Running Order'!AC42=\"\",\"\",'All Running Order'!AC42)","v":""},{"$f":"IF('All Running Order'!AD42=\"\",\"\",'All Running Order'!AD42)","v":""},{"$f":"IF('All Running Order'!AE42=\"\",\"\",'All Running Order'!AE42)","v":""},{"$f":"IF('All Running Order'!AF42=\"\",\"\",'All Running Order'!AF42)","v":""},{"$f":"IF('All Running Order'!AG42=\"\",\"\",'All Running Order'!AG42)","v":""},{"$f":"IF('All Running Order'!AH42=\"\",\"\",'All Running Order'!AH42)","v":""},{"$f":"IF('All Running Order'!AI42=\"\",\"\",'All Running Order'!AI42)","v":""},{"$f":"IF('All Running Order'!AJ42=\"\",\"\",'All Running Order'!AJ42)","v":""},{"$f":"IF('All Running Order'!AK42=\"\",\"\",'All Running Order'!AK42)","v":""},{"$f":"IF('All Running Order'!AN42=\"\",\"\",'All Running Order'!AN42)","v":""},{"$f":"IF('All Running Order'!AO42=\"\",\"\",'All Running Order'!AO42)","v":""},{"$f":"IF('All Running Order'!AP42=\"\",\"\",'All Running Order'!AP42)","v":""},{"$f":"IF('All Running Order'!AQ42=\"\",\"\",'All Running Order'!AQ42)","v":""},{"$f":"IF('All Running Order'!AR42=\"\",\"\",'All Running Order'!AR42)","v":""},{"$f":"IF('All Running Order'!AS42=\"\",\"\",'All Running Order'!AS42)","v":""},{"$f":"IF('All Running Order'!AT42=\"\",\"\",'All Running Order'!AT42)","v":""},{"$f":"IF('All Running Order'!AU42=\"\",\"\",'All Running Order'!AU42)","v":""},{"$f":"IF('All Running Order'!AV42=\"\",\"\",'All Running Order'!AV42)","v":""},{"$f":"IF('All Running Order'!AW42=\"\",\"\",'All Running Order'!AW42)","v":""},{"$f":"IF('All Running Order'!AZ42=\"\",\"\",'All Running Order'!AZ42)","v":""},{"$f":"IF('All Running Order'!BA42=\"\",\"\",'All Running Order'!BA42)","v":""},{"$f":"IF('All Running Order'!BB42=\"\",\"\",'All Running Order'!BB42)","v":""},{"$f":"IF('All Running Order'!BC42=\"\",\"\",'All Running Order'!BC42)","v":""},{"$f":"IF('All Running Order'!BD42=\"\",\"\",'All Running Order'!BD42)","v":""},{"$f":"IF('All Running Order'!BE42=\"\",\"\",'All Running Order'!BE42)","v":""},{"$f":"IF('All Running Order'!BF42=\"\",\"\",'All Running Order'!BF42)","v":""},{"$f":"IF('All Running Order'!BG42=\"\",\"\",'All Running Order'!BG42)","v":""},{"$f":"IF('All Running Order'!BH42=\"\",\"\",'All Running Order'!BH42)","v":""},{"$f":"IF('All Running Order'!BI42=\"\",\"\",'All Running Order'!BI42)","v":""},{"$f":"IF('All Running Order'!BL42=\"\",\"\",'All Running Order'!BL42)","v":""},{"$f":"IF('All Running Order'!BM42=\"\",\"\",'All Running Order'!BM42)","v":""},{"$f":"IF('All Running Order'!BN42=\"\",\"\",'All Running Order'!BN42)","v":""},{"$f":"IF('All Running Order'!BO42=\"\",\"\",'All Running Order'!BO42)","v":""},{"$f":"IF('All Running Order'!BP42=\"\",\"\",'All Running Order'!BP42)","v":""},{"$f":"IF('All Running Order'!BQ42=\"\",\"\",'All Running Order'!BQ42)","v":""},{"$f":"IF('All Running Order'!BR42=\"\",\"\",'All Running Order'!BR42)","v":""},{"$f":"IF('All Running Order'!BS42=\"\",\"\",'All Running Order'!BS42)","v":""},{"$f":"IF('All Running Order'!BT42=\"\",\"\",'All Running Order'!BT42)","v":""},{"$f":"IF('All Running Order'!BU42=\"\",\"\",'All Running Order'!BU42)","v":""}]
[{"$f":"'All Running Order'!B43","v":39},{"$f":"IF('All Running Order'!C43=\"\",\"\",'All Running Order'!C43)","v":""},{"$f":"IF('All Running Order'!D43=\"\",\"\",'All Running Order'!D43)","v":""},{"$f":"IF('All Running Order'!E43=\"\",\"\",'All Running Order'!E43)","v":""},{"$f":"IF('All Running Order'!F43=\"\",\"\",'All Running Order'!F43)","v":""},{"$f":"IF('All Running Order'!G43=\"\",\"\",'All Running Order'!G43)","v":""},{"$f":"IF('All Running Order'!H43=\"\",\"\",'All Running Order'!H43)","v":""},null,{"$f":"IF('All Running Order'!Q43=\"\",\"\",'All Running Order'!Q43)","v":""},{"$f":"IF('All Running Order'!R43=\"\",\"\",'All Running Order'!R43)","v":""},{"$f":"IF('All Running Order'!S43=\"\",\"\",'All Running Order'!S43)","v":""},{"$f":"IF('All Running Order'!T43=\"\",\"\",'All Running Order'!T43)","v":""},{"$f":"IF('All Running Order'!U43=\"\",\"\",'All Running Order'!U43)","v":""},{"$f":"IF('All Running Order'!V43=\"\",\"\",'All Running Order'!V43)","v":""},{"$f":"IF('All Running Order'!W43=\"\",\"\",'All Running Order'!W43)","v":""},{"$f":"IF('All Running Order'!X43=\"\",\"\",'All Running Order'!X43)","v":""},{"$f":"IF('All Running Order'!Y43=\"\",\"\",'All Running Order'!Y43)","v":""},{"$f":"IF('All Running Order'!Z43=\"\",\"\",'All Running Order'!Z43)","v":""},{"$f":"IF('All Running Order'!AB43=\"\",\"\",'All Running Order'!AB43)","v":""},{"$f":"IF('All Running Order'!AC43=\"\",\"\",'All Running Order'!AC43)","v":""},{"$f":"IF('All Running Order'!AD43=\"\",\"\",'All Running Order'!AD43)","v":""},{"$f":"IF('All Running Order'!AE43=\"\",\"\",'All Running Order'!AE43)","v":""},{"$f":"IF('All Running Order'!AF43=\"\",\"\",'All Running Order'!AF43)","v":""},{"$f":"IF('All Running Order'!AG43=\"\",\"\",'All Running Order'!AG43)","v":""},{"$f":"IF('All Running Order'!AH43=\"\",\"\",'All Running Order'!AH43)","v":""},{"$f":"IF('All Running Order'!AI43=\"\",\"\",'All Running Order'!AI43)","v":""},{"$f":"IF('All Running Order'!AJ43=\"\",\"\",'All Running Order'!AJ43)","v":""},{"$f":"IF('All Running Order'!AK43=\"\",\"\",'All Running Order'!AK43)","v":""},{"$f":"IF('All Running Order'!AN43=\"\",\"\",'All Running Order'!AN43)","v":""},{"$f":"IF('All Running Order'!AO43=\"\",\"\",'All Running Order'!AO43)","v":""},{"$f":"IF('All Running Order'!AP43=\"\",\"\",'All Running Order'!AP43)","v":""},{"$f":"IF('All Running Order'!AQ43=\"\",\"\",'All Running Order'!AQ43)","v":""},{"$f":"IF('All Running Order'!AR43=\"\",\"\",'All Running Order'!AR43)","v":""},{"$f":"IF('All Running Order'!AS43=\"\",\"\",'All Running Order'!AS43)","v":""},{"$f":"IF('All Running Order'!AT43=\"\",\"\",'All Running Order'!AT43)","v":""},{"$f":"IF('All Running Order'!AU43=\"\",\"\",'All Running Order'!AU43)","v":""},{"$f":"IF('All Running Order'!AV43=\"\",\"\",'All Running Order'!AV43)","v":""},{"$f":"IF('All Running Order'!AW43=\"\",\"\",'All Running Order'!AW43)","v":""},{"$f":"IF('All Running Order'!AZ43=\"\",\"\",'All Running Order'!AZ43)","v":""},{"$f":"IF('All Running Order'!BA43=\"\",\"\",'All Running Order'!BA43)","v":""},{"$f":"IF('All Running Order'!BB43=\"\",\"\",'All Running Order'!BB43)","v":""},{"$f":"IF('All Running Order'!BC43=\"\",\"\",'All Running Order'!BC43)","v":""},{"$f":"IF('All Running Order'!BD43=\"\",\"\",'All Running Order'!BD43)","v":""},{"$f":"IF('All Running Order'!BE43=\"\",\"\",'All Running Order'!BE43)","v":""},{"$f":"IF('All Running Order'!BF43=\"\",\"\",'All Running Order'!BF43)","v":""},{"$f":"IF('All Running Order'!BG43=\"\",\"\",'All Running Order'!BG43)","v":""},{"$f":"IF('All Running Order'!BH43=\"\",\"\",'All Running Order'!BH43)","v":""},{"$f":"IF('All Running Order'!BI43=\"\",\"\",'All Running Order'!BI43)","v":""},{"$f":"IF('All Running Order'!BL43=\"\",\"\",'All Running Order'!BL43)","v":""},{"$f":"IF('All Running Order'!BM43=\"\",\"\",'All Running Order'!BM43)","v":""},{"$f":"IF('All Running Order'!BN43=\"\",\"\",'All Running Order'!BN43)","v":""},{"$f":"IF('All Running Order'!BO43=\"\",\"\",'All Running Order'!BO43)","v":""},{"$f":"IF('All Running Order'!BP43=\"\",\"\",'All Running Order'!BP43)","v":""},{"$f":"IF('All Running Order'!BQ43=\"\",\"\",'All Running Order'!BQ43)","v":""},{"$f":"IF('All Running Order'!BR43=\"\",\"\",'All Running Order'!BR43)","v":""},{"$f":"IF('All Running Order'!BS43=\"\",\"\",'All Running Order'!BS43)","v":""},{"$f":"IF('All Running Order'!BT43=\"\",\"\",'All Running Order'!BT43)","v":""},{"$f":"IF('All Running Order'!BU43=\"\",\"\",'All Running Order'!BU43)","v":""}]
[{"$f":"'All Running Order'!B44","v":40},{"$f":"IF('All Running Order'!C44=\"\",\"\",'All Running Order'!C44)","v":""},{"$f":"IF('All Running Order'!D44=\"\",\"\",'All Running Order'!D44)","v":""},{"$f":"IF('All Running Order'!E44=\"\",\"\",'All Running Order'!E44)","v":""},{"$f":"IF('All Running Order'!F44=\"\",\"\",'All Running Order'!F44)","v":""},{"$f":"IF('All Running Order'!G44=\"\",\"\",'All Running Order'!G44)","v":""},{"$f":"IF('All Running Order'!H44=\"\",\"\",'All Running Order'!H44)","v":""},null,{"$f":"IF('All Running Order'!Q44=\"\",\"\",'All Running Order'!Q44)","v":""},{"$f":"IF('All Running Order'!R44=\"\",\"\",'All Running Order'!R44)","v":""},{"$f":"IF('All Running Order'!S44=\"\",\"\",'All Running Order'!S44)","v":""},{"$f":"IF('All Running Order'!T44=\"\",\"\",'All Running Order'!T44)","v":""},{"$f":"IF('All Running Order'!U44=\"\",\"\",'All Running Order'!U44)","v":""},{"$f":"IF('All Running Order'!V44=\"\",\"\",'All Running Order'!V44)","v":""},{"$f":"IF('All Running Order'!W44=\"\",\"\",'All Running Order'!W44)","v":""},{"$f":"IF('All Running Order'!X44=\"\",\"\",'All Running Order'!X44)","v":""},{"$f":"IF('All Running Order'!Y44=\"\",\"\",'All Running Order'!Y44)","v":""},{"$f":"IF('All Running Order'!Z44=\"\",\"\",'All Running Order'!Z44)","v":""},{"$f":"IF('All Running Order'!AB44=\"\",\"\",'All Running Order'!AB44)","v":""},{"$f":"IF('All Running Order'!AC44=\"\",\"\",'All Running Order'!AC44)","v":""},{"$f":"IF('All Running Order'!AD44=\"\",\"\",'All Running Order'!AD44)","v":""},{"$f":"IF('All Running Order'!AE44=\"\",\"\",'All Running Order'!AE44)","v":""},{"$f":"IF('All Running Order'!AF44=\"\",\"\",'All Running Order'!AF44)","v":""},{"$f":"IF('All Running Order'!AG44=\"\",\"\",'All Running Order'!AG44)","v":""},{"$f":"IF('All Running Order'!AH44=\"\",\"\",'All Running Order'!AH44)","v":""},{"$f":"IF('All Running Order'!AI44=\"\",\"\",'All Running Order'!AI44)","v":""},{"$f":"IF('All Running Order'!AJ44=\"\",\"\",'All Running Order'!AJ44)","v":""},{"$f":"IF('All Running Order'!AK44=\"\",\"\",'All Running Order'!AK44)","v":""},{"$f":"IF('All Running Order'!AN44=\"\",\"\",'All Running Order'!AN44)","v":""},{"$f":"IF('All Running Order'!AO44=\"\",\"\",'All Running Order'!AO44)","v":""},{"$f":"IF('All Running Order'!AP44=\"\",\"\",'All Running Order'!AP44)","v":""},{"$f":"IF('All Running Order'!AQ44=\"\",\"\",'All Running Order'!AQ44)","v":""},{"$f":"IF('All Running Order'!AR44=\"\",\"\",'All Running Order'!AR44)","v":""},{"$f":"IF('All Running Order'!AS44=\"\",\"\",'All Running Order'!AS44)","v":""},{"$f":"IF('All Running Order'!AT44=\"\",\"\",'All Running Order'!AT44)","v":""},{"$f":"IF('All Running Order'!AU44=\"\",\"\",'All Running Order'!AU44)","v":""},{"$f":"IF('All Running Order'!AV44=\"\",\"\",'All Running Order'!AV44)","v":""},{"$f":"IF('All Running Order'!AW44=\"\",\"\",'All Running Order'!AW44)","v":""},{"$f":"IF('All Running Order'!AZ44=\"\",\"\",'All Running Order'!AZ44)","v":""},{"$f":"IF('All Running Order'!BA44=\"\",\"\",'All Running Order'!BA44)","v":""},{"$f":"IF('All Running Order'!BB44=\"\",\"\",'All Running Order'!BB44)","v":""},{"$f":"IF('All Running Order'!BC44=\"\",\"\",'All Running Order'!BC44)","v":""},{"$f":"IF('All Running Order'!BD44=\"\",\"\",'All Running Order'!BD44)","v":""},{"$f":"IF('All Running Order'!BE44=\"\",\"\",'All Running Order'!BE44)","v":""},{"$f":"IF('All Running Order'!BF44=\"\",\"\",'All Running Order'!BF44)","v":""},{"$f":"IF('All Running Order'!BG44=\"\",\"\",'All Running Order'!BG44)","v":""},{"$f":"IF('All Running Order'!BH44=\"\",\"\",'All Running Order'!BH44)","v":""},{"$f":"IF('All Running Order'!BI44=\"\",\"\",'All Running Order'!BI44)","v":""},{"$f":"IF('All Running Order'!BL44=\"\",\"\",'All Running Order'!BL44)","v":""},{"$f":"IF('All Running Order'!BM44=\"\",\"\",'All Running Order'!BM44)","v":""},{"$f":"IF('All Running Order'!BN44=\"\",\"\",'All Running Order'!BN44)","v":""},{"$f":"IF('All Running Order'!BO44=\"\",\"\",'All Running Order'!BO44)","v":""},{"$f":"IF('All Running Order'!BP44=\"\",\"\",'All Running Order'!BP44)","v":""},{"$f":"IF('All Running Order'!BQ44=\"\",\"\",'All Running Order'!BQ44)","v":""},{"$f":"IF('All Running Order'!BR44=\"\",\"\",'All Running Order'!BR44)","v":""},{"$f":"IF('All Running Order'!BS44=\"\",\"\",'All Running Order'!BS44)","v":""},{"$f":"IF('All Running Order'!BT44=\"\",\"\",'All Running Order'!BT44)","v":""},{"$f":"IF('All Running Order'!BU44=\"\",\"\",'All Running Order'!BU44)","v":""}]
[{"$f":"'All Running Order'!B45","v":41},{"$f":"IF('All Running Order'!C45=\"\",\"\",'All Running Order'!C45)","v":""},{"$f":"IF('All Running Order'!D45=\"\",\"\",'All Running Order'!D45)","v":""},{"$f":"IF('All Running Order'!E45=\"\",\"\",'All Running Order'!E45)","v":""},{"$f":"IF('All Running Order'!F45=\"\",\"\",'All Running Order'!F45)","v":""},{"$f":"IF('All Running Order'!G45=\"\",\"\",'All Running Order'!G45)","v":""},{"$f":"IF('All Running Order'!H45=\"\",\"\",'All Running Order'!H45)","v":""},null,{"$f":"IF('All Running Order'!Q45=\"\",\"\",'All Running Order'!Q45)","v":""},{"$f":"IF('All Running Order'!R45=\"\",\"\",'All Running Order'!R45)","v":""},{"$f":"IF('All Running Order'!S45=\"\",\"\",'All Running Order'!S45)","v":""},{"$f":"IF('All Running Order'!T45=\"\",\"\",'All Running Order'!T45)","v":""},{"$f":"IF('All Running Order'!U45=\"\",\"\",'All Running Order'!U45)","v":""},{"$f":"IF('All Running Order'!V45=\"\",\"\",'All Running Order'!V45)","v":""},{"$f":"IF('All Running Order'!W45=\"\",\"\",'All Running Order'!W45)","v":""},{"$f":"IF('All Running Order'!X45=\"\",\"\",'All Running Order'!X45)","v":""},{"$f":"IF('All Running Order'!Y45=\"\",\"\",'All Running Order'!Y45)","v":""},{"$f":"IF('All Running Order'!Z45=\"\",\"\",'All Running Order'!Z45)","v":""},{"$f":"IF('All Running Order'!AB45=\"\",\"\",'All Running Order'!AB45)","v":""},{"$f":"IF('All Running Order'!AC45=\"\",\"\",'All Running Order'!AC45)","v":""},{"$f":"IF('All Running Order'!AD45=\"\",\"\",'All Running Order'!AD45)","v":""},{"$f":"IF('All Running Order'!AE45=\"\",\"\",'All Running Order'!AE45)","v":""},{"$f":"IF('All Running Order'!AF45=\"\",\"\",'All Running Order'!AF45)","v":""},{"$f":"IF('All Running Order'!AG45=\"\",\"\",'All Running Order'!AG45)","v":""},{"$f":"IF('All Running Order'!AH45=\"\",\"\",'All Running Order'!AH45)","v":""},{"$f":"IF('All Running Order'!AI45=\"\",\"\",'All Running Order'!AI45)","v":""},{"$f":"IF('All Running Order'!AJ45=\"\",\"\",'All Running Order'!AJ45)","v":""},{"$f":"IF('All Running Order'!AK45=\"\",\"\",'All Running Order'!AK45)","v":""},{"$f":"IF('All Running Order'!AN45=\"\",\"\",'All Running Order'!AN45)","v":""},{"$f":"IF('All Running Order'!AO45=\"\",\"\",'All Running Order'!AO45)","v":""},{"$f":"IF('All Running Order'!AP45=\"\",\"\",'All Running Order'!AP45)","v":""},{"$f":"IF('All Running Order'!AQ45=\"\",\"\",'All Running Order'!AQ45)","v":""},{"$f":"IF('All Running Order'!AR45=\"\",\"\",'All Running Order'!AR45)","v":""},{"$f":"IF('All Running Order'!AS45=\"\",\"\",'All Running Order'!AS45)","v":""},{"$f":"IF('All Running Order'!AT45=\"\",\"\",'All Running Order'!AT45)","v":""},{"$f":"IF('All Running Order'!AU45=\"\",\"\",'All Running Order'!AU45)","v":""},{"$f":"IF('All Running Order'!AV45=\"\",\"\",'All Running Order'!AV45)","v":""},{"$f":"IF('All Running Order'!AW45=\"\",\"\",'All Running Order'!AW45)","v":""},{"$f":"IF('All Running Order'!AZ45=\"\",\"\",'All Running Order'!AZ45)","v":""},{"$f":"IF('All Running Order'!BA45=\"\",\"\",'All Running Order'!BA45)","v":""},{"$f":"IF('All Running Order'!BB45=\"\",\"\",'All Running Order'!BB45)","v":""},{"$f":"IF('All Running Order'!BC45=\"\",\"\",'All Running Order'!BC45)","v":""},{"$f":"IF('All Running Order'!BD45=\"\",\"\",'All Running Order'!BD45)","v":""},{"$f":"IF('All Running Order'!BE45=\"\",\"\",'All Running Order'!BE45)","v":""},{"$f":"IF('All Running Order'!BF45=\"\",\"\",'All Running Order'!BF45)","v":""},{"$f":"IF('All Running Order'!BG45=\"\",\"\",'All Running Order'!BG45)","v":""},{"$f":"IF('All Running Order'!BH45=\"\",\"\",'All Running Order'!BH45)","v":""},{"$f":"IF('All Running Order'!BI45=\"\",\"\",'All Running Order'!BI45)","v":""},{"$f":"IF('All Running Order'!BL45=\"\",\"\",'All Running Order'!BL45)","v":""},{"$f":"IF('All Running Order'!BM45=\"\",\"\",'All Running Order'!BM45)","v":""},{"$f":"IF('All Running Order'!BN45=\"\",\"\",'All Running Order'!BN45)","v":""},{"$f":"IF('All Running Order'!BO45=\"\",\"\",'All Running Order'!BO45)","v":""},{"$f":"IF('All Running Order'!BP45=\"\",\"\",'All Running Order'!BP45)","v":""},{"$f":"IF('All Running Order'!BQ45=\"\",\"\",'All Running Order'!BQ45)","v":""},{"$f":"IF('All Running Order'!BR45=\"\",\"\",'All Running Order'!BR45)","v":""},{"$f":"IF('All Running Order'!BS45=\"\",\"\",'All Running Order'!BS45)","v":""},{"$f":"IF('All Running Order'!BT45=\"\",\"\",'All Running Order'!BT45)","v":""},{"$f":"IF('All Running Order'!BU45=\"\",\"\",'All Running Order'!BU45)","v":""}]
[{"$f":"'All Running Order'!B46","v":42},{"$f":"IF('All Running Order'!C46=\"\",\"\",'All Running Order'!C46)","v":""},{"$f":"IF('All Running Order'!D46=\"\",\"\",'All Running Order'!D46)","v":""},{"$f":"IF('All Running Order'!E46=\"\",\"\",'All Running Order'!E46)","v":""},{"$f":"IF('All Running Order'!F46=\"\",\"\",'All Running Order'!F46)","v":""},{"$f":"IF('All Running Order'!G46=\"\",\"\",'All Running Order'!G46)","v":""},{"$f":"IF('All Running Order'!H46=\"\",\"\",'All Running Order'!H46)","v":""},null,{"$f":"IF('All Running Order'!Q46=\"\",\"\",'All Running Order'!Q46)","v":""},{"$f":"IF('All Running Order'!R46=\"\",\"\",'All Running Order'!R46)","v":""},{"$f":"IF('All Running Order'!S46=\"\",\"\",'All Running Order'!S46)","v":""},{"$f":"IF('All Running Order'!T46=\"\",\"\",'All Running Order'!T46)","v":""},{"$f":"IF('All Running Order'!U46=\"\",\"\",'All Running Order'!U46)","v":""},{"$f":"IF('All Running Order'!V46=\"\",\"\",'All Running Order'!V46)","v":""},{"$f":"IF('All Running Order'!W46=\"\",\"\",'All Running Order'!W46)","v":""},{"$f":"IF('All Running Order'!X46=\"\",\"\",'All Running Order'!X46)","v":""},{"$f":"IF('All Running Order'!Y46=\"\",\"\",'All Running Order'!Y46)","v":""},{"$f":"IF('All Running Order'!Z46=\"\",\"\",'All Running Order'!Z46)","v":""},{"$f":"IF('All Running Order'!AB46=\"\",\"\",'All Running Order'!AB46)","v":""},{"$f":"IF('All Running Order'!AC46=\"\",\"\",'All Running Order'!AC46)","v":""},{"$f":"IF('All Running Order'!AD46=\"\",\"\",'All Running Order'!AD46)","v":""},{"$f":"IF('All Running Order'!AE46=\"\",\"\",'All Running Order'!AE46)","v":""},{"$f":"IF('All Running Order'!AF46=\"\",\"\",'All Running Order'!AF46)","v":""},{"$f":"IF('All Running Order'!AG46=\"\",\"\",'All Running Order'!AG46)","v":""},{"$f":"IF('All Running Order'!AH46=\"\",\"\",'All Running Order'!AH46)","v":""},{"$f":"IF('All Running Order'!AI46=\"\",\"\",'All Running Order'!AI46)","v":""},{"$f":"IF('All Running Order'!AJ46=\"\",\"\",'All Running Order'!AJ46)","v":""},{"$f":"IF('All Running Order'!AK46=\"\",\"\",'All Running Order'!AK46)","v":""},{"$f":"IF('All Running Order'!AN46=\"\",\"\",'All Running Order'!AN46)","v":""},{"$f":"IF('All Running Order'!AO46=\"\",\"\",'All Running Order'!AO46)","v":""},{"$f":"IF('All Running Order'!AP46=\"\",\"\",'All Running Order'!AP46)","v":""},{"$f":"IF('All Running Order'!AQ46=\"\",\"\",'All Running Order'!AQ46)","v":""},{"$f":"IF('All Running Order'!AR46=\"\",\"\",'All Running Order'!AR46)","v":""},{"$f":"IF('All Running Order'!AS46=\"\",\"\",'All Running Order'!AS46)","v":""},{"$f":"IF('All Running Order'!AT46=\"\",\"\",'All Running Order'!AT46)","v":""},{"$f":"IF('All Running Order'!AU46=\"\",\"\",'All Running Order'!AU46)","v":""},{"$f":"IF('All Running Order'!AV46=\"\",\"\",'All Running Order'!AV46)","v":""},{"$f":"IF('All Running Order'!AW46=\"\",\"\",'All Running Order'!AW46)","v":""},{"$f":"IF('All Running Order'!AZ46=\"\",\"\",'All Running Order'!AZ46)","v":""},{"$f":"IF('All Running Order'!BA46=\"\",\"\",'All Running Order'!BA46)","v":""},{"$f":"IF('All Running Order'!BB46=\"\",\"\",'All Running Order'!BB46)","v":""},{"$f":"IF('All Running Order'!BC46=\"\",\"\",'All Running Order'!BC46)","v":""},{"$f":"IF('All Running Order'!BD46=\"\",\"\",'All Running Order'!BD46)","v":""},{"$f":"IF('All Running Order'!BE46=\"\",\"\",'All Running Order'!BE46)","v":""},{"$f":"IF('All Running Order'!BF46=\"\",\"\",'All Running Order'!BF46)","v":""},{"$f":"IF('All Running Order'!BG46=\"\",\"\",'All Running Order'!BG46)","v":""},{"$f":"IF('All Running Order'!BH46=\"\",\"\",'All Running Order'!BH46)","v":""},{"$f":"IF('All Running Order'!BI46=\"\",\"\",'All Running Order'!BI46)","v":""},{"$f":"IF('All Running Order'!BL46=\"\",\"\",'All Running Order'!BL46)","v":""},{"$f":"IF('All Running Order'!BM46=\"\",\"\",'All Running Order'!BM46)","v":""},{"$f":"IF('All Running Order'!BN46=\"\",\"\",'All Running Order'!BN46)","v":""},{"$f":"IF('All Running Order'!BO46=\"\",\"\",'All Running Order'!BO46)","v":""},{"$f":"IF('All Running Order'!BP46=\"\",\"\",'All Running Order'!BP46)","v":""},{"$f":"IF('All Running Order'!BQ46=\"\",\"\",'All Running Order'!BQ46)","v":""},{"$f":"IF('All Running Order'!BR46=\"\",\"\",'All Running Order'!BR46)","v":""},{"$f":"IF('All Running Order'!BS46=\"\",\"\",'All Running Order'!BS46)","v":""},{"$f":"IF('All Running Order'!BT46=\"\",\"\",'All Running Order'!BT46)","v":""},{"$f":"IF('All Running Order'!BU46=\"\",\"\",'All Running Order'!BU46)","v":""}]
[{"$f":"'All Running Order'!B47","v":43},{"$f":"IF('All Running Order'!C47=\"\",\"\",'All Running Order'!C47)","v":""},{"$f":"IF('All Running Order'!D47=\"\",\"\",'All Running Order'!D47)","v":""},{"$f":"IF('All Running Order'!E47=\"\",\"\",'All Running Order'!E47)","v":""},{"$f":"IF('All Running Order'!F47=\"\",\"\",'All Running Order'!F47)","v":""},{"$f":"IF('All Running Order'!G47=\"\",\"\",'All Running Order'!G47)","v":""},{"$f":"IF('All Running Order'!H47=\"\",\"\",'All Running Order'!H47)","v":""},null,{"$f":"IF('All Running Order'!Q47=\"\",\"\",'All Running Order'!Q47)","v":""},{"$f":"IF('All Running Order'!R47=\"\",\"\",'All Running Order'!R47)","v":""},{"$f":"IF('All Running Order'!S47=\"\",\"\",'All Running Order'!S47)","v":""},{"$f":"IF('All Running Order'!T47=\"\",\"\",'All Running Order'!T47)","v":""},{"$f":"IF('All Running Order'!U47=\"\",\"\",'All Running Order'!U47)","v":""},{"$f":"IF('All Running Order'!V47=\"\",\"\",'All Running Order'!V47)","v":""},{"$f":"IF('All Running Order'!W47=\"\",\"\",'All Running Order'!W47)","v":""},{"$f":"IF('All Running Order'!X47=\"\",\"\",'All Running Order'!X47)","v":""},{"$f":"IF('All Running Order'!Y47=\"\",\"\",'All Running Order'!Y47)","v":""},{"$f":"IF('All Running Order'!Z47=\"\",\"\",'All Running Order'!Z47)","v":""},{"$f":"IF('All Running Order'!AB47=\"\",\"\",'All Running Order'!AB47)","v":""},{"$f":"IF('All Running Order'!AC47=\"\",\"\",'All Running Order'!AC47)","v":""},{"$f":"IF('All Running Order'!AD47=\"\",\"\",'All Running Order'!AD47)","v":""},{"$f":"IF('All Running Order'!AE47=\"\",\"\",'All Running Order'!AE47)","v":""},{"$f":"IF('All Running Order'!AF47=\"\",\"\",'All Running Order'!AF47)","v":""},{"$f":"IF('All Running Order'!AG47=\"\",\"\",'All Running Order'!AG47)","v":""},{"$f":"IF('All Running Order'!AH47=\"\",\"\",'All Running Order'!AH47)","v":""},{"$f":"IF('All Running Order'!AI47=\"\",\"\",'All Running Order'!AI47)","v":""},{"$f":"IF('All Running Order'!AJ47=\"\",\"\",'All Running Order'!AJ47)","v":""},{"$f":"IF('All Running Order'!AK47=\"\",\"\",'All Running Order'!AK47)","v":""},{"$f":"IF('All Running Order'!AN47=\"\",\"\",'All Running Order'!AN47)","v":""},{"$f":"IF('All Running Order'!AO47=\"\",\"\",'All Running Order'!AO47)","v":""},{"$f":"IF('All Running Order'!AP47=\"\",\"\",'All Running Order'!AP47)","v":""},{"$f":"IF('All Running Order'!AQ47=\"\",\"\",'All Running Order'!AQ47)","v":""},{"$f":"IF('All Running Order'!AR47=\"\",\"\",'All Running Order'!AR47)","v":""},{"$f":"IF('All Running Order'!AS47=\"\",\"\",'All Running Order'!AS47)","v":""},{"$f":"IF('All Running Order'!AT47=\"\",\"\",'All Running Order'!AT47)","v":""},{"$f":"IF('All Running Order'!AU47=\"\",\"\",'All Running Order'!AU47)","v":""},{"$f":"IF('All Running Order'!AV47=\"\",\"\",'All Running Order'!AV47)","v":""},{"$f":"IF('All Running Order'!AW47=\"\",\"\",'All Running Order'!AW47)","v":""},{"$f":"IF('All Running Order'!AZ47=\"\",\"\",'All Running Order'!AZ47)","v":""},{"$f":"IF('All Running Order'!BA47=\"\",\"\",'All Running Order'!BA47)","v":""},{"$f":"IF('All Running Order'!BB47=\"\",\"\",'All Running Order'!BB47)","v":""},{"$f":"IF('All Running Order'!BC47=\"\",\"\",'All Running Order'!BC47)","v":""},{"$f":"IF('All Running Order'!BD47=\"\",\"\",'All Running Order'!BD47)","v":""},{"$f":"IF('All Running Order'!BE47=\"\",\"\",'All Running Order'!BE47)","v":""},{"$f":"IF('All Running Order'!BF47=\"\",\"\",'All Running Order'!BF47)","v":""},{"$f":"IF('All Running Order'!BG47=\"\",\"\",'All Running Order'!BG47)","v":""},{"$f":"IF('All Running Order'!BH47=\"\",\"\",'All Running Order'!BH47)","v":""},{"$f":"IF('All Running Order'!BI47=\"\",\"\",'All Running Order'!BI47)","v":""},{"$f":"IF('All Running Order'!BL47=\"\",\"\",'All Running Order'!BL47)","v":""},{"$f":"IF('All Running Order'!BM47=\"\",\"\",'All Running Order'!BM47)","v":""},{"$f":"IF('All Running Order'!BN47=\"\",\"\",'All Running Order'!BN47)","v":""},{"$f":"IF('All Running Order'!BO47=\"\",\"\",'All Running Order'!BO47)","v":""},{"$f":"IF('All Running Order'!BP47=\"\",\"\",'All Running Order'!BP47)","v":""},{"$f":"IF('All Running Order'!BQ47=\"\",\"\",'All Running Order'!BQ47)","v":""},{"$f":"IF('All Running Order'!BR47=\"\",\"\",'All Running Order'!BR47)","v":""},{"$f":"IF('All Running Order'!BS47=\"\",\"\",'All Running Order'!BS47)","v":""},{"$f":"IF('All Running Order'!BT47=\"\",\"\",'All Running Order'!BT47)","v":""},{"$f":"IF('All Running Order'!BU47=\"\",\"\",'All Running Order'!BU47)","v":""}]
[{"$f":"'All Running Order'!B48","v":44},{"$f":"IF('All Running Order'!C48=\"\",\"\",'All Running Order'!C48)","v":""},{"$f":"IF('All Running Order'!D48=\"\",\"\",'All Running Order'!D48)","v":""},{"$f":"IF('All Running Order'!E48=\"\",\"\",'All Running Order'!E48)","v":""},{"$f":"IF('All Running Order'!F48=\"\",\"\",'All Running Order'!F48)","v":""},{"$f":"IF('All Running Order'!G48=\"\",\"\",'All Running Order'!G48)","v":""},{"$f":"IF('All Running Order'!H48=\"\",\"\",'All Running Order'!H48)","v":""},null,{"$f":"IF('All Running Order'!Q48=\"\",\"\",'All Running Order'!Q48)","v":""},{"$f":"IF('All Running Order'!R48=\"\",\"\",'All Running Order'!R48)","v":""},{"$f":"IF('All Running Order'!S48=\"\",\"\",'All Running Order'!S48)","v":""},{"$f":"IF('All Running Order'!T48=\"\",\"\",'All Running Order'!T48)","v":""},{"$f":"IF('All Running Order'!U48=\"\",\"\",'All Running Order'!U48)","v":""},{"$f":"IF('All Running Order'!V48=\"\",\"\",'All Running Order'!V48)","v":""},{"$f":"IF('All Running Order'!W48=\"\",\"\",'All Running Order'!W48)","v":""},{"$f":"IF('All Running Order'!X48=\"\",\"\",'All Running Order'!X48)","v":""},{"$f":"IF('All Running Order'!Y48=\"\",\"\",'All Running Order'!Y48)","v":""},{"$f":"IF('All Running Order'!Z48=\"\",\"\",'All Running Order'!Z48)","v":""},{"$f":"IF('All Running Order'!AB48=\"\",\"\",'All Running Order'!AB48)","v":""},{"$f":"IF('All Running Order'!AC48=\"\",\"\",'All Running Order'!AC48)","v":""},{"$f":"IF('All Running Order'!AD48=\"\",\"\",'All Running Order'!AD48)","v":""},{"$f":"IF('All Running Order'!AE48=\"\",\"\",'All Running Order'!AE48)","v":""},{"$f":"IF('All Running Order'!AF48=\"\",\"\",'All Running Order'!AF48)","v":""},{"$f":"IF('All Running Order'!AG48=\"\",\"\",'All Running Order'!AG48)","v":""},{"$f":"IF('All Running Order'!AH48=\"\",\"\",'All Running Order'!AH48)","v":""},{"$f":"IF('All Running Order'!AI48=\"\",\"\",'All Running Order'!AI48)","v":""},{"$f":"IF('All Running Order'!AJ48=\"\",\"\",'All Running Order'!AJ48)","v":""},{"$f":"IF('All Running Order'!AK48=\"\",\"\",'All Running Order'!AK48)","v":""},{"$f":"IF('All Running Order'!AN48=\"\",\"\",'All Running Order'!AN48)","v":""},{"$f":"IF('All Running Order'!AO48=\"\",\"\",'All Running Order'!AO48)","v":""},{"$f":"IF('All Running Order'!AP48=\"\",\"\",'All Running Order'!AP48)","v":""},{"$f":"IF('All Running Order'!AQ48=\"\",\"\",'All Running Order'!AQ48)","v":""},{"$f":"IF('All Running Order'!AR48=\"\",\"\",'All Running Order'!AR48)","v":""},{"$f":"IF('All Running Order'!AS48=\"\",\"\",'All Running Order'!AS48)","v":""},{"$f":"IF('All Running Order'!AT48=\"\",\"\",'All Running Order'!AT48)","v":""},{"$f":"IF('All Running Order'!AU48=\"\",\"\",'All Running Order'!AU48)","v":""},{"$f":"IF('All Running Order'!AV48=\"\",\"\",'All Running Order'!AV48)","v":""},{"$f":"IF('All Running Order'!AW48=\"\",\"\",'All Running Order'!AW48)","v":""},{"$f":"IF('All Running Order'!AZ48=\"\",\"\",'All Running Order'!AZ48)","v":""},{"$f":"IF('All Running Order'!BA48=\"\",\"\",'All Running Order'!BA48)","v":""},{"$f":"IF('All Running Order'!BB48=\"\",\"\",'All Running Order'!BB48)","v":""},{"$f":"IF('All Running Order'!BC48=\"\",\"\",'All Running Order'!BC48)","v":""},{"$f":"IF('All Running Order'!BD48=\"\",\"\",'All Running Order'!BD48)","v":""},{"$f":"IF('All Running Order'!BE48=\"\",\"\",'All Running Order'!BE48)","v":""},{"$f":"IF('All Running Order'!BF48=\"\",\"\",'All Running Order'!BF48)","v":""},{"$f":"IF('All Running Order'!BG48=\"\",\"\",'All Running Order'!BG48)","v":""},{"$f":"IF('All Running Order'!BH48=\"\",\"\",'All Running Order'!BH48)","v":""},{"$f":"IF('All Running Order'!BI48=\"\",\"\",'All Running Order'!BI48)","v":""},{"$f":"IF('All Running Order'!BL48=\"\",\"\",'All Running Order'!BL48)","v":""},{"$f":"IF('All Running Order'!BM48=\"\",\"\",'All Running Order'!BM48)","v":""},{"$f":"IF('All Running Order'!BN48=\"\",\"\",'All Running Order'!BN48)","v":""},{"$f":"IF('All Running Order'!BO48=\"\",\"\",'All Running Order'!BO48)","v":""},{"$f":"IF('All Running Order'!BP48=\"\",\"\",'All Running Order'!BP48)","v":""},{"$f":"IF('All Running Order'!BQ48=\"\",\"\",'All Running Order'!BQ48)","v":""},{"$f":"IF('All Running Order'!BR48=\"\",\"\",'All Running Order'!BR48)","v":""},{"$f":"IF('All Running Order'!BS48=\"\",\"\",'All Running Order'!BS48)","v":""},{"$f":"IF('All Running Order'!BT48=\"\",\"\",'All Running Order'!BT48)","v":""},{"$f":"IF('All Running Order'!BU48=\"\",\"\",'All Running Order'!BU48)","v":""}]
[{"$f":"'All Running Order'!B49","v":45},{"$f":"IF('All Running Order'!C49=\"\",\"\",'All Running Order'!C49)","v":""},{"$f":"IF('All Running Order'!D49=\"\",\"\",'All Running Order'!D49)","v":""},{"$f":"IF('All Running Order'!E49=\"\",\"\",'All Running Order'!E49)","v":""},{"$f":"IF('All Running Order'!F49=\"\",\"\",'All Running Order'!F49)","v":""},{"$f":"IF('All Running Order'!G49=\"\",\"\",'All Running Order'!G49)","v":""},{"$f":"IF('All Running Order'!H49=\"\",\"\",'All Running Order'!H49)","v":""},null,{"$f":"IF('All Running Order'!Q49=\"\",\"\",'All Running Order'!Q49)","v":""},{"$f":"IF('All Running Order'!R49=\"\",\"\",'All Running Order'!R49)","v":""},{"$f":"IF('All Running Order'!S49=\"\",\"\",'All Running Order'!S49)","v":""},{"$f":"IF('All Running Order'!T49=\"\",\"\",'All Running Order'!T49)","v":""},{"$f":"IF('All Running Order'!U49=\"\",\"\",'All Running Order'!U49)","v":""},{"$f":"IF('All Running Order'!V49=\"\",\"\",'All Running Order'!V49)","v":""},{"$f":"IF('All Running Order'!W49=\"\",\"\",'All Running Order'!W49)","v":""},{"$f":"IF('All Running Order'!X49=\"\",\"\",'All Running Order'!X49)","v":""},{"$f":"IF('All Running Order'!Y49=\"\",\"\",'All Running Order'!Y49)","v":""},{"$f":"IF('All Running Order'!Z49=\"\",\"\",'All Running Order'!Z49)","v":""},{"$f":"IF('All Running Order'!AB49=\"\",\"\",'All Running Order'!AB49)","v":""},{"$f":"IF('All Running Order'!AC49=\"\",\"\",'All Running Order'!AC49)","v":""},{"$f":"IF('All Running Order'!AD49=\"\",\"\",'All Running Order'!AD49)","v":""},{"$f":"IF('All Running Order'!AE49=\"\",\"\",'All Running Order'!AE49)","v":""},{"$f":"IF('All Running Order'!AF49=\"\",\"\",'All Running Order'!AF49)","v":""},{"$f":"IF('All Running Order'!AG49=\"\",\"\",'All Running Order'!AG49)","v":""},{"$f":"IF('All Running Order'!AH49=\"\",\"\",'All Running Order'!AH49)","v":""},{"$f":"IF('All Running Order'!AI49=\"\",\"\",'All Running Order'!AI49)","v":""},{"$f":"IF('All Running Order'!AJ49=\"\",\"\",'All Running Order'!AJ49)","v":""},{"$f":"IF('All Running Order'!AK49=\"\",\"\",'All Running Order'!AK49)","v":""},{"$f":"IF('All Running Order'!AN49=\"\",\"\",'All Running Order'!AN49)","v":""},{"$f":"IF('All Running Order'!AO49=\"\",\"\",'All Running Order'!AO49)","v":""},{"$f":"IF('All Running Order'!AP49=\"\",\"\",'All Running Order'!AP49)","v":""},{"$f":"IF('All Running Order'!AQ49=\"\",\"\",'All Running Order'!AQ49)","v":""},{"$f":"IF('All Running Order'!AR49=\"\",\"\",'All Running Order'!AR49)","v":""},{"$f":"IF('All Running Order'!AS49=\"\",\"\",'All Running Order'!AS49)","v":""},{"$f":"IF('All Running Order'!AT49=\"\",\"\",'All Running Order'!AT49)","v":""},{"$f":"IF('All Running Order'!AU49=\"\",\"\",'All Running Order'!AU49)","v":""},{"$f":"IF('All Running Order'!AV49=\"\",\"\",'All Running Order'!AV49)","v":""},{"$f":"IF('All Running Order'!AW49=\"\",\"\",'All Running Order'!AW49)","v":""},{"$f":"IF('All Running Order'!AZ49=\"\",\"\",'All Running Order'!AZ49)","v":""},{"$f":"IF('All Running Order'!BA49=\"\",\"\",'All Running Order'!BA49)","v":""},{"$f":"IF('All Running Order'!BB49=\"\",\"\",'All Running Order'!BB49)","v":""},{"$f":"IF('All Running Order'!BC49=\"\",\"\",'All Running Order'!BC49)","v":""},{"$f":"IF('All Running Order'!BD49=\"\",\"\",'All Running Order'!BD49)","v":""},{"$f":"IF('All Running Order'!BE49=\"\",\"\",'All Running Order'!BE49)","v":""},{"$f":"IF('All Running Order'!BF49=\"\",\"\",'All Running Order'!BF49)","v":""},{"$f":"IF('All Running Order'!BG49=\"\",\"\",'All Running Order'!BG49)","v":""},{"$f":"IF('All Running Order'!BH49=\"\",\"\",'All Running Order'!BH49)","v":""},{"$f":"IF('All Running Order'!BI49=\"\",\"\",'All Running Order'!BI49)","v":""},{"$f":"IF('All Running Order'!BL49=\"\",\"\",'All Running Order'!BL49)","v":""},{"$f":"IF('All Running Order'!BM49=\"\",\"\",'All Running Order'!BM49)","v":""},{"$f":"IF('All Running Order'!BN49=\"\",\"\",'All Running Order'!BN49)","v":""},{"$f":"IF('All Running Order'!BO49=\"\",\"\",'All Running Order'!BO49)","v":""},{"$f":"IF('All Running Order'!BP49=\"\",\"\",'All Running Order'!BP49)","v":""},{"$f":"IF('All Running Order'!BQ49=\"\",\"\",'All Running Order'!BQ49)","v":""},{"$f":"IF('All Running Order'!BR49=\"\",\"\",'All Running Order'!BR49)","v":""},{"$f":"IF('All Running Order'!BS49=\"\",\"\",'All Running Order'!BS49)","v":""},{"$f":"IF('All Running Order'!BT49=\"\",\"\",'All Running Order'!BT49)","v":""},{"$f":"IF('All Running Order'!BU49=\"\",\"\",'All Running Order'!BU49)","v":""}]
[{"$f":"'All Running Order'!B50","v":46},{"$f":"IF('All Running Order'!C50=\"\",\"\",'All Running Order'!C50)","v":""},{"$f":"IF('All Running Order'!D50=\"\",\"\",'All Running Order'!D50)","v":""},{"$f":"IF('All Running Order'!E50=\"\",\"\",'All Running Order'!E50)","v":""},{"$f":"IF('All Running Order'!F50=\"\",\"\",'All Running Order'!F50)","v":""},{"$f":"IF('All Running Order'!G50=\"\",\"\",'All Running Order'!G50)","v":""},{"$f":"IF('All Running Order'!H50=\"\",\"\",'All Running Order'!H50)","v":""},null,{"$f":"IF('All Running Order'!Q50=\"\",\"\",'All Running Order'!Q50)","v":""},{"$f":"IF('All Running Order'!R50=\"\",\"\",'All Running Order'!R50)","v":""},{"$f":"IF('All Running Order'!S50=\"\",\"\",'All Running Order'!S50)","v":""},{"$f":"IF('All Running Order'!T50=\"\",\"\",'All Running Order'!T50)","v":""},{"$f":"IF('All Running Order'!U50=\"\",\"\",'All Running Order'!U50)","v":""},{"$f":"IF('All Running Order'!V50=\"\",\"\",'All Running Order'!V50)","v":""},{"$f":"IF('All Running Order'!W50=\"\",\"\",'All Running Order'!W50)","v":""},{"$f":"IF('All Running Order'!X50=\"\",\"\",'All Running Order'!X50)","v":""},{"$f":"IF('All Running Order'!Y50=\"\",\"\",'All Running Order'!Y50)","v":""},{"$f":"IF('All Running Order'!Z50=\"\",\"\",'All Running Order'!Z50)","v":""},{"$f":"IF('All Running Order'!AB50=\"\",\"\",'All Running Order'!AB50)","v":""},{"$f":"IF('All Running Order'!AC50=\"\",\"\",'All Running Order'!AC50)","v":""},{"$f":"IF('All Running Order'!AD50=\"\",\"\",'All Running Order'!AD50)","v":""},{"$f":"IF('All Running Order'!AE50=\"\",\"\",'All Running Order'!AE50)","v":""},{"$f":"IF('All Running Order'!AF50=\"\",\"\",'All Running Order'!AF50)","v":""},{"$f":"IF('All Running Order'!AG50=\"\",\"\",'All Running Order'!AG50)","v":""},{"$f":"IF('All Running Order'!AH50=\"\",\"\",'All Running Order'!AH50)","v":""},{"$f":"IF('All Running Order'!AI50=\"\",\"\",'All Running Order'!AI50)","v":""},{"$f":"IF('All Running Order'!AJ50=\"\",\"\",'All Running Order'!AJ50)","v":""},{"$f":"IF('All Running Order'!AK50=\"\",\"\",'All Running Order'!AK50)","v":""},{"$f":"IF('All Running Order'!AN50=\"\",\"\",'All Running Order'!AN50)","v":""},{"$f":"IF('All Running Order'!AO50=\"\",\"\",'All Running Order'!AO50)","v":""},{"$f":"IF('All Running Order'!AP50=\"\",\"\",'All Running Order'!AP50)","v":""},{"$f":"IF('All Running Order'!AQ50=\"\",\"\",'All Running Order'!AQ50)","v":""},{"$f":"IF('All Running Order'!AR50=\"\",\"\",'All Running Order'!AR50)","v":""},{"$f":"IF('All Running Order'!AS50=\"\",\"\",'All Running Order'!AS50)","v":""},{"$f":"IF('All Running Order'!AT50=\"\",\"\",'All Running Order'!AT50)","v":""},{"$f":"IF('All Running Order'!AU50=\"\",\"\",'All Running Order'!AU50)","v":""},{"$f":"IF('All Running Order'!AV50=\"\",\"\",'All Running Order'!AV50)","v":""},{"$f":"IF('All Running Order'!AW50=\"\",\"\",'All Running Order'!AW50)","v":""},{"$f":"IF('All Running Order'!AZ50=\"\",\"\",'All Running Order'!AZ50)","v":""},{"$f":"IF('All Running Order'!BA50=\"\",\"\",'All Running Order'!BA50)","v":""},{"$f":"IF('All Running Order'!BB50=\"\",\"\",'All Running Order'!BB50)","v":""},{"$f":"IF('All Running Order'!BC50=\"\",\"\",'All Running Order'!BC50)","v":""},{"$f":"IF('All Running Order'!BD50=\"\",\"\",'All Running Order'!BD50)","v":""},{"$f":"IF('All Running Order'!BE50=\"\",\"\",'All Running Order'!BE50)","v":""},{"$f":"IF('All Running Order'!BF50=\"\",\"\",'All Running Order'!BF50)","v":""},{"$f":"IF('All Running Order'!BG50=\"\",\"\",'All Running Order'!BG50)","v":""},{"$f":"IF('All Running Order'!BH50=\"\",\"\",'All Running Order'!BH50)","v":""},{"$f":"IF('All Running Order'!BI50=\"\",\"\",'All Running Order'!BI50)","v":""},{"$f":"IF('All Running Order'!BL50=\"\",\"\",'All Running Order'!BL50)","v":""},{"$f":"IF('All Running Order'!BM50=\"\",\"\",'All Running Order'!BM50)","v":""},{"$f":"IF('All Running Order'!BN50=\"\",\"\",'All Running Order'!BN50)","v":""},{"$f":"IF('All Running Order'!BO50=\"\",\"\",'All Running Order'!BO50)","v":""},{"$f":"IF('All Running Order'!BP50=\"\",\"\",'All Running Order'!BP50)","v":""},{"$f":"IF('All Running Order'!BQ50=\"\",\"\",'All Running Order'!BQ50)","v":""},{"$f":"IF('All Running Order'!BR50=\"\",\"\",'All Running Order'!BR50)","v":""},{"$f":"IF('All Running Order'!BS50=\"\",\"\",'All Running Order'!BS50)","v":""},{"$f":"IF('All Running Order'!BT50=\"\",\"\",'All Running Order'!BT50)","v":""},{"$f":"IF('All Running Order'!BU50=\"\",\"\",'All Running Order'!BU50)","v":""}]
[{"$f":"'All Running Order'!B51","v":47},{"$f":"IF('All Running Order'!C51=\"\",\"\",'All Running Order'!C51)","v":""},{"$f":"IF('All Running Order'!D51=\"\",\"\",'All Running Order'!D51)","v":""},{"$f":"IF('All Running Order'!E51=\"\",\"\",'All Running Order'!E51)","v":""},{"$f":"IF('All Running Order'!F51=\"\",\"\",'All Running Order'!F51)","v":""},{"$f":"IF('All Running Order'!G51=\"\",\"\",'All Running Order'!G51)","v":""},{"$f":"IF('All Running Order'!H51=\"\",\"\",'All Running Order'!H51)","v":""},null,{"$f":"IF('All Running Order'!Q51=\"\",\"\",'All Running Order'!Q51)","v":""},{"$f":"IF('All Running Order'!R51=\"\",\"\",'All Running Order'!R51)","v":""},{"$f":"IF('All Running Order'!S51=\"\",\"\",'All Running Order'!S51)","v":""},{"$f":"IF('All Running Order'!T51=\"\",\"\",'All Running Order'!T51)","v":""},{"$f":"IF('All Running Order'!U51=\"\",\"\",'All Running Order'!U51)","v":""},{"$f":"IF('All Running Order'!V51=\"\",\"\",'All Running Order'!V51)","v":""},{"$f":"IF('All Running Order'!W51=\"\",\"\",'All Running Order'!W51)","v":""},{"$f":"IF('All Running Order'!X51=\"\",\"\",'All Running Order'!X51)","v":""},{"$f":"IF('All Running Order'!Y51=\"\",\"\",'All Running Order'!Y51)","v":""},{"$f":"IF('All Running Order'!Z51=\"\",\"\",'All Running Order'!Z51)","v":""},{"$f":"IF('All Running Order'!AB51=\"\",\"\",'All Running Order'!AB51)","v":""},{"$f":"IF('All Running Order'!AC51=\"\",\"\",'All Running Order'!AC51)","v":""},{"$f":"IF('All Running Order'!AD51=\"\",\"\",'All Running Order'!AD51)","v":""},{"$f":"IF('All Running Order'!AE51=\"\",\"\",'All Running Order'!AE51)","v":""},{"$f":"IF('All Running Order'!AF51=\"\",\"\",'All Running Order'!AF51)","v":""},{"$f":"IF('All Running Order'!AG51=\"\",\"\",'All Running Order'!AG51)","v":""},{"$f":"IF('All Running Order'!AH51=\"\",\"\",'All Running Order'!AH51)","v":""},{"$f":"IF('All Running Order'!AI51=\"\",\"\",'All Running Order'!AI51)","v":""},{"$f":"IF('All Running Order'!AJ51=\"\",\"\",'All Running Order'!AJ51)","v":""},{"$f":"IF('All Running Order'!AK51=\"\",\"\",'All Running Order'!AK51)","v":""},{"$f":"IF('All Running Order'!AN51=\"\",\"\",'All Running Order'!AN51)","v":""},{"$f":"IF('All Running Order'!AO51=\"\",\"\",'All Running Order'!AO51)","v":""},{"$f":"IF('All Running Order'!AP51=\"\",\"\",'All Running Order'!AP51)","v":""},{"$f":"IF('All Running Order'!AQ51=\"\",\"\",'All Running Order'!AQ51)","v":""},{"$f":"IF('All Running Order'!AR51=\"\",\"\",'All Running Order'!AR51)","v":""},{"$f":"IF('All Running Order'!AS51=\"\",\"\",'All Running Order'!AS51)","v":""},{"$f":"IF('All Running Order'!AT51=\"\",\"\",'All Running Order'!AT51)","v":""},{"$f":"IF('All Running Order'!AU51=\"\",\"\",'All Running Order'!AU51)","v":""},{"$f":"IF('All Running Order'!AV51=\"\",\"\",'All Running Order'!AV51)","v":""},{"$f":"IF('All Running Order'!AW51=\"\",\"\",'All Running Order'!AW51)","v":""},{"$f":"IF('All Running Order'!AZ51=\"\",\"\",'All Running Order'!AZ51)","v":""},{"$f":"IF('All Running Order'!BA51=\"\",\"\",'All Running Order'!BA51)","v":""},{"$f":"IF('All Running Order'!BB51=\"\",\"\",'All Running Order'!BB51)","v":""},{"$f":"IF('All Running Order'!BC51=\"\",\"\",'All Running Order'!BC51)","v":""},{"$f":"IF('All Running Order'!BD51=\"\",\"\",'All Running Order'!BD51)","v":""},{"$f":"IF('All Running Order'!BE51=\"\",\"\",'All Running Order'!BE51)","v":""},{"$f":"IF('All Running Order'!BF51=\"\",\"\",'All Running Order'!BF51)","v":""},{"$f":"IF('All Running Order'!BG51=\"\",\"\",'All Running Order'!BG51)","v":""},{"$f":"IF('All Running Order'!BH51=\"\",\"\",'All Running Order'!BH51)","v":""},{"$f":"IF('All Running Order'!BI51=\"\",\"\",'All Running Order'!BI51)","v":""},{"$f":"IF('All Running Order'!BL51=\"\",\"\",'All Running Order'!BL51)","v":""},{"$f":"IF('All Running Order'!BM51=\"\",\"\",'All Running Order'!BM51)","v":""},{"$f":"IF('All Running Order'!BN51=\"\",\"\",'All Running Order'!BN51)","v":""},{"$f":"IF('All Running Order'!BO51=\"\",\"\",'All Running Order'!BO51)","v":""},{"$f":"IF('All Running Order'!BP51=\"\",\"\",'All Running Order'!BP51)","v":""},{"$f":"IF('All Running Order'!BQ51=\"\",\"\",'All Running Order'!BQ51)","v":""},{"$f":"IF('All Running Order'!BR51=\"\",\"\",'All Running Order'!BR51)","v":""},{"$f":"IF('All Running Order'!BS51=\"\",\"\",'All Running Order'!BS51)","v":""},{"$f":"IF('All Running Order'!BT51=\"\",\"\",'All Running Order'!BT51)","v":""},{"$f":"IF('All Running Order'!BU51=\"\",\"\",'All Running Order'!BU51)","v":""}]
[{"$f":"'All Running Order'!B52","v":48},{"$f":"IF('All Running Order'!C52=\"\",\"\",'All Running Order'!C52)","v":""},{"$f":"IF('All Running Order'!D52=\"\",\"\",'All Running Order'!D52)","v":""},{"$f":"IF('All Running Order'!E52=\"\",\"\",'All Running Order'!E52)","v":""},{"$f":"IF('All Running Order'!F52=\"\",\"\",'All Running Order'!F52)","v":""},{"$f":"IF('All Running Order'!G52=\"\",\"\",'All Running Order'!G52)","v":""},{"$f":"IF('All Running Order'!H52=\"\",\"\",'All Running Order'!H52)","v":""},null,{"$f":"IF('All Running Order'!Q52=\"\",\"\",'All Running Order'!Q52)","v":""},{"$f":"IF('All Running Order'!R52=\"\",\"\",'All Running Order'!R52)","v":""},{"$f":"IF('All Running Order'!S52=\"\",\"\",'All Running Order'!S52)","v":""},{"$f":"IF('All Running Order'!T52=\"\",\"\",'All Running Order'!T52)","v":""},{"$f":"IF('All Running Order'!U52=\"\",\"\",'All Running Order'!U52)","v":""},{"$f":"IF('All Running Order'!V52=\"\",\"\",'All Running Order'!V52)","v":""},{"$f":"IF('All Running Order'!W52=\"\",\"\",'All Running Order'!W52)","v":""},{"$f":"IF('All Running Order'!X52=\"\",\"\",'All Running Order'!X52)","v":""},{"$f":"IF('All Running Order'!Y52=\"\",\"\",'All Running Order'!Y52)","v":""},{"$f":"IF('All Running Order'!Z52=\"\",\"\",'All Running Order'!Z52)","v":""},{"$f":"IF('All Running Order'!AB52=\"\",\"\",'All Running Order'!AB52)","v":""},{"$f":"IF('All Running Order'!AC52=\"\",\"\",'All Running Order'!AC52)","v":""},{"$f":"IF('All Running Order'!AD52=\"\",\"\",'All Running Order'!AD52)","v":""},{"$f":"IF('All Running Order'!AE52=\"\",\"\",'All Running Order'!AE52)","v":""},{"$f":"IF('All Running Order'!AF52=\"\",\"\",'All Running Order'!AF52)","v":""},{"$f":"IF('All Running Order'!AG52=\"\",\"\",'All Running Order'!AG52)","v":""},{"$f":"IF('All Running Order'!AH52=\"\",\"\",'All Running Order'!AH52)","v":""},{"$f":"IF('All Running Order'!AI52=\"\",\"\",'All Running Order'!AI52)","v":""},{"$f":"IF('All Running Order'!AJ52=\"\",\"\",'All Running Order'!AJ52)","v":""},{"$f":"IF('All Running Order'!AK52=\"\",\"\",'All Running Order'!AK52)","v":""},{"$f":"IF('All Running Order'!AN52=\"\",\"\",'All Running Order'!AN52)","v":""},{"$f":"IF('All Running Order'!AO52=\"\",\"\",'All Running Order'!AO52)","v":""},{"$f":"IF('All Running Order'!AP52=\"\",\"\",'All Running Order'!AP52)","v":""},{"$f":"IF('All Running Order'!AQ52=\"\",\"\",'All Running Order'!AQ52)","v":""},{"$f":"IF('All Running Order'!AR52=\"\",\"\",'All Running Order'!AR52)","v":""},{"$f":"IF('All Running Order'!AS52=\"\",\"\",'All Running Order'!AS52)","v":""},{"$f":"IF('All Running Order'!AT52=\"\",\"\",'All Running Order'!AT52)","v":""},{"$f":"IF('All Running Order'!AU52=\"\",\"\",'All Running Order'!AU52)","v":""},{"$f":"IF('All Running Order'!AV52=\"\",\"\",'All Running Order'!AV52)","v":""},{"$f":"IF('All Running Order'!AW52=\"\",\"\",'All Running Order'!AW52)","v":""},{"$f":"IF('All Running Order'!AZ52=\"\",\"\",'All Running Order'!AZ52)","v":""},{"$f":"IF('All Running Order'!BA52=\"\",\"\",'All Running Order'!BA52)","v":""},{"$f":"IF('All Running Order'!BB52=\"\",\"\",'All Running Order'!BB52)","v":""},{"$f":"IF('All Running Order'!BC52=\"\",\"\",'All Running Order'!BC52)","v":""},{"$f":"IF('All Running Order'!BD52=\"\",\"\",'All Running Order'!BD52)","v":""},{"$f":"IF('All Running Order'!BE52=\"\",\"\",'All Running Order'!BE52)","v":""},{"$f":"IF('All Running Order'!BF52=\"\",\"\",'All Running Order'!BF52)","v":""},{"$f":"IF('All Running Order'!BG52=\"\",\"\",'All Running Order'!BG52)","v":""},{"$f":"IF('All Running Order'!BH52=\"\",\"\",'All Running Order'!BH52)","v":""},{"$f":"IF('All Running Order'!BI52=\"\",\"\",'All Running Order'!BI52)","v":""},{"$f":"IF('All Running Order'!BL52=\"\",\"\",'All Running Order'!BL52)","v":""},{"$f":"IF('All Running Order'!BM52=\"\",\"\",'All Running Order'!BM52)","v":""},{"$f":"IF('All Running Order'!BN52=\"\",\"\",'All Running Order'!BN52)","v":""},{"$f":"IF('All Running Order'!BO52=\"\",\"\",'All Running Order'!BO52)","v":""},{"$f":"IF('All Running Order'!BP52=\"\",\"\",'All Running Order'!BP52)","v":""},{"$f":"IF('All Running Order'!BQ52=\"\",\"\",'All Running Order'!BQ52)","v":""},{"$f":"IF('All Running Order'!BR52=\"\",\"\",'All Running Order'!BR52)","v":""},{"$f":"IF('All Running Order'!BS52=\"\",\"\",'All Running Order'!BS52)","v":""},{"$f":"IF('All Running Order'!BT52=\"\",\"\",'All Running Order'!BT52)","v":""},{"$f":"IF('All Running Order'!BU52=\"\",\"\",'All Running Order'!BU52)","v":""}]
[{"$f":"'All Running Order'!B53","v":49},{"$f":"IF('All Running Order'!C53=\"\",\"\",'All Running Order'!C53)","v":""},{"$f":"IF('All Running Order'!D53=\"\",\"\",'All Running Order'!D53)","v":""},{"$f":"IF('All Running Order'!E53=\"\",\"\",'All Running Order'!E53)","v":""},{"$f":"IF('All Running Order'!F53=\"\",\"\",'All Running Order'!F53)","v":""},{"$f":"IF('All Running Order'!G53=\"\",\"\",'All Running Order'!G53)","v":""},{"$f":"IF('All Running Order'!H53=\"\",\"\",'All Running Order'!H53)","v":""},null,{"$f":"IF('All Running Order'!Q53=\"\",\"\",'All Running Order'!Q53)","v":""},{"$f":"IF('All Running Order'!R53=\"\",\"\",'All Running Order'!R53)","v":""},{"$f":"IF('All Running Order'!S53=\"\",\"\",'All Running Order'!S53)","v":""},{"$f":"IF('All Running Order'!T53=\"\",\"\",'All Running Order'!T53)","v":""},{"$f":"IF('All Running Order'!U53=\"\",\"\",'All Running Order'!U53)","v":""},{"$f":"IF('All Running Order'!V53=\"\",\"\",'All Running Order'!V53)","v":""},{"$f":"IF('All Running Order'!W53=\"\",\"\",'All Running Order'!W53)","v":""},{"$f":"IF('All Running Order'!X53=\"\",\"\",'All Running Order'!X53)","v":""},{"$f":"IF('All Running Order'!Y53=\"\",\"\",'All Running Order'!Y53)","v":""},{"$f":"IF('All Running Order'!Z53=\"\",\"\",'All Running Order'!Z53)","v":""},{"$f":"IF('All Running Order'!AB53=\"\",\"\",'All Running Order'!AB53)","v":""},{"$f":"IF('All Running Order'!AC53=\"\",\"\",'All Running Order'!AC53)","v":""},{"$f":"IF('All Running Order'!AD53=\"\",\"\",'All Running Order'!AD53)","v":""},{"$f":"IF('All Running Order'!AE53=\"\",\"\",'All Running Order'!AE53)","v":""},{"$f":"IF('All Running Order'!AF53=\"\",\"\",'All Running Order'!AF53)","v":""},{"$f":"IF('All Running Order'!AG53=\"\",\"\",'All Running Order'!AG53)","v":""},{"$f":"IF('All Running Order'!AH53=\"\",\"\",'All Running Order'!AH53)","v":""},{"$f":"IF('All Running Order'!AI53=\"\",\"\",'All Running Order'!AI53)","v":""},{"$f":"IF('All Running Order'!AJ53=\"\",\"\",'All Running Order'!AJ53)","v":""},{"$f":"IF('All Running Order'!AK53=\"\",\"\",'All Running Order'!AK53)","v":""},{"$f":"IF('All Running Order'!AN53=\"\",\"\",'All Running Order'!AN53)","v":""},{"$f":"IF('All Running Order'!AO53=\"\",\"\",'All Running Order'!AO53)","v":""},{"$f":"IF('All Running Order'!AP53=\"\",\"\",'All Running Order'!AP53)","v":""},{"$f":"IF('All Running Order'!AQ53=\"\",\"\",'All Running Order'!AQ53)","v":""},{"$f":"IF('All Running Order'!AR53=\"\",\"\",'All Running Order'!AR53)","v":""},{"$f":"IF('All Running Order'!AS53=\"\",\"\",'All Running Order'!AS53)","v":""},{"$f":"IF('All Running Order'!AT53=\"\",\"\",'All Running Order'!AT53)","v":""},{"$f":"IF('All Running Order'!AU53=\"\",\"\",'All Running Order'!AU53)","v":""},{"$f":"IF('All Running Order'!AV53=\"\",\"\",'All Running Order'!AV53)","v":""},{"$f":"IF('All Running Order'!AW53=\"\",\"\",'All Running Order'!AW53)","v":""},{"$f":"IF('All Running Order'!AZ53=\"\",\"\",'All Running Order'!AZ53)","v":""},{"$f":"IF('All Running Order'!BA53=\"\",\"\",'All Running Order'!BA53)","v":""},{"$f":"IF('All Running Order'!BB53=\"\",\"\",'All Running Order'!BB53)","v":""},{"$f":"IF('All Running Order'!BC53=\"\",\"\",'All Running Order'!BC53)","v":""},{"$f":"IF('All Running Order'!BD53=\"\",\"\",'All Running Order'!BD53)","v":""},{"$f":"IF('All Running Order'!BE53=\"\",\"\",'All Running Order'!BE53)","v":""},{"$f":"IF('All Running Order'!BF53=\"\",\"\",'All Running Order'!BF53)","v":""},{"$f":"IF('All Running Order'!BG53=\"\",\"\",'All Running Order'!BG53)","v":""},{"$f":"IF('All Running Order'!BH53=\"\",\"\",'All Running Order'!BH53)","v":""},{"$f":"IF('All Running Order'!BI53=\"\",\"\",'All Running Order'!BI53)","v":""},{"$f":"IF('All Running Order'!BL53=\"\",\"\",'All Running Order'!BL53)","v":""},{"$f":"IF('All Running Order'!BM53=\"\",\"\",'All Running Order'!BM53)","v":""},{"$f":"IF('All Running Order'!BN53=\"\",\"\",'All Running Order'!BN53)","v":""},{"$f":"IF('All Running Order'!BO53=\"\",\"\",'All Running Order'!BO53)","v":""},{"$f":"IF('All Running Order'!BP53=\"\",\"\",'All Running Order'!BP53)","v":""},{"$f":"IF('All Running Order'!BQ53=\"\",\"\",'All Running Order'!BQ53)","v":""},{"$f":"IF('All Running Order'!BR53=\"\",\"\",'All Running Order'!BR53)","v":""},{"$f":"IF('All Running Order'!BS53=\"\",\"\",'All Running Order'!BS53)","v":""},{"$f":"IF('All Running Order'!BT53=\"\",\"\",'All Running Order'!BT53)","v":""},{"$f":"IF('All Running Order'!BU53=\"\",\"\",'All Running Order'!BU53)","v":""}]
[{"$f":"'All Running Order'!B54","v":50},{"$f":"IF('All Running Order'!C54=\"\",\"\",'All Running Order'!C54)","v":""},{"$f":"IF('All Running Order'!D54=\"\",\"\",'All Running Order'!D54)","v":""},{"$f":"IF('All Running Order'!E54=\"\",\"\",'All Running Order'!E54)","v":""},{"$f":"IF('All Running Order'!F54=\"\",\"\",'All Running Order'!F54)","v":""},{"$f":"IF('All Running Order'!G54=\"\",\"\",'All Running Order'!G54)","v":""},{"$f":"IF('All Running Order'!H54=\"\",\"\",'All Running Order'!H54)","v":""},null,{"$f":"IF('All Running Order'!Q54=\"\",\"\",'All Running Order'!Q54)","v":""},{"$f":"IF('All Running Order'!R54=\"\",\"\",'All Running Order'!R54)","v":""},{"$f":"IF('All Running Order'!S54=\"\",\"\",'All Running Order'!S54)","v":""},{"$f":"IF('All Running Order'!T54=\"\",\"\",'All Running Order'!T54)","v":""},{"$f":"IF('All Running Order'!U54=\"\",\"\",'All Running Order'!U54)","v":""},{"$f":"IF('All Running Order'!V54=\"\",\"\",'All Running Order'!V54)","v":""},{"$f":"IF('All Running Order'!W54=\"\",\"\",'All Running Order'!W54)","v":""},{"$f":"IF('All Running Order'!X54=\"\",\"\",'All Running Order'!X54)","v":""},{"$f":"IF('All Running Order'!Y54=\"\",\"\",'All Running Order'!Y54)","v":""},{"$f":"IF('All Running Order'!Z54=\"\",\"\",'All Running Order'!Z54)","v":""},{"$f":"IF('All Running Order'!AB54=\"\",\"\",'All Running Order'!AB54)","v":""},{"$f":"IF('All Running Order'!AC54=\"\",\"\",'All Running Order'!AC54)","v":""},{"$f":"IF('All Running Order'!AD54=\"\",\"\",'All Running Order'!AD54)","v":""},{"$f":"IF('All Running Order'!AE54=\"\",\"\",'All Running Order'!AE54)","v":""},{"$f":"IF('All Running Order'!AF54=\"\",\"\",'All Running Order'!AF54)","v":""},{"$f":"IF('All Running Order'!AG54=\"\",\"\",'All Running Order'!AG54)","v":""},{"$f":"IF('All Running Order'!AH54=\"\",\"\",'All Running Order'!AH54)","v":""},{"$f":"IF('All Running Order'!AI54=\"\",\"\",'All Running Order'!AI54)","v":""},{"$f":"IF('All Running Order'!AJ54=\"\",\"\",'All Running Order'!AJ54)","v":""},{"$f":"IF('All Running Order'!AK54=\"\",\"\",'All Running Order'!AK54)","v":""},{"$f":"IF('All Running Order'!AN54=\"\",\"\",'All Running Order'!AN54)","v":""},{"$f":"IF('All Running Order'!AO54=\"\",\"\",'All Running Order'!AO54)","v":""},{"$f":"IF('All Running Order'!AP54=\"\",\"\",'All Running Order'!AP54)","v":""},{"$f":"IF('All Running Order'!AQ54=\"\",\"\",'All Running Order'!AQ54)","v":""},{"$f":"IF('All Running Order'!AR54=\"\",\"\",'All Running Order'!AR54)","v":""},{"$f":"IF('All Running Order'!AS54=\"\",\"\",'All Running Order'!AS54)","v":""},{"$f":"IF('All Running Order'!AT54=\"\",\"\",'All Running Order'!AT54)","v":""},{"$f":"IF('All Running Order'!AU54=\"\",\"\",'All Running Order'!AU54)","v":""},{"$f":"IF('All Running Order'!AV54=\"\",\"\",'All Running Order'!AV54)","v":""},{"$f":"IF('All Running Order'!AW54=\"\",\"\",'All Running Order'!AW54)","v":""},{"$f":"IF('All Running Order'!AZ54=\"\",\"\",'All Running Order'!AZ54)","v":""},{"$f":"IF('All Running Order'!BA54=\"\",\"\",'All Running Order'!BA54)","v":""},{"$f":"IF('All Running Order'!BB54=\"\",\"\",'All Running Order'!BB54)","v":""},{"$f":"IF('All Running Order'!BC54=\"\",\"\",'All Running Order'!BC54)","v":""},{"$f":"IF('All Running Order'!BD54=\"\",\"\",'All Running Order'!BD54)","v":""},{"$f":"IF('All Running Order'!BE54=\"\",\"\",'All Running Order'!BE54)","v":""},{"$f":"IF('All Running Order'!BF54=\"\",\"\",'All Running Order'!BF54)","v":""},{"$f":"IF('All Running Order'!BG54=\"\",\"\",'All Running Order'!BG54)","v":""},{"$f":"IF('All Running Order'!BH54=\"\",\"\",'All Running Order'!BH54)","v":""},{"$f":"IF('All Running Order'!BI54=\"\",\"\",'All Running Order'!BI54)","v":""},{"$f":"IF('All Running Order'!BL54=\"\",\"\",'All Running Order'!BL54)","v":""},{"$f":"IF('All Running Order'!BM54=\"\",\"\",'All Running Order'!BM54)","v":""},{"$f":"IF('All Running Order'!BN54=\"\",\"\",'All Running Order'!BN54)","v":""},{"$f":"IF('All Running Order'!BO54=\"\",\"\",'All Running Order'!BO54)","v":""},{"$f":"IF('All Running Order'!BP54=\"\",\"\",'All Running Order'!BP54)","v":""},{"$f":"IF('All Running Order'!BQ54=\"\",\"\",'All Running Order'!BQ54)","v":""},{"$f":"IF('All Running Order'!BR54=\"\",\"\",'All Running Order'!BR54)","v":""},{"$f":"IF('All Running Order'!BS54=\"\",\"\",'All Running Order'!BS54)","v":""},{"$f":"IF('All Running Order'!BT54=\"\",\"\",'All Running Order'!BT54)","v":""},{"$f":"IF('All Running Order'!BU54=\"\",\"\",'All Running Order'!BU54)","v":""}]
[{"$f":"'All Running Order'!B55","v":51},{"$f":"IF('All Running Order'!C55=\"\",\"\",'All Running Order'!C55)","v":""},{"$f":"IF('All Running Order'!D55=\"\",\"\",'All Running Order'!D55)","v":""},{"$f":"IF('All Running Order'!E55=\"\",\"\",'All Running Order'!E55)","v":""},{"$f":"IF('All Running Order'!F55=\"\",\"\",'All Running Order'!F55)","v":""},{"$f":"IF('All Running Order'!G55=\"\",\"\",'All Running Order'!G55)","v":""},{"$f":"IF('All Running Order'!H55=\"\",\"\",'All Running Order'!H55)","v":""},null,{"$f":"IF('All Running Order'!Q55=\"\",\"\",'All Running Order'!Q55)","v":""},{"$f":"IF('All Running Order'!R55=\"\",\"\",'All Running Order'!R55)","v":""},{"$f":"IF('All Running Order'!S55=\"\",\"\",'All Running Order'!S55)","v":""},{"$f":"IF('All Running Order'!T55=\"\",\"\",'All Running Order'!T55)","v":""},{"$f":"IF('All Running Order'!U55=\"\",\"\",'All Running Order'!U55)","v":""},{"$f":"IF('All Running Order'!V55=\"\",\"\",'All Running Order'!V55)","v":""},{"$f":"IF('All Running Order'!W55=\"\",\"\",'All Running Order'!W55)","v":""},{"$f":"IF('All Running Order'!X55=\"\",\"\",'All Running Order'!X55)","v":""},{"$f":"IF('All Running Order'!Y55=\"\",\"\",'All Running Order'!Y55)","v":""},{"$f":"IF('All Running Order'!Z55=\"\",\"\",'All Running Order'!Z55)","v":""},{"$f":"IF('All Running Order'!AB55=\"\",\"\",'All Running Order'!AB55)","v":""},{"$f":"IF('All Running Order'!AC55=\"\",\"\",'All Running Order'!AC55)","v":""},{"$f":"IF('All Running Order'!AD55=\"\",\"\",'All Running Order'!AD55)","v":""},{"$f":"IF('All Running Order'!AE55=\"\",\"\",'All Running Order'!AE55)","v":""},{"$f":"IF('All Running Order'!AF55=\"\",\"\",'All Running Order'!AF55)","v":""},{"$f":"IF('All Running Order'!AG55=\"\",\"\",'All Running Order'!AG55)","v":""},{"$f":"IF('All Running Order'!AH55=\"\",\"\",'All Running Order'!AH55)","v":""},{"$f":"IF('All Running Order'!AI55=\"\",\"\",'All Running Order'!AI55)","v":""},{"$f":"IF('All Running Order'!AJ55=\"\",\"\",'All Running Order'!AJ55)","v":""},{"$f":"IF('All Running Order'!AK55=\"\",\"\",'All Running Order'!AK55)","v":""},{"$f":"IF('All Running Order'!AN55=\"\",\"\",'All Running Order'!AN55)","v":""},{"$f":"IF('All Running Order'!AO55=\"\",\"\",'All Running Order'!AO55)","v":""},{"$f":"IF('All Running Order'!AP55=\"\",\"\",'All Running Order'!AP55)","v":""},{"$f":"IF('All Running Order'!AQ55=\"\",\"\",'All Running Order'!AQ55)","v":""},{"$f":"IF('All Running Order'!AR55=\"\",\"\",'All Running Order'!AR55)","v":""},{"$f":"IF('All Running Order'!AS55=\"\",\"\",'All Running Order'!AS55)","v":""},{"$f":"IF('All Running Order'!AT55=\"\",\"\",'All Running Order'!AT55)","v":""},{"$f":"IF('All Running Order'!AU55=\"\",\"\",'All Running Order'!AU55)","v":""},{"$f":"IF('All Running Order'!AV55=\"\",\"\",'All Running Order'!AV55)","v":""},{"$f":"IF('All Running Order'!AW55=\"\",\"\",'All Running Order'!AW55)","v":""},{"$f":"IF('All Running Order'!AZ55=\"\",\"\",'All Running Order'!AZ55)","v":""},{"$f":"IF('All Running Order'!BA55=\"\",\"\",'All Running Order'!BA55)","v":""},{"$f":"IF('All Running Order'!BB55=\"\",\"\",'All Running Order'!BB55)","v":""},{"$f":"IF('All Running Order'!BC55=\"\",\"\",'All Running Order'!BC55)","v":""},{"$f":"IF('All Running Order'!BD55=\"\",\"\",'All Running Order'!BD55)","v":""},{"$f":"IF('All Running Order'!BE55=\"\",\"\",'All Running Order'!BE55)","v":""},{"$f":"IF('All Running Order'!BF55=\"\",\"\",'All Running Order'!BF55)","v":""},{"$f":"IF('All Running Order'!BG55=\"\",\"\",'All Running Order'!BG55)","v":""},{"$f":"IF('All Running Order'!BH55=\"\",\"\",'All Running Order'!BH55)","v":""},{"$f":"IF('All Running Order'!BI55=\"\",\"\",'All Running Order'!BI55)","v":""},{"$f":"IF('All Running Order'!BL55=\"\",\"\",'All Running Order'!BL55)","v":""},{"$f":"IF('All Running Order'!BM55=\"\",\"\",'All Running Order'!BM55)","v":""},{"$f":"IF('All Running Order'!BN55=\"\",\"\",'All Running Order'!BN55)","v":""},{"$f":"IF('All Running Order'!BO55=\"\",\"\",'All Running Order'!BO55)","v":""},{"$f":"IF('All Running Order'!BP55=\"\",\"\",'All Running Order'!BP55)","v":""},{"$f":"IF('All Running Order'!BQ55=\"\",\"\",'All Running Order'!BQ55)","v":""},{"$f":"IF('All Running Order'!BR55=\"\",\"\",'All Running Order'!BR55)","v":""},{"$f":"IF('All Running Order'!BS55=\"\",\"\",'All Running Order'!BS55)","v":""},{"$f":"IF('All Running Order'!BT55=\"\",\"\",'All Running Order'!BT55)","v":""},{"$f":"IF('All Running Order'!BU55=\"\",\"\",'All Running Order'!BU55)","v":""}]
[{"$f":"'All Running Order'!B56","v":52},{"$f":"IF('All Running Order'!C56=\"\",\"\",'All Running Order'!C56)","v":""},{"$f":"IF('All Running Order'!D56=\"\",\"\",'All Running Order'!D56)","v":""},{"$f":"IF('All Running Order'!E56=\"\",\"\",'All Running Order'!E56)","v":""},{"$f":"IF('All Running Order'!F56=\"\",\"\",'All Running Order'!F56)","v":""},{"$f":"IF('All Running Order'!G56=\"\",\"\",'All Running Order'!G56)","v":""},{"$f":"IF('All Running Order'!H56=\"\",\"\",'All Running Order'!H56)","v":""},null,{"$f":"IF('All Running Order'!Q56=\"\",\"\",'All Running Order'!Q56)","v":""},{"$f":"IF('All Running Order'!R56=\"\",\"\",'All Running Order'!R56)","v":""},{"$f":"IF('All Running Order'!S56=\"\",\"\",'All Running Order'!S56)","v":""},{"$f":"IF('All Running Order'!T56=\"\",\"\",'All Running Order'!T56)","v":""},{"$f":"IF('All Running Order'!U56=\"\",\"\",'All Running Order'!U56)","v":""},{"$f":"IF('All Running Order'!V56=\"\",\"\",'All Running Order'!V56)","v":""},{"$f":"IF('All Running Order'!W56=\"\",\"\",'All Running Order'!W56)","v":""},{"$f":"IF('All Running Order'!X56=\"\",\"\",'All Running Order'!X56)","v":""},{"$f":"IF('All Running Order'!Y56=\"\",\"\",'All Running Order'!Y56)","v":""},{"$f":"IF('All Running Order'!Z56=\"\",\"\",'All Running Order'!Z56)","v":""},{"$f":"IF('All Running Order'!AB56=\"\",\"\",'All Running Order'!AB56)","v":""},{"$f":"IF('All Running Order'!AC56=\"\",\"\",'All Running Order'!AC56)","v":""},{"$f":"IF('All Running Order'!AD56=\"\",\"\",'All Running Order'!AD56)","v":""},{"$f":"IF('All Running Order'!AE56=\"\",\"\",'All Running Order'!AE56)","v":""},{"$f":"IF('All Running Order'!AF56=\"\",\"\",'All Running Order'!AF56)","v":""},{"$f":"IF('All Running Order'!AG56=\"\",\"\",'All Running Order'!AG56)","v":""},{"$f":"IF('All Running Order'!AH56=\"\",\"\",'All Running Order'!AH56)","v":""},{"$f":"IF('All Running Order'!AI56=\"\",\"\",'All Running Order'!AI56)","v":""},{"$f":"IF('All Running Order'!AJ56=\"\",\"\",'All Running Order'!AJ56)","v":""},{"$f":"IF('All Running Order'!AK56=\"\",\"\",'All Running Order'!AK56)","v":""},{"$f":"IF('All Running Order'!AN56=\"\",\"\",'All Running Order'!AN56)","v":""},{"$f":"IF('All Running Order'!AO56=\"\",\"\",'All Running Order'!AO56)","v":""},{"$f":"IF('All Running Order'!AP56=\"\",\"\",'All Running Order'!AP56)","v":""},{"$f":"IF('All Running Order'!AQ56=\"\",\"\",'All Running Order'!AQ56)","v":""},{"$f":"IF('All Running Order'!AR56=\"\",\"\",'All Running Order'!AR56)","v":""},{"$f":"IF('All Running Order'!AS56=\"\",\"\",'All Running Order'!AS56)","v":""},{"$f":"IF('All Running Order'!AT56=\"\",\"\",'All Running Order'!AT56)","v":""},{"$f":"IF('All Running Order'!AU56=\"\",\"\",'All Running Order'!AU56)","v":""},{"$f":"IF('All Running Order'!AV56=\"\",\"\",'All Running Order'!AV56)","v":""},{"$f":"IF('All Running Order'!AW56=\"\",\"\",'All Running Order'!AW56)","v":""},{"$f":"IF('All Running Order'!AZ56=\"\",\"\",'All Running Order'!AZ56)","v":""},{"$f":"IF('All Running Order'!BA56=\"\",\"\",'All Running Order'!BA56)","v":""},{"$f":"IF('All Running Order'!BB56=\"\",\"\",'All Running Order'!BB56)","v":""},{"$f":"IF('All Running Order'!BC56=\"\",\"\",'All Running Order'!BC56)","v":""},{"$f":"IF('All Running Order'!BD56=\"\",\"\",'All Running Order'!BD56)","v":""},{"$f":"IF('All Running Order'!BE56=\"\",\"\",'All Running Order'!BE56)","v":""},{"$f":"IF('All Running Order'!BF56=\"\",\"\",'All Running Order'!BF56)","v":""},{"$f":"IF('All Running Order'!BG56=\"\",\"\",'All Running Order'!BG56)","v":""},{"$f":"IF('All Running Order'!BH56=\"\",\"\",'All Running Order'!BH56)","v":""},{"$f":"IF('All Running Order'!BI56=\"\",\"\",'All Running Order'!BI56)","v":""},{"$f":"IF('All Running Order'!BL56=\"\",\"\",'All Running Order'!BL56)","v":""},{"$f":"IF('All Running Order'!BM56=\"\",\"\",'All Running Order'!BM56)","v":""},{"$f":"IF('All Running Order'!BN56=\"\",\"\",'All Running Order'!BN56)","v":""},{"$f":"IF('All Running Order'!BO56=\"\",\"\",'All Running Order'!BO56)","v":""},{"$f":"IF('All Running Order'!BP56=\"\",\"\",'All Running Order'!BP56)","v":""},{"$f":"IF('All Running Order'!BQ56=\"\",\"\",'All Running Order'!BQ56)","v":""},{"$f":"IF('All Running Order'!BR56=\"\",\"\",'All Running Order'!BR56)","v":""},{"$f":"IF('All Running Order'!BS56=\"\",\"\",'All Running Order'!BS56)","v":""},{"$f":"IF('All Running Order'!BT56=\"\",\"\",'All Running Order'!BT56)","v":""},{"$f":"IF('All Running Order'!BU56=\"\",\"\",'All Running Order'!BU56)","v":""}]
[{"$f":"'All Running Order'!B57","v":53},{"$f":"IF('All Running Order'!C57=\"\",\"\",'All Running Order'!C57)","v":""},{"$f":"IF('All Running Order'!D57=\"\",\"\",'All Running Order'!D57)","v":""},{"$f":"IF('All Running Order'!E57=\"\",\"\",'All Running Order'!E57)","v":""},{"$f":"IF('All Running Order'!F57=\"\",\"\",'All Running Order'!F57)","v":""},{"$f":"IF('All Running Order'!G57=\"\",\"\",'All Running Order'!G57)","v":""},{"$f":"IF('All Running Order'!H57=\"\",\"\",'All Running Order'!H57)","v":""},null,{"$f":"IF('All Running Order'!Q57=\"\",\"\",'All Running Order'!Q57)","v":""},{"$f":"IF('All Running Order'!R57=\"\",\"\",'All Running Order'!R57)","v":""},{"$f":"IF('All Running Order'!S57=\"\",\"\",'All Running Order'!S57)","v":""},{"$f":"IF('All Running Order'!T57=\"\",\"\",'All Running Order'!T57)","v":""},{"$f":"IF('All Running Order'!U57=\"\",\"\",'All Running Order'!U57)","v":""},{"$f":"IF('All Running Order'!V57=\"\",\"\",'All Running Order'!V57)","v":""},{"$f":"IF('All Running Order'!W57=\"\",\"\",'All Running Order'!W57)","v":""},{"$f":"IF('All Running Order'!X57=\"\",\"\",'All Running Order'!X57)","v":""},{"$f":"IF('All Running Order'!Y57=\"\",\"\",'All Running Order'!Y57)","v":""},{"$f":"IF('All Running Order'!Z57=\"\",\"\",'All Running Order'!Z57)","v":""},{"$f":"IF('All Running Order'!AB57=\"\",\"\",'All Running Order'!AB57)","v":""},{"$f":"IF('All Running Order'!AC57=\"\",\"\",'All Running Order'!AC57)","v":""},{"$f":"IF('All Running Order'!AD57=\"\",\"\",'All Running Order'!AD57)","v":""},{"$f":"IF('All Running Order'!AE57=\"\",\"\",'All Running Order'!AE57)","v":""},{"$f":"IF('All Running Order'!AF57=\"\",\"\",'All Running Order'!AF57)","v":""},{"$f":"IF('All Running Order'!AG57=\"\",\"\",'All Running Order'!AG57)","v":""},{"$f":"IF('All Running Order'!AH57=\"\",\"\",'All Running Order'!AH57)","v":""},{"$f":"IF('All Running Order'!AI57=\"\",\"\",'All Running Order'!AI57)","v":""},{"$f":"IF('All Running Order'!AJ57=\"\",\"\",'All Running Order'!AJ57)","v":""},{"$f":"IF('All Running Order'!AK57=\"\",\"\",'All Running Order'!AK57)","v":""},{"$f":"IF('All Running Order'!AN57=\"\",\"\",'All Running Order'!AN57)","v":""},{"$f":"IF('All Running Order'!AO57=\"\",\"\",'All Running Order'!AO57)","v":""},{"$f":"IF('All Running Order'!AP57=\"\",\"\",'All Running Order'!AP57)","v":""},{"$f":"IF('All Running Order'!AQ57=\"\",\"\",'All Running Order'!AQ57)","v":""},{"$f":"IF('All Running Order'!AR57=\"\",\"\",'All Running Order'!AR57)","v":""},{"$f":"IF('All Running Order'!AS57=\"\",\"\",'All Running Order'!AS57)","v":""},{"$f":"IF('All Running Order'!AT57=\"\",\"\",'All Running Order'!AT57)","v":""},{"$f":"IF('All Running Order'!AU57=\"\",\"\",'All Running Order'!AU57)","v":""},{"$f":"IF('All Running Order'!AV57=\"\",\"\",'All Running Order'!AV57)","v":""},{"$f":"IF('All Running Order'!AW57=\"\",\"\",'All Running Order'!AW57)","v":""},{"$f":"IF('All Running Order'!AZ57=\"\",\"\",'All Running Order'!AZ57)","v":""},{"$f":"IF('All Running Order'!BA57=\"\",\"\",'All Running Order'!BA57)","v":""},{"$f":"IF('All Running Order'!BB57=\"\",\"\",'All Running Order'!BB57)","v":""},{"$f":"IF('All Running Order'!BC57=\"\",\"\",'All Running Order'!BC57)","v":""},{"$f":"IF('All Running Order'!BD57=\"\",\"\",'All Running Order'!BD57)","v":""},{"$f":"IF('All Running Order'!BE57=\"\",\"\",'All Running Order'!BE57)","v":""},{"$f":"IF('All Running Order'!BF57=\"\",\"\",'All Running Order'!BF57)","v":""},{"$f":"IF('All Running Order'!BG57=\"\",\"\",'All Running Order'!BG57)","v":""},{"$f":"IF('All Running Order'!BH57=\"\",\"\",'All Running Order'!BH57)","v":""},{"$f":"IF('All Running Order'!BI57=\"\",\"\",'All Running Order'!BI57)","v":""},{"$f":"IF('All Running Order'!BL57=\"\",\"\",'All Running Order'!BL57)","v":""},{"$f":"IF('All Running Order'!BM57=\"\",\"\",'All Running Order'!BM57)","v":""},{"$f":"IF('All Running Order'!BN57=\"\",\"\",'All Running Order'!BN57)","v":""},{"$f":"IF('All Running Order'!BO57=\"\",\"\",'All Running Order'!BO57)","v":""},{"$f":"IF('All Running Order'!BP57=\"\",\"\",'All Running Order'!BP57)","v":""},{"$f":"IF('All Running Order'!BQ57=\"\",\"\",'All Running Order'!BQ57)","v":""},{"$f":"IF('All Running Order'!BR57=\"\",\"\",'All Running Order'!BR57)","v":""},{"$f":"IF('All Running Order'!BS57=\"\",\"\",'All Running Order'!BS57)","v":""},{"$f":"IF('All Running Order'!BT57=\"\",\"\",'All Running Order'!BT57)","v":""},{"$f":"IF('All Running Order'!BU57=\"\",\"\",'All Running Order'!BU57)","v":""}]
[{"$f":"'All Running Order'!B58","v":54},{"$f":"IF('All Running Order'!C58=\"\",\"\",'All Running Order'!C58)","v":""},{"$f":"IF('All Running Order'!D58=\"\",\"\",'All Running Order'!D58)","v":""},{"$f":"IF('All Running Order'!E58=\"\",\"\",'All Running Order'!E58)","v":""},{"$f":"IF('All Running Order'!F58=\"\",\"\",'All Running Order'!F58)","v":""},{"$f":"IF('All Running Order'!G58=\"\",\"\",'All Running Order'!G58)","v":""},{"$f":"IF('All Running Order'!H58=\"\",\"\",'All Running Order'!H58)","v":""},null,{"$f":"IF('All Running Order'!Q58=\"\",\"\",'All Running Order'!Q58)","v":""},{"$f":"IF('All Running Order'!R58=\"\",\"\",'All Running Order'!R58)","v":""},{"$f":"IF('All Running Order'!S58=\"\",\"\",'All Running Order'!S58)","v":""},{"$f":"IF('All Running Order'!T58=\"\",\"\",'All Running Order'!T58)","v":""},{"$f":"IF('All Running Order'!U58=\"\",\"\",'All Running Order'!U58)","v":""},{"$f":"IF('All Running Order'!V58=\"\",\"\",'All Running Order'!V58)","v":""},{"$f":"IF('All Running Order'!W58=\"\",\"\",'All Running Order'!W58)","v":""},{"$f":"IF('All Running Order'!X58=\"\",\"\",'All Running Order'!X58)","v":""},{"$f":"IF('All Running Order'!Y58=\"\",\"\",'All Running Order'!Y58)","v":""},{"$f":"IF('All Running Order'!Z58=\"\",\"\",'All Running Order'!Z58)","v":""},{"$f":"IF('All Running Order'!AB58=\"\",\"\",'All Running Order'!AB58)","v":""},{"$f":"IF('All Running Order'!AC58=\"\",\"\",'All Running Order'!AC58)","v":""},{"$f":"IF('All Running Order'!AD58=\"\",\"\",'All Running Order'!AD58)","v":""},{"$f":"IF('All Running Order'!AE58=\"\",\"\",'All Running Order'!AE58)","v":""},{"$f":"IF('All Running Order'!AF58=\"\",\"\",'All Running Order'!AF58)","v":""},{"$f":"IF('All Running Order'!AG58=\"\",\"\",'All Running Order'!AG58)","v":""},{"$f":"IF('All Running Order'!AH58=\"\",\"\",'All Running Order'!AH58)","v":""},{"$f":"IF('All Running Order'!AI58=\"\",\"\",'All Running Order'!AI58)","v":""},{"$f":"IF('All Running Order'!AJ58=\"\",\"\",'All Running Order'!AJ58)","v":""},{"$f":"IF('All Running Order'!AK58=\"\",\"\",'All Running Order'!AK58)","v":""},{"$f":"IF('All Running Order'!AN58=\"\",\"\",'All Running Order'!AN58)","v":""},{"$f":"IF('All Running Order'!AO58=\"\",\"\",'All Running Order'!AO58)","v":""},{"$f":"IF('All Running Order'!AP58=\"\",\"\",'All Running Order'!AP58)","v":""},{"$f":"IF('All Running Order'!AQ58=\"\",\"\",'All Running Order'!AQ58)","v":""},{"$f":"IF('All Running Order'!AR58=\"\",\"\",'All Running Order'!AR58)","v":""},{"$f":"IF('All Running Order'!AS58=\"\",\"\",'All Running Order'!AS58)","v":""},{"$f":"IF('All Running Order'!AT58=\"\",\"\",'All Running Order'!AT58)","v":""},{"$f":"IF('All Running Order'!AU58=\"\",\"\",'All Running Order'!AU58)","v":""},{"$f":"IF('All Running Order'!AV58=\"\",\"\",'All Running Order'!AV58)","v":""},{"$f":"IF('All Running Order'!AW58=\"\",\"\",'All Running Order'!AW58)","v":""},{"$f":"IF('All Running Order'!AZ58=\"\",\"\",'All Running Order'!AZ58)","v":""},{"$f":"IF('All Running Order'!BA58=\"\",\"\",'All Running Order'!BA58)","v":""},{"$f":"IF('All Running Order'!BB58=\"\",\"\",'All Running Order'!BB58)","v":""},{"$f":"IF('All Running Order'!BC58=\"\",\"\",'All Running Order'!BC58)","v":""},{"$f":"IF('All Running Order'!BD58=\"\",\"\",'All Running Order'!BD58)","v":""},{"$f":"IF('All Running Order'!BE58=\"\",\"\",'All Running Order'!BE58)","v":""},{"$f":"IF('All Running Order'!BF58=\"\",\"\",'All Running Order'!BF58)","v":""},{"$f":"IF('All Running Order'!BG58=\"\",\"\",'All Running Order'!BG58)","v":""},{"$f":"IF('All Running Order'!BH58=\"\",\"\",'All Running Order'!BH58)","v":""},{"$f":"IF('All Running Order'!BI58=\"\",\"\",'All Running Order'!BI58)","v":""},{"$f":"IF('All Running Order'!BL58=\"\",\"\",'All Running Order'!BL58)","v":""},{"$f":"IF('All Running Order'!BM58=\"\",\"\",'All Running Order'!BM58)","v":""},{"$f":"IF('All Running Order'!BN58=\"\",\"\",'All Running Order'!BN58)","v":""},{"$f":"IF('All Running Order'!BO58=\"\",\"\",'All Running Order'!BO58)","v":""},{"$f":"IF('All Running Order'!BP58=\"\",\"\",'All Running Order'!BP58)","v":""},{"$f":"IF('All Running Order'!BQ58=\"\",\"\",'All Running Order'!BQ58)","v":""},{"$f":"IF('All Running Order'!BR58=\"\",\"\",'All Running Order'!BR58)","v":""},{"$f":"IF('All Running Order'!BS58=\"\",\"\",'All Running Order'!BS58)","v":""},{"$f":"IF('All Running Order'!BT58=\"\",\"\",'All Running Order'!BT58)","v":""},{"$f":"IF('All Running Order'!BU58=\"\",\"\",'All Running Order'!BU58)","v":""}]
[{"$f":"'All Running Order'!B59","v":55},{"$f":"IF('All Running Order'!C59=\"\",\"\",'All Running Order'!C59)","v":""},{"$f":"IF('All Running Order'!D59=\"\",\"\",'All Running Order'!D59)","v":""},{"$f":"IF('All Running Order'!E59=\"\",\"\",'All Running Order'!E59)","v":""},{"$f":"IF('All Running Order'!F59=\"\",\"\",'All Running Order'!F59)","v":""},{"$f":"IF('All Running Order'!G59=\"\",\"\",'All Running Order'!G59)","v":""},{"$f":"IF('All Running Order'!H59=\"\",\"\",'All Running Order'!H59)","v":""},null,{"$f":"IF('All Running Order'!Q59=\"\",\"\",'All Running Order'!Q59)","v":""},{"$f":"IF('All Running Order'!R59=\"\",\"\",'All Running Order'!R59)","v":""},{"$f":"IF('All Running Order'!S59=\"\",\"\",'All Running Order'!S59)","v":""},{"$f":"IF('All Running Order'!T59=\"\",\"\",'All Running Order'!T59)","v":""},{"$f":"IF('All Running Order'!U59=\"\",\"\",'All Running Order'!U59)","v":""},{"$f":"IF('All Running Order'!V59=\"\",\"\",'All Running Order'!V59)","v":""},{"$f":"IF('All Running Order'!W59=\"\",\"\",'All Running Order'!W59)","v":""},{"$f":"IF('All Running Order'!X59=\"\",\"\",'All Running Order'!X59)","v":""},{"$f":"IF('All Running Order'!Y59=\"\",\"\",'All Running Order'!Y59)","v":""},{"$f":"IF('All Running Order'!Z59=\"\",\"\",'All Running Order'!Z59)","v":""},{"$f":"IF('All Running Order'!AB59=\"\",\"\",'All Running Order'!AB59)","v":""},{"$f":"IF('All Running Order'!AC59=\"\",\"\",'All Running Order'!AC59)","v":""},{"$f":"IF('All Running Order'!AD59=\"\",\"\",'All Running Order'!AD59)","v":""},{"$f":"IF('All Running Order'!AE59=\"\",\"\",'All Running Order'!AE59)","v":""},{"$f":"IF('All Running Order'!AF59=\"\",\"\",'All Running Order'!AF59)","v":""},{"$f":"IF('All Running Order'!AG59=\"\",\"\",'All Running Order'!AG59)","v":""},{"$f":"IF('All Running Order'!AH59=\"\",\"\",'All Running Order'!AH59)","v":""},{"$f":"IF('All Running Order'!AI59=\"\",\"\",'All Running Order'!AI59)","v":""},{"$f":"IF('All Running Order'!AJ59=\"\",\"\",'All Running Order'!AJ59)","v":""},{"$f":"IF('All Running Order'!AK59=\"\",\"\",'All Running Order'!AK59)","v":""},{"$f":"IF('All Running Order'!AN59=\"\",\"\",'All Running Order'!AN59)","v":""},{"$f":"IF('All Running Order'!AO59=\"\",\"\",'All Running Order'!AO59)","v":""},{"$f":"IF('All Running Order'!AP59=\"\",\"\",'All Running Order'!AP59)","v":""},{"$f":"IF('All Running Order'!AQ59=\"\",\"\",'All Running Order'!AQ59)","v":""},{"$f":"IF('All Running Order'!AR59=\"\",\"\",'All Running Order'!AR59)","v":""},{"$f":"IF('All Running Order'!AS59=\"\",\"\",'All Running Order'!AS59)","v":""},{"$f":"IF('All Running Order'!AT59=\"\",\"\",'All Running Order'!AT59)","v":""},{"$f":"IF('All Running Order'!AU59=\"\",\"\",'All Running Order'!AU59)","v":""},{"$f":"IF('All Running Order'!AV59=\"\",\"\",'All Running Order'!AV59)","v":""},{"$f":"IF('All Running Order'!AW59=\"\",\"\",'All Running Order'!AW59)","v":""},{"$f":"IF('All Running Order'!AZ59=\"\",\"\",'All Running Order'!AZ59)","v":""},{"$f":"IF('All Running Order'!BA59=\"\",\"\",'All Running Order'!BA59)","v":""},{"$f":"IF('All Running Order'!BB59=\"\",\"\",'All Running Order'!BB59)","v":""},{"$f":"IF('All Running Order'!BC59=\"\",\"\",'All Running Order'!BC59)","v":""},{"$f":"IF('All Running Order'!BD59=\"\",\"\",'All Running Order'!BD59)","v":""},{"$f":"IF('All Running Order'!BE59=\"\",\"\",'All Running Order'!BE59)","v":""},{"$f":"IF('All Running Order'!BF59=\"\",\"\",'All Running Order'!BF59)","v":""},{"$f":"IF('All Running Order'!BG59=\"\",\"\",'All Running Order'!BG59)","v":""},{"$f":"IF('All Running Order'!BH59=\"\",\"\",'All Running Order'!BH59)","v":""},{"$f":"IF('All Running Order'!BI59=\"\",\"\",'All Running Order'!BI59)","v":""},{"$f":"IF('All Running Order'!BL59=\"\",\"\",'All Running Order'!BL59)","v":""},{"$f":"IF('All Running Order'!BM59=\"\",\"\",'All Running Order'!BM59)","v":""},{"$f":"IF('All Running Order'!BN59=\"\",\"\",'All Running Order'!BN59)","v":""},{"$f":"IF('All Running Order'!BO59=\"\",\"\",'All Running Order'!BO59)","v":""},{"$f":"IF('All Running Order'!BP59=\"\",\"\",'All Running Order'!BP59)","v":""},{"$f":"IF('All Running Order'!BQ59=\"\",\"\",'All Running Order'!BQ59)","v":""},{"$f":"IF('All Running Order'!BR59=\"\",\"\",'All Running Order'!BR59)","v":""},{"$f":"IF('All Running Order'!BS59=\"\",\"\",'All Running Order'!BS59)","v":""},{"$f":"IF('All Running Order'!BT59=\"\",\"\",'All Running Order'!BT59)","v":""},{"$f":"IF('All Running Order'!BU59=\"\",\"\",'All Running Order'!BU59)","v":""}]
[{"$f":"'All Running Order'!B60","v":56},{"$f":"IF('All Running Order'!C60=\"\",\"\",'All Running Order'!C60)","v":""},{"$f":"IF('All Running Order'!D60=\"\",\"\",'All Running Order'!D60)","v":""},{"$f":"IF('All Running Order'!E60=\"\",\"\",'All Running Order'!E60)","v":""},{"$f":"IF('All Running Order'!F60=\"\",\"\",'All Running Order'!F60)","v":""},{"$f":"IF('All Running Order'!G60=\"\",\"\",'All Running Order'!G60)","v":""},{"$f":"IF('All Running Order'!H60=\"\",\"\",'All Running Order'!H60)","v":""},null,{"$f":"IF('All Running Order'!Q60=\"\",\"\",'All Running Order'!Q60)","v":""},{"$f":"IF('All Running Order'!R60=\"\",\"\",'All Running Order'!R60)","v":""},{"$f":"IF('All Running Order'!S60=\"\",\"\",'All Running Order'!S60)","v":""},{"$f":"IF('All Running Order'!T60=\"\",\"\",'All Running Order'!T60)","v":""},{"$f":"IF('All Running Order'!U60=\"\",\"\",'All Running Order'!U60)","v":""},{"$f":"IF('All Running Order'!V60=\"\",\"\",'All Running Order'!V60)","v":""},{"$f":"IF('All Running Order'!W60=\"\",\"\",'All Running Order'!W60)","v":""},{"$f":"IF('All Running Order'!X60=\"\",\"\",'All Running Order'!X60)","v":""},{"$f":"IF('All Running Order'!Y60=\"\",\"\",'All Running Order'!Y60)","v":""},{"$f":"IF('All Running Order'!Z60=\"\",\"\",'All Running Order'!Z60)","v":""},{"$f":"IF('All Running Order'!AB60=\"\",\"\",'All Running Order'!AB60)","v":""},{"$f":"IF('All Running Order'!AC60=\"\",\"\",'All Running Order'!AC60)","v":""},{"$f":"IF('All Running Order'!AD60=\"\",\"\",'All Running Order'!AD60)","v":""},{"$f":"IF('All Running Order'!AE60=\"\",\"\",'All Running Order'!AE60)","v":""},{"$f":"IF('All Running Order'!AF60=\"\",\"\",'All Running Order'!AF60)","v":""},{"$f":"IF('All Running Order'!AG60=\"\",\"\",'All Running Order'!AG60)","v":""},{"$f":"IF('All Running Order'!AH60=\"\",\"\",'All Running Order'!AH60)","v":""},{"$f":"IF('All Running Order'!AI60=\"\",\"\",'All Running Order'!AI60)","v":""},{"$f":"IF('All Running Order'!AJ60=\"\",\"\",'All Running Order'!AJ60)","v":""},{"$f":"IF('All Running Order'!AK60=\"\",\"\",'All Running Order'!AK60)","v":""},{"$f":"IF('All Running Order'!AN60=\"\",\"\",'All Running Order'!AN60)","v":""},{"$f":"IF('All Running Order'!AO60=\"\",\"\",'All Running Order'!AO60)","v":""},{"$f":"IF('All Running Order'!AP60=\"\",\"\",'All Running Order'!AP60)","v":""},{"$f":"IF('All Running Order'!AQ60=\"\",\"\",'All Running Order'!AQ60)","v":""},{"$f":"IF('All Running Order'!AR60=\"\",\"\",'All Running Order'!AR60)","v":""},{"$f":"IF('All Running Order'!AS60=\"\",\"\",'All Running Order'!AS60)","v":""},{"$f":"IF('All Running Order'!AT60=\"\",\"\",'All Running Order'!AT60)","v":""},{"$f":"IF('All Running Order'!AU60=\"\",\"\",'All Running Order'!AU60)","v":""},{"$f":"IF('All Running Order'!AV60=\"\",\"\",'All Running Order'!AV60)","v":""},{"$f":"IF('All Running Order'!AW60=\"\",\"\",'All Running Order'!AW60)","v":""},{"$f":"IF('All Running Order'!AZ60=\"\",\"\",'All Running Order'!AZ60)","v":""},{"$f":"IF('All Running Order'!BA60=\"\",\"\",'All Running Order'!BA60)","v":""},{"$f":"IF('All Running Order'!BB60=\"\",\"\",'All Running Order'!BB60)","v":""},{"$f":"IF('All Running Order'!BC60=\"\",\"\",'All Running Order'!BC60)","v":""},{"$f":"IF('All Running Order'!BD60=\"\",\"\",'All Running Order'!BD60)","v":""},{"$f":"IF('All Running Order'!BE60=\"\",\"\",'All Running Order'!BE60)","v":""},{"$f":"IF('All Running Order'!BF60=\"\",\"\",'All Running Order'!BF60)","v":""},{"$f":"IF('All Running Order'!BG60=\"\",\"\",'All Running Order'!BG60)","v":""},{"$f":"IF('All Running Order'!BH60=\"\",\"\",'All Running Order'!BH60)","v":""},{"$f":"IF('All Running Order'!BI60=\"\",\"\",'All Running Order'!BI60)","v":""},{"$f":"IF('All Running Order'!BL60=\"\",\"\",'All Running Order'!BL60)","v":""},{"$f":"IF('All Running Order'!BM60=\"\",\"\",'All Running Order'!BM60)","v":""},{"$f":"IF('All Running Order'!BN60=\"\",\"\",'All Running Order'!BN60)","v":""},{"$f":"IF('All Running Order'!BO60=\"\",\"\",'All Running Order'!BO60)","v":""},{"$f":"IF('All Running Order'!BP60=\"\",\"\",'All Running Order'!BP60)","v":""},{"$f":"IF('All Running Order'!BQ60=\"\",\"\",'All Running Order'!BQ60)","v":""},{"$f":"IF('All Running Order'!BR60=\"\",\"\",'All Running Order'!BR60)","v":""},{"$f":"IF('All Running Order'!BS60=\"\",\"\",'All Running Order'!BS60)","v":""},{"$f":"IF('All Running Order'!BT60=\"\",\"\",'All Running Order'!BT60)","v":""},{"$f":"IF('All Running Order'!BU60=\"\",\"\",'All Running Order'!BU60)","v":""}]
[{"$f":"'All Running Order'!B61","v":57},{"$f":"IF('All Running Order'!C61=\"\",\"\",'All Running Order'!C61)","v":""},{"$f":"IF('All Running Order'!D61=\"\",\"\",'All Running Order'!D61)","v":""},{"$f":"IF('All Running Order'!E61=\"\",\"\",'All Running Order'!E61)","v":""},{"$f":"IF('All Running Order'!F61=\"\",\"\",'All Running Order'!F61)","v":""},{"$f":"IF('All Running Order'!G61=\"\",\"\",'All Running Order'!G61)","v":""},{"$f":"IF('All Running Order'!H61=\"\",\"\",'All Running Order'!H61)","v":""},null,{"$f":"IF('All Running Order'!Q61=\"\",\"\",'All Running Order'!Q61)","v":""},{"$f":"IF('All Running Order'!R61=\"\",\"\",'All Running Order'!R61)","v":""},{"$f":"IF('All Running Order'!S61=\"\",\"\",'All Running Order'!S61)","v":""},{"$f":"IF('All Running Order'!T61=\"\",\"\",'All Running Order'!T61)","v":""},{"$f":"IF('All Running Order'!U61=\"\",\"\",'All Running Order'!U61)","v":""},{"$f":"IF('All Running Order'!V61=\"\",\"\",'All Running Order'!V61)","v":""},{"$f":"IF('All Running Order'!W61=\"\",\"\",'All Running Order'!W61)","v":""},{"$f":"IF('All Running Order'!X61=\"\",\"\",'All Running Order'!X61)","v":""},{"$f":"IF('All Running Order'!Y61=\"\",\"\",'All Running Order'!Y61)","v":""},{"$f":"IF('All Running Order'!Z61=\"\",\"\",'All Running Order'!Z61)","v":""},{"$f":"IF('All Running Order'!AB61=\"\",\"\",'All Running Order'!AB61)","v":""},{"$f":"IF('All Running Order'!AC61=\"\",\"\",'All Running Order'!AC61)","v":""},{"$f":"IF('All Running Order'!AD61=\"\",\"\",'All Running Order'!AD61)","v":""},{"$f":"IF('All Running Order'!AE61=\"\",\"\",'All Running Order'!AE61)","v":""},{"$f":"IF('All Running Order'!AF61=\"\",\"\",'All Running Order'!AF61)","v":""},{"$f":"IF('All Running Order'!AG61=\"\",\"\",'All Running Order'!AG61)","v":""},{"$f":"IF('All Running Order'!AH61=\"\",\"\",'All Running Order'!AH61)","v":""},{"$f":"IF('All Running Order'!AI61=\"\",\"\",'All Running Order'!AI61)","v":""},{"$f":"IF('All Running Order'!AJ61=\"\",\"\",'All Running Order'!AJ61)","v":""},{"$f":"IF('All Running Order'!AK61=\"\",\"\",'All Running Order'!AK61)","v":""},{"$f":"IF('All Running Order'!AN61=\"\",\"\",'All Running Order'!AN61)","v":""},{"$f":"IF('All Running Order'!AO61=\"\",\"\",'All Running Order'!AO61)","v":""},{"$f":"IF('All Running Order'!AP61=\"\",\"\",'All Running Order'!AP61)","v":""},{"$f":"IF('All Running Order'!AQ61=\"\",\"\",'All Running Order'!AQ61)","v":""},{"$f":"IF('All Running Order'!AR61=\"\",\"\",'All Running Order'!AR61)","v":""},{"$f":"IF('All Running Order'!AS61=\"\",\"\",'All Running Order'!AS61)","v":""},{"$f":"IF('All Running Order'!AT61=\"\",\"\",'All Running Order'!AT61)","v":""},{"$f":"IF('All Running Order'!AU61=\"\",\"\",'All Running Order'!AU61)","v":""},{"$f":"IF('All Running Order'!AV61=\"\",\"\",'All Running Order'!AV61)","v":""},{"$f":"IF('All Running Order'!AW61=\"\",\"\",'All Running Order'!AW61)","v":""},{"$f":"IF('All Running Order'!AZ61=\"\",\"\",'All Running Order'!AZ61)","v":""},{"$f":"IF('All Running Order'!BA61=\"\",\"\",'All Running Order'!BA61)","v":""},{"$f":"IF('All Running Order'!BB61=\"\",\"\",'All Running Order'!BB61)","v":""},{"$f":"IF('All Running Order'!BC61=\"\",\"\",'All Running Order'!BC61)","v":""},{"$f":"IF('All Running Order'!BD61=\"\",\"\",'All Running Order'!BD61)","v":""},{"$f":"IF('All Running Order'!BE61=\"\",\"\",'All Running Order'!BE61)","v":""},{"$f":"IF('All Running Order'!BF61=\"\",\"\",'All Running Order'!BF61)","v":""},{"$f":"IF('All Running Order'!BG61=\"\",\"\",'All Running Order'!BG61)","v":""},{"$f":"IF('All Running Order'!BH61=\"\",\"\",'All Running Order'!BH61)","v":""},{"$f":"IF('All Running Order'!BI61=\"\",\"\",'All Running Order'!BI61)","v":""},{"$f":"IF('All Running Order'!BL61=\"\",\"\",'All Running Order'!BL61)","v":""},{"$f":"IF('All Running Order'!BM61=\"\",\"\",'All Running Order'!BM61)","v":""},{"$f":"IF('All Running Order'!BN61=\"\",\"\",'All Running Order'!BN61)","v":""},{"$f":"IF('All Running Order'!BO61=\"\",\"\",'All Running Order'!BO61)","v":""},{"$f":"IF('All Running Order'!BP61=\"\",\"\",'All Running Order'!BP61)","v":""},{"$f":"IF('All Running Order'!BQ61=\"\",\"\",'All Running Order'!BQ61)","v":""},{"$f":"IF('All Running Order'!BR61=\"\",\"\",'All Running Order'!BR61)","v":""},{"$f":"IF('All Running Order'!BS61=\"\",\"\",'All Running Order'!BS61)","v":""},{"$f":"IF('All Running Order'!BT61=\"\",\"\",'All Running Order'!BT61)","v":""},{"$f":"IF('All Running Order'!BU61=\"\",\"\",'All Running Order'!BU61)","v":""}]
[{"$f":"'All Running Order'!B62","v":58},{"$f":"IF('All Running Order'!C62=\"\",\"\",'All Running Order'!C62)","v":""},{"$f":"IF('All Running Order'!D62=\"\",\"\",'All Running Order'!D62)","v":""},{"$f":"IF('All Running Order'!E62=\"\",\"\",'All Running Order'!E62)","v":""},{"$f":"IF('All Running Order'!F62=\"\",\"\",'All Running Order'!F62)","v":""},{"$f":"IF('All Running Order'!G62=\"\",\"\",'All Running Order'!G62)","v":""},{"$f":"IF('All Running Order'!H62=\"\",\"\",'All Running Order'!H62)","v":""},null,{"$f":"IF('All Running Order'!Q62=\"\",\"\",'All Running Order'!Q62)","v":""},{"$f":"IF('All Running Order'!R62=\"\",\"\",'All Running Order'!R62)","v":""},{"$f":"IF('All Running Order'!S62=\"\",\"\",'All Running Order'!S62)","v":""},{"$f":"IF('All Running Order'!T62=\"\",\"\",'All Running Order'!T62)","v":""},{"$f":"IF('All Running Order'!U62=\"\",\"\",'All Running Order'!U62)","v":""},{"$f":"IF('All Running Order'!V62=\"\",\"\",'All Running Order'!V62)","v":""},{"$f":"IF('All Running Order'!W62=\"\",\"\",'All Running Order'!W62)","v":""},{"$f":"IF('All Running Order'!X62=\"\",\"\",'All Running Order'!X62)","v":""},{"$f":"IF('All Running Order'!Y62=\"\",\"\",'All Running Order'!Y62)","v":""},{"$f":"IF('All Running Order'!Z62=\"\",\"\",'All Running Order'!Z62)","v":""},{"$f":"IF('All Running Order'!AB62=\"\",\"\",'All Running Order'!AB62)","v":""},{"$f":"IF('All Running Order'!AC62=\"\",\"\",'All Running Order'!AC62)","v":""},{"$f":"IF('All Running Order'!AD62=\"\",\"\",'All Running Order'!AD62)","v":""},{"$f":"IF('All Running Order'!AE62=\"\",\"\",'All Running Order'!AE62)","v":""},{"$f":"IF('All Running Order'!AF62=\"\",\"\",'All Running Order'!AF62)","v":""},{"$f":"IF('All Running Order'!AG62=\"\",\"\",'All Running Order'!AG62)","v":""},{"$f":"IF('All Running Order'!AH62=\"\",\"\",'All Running Order'!AH62)","v":""},{"$f":"IF('All Running Order'!AI62=\"\",\"\",'All Running Order'!AI62)","v":""},{"$f":"IF('All Running Order'!AJ62=\"\",\"\",'All Running Order'!AJ62)","v":""},{"$f":"IF('All Running Order'!AK62=\"\",\"\",'All Running Order'!AK62)","v":""},{"$f":"IF('All Running Order'!AN62=\"\",\"\",'All Running Order'!AN62)","v":""},{"$f":"IF('All Running Order'!AO62=\"\",\"\",'All Running Order'!AO62)","v":""},{"$f":"IF('All Running Order'!AP62=\"\",\"\",'All Running Order'!AP62)","v":""},{"$f":"IF('All Running Order'!AQ62=\"\",\"\",'All Running Order'!AQ62)","v":""},{"$f":"IF('All Running Order'!AR62=\"\",\"\",'All Running Order'!AR62)","v":""},{"$f":"IF('All Running Order'!AS62=\"\",\"\",'All Running Order'!AS62)","v":""},{"$f":"IF('All Running Order'!AT62=\"\",\"\",'All Running Order'!AT62)","v":""},{"$f":"IF('All Running Order'!AU62=\"\",\"\",'All Running Order'!AU62)","v":""},{"$f":"IF('All Running Order'!AV62=\"\",\"\",'All Running Order'!AV62)","v":""},{"$f":"IF('All Running Order'!AW62=\"\",\"\",'All Running Order'!AW62)","v":""},{"$f":"IF('All Running Order'!AZ62=\"\",\"\",'All Running Order'!AZ62)","v":""},{"$f":"IF('All Running Order'!BA62=\"\",\"\",'All Running Order'!BA62)","v":""},{"$f":"IF('All Running Order'!BB62=\"\",\"\",'All Running Order'!BB62)","v":""},{"$f":"IF('All Running Order'!BC62=\"\",\"\",'All Running Order'!BC62)","v":""},{"$f":"IF('All Running Order'!BD62=\"\",\"\",'All Running Order'!BD62)","v":""},{"$f":"IF('All Running Order'!BE62=\"\",\"\",'All Running Order'!BE62)","v":""},{"$f":"IF('All Running Order'!BF62=\"\",\"\",'All Running Order'!BF62)","v":""},{"$f":"IF('All Running Order'!BG62=\"\",\"\",'All Running Order'!BG62)","v":""},{"$f":"IF('All Running Order'!BH62=\"\",\"\",'All Running Order'!BH62)","v":""},{"$f":"IF('All Running Order'!BI62=\"\",\"\",'All Running Order'!BI62)","v":""},{"$f":"IF('All Running Order'!BL62=\"\",\"\",'All Running Order'!BL62)","v":""},{"$f":"IF('All Running Order'!BM62=\"\",\"\",'All Running Order'!BM62)","v":""},{"$f":"IF('All Running Order'!BN62=\"\",\"\",'All Running Order'!BN62)","v":""},{"$f":"IF('All Running Order'!BO62=\"\",\"\",'All Running Order'!BO62)","v":""},{"$f":"IF('All Running Order'!BP62=\"\",\"\",'All Running Order'!BP62)","v":""},{"$f":"IF('All Running Order'!BQ62=\"\",\"\",'All Running Order'!BQ62)","v":""},{"$f":"IF('All Running Order'!BR62=\"\",\"\",'All Running Order'!BR62)","v":""},{"$f":"IF('All Running Order'!BS62=\"\",\"\",'All Running Order'!BS62)","v":""},{"$f":"IF('All Running Order'!BT62=\"\",\"\",'All Running Order'!BT62)","v":""},{"$f":"IF('All Running Order'!BU62=\"\",\"\",'All Running Order'!BU62)","v":""}]
[{"$f":"'All Running Order'!B63","v":59},{"$f":"IF('All Running Order'!C63=\"\",\"\",'All Running Order'!C63)","v":""},{"$f":"IF('All Running Order'!D63=\"\",\"\",'All Running Order'!D63)","v":""},{"$f":"IF('All Running Order'!E63=\"\",\"\",'All Running Order'!E63)","v":""},{"$f":"IF('All Running Order'!F63=\"\",\"\",'All Running Order'!F63)","v":""},{"$f":"IF('All Running Order'!G63=\"\",\"\",'All Running Order'!G63)","v":""},{"$f":"IF('All Running Order'!H63=\"\",\"\",'All Running Order'!H63)","v":""},null,{"$f":"IF('All Running Order'!Q63=\"\",\"\",'All Running Order'!Q63)","v":""},{"$f":"IF('All Running Order'!R63=\"\",\"\",'All Running Order'!R63)","v":""},{"$f":"IF('All Running Order'!S63=\"\",\"\",'All Running Order'!S63)","v":""},{"$f":"IF('All Running Order'!T63=\"\",\"\",'All Running Order'!T63)","v":""},{"$f":"IF('All Running Order'!U63=\"\",\"\",'All Running Order'!U63)","v":""},{"$f":"IF('All Running Order'!V63=\"\",\"\",'All Running Order'!V63)","v":""},{"$f":"IF('All Running Order'!W63=\"\",\"\",'All Running Order'!W63)","v":""},{"$f":"IF('All Running Order'!X63=\"\",\"\",'All Running Order'!X63)","v":""},{"$f":"IF('All Running Order'!Y63=\"\",\"\",'All Running Order'!Y63)","v":""},{"$f":"IF('All Running Order'!Z63=\"\",\"\",'All Running Order'!Z63)","v":""},{"$f":"IF('All Running Order'!AB63=\"\",\"\",'All Running Order'!AB63)","v":""},{"$f":"IF('All Running Order'!AC63=\"\",\"\",'All Running Order'!AC63)","v":""},{"$f":"IF('All Running Order'!AD63=\"\",\"\",'All Running Order'!AD63)","v":""},{"$f":"IF('All Running Order'!AE63=\"\",\"\",'All Running Order'!AE63)","v":""},{"$f":"IF('All Running Order'!AF63=\"\",\"\",'All Running Order'!AF63)","v":""},{"$f":"IF('All Running Order'!AG63=\"\",\"\",'All Running Order'!AG63)","v":""},{"$f":"IF('All Running Order'!AH63=\"\",\"\",'All Running Order'!AH63)","v":""},{"$f":"IF('All Running Order'!AI63=\"\",\"\",'All Running Order'!AI63)","v":""},{"$f":"IF('All Running Order'!AJ63=\"\",\"\",'All Running Order'!AJ63)","v":""},{"$f":"IF('All Running Order'!AK63=\"\",\"\",'All Running Order'!AK63)","v":""},{"$f":"IF('All Running Order'!AN63=\"\",\"\",'All Running Order'!AN63)","v":""},{"$f":"IF('All Running Order'!AO63=\"\",\"\",'All Running Order'!AO63)","v":""},{"$f":"IF('All Running Order'!AP63=\"\",\"\",'All Running Order'!AP63)","v":""},{"$f":"IF('All Running Order'!AQ63=\"\",\"\",'All Running Order'!AQ63)","v":""},{"$f":"IF('All Running Order'!AR63=\"\",\"\",'All Running Order'!AR63)","v":""},{"$f":"IF('All Running Order'!AS63=\"\",\"\",'All Running Order'!AS63)","v":""},{"$f":"IF('All Running Order'!AT63=\"\",\"\",'All Running Order'!AT63)","v":""},{"$f":"IF('All Running Order'!AU63=\"\",\"\",'All Running Order'!AU63)","v":""},{"$f":"IF('All Running Order'!AV63=\"\",\"\",'All Running Order'!AV63)","v":""},{"$f":"IF('All Running Order'!AW63=\"\",\"\",'All Running Order'!AW63)","v":""},{"$f":"IF('All Running Order'!AZ63=\"\",\"\",'All Running Order'!AZ63)","v":""},{"$f":"IF('All Running Order'!BA63=\"\",\"\",'All Running Order'!BA63)","v":""},{"$f":"IF('All Running Order'!BB63=\"\",\"\",'All Running Order'!BB63)","v":""},{"$f":"IF('All Running Order'!BC63=\"\",\"\",'All Running Order'!BC63)","v":""},{"$f":"IF('All Running Order'!BD63=\"\",\"\",'All Running Order'!BD63)","v":""},{"$f":"IF('All Running Order'!BE63=\"\",\"\",'All Running Order'!BE63)","v":""},{"$f":"IF('All Running Order'!BF63=\"\",\"\",'All Running Order'!BF63)","v":""},{"$f":"IF('All Running Order'!BG63=\"\",\"\",'All Running Order'!BG63)","v":""},{"$f":"IF('All Running Order'!BH63=\"\",\"\",'All Running Order'!BH63)","v":""},{"$f":"IF('All Running Order'!BI63=\"\",\"\",'All Running Order'!BI63)","v":""},{"$f":"IF('All Running Order'!BL63=\"\",\"\",'All Running Order'!BL63)","v":""},{"$f":"IF('All Running Order'!BM63=\"\",\"\",'All Running Order'!BM63)","v":""},{"$f":"IF('All Running Order'!BN63=\"\",\"\",'All Running Order'!BN63)","v":""},{"$f":"IF('All Running Order'!BO63=\"\",\"\",'All Running Order'!BO63)","v":""},{"$f":"IF('All Running Order'!BP63=\"\",\"\",'All Running Order'!BP63)","v":""},{"$f":"IF('All Running Order'!BQ63=\"\",\"\",'All Running Order'!BQ63)","v":""},{"$f":"IF('All Running Order'!BR63=\"\",\"\",'All Running Order'!BR63)","v":""},{"$f":"IF('All Running Order'!BS63=\"\",\"\",'All Running Order'!BS63)","v":""},{"$f":"IF('All Running Order'!BT63=\"\",\"\",'All Running Order'!BT63)","v":""},{"$f":"IF('All Running Order'!BU63=\"\",\"\",'All Running Order'!BU63)","v":""}]
[{"$f":"'All Running Order'!B64","v":60},{"$f":"IF('All Running Order'!C64=\"\",\"\",'All Running Order'!C64)","v":""},{"$f":"IF('All Running Order'!D64=\"\",\"\",'All Running Order'!D64)","v":""},{"$f":"IF('All Running Order'!E64=\"\",\"\",'All Running Order'!E64)","v":""},{"$f":"IF('All Running Order'!F64=\"\",\"\",'All Running Order'!F64)","v":""},{"$f":"IF('All Running Order'!G64=\"\",\"\",'All Running Order'!G64)","v":""},{"$f":"IF('All Running Order'!H64=\"\",\"\",'All Running Order'!H64)","v":""},null,{"$f":"IF('All Running Order'!Q64=\"\",\"\",'All Running Order'!Q64)","v":""},{"$f":"IF('All Running Order'!R64=\"\",\"\",'All Running Order'!R64)","v":""},{"$f":"IF('All Running Order'!S64=\"\",\"\",'All Running Order'!S64)","v":""},{"$f":"IF('All Running Order'!T64=\"\",\"\",'All Running Order'!T64)","v":""},{"$f":"IF('All Running Order'!U64=\"\",\"\",'All Running Order'!U64)","v":""},{"$f":"IF('All Running Order'!V64=\"\",\"\",'All Running Order'!V64)","v":""},{"$f":"IF('All Running Order'!W64=\"\",\"\",'All Running Order'!W64)","v":""},{"$f":"IF('All Running Order'!X64=\"\",\"\",'All Running Order'!X64)","v":""},{"$f":"IF('All Running Order'!Y64=\"\",\"\",'All Running Order'!Y64)","v":""},{"$f":"IF('All Running Order'!Z64=\"\",\"\",'All Running Order'!Z64)","v":""},{"$f":"IF('All Running Order'!AB64=\"\",\"\",'All Running Order'!AB64)","v":""},{"$f":"IF('All Running Order'!AC64=\"\",\"\",'All Running Order'!AC64)","v":""},{"$f":"IF('All Running Order'!AD64=\"\",\"\",'All Running Order'!AD64)","v":""},{"$f":"IF('All Running Order'!AE64=\"\",\"\",'All Running Order'!AE64)","v":""},{"$f":"IF('All Running Order'!AF64=\"\",\"\",'All Running Order'!AF64)","v":""},{"$f":"IF('All Running Order'!AG64=\"\",\"\",'All Running Order'!AG64)","v":""},{"$f":"IF('All Running Order'!AH64=\"\",\"\",'All Running Order'!AH64)","v":""},{"$f":"IF('All Running Order'!AI64=\"\",\"\",'All Running Order'!AI64)","v":""},{"$f":"IF('All Running Order'!AJ64=\"\",\"\",'All Running Order'!AJ64)","v":""},{"$f":"IF('All Running Order'!AK64=\"\",\"\",'All Running Order'!AK64)","v":""},{"$f":"IF('All Running Order'!AN64=\"\",\"\",'All Running Order'!AN64)","v":""},{"$f":"IF('All Running Order'!AO64=\"\",\"\",'All Running Order'!AO64)","v":""},{"$f":"IF('All Running Order'!AP64=\"\",\"\",'All Running Order'!AP64)","v":""},{"$f":"IF('All Running Order'!AQ64=\"\",\"\",'All Running Order'!AQ64)","v":""},{"$f":"IF('All Running Order'!AR64=\"\",\"\",'All Running Order'!AR64)","v":""},{"$f":"IF('All Running Order'!AS64=\"\",\"\",'All Running Order'!AS64)","v":""},{"$f":"IF('All Running Order'!AT64=\"\",\"\",'All Running Order'!AT64)","v":""},{"$f":"IF('All Running Order'!AU64=\"\",\"\",'All Running Order'!AU64)","v":""},{"$f":"IF('All Running Order'!AV64=\"\",\"\",'All Running Order'!AV64)","v":""},{"$f":"IF('All Running Order'!AW64=\"\",\"\",'All Running Order'!AW64)","v":""},{"$f":"IF('All Running Order'!AZ64=\"\",\"\",'All Running Order'!AZ64)","v":""},{"$f":"IF('All Running Order'!BA64=\"\",\"\",'All Running Order'!BA64)","v":""},{"$f":"IF('All Running Order'!BB64=\"\",\"\",'All Running Order'!BB64)","v":""},{"$f":"IF('All Running Order'!BC64=\"\",\"\",'All Running Order'!BC64)","v":""},{"$f":"IF('All Running Order'!BD64=\"\",\"\",'All Running Order'!BD64)","v":""},{"$f":"IF('All Running Order'!BE64=\"\",\"\",'All Running Order'!BE64)","v":""},{"$f":"IF('All Running Order'!BF64=\"\",\"\",'All Running Order'!BF64)","v":""},{"$f":"IF('All Running Order'!BG64=\"\",\"\",'All Running Order'!BG64)","v":""},{"$f":"IF('All Running Order'!BH64=\"\",\"\",'All Running Order'!BH64)","v":""},{"$f":"IF('All Running Order'!BI64=\"\",\"\",'All Running Order'!BI64)","v":""},{"$f":"IF('All Running Order'!BL64=\"\",\"\",'All Running Order'!BL64)","v":""},{"$f":"IF('All Running Order'!BM64=\"\",\"\",'All Running Order'!BM64)","v":""},{"$f":"IF('All Running Order'!BN64=\"\",\"\",'All Running Order'!BN64)","v":""},{"$f":"IF('All Running Order'!BO64=\"\",\"\",'All Running Order'!BO64)","v":""},{"$f":"IF('All Running Order'!BP64=\"\",\"\",'All Running Order'!BP64)","v":""},{"$f":"IF('All Running Order'!BQ64=\"\",\"\",'All Running Order'!BQ64)","v":""},{"$f":"IF('All Running Order'!BR64=\"\",\"\",'All Running Order'!BR64)","v":""},{"$f":"IF('All Running Order'!BS64=\"\",\"\",'All Running Order'!BS64)","v":""},{"$f":"IF('All Running Order'!BT64=\"\",\"\",'All Running Order'!BT64)","v":""},{"$f":"IF('All Running Order'!BU64=\"\",\"\",'All Running Order'!BU64)","v":""}]

{"sheet":"Constants","index":5,"n_rows":4,"n_cols":7,"rows_kept":4,"cut":false,"hidden":false,"merged":[]}
["Ret/NS","BTRDA Class","Club Class","Type","Tyres",null,"NOTE:"]
["Ret/NS","Red","750-A","Live","Yes",null,"If you change any of the classes the macros assume that the first two (Cells B2 and B3) will be split between live and IRS when building the results sheet"]
[null,"Blue","750-B","IRS","No",null,"It is suggested that you leave these cells as \"Red\" and \"Blue\" even if these are not used for your event (unless you want your classes split by axle!)"]
[null,"Rookie","750-N","P-H"]

{"sheet":"All Running Order working doc","index":6,"n_rows":1006,"n_cols":99,"rows_kept":1006,"cut":false,"hidden":true,"merged":[[0,7,0,10],[0,48,0,57],[0,58,1,58],[0,59,1,59],[0,11,1,11],[0,12,1,12],[0,13,0,22],[0,23,1,23],[0,24,0,33],[0,96,1,96],[0,77,0,81],[0,72,0,76],[0,34,1,34],[0,35,1,35],[0,36,0,45],[0,46,1,46],[0,47,1,47],[0,60,0,69],[0,70,1,70],[0,71,1,71],[0,98,1,98],[0,82,1,82],[0,83,1,83],[0,84,1,84],[0,85,1,85],[0,86,1,86],[0,88,1,88],[0,90,1,90],[0,92,1,92],[0,89,1,89],[0,91,1,91],[0,93,1,93],[0,97,1,97],[0,87,1,87],[0,94,1,94],[0,95,1,95]]}
[null,null,null,null,null,null,null,"START HILL",null,null,null,"Ret/NS","CLASS","ROUND 1: HILL NO. ",null,null,null,null,null,null,null,null,null,"ROUND TOTAL","ROUND 2: HILL NO. ",null,null,null,null,null,null,null,null,null,"ROUND TOTAL","SUB TOTAL","ROUND 3: HILL NO. ",null,null,null,null,null,null,null,null,null,"ROUND TOTAL","SUB TOTAL","ROUND 4: HILL NO. ",null,null,null,null,null,null,null,null,null,"ROUND TOTAL","GRAND TOTAL","ROUND 5: HILL NO. ",null,null,null,null,null,null,null,null,null,"ROUND TOTAL","GRAND TOTAL","POSITION AFTER ROUND",null,null,null,null,"POSITION AFTER ROUND",null,null,null,null,{"$f":"CONCATENATE(,\"CLASS\",\" \",Constants!$B$2)","v":"CLASS Red"},{"$f":"CONCATENATE(\"Position in CLASS\",\" \",Constants!$B$2)","v":"Position in CLASS Red"},{"$f":"CONCATENATE(,\"CLASS\",\" \",Constants!$B$3)","v":"CLASS Blue"},{"$f":"CONCATENATE(\"Position in CLASS\",\" \",Constants!$B$3)","v":"Position in CLASS Blue"},{"$f":"CONCATENATE(,Constants!$B$4,\" \",\"CLASS\")","v":"Rookie CLASS"},{"$f":"CONCATENATE(\"Position in \",Constants!$B$4,\" \",\"CLASS\")","v":"Position in Rookie CLASS"},{"$f":"CONCATENATE(,Constants!$C$2,\" \",\"CLASS\")","v":"750-A CLASS"},{"$f":"CONCATENATE(\"Position in \",Constants!$C$2,\" \",\"CLASS\")","v":"Position in 750-A CLASS"},{"$f":"CONCATENATE(,Constants!$C$3,\" \",\"CLASS\")","v":"750-B CLASS"},{"$f":"CONCATENATE(\"Position in \",Constants!$C$3,\" \",\"CLASS\")","v":"Position in 750-B CLASS"},{"$f":"CONCATENATE(,Constants!$C$4,\" \",\"CLASS\")","v":"750-N CLASS"},{"$f":"CONCATENATE(\"Position in \",Constants!$C$4,\" \",\"CLASS\")","v":"Position in 750-N CLASS"},"Post-Historic Class",{"$f":"CONCATENATE(\"Position in \",Constants!$B$8,\" \",\"CLASS\")","v":"Position in  CLASS"},"Live Class","Position in Live Class","POSITION IN CLASS"]
[null,"NO.","DRIVER","PASSENGER","CAR","CC","Live/IRS",1,2,3,4,null,null,"1","2","3","4","5","6","7","8","9","10",null,"1","2","3","4","5","6","7","8","9","10",null,null,"1","2","3","4","5","6","7","8","9","10",null,null,"1","2","3","4","5","6","7","8","9","10",null,null,"1","2","3","4","5","6","7","8","9","10",null,null,1,2,3,4,5,1,2,3,4,5]
[null,null,"Best score",null,null,null,null,null,null,null,null,null,"N/A",{"$f":"MIN(N4:N60)","v":0},0,0,0,0,0,0,0,0,0,{"$f":"SUM(N3:W3)","v":0},{"$f":"MIN(Y4:Y60)","v":0},0,0,0,0,0,0,0,0,0,{"$f":"SUM(Y3:AH3)","v":0},{"$f":"AI3+X3","v":0},{"$f":"MIN(AK4:AK60)","v":0},0,0,0,0,0,0,0,0,0,{"$f":"SUM(AK3:AT3)","v":0},{"$f":"AU3+AJ3","v":0},{"$f":"MIN(AW4:AW60)","v":0},0,0,0,0,0,0,0,0,0,{"$f":"SUM(AW3:BF3)","v":0},{"$f":"BG3+AV3","v":0},{"$f":"MIN(BI4:BI60)","v":0},0,0,0,0,0,0,0,0,0,{"$f":"SUM(BI3:BR3)","v":0},{"$f":"BS3+BH3","v":0}]
[{"$f":"CONCATENATE(M4,CU4)","v":"Red "},{"$f":"'All Running Order'!B6","v":1},{"$f":"'All Running Order'!C6","v":"Stuart Beare"},{"$f":"'All Running Order'!D6","v":"Sue Underwood"},{"$f":"'All Running Order'!E6","v":"Sherpa Indy"},{"$f":"'All Running Order'!F6","v":0},{"$f":"'All Running Order'!G6","v":"IRS"},{"$f":"'All Running Order'!I6","v":0},{"$f":"'All Running Order'!J6","v":0},{"$f":"'All Running Order'!K6","v":0},{"$f":"'All Running Order'!M6","v":0},{"$f":"'All Running Order'!N6","v":0},{"$f":"'All Running Order'!P6","v":"Red"},{"$f":"'All Running Order'!Q6","v":0},{"$f":"'All Running Order'!R6","v":0},{"$f":"'All Running Order'!S6","v":1},{"$f":"'All Running Order'!T6","v":0},{"$f":"'All Running Order'!U6","v":1},{"$f":"'All Running Order'!V6","v":2},{"$f":"'All Running Order'!W6","v":0},{"$f":"'All Running Order'!X6","v":0},{"$f":"'All Running Order'!Y6","v":0},{"$f":"'All Running Order'!Z6","v":0},{"$f":"'All Running Order'!AA6","v":4},{"$f":"'All Running Order'!AB6","v":0},{"$f":"'All Running Order'!AC6","v":0},{"$f":"'All Running Order'!AD6","v":0},{"$f":"'All Running Order'!AE6","v":1},{"$f":"'All Running Order'!AF6","v":1},{"$f":"'All Running Order'!AG6","v":0},{"$f":"'All Running Order'!AH6","v":0},{"$f":"'All Running Order'!AI6","v":0},{"$f":"'All Running Order'!AJ6","v":0},{"$f":"'All Running Order'!AK6","v":0},{"$f":"'All Running Order'!AL6","v":2},{"$f":"'All Running Order'!AM6","v":6},{"$f":"'All Running Order'!AN6","v":0},{"$f":"'All Running Order'!AO6","v":2},{"$f":"'All Running Order'!AP6","v":0},{"$f":"'All Running Order'!AQ6","v":1},{"$f":"'All Running Order'!AR6","v":0},{"$f":"'All Running Order'!AS6","v":0},{"$f":"'All Running Order'!AT6","v":0},{"$f":"'All Running Order'!AU6","v":0},{"$f":"'All Running Order'!AV6","v":0},{"$f":"'All Running Order'!AW6","v":0},{"$f":"'All Running Order'!AX6","v":3},{"$f":"'All Running Order'!AY6","v":9},{"$f":"'All Running Order'!AZ6","v":0},{"$f":"'All Running Order'!BA6","v":0},{"$f":"'All Running Order'!BB6","v":0},{"$f":"'All Running Order'!BC6","v":1},{"$f":"'All Running Order'!BD6","v":0},{"$f":"'All Running Order'!BE6","v":0},{"$f":"'All Running Order'!BF6","v":0},{"$f":"'All Running Order'!BG6","v":0},{"$f":"'All Running Order'!BH6","v":0},{"$f":"'All Running Order'!BI6","v":0},{"$f":"'All Running Order'!BJ6","v":1},{"$f":"'All Running Order'!BK6","v":10},{"$f":"'All Running Order'!BL6","v":0},{"$f":"'All Running Order'!BM6","v":0},{"$f":"'All Running Order'!BN6","v":0},{"$f":"'All Running Order'!BO6","v":0},{"$f":"'All Running Order'!BP6","v":0},{"$f":"'All Running Order'!BQ6","v":0},{"$f":"'All Running Order'!BR6","v":0},{"$f":"'All Running Order'!BS6","v":0},{"$f":"'All Running Order'!BT6","v":0},{"$f":"'All Running Order'!BU6","v":0},{"$f":"'All Running Order'!BV6","v":0},{"$f":"'All Running Order'!BW6","v":10},{"$f":"'All Running Order'!BX6","v":1},{"$f":"'All Running Order'!BY6","v":1},{"$f":"'All Running Order'!BZ6","v":3},{"$f":"'All Running Order'!CA6","v":1},{"$f":"'All Running Order'!CB6","v":1},{"$f":"'All Running Order'!CC6","v":1},{"$f":"'All Running Order'!CD6","v":1},{"$f":"'All Running Order'!CE6","v":3},{"$f":"'All Running Order'!CF6","v":1},{"$f":"'All Running Order'!CG6","v":1},{"$f":"'All Running Order'!CH6","v":1},{"$f":"'All Running Order'!CI6","v":""},{"$f":"'All Running Order'!CJ6","v":"-"},{"$f":"'All Running Order'!CK6","v":""},{"$f":"'All Running Order'!CL6","v":"-"},{"$f":"'All Running Order'!CM6","v":""},{"$f":"'All Running Order'!CN6","v":"-"},{"$f":"'All Running Order'!CO6","v":""},{"$f":"'All Running Order'!CP6","v":"-"},{"$f":"'All Running Order'!CQ6","v":""},{"$f":"'All Running Order'!CR6","v":"-"},{"$f":"'All Running Order'!CS6","v":""},{"$f":"'All Running Order'!CT6","v":"-"},{"$f":"'All Running Order'!CU6","v":" "},{"$f":"'All Running Order'!CV6","v":"-"},{"$f":"'All Running Order'!CW6","v":" "},{"$f":"'All Running Order'!CX6","v":" "}]
["Blue ",{"$f":"'All Running Order'!B7","v":2},{"$f":"'All Running Order'!C7","v":"Darren Underwood"},{"$f":"'All Running Order'!D7","v":"Sue Underwood"},{"$f":"'All Running Order'!E7","v":"Crossle "},{"$f":"'All Running Order'!F7","v":0},{"$f":"'All Running Order'!G7","v":"IRS"},{"$f":"'All Running Order'!I7","v":0},{"$f":"'All Running Order'!J7","v":0},{"$f":"'All Running Order'!K7","v":0},null,{"$f":"'All Running Order'!N7","v":"Ret/NS"},{"$f":"'All Running Order'!P7","v":"Blue"},{"$f":"'All Running Order'!Q7","v":0},{"$f":"'All Running Order'!R7","v":0},{"$f":"'All Running Order'!S7","v":0},{"$f":"'All Running Order'!T7","v":0},{"$f":"'All Running Order'!U7","v":0},{"$f":"'All Running Order'!V7","v":0},{"$f":"'All Running Order'!W7","v":0},{"$f":"'All Running Order'!X7","v":0},{"$f":"'All Running Order'!Y7","v":0},{"$f":"'All Running Order'!Z7","v":0},{"$f":"'All Running Order'!AA7","v":1000},{"$f":"'All Running Order'!AB7","v":0},{"$f":"'All Running Order'!AC7","v":0},{"$f":"'All Running Order'!AD7","v":0},{"$f":"'All Running Order'!AE7","v":0},{"$f":"'All Running Order'!AF7","v":0},{"$f":"'All Running Order'!AG7","v":0},{"$f":"'All Running Order'!AH7","v":0},{"$f":"'All Running Order'!AI7","v":0},{"$f":"'All Running Order'!AJ7","v":0},{"$f":"'All Running Order'!AK7","v":0},{"$f":"'All Running Order'!AL7","v":0},{"$f":"'All Running Order'!AM7","v":1000},{"$f":"'All Running Order'!AN7","v":0},{"$f":"'All Running Order'!AO7","v":0},{"$f":"'All Running Order'!AP7","v":0},{"$f":"'All Running Order'!AQ7","v":0},{"$f":"'All Running Order'!AR7","v":0},{"$f":"'All Running Order'!AS7","v":0},{"$f":"'All Running Order'!AT7","v":0},{"$f":"'All Running Order'!AU7","v":0},{"$f":"'All Running Order'!AV7","v":0},{"$f":"'All Running Order'!AW7","v":0},{"$f":"'All Running Order'!AX7","v":0},{"$f":"'All Running Order'!AY7","v":1000},{"$f":"'All Running Order'!AZ7","v":0},{"$f":"'All Running Order'!BA7","v":0},{"$f":"'All Running Order'!BB7","v":0},{"$f":"'All Running Order'!BC7","v":0},{"$f":"'All Running Order'!BD7","v":0},{"$f":"'All Running Order'!BE7","v":0},{"$f":"'All Running Order'!BF7","v":0},{"$f":"'All Running Order'!BG7","v":0},{"$f":"'All Running Order'!BH7","v":0},{"$f":"'All Running Order'!BI7","v":0},{"$f":"'All Running Order'!BJ7","v":0},{"$f":"'All Running Order'!BK7","v":1000},{"$f":"'All Running Order'!BL7","v":0},{"$f":"'All Running Order'!BM7","v":0},{"$f":"'All Running Order'!BN7","v":0},{"$f":"'All Running Order'!BO7","v":0},{"$f":"'All Running Order'!BP7","v":0},{"$f":"'All Running Order'!BQ7","v":0},{"$f":"'All Running Order'!BR7","v":0},{"$f":"'All Running Order'!BS7","v":0},{"$f":"'All Running Order'!BT7","v":0},{"$f":"'All Running Order'!BU7","v":0},{"$f":"'All Running Order'!BV7","v":0},{"$f":"'All Running Order'!BW7","v":1000},{"$f":"'All Running Order'!BX7","v":11},{"$f":"'All Running Order'!BY7","v":11},{"$f":"'All Running Order'!BZ7","v":11},{"$f":"'All Running Order'!CA7","v":11},{"$f":"'All Running Order'!CB7","v":11},{"$f":"'All Running Order'!CC7","v":11},{"$f":"'All Running Order'!CD7","v":11},{"$f":"'All Running Order'!CE7","v":11},{"$f":"'All Running Order'!CF7","v":11},{"$f":"'All Running Order'!CG7","v":11},{"$f":"'All Running Order'!CH7","v":"-"},{"$f":"'All Running Order'!CI7","v":""},{"$f":"'All Running Order'!CJ7","v":11},{"$f":"'All Running Order'!CK7","v":""},{"$f":"'All Running Order'!CL7","v":"-"},{"$f":"'All Running Order'!CM7","v":""},{"$f":"'All Running Order'!CN7","v":"-"},{"$f":"'All Running Order'!CO7","v":""},{"$f":"'All Running Order'!CP7","v":"-"},{"$f":"'All Running Order'!CQ7","v":""},{"$f":"'All Running Order'!CR7","v":"-"},{"$f":"'All Running Order'!CS7","v":""},{"$f":"'All Running Order'!CT7","v":"-"},{"$f":"'All Running Order'!CU7","v":" "},{"$f":"'All Running Order'!CV7","v":"-"},{"$f":"'All Running Order'!CW7","v":" "},{"$f":"'All Running Order'!CX7","v":" "}]
["Red ",{"$f":"'All Running Order'!B8","v":3},{"$f":"'All Running Order'!C8","v":"George Barnes"},{"$f":"'All Running Order'!D8","v":"Rob Uryc"},{"$f":"'All Running Order'!E8","v":"Sherpa"},{"$f":"'All Running Order'!F8","v":0},{"$f":"'All Running Order'!G8","v":"Live"},{"$f":"'All Running Order'!I8","v":0},{"$f":"'All Running Order'!J8","v":0},{"$f":"'All Running Order'!K8","v":0},null,{"$f":"'All Running Order'!N8","v":0},{"$f":"'All Running Order'!P8","v":"Red"},{"$f":"'All Running Order'!Q8","v":0},{"$f":"'All Running Order'!R8","v":0},{"$f":"'All Running Order'!S8","v":2},{"$f":"'All Running Order'!T8","v":0},{"$f":"'All Running Order'!U8","v":1},{"$f":"'All Running Order'!V8","v":1},{"$f":"'All Running Order'!W8","v":0},{"$f":"'All Running Order'!X8","v":0},{"$f":"'All Running Order'!Y8","v":0},{"$f":"'All Running Order'!Z8","v":0},{"$f":"'All Running Order'!AA8","v":4},{"$f":"'All Running Order'!AB8","v":0},{"$f":"'All Running Order'!AC8","v":0},{"$f":"'All Running Order'!AD8","v":1},{"$f":"'All Running Order'!AE8","v":1},{"$f":"'All Running Order'!AF8","v":6},{"$f":"'All Running Order'!AG8","v":0},{"$f":"'All Running Order'!AH8","v":0},{"$f":"'All Running Order'!AI8","v":0},{"$f":"'All Running Order'!AJ8","v":0},{"$f":"'All Running Order'!AK8","v":0},{"$f":"'All Running Order'!AL8","v":8},{"$f":"'All Running Order'!AM8","v":12},{"$f":"'All Running Order'!AN8","v":0},{"$f":"'All Running Order'!AO8","v":2},{"$f":"'All Running Order'!AP8","v":0},{"$f":"'All Running Order'!AQ8","v":1},{"$f":"'All Running Order'!AR8","v":0},{"$f":"'All Running Order'!AS8","v":0},{"$f":"'All Running Order'!AT8","v":0},{"$f":"'All Running Order'!AU8","v":0},{"$f":"'All Running Order'!AV8","v":0},{"$f":"'All Running Order'!AW8","v":0},{"$f":"'All Running Order'!AX8","v":3},{"$f":"'All Running Order'!AY8","v":15},{"$f":"'All Running Order'!AZ8","v":0},{"$f":"'All Running Order'!BA8","v":2},{"$f":"'All Running Order'!BB8","v":0},{"$f":"'All Running Order'!BC8","v":1},{"$f":"'All Running Order'!BD8","v":1},{"$f":"'All Running Order'!BE8","v":0},{"$f":"'All Running Order'!BF8","v":0},{"$f":"'All Running Order'!BG8","v":0},{"$f":"'All Running Order'!BH8","v":0},{"$f":"'All Running Order'!BI8","v":0},{"$f":"'All Running Order'!BJ8","v":4},{"$f":"'All Running Order'!BK8","v":19},{"$f":"'All Running Order'!BL8","v":0},{"$f":"'All Running Order'!BM8","v":0},{"$f":"'All Running Order'!BN8","v":0},{"$f":"'All Running Order'!BO8","v":0},{"$f":"'All Running Order'!BP8","v":0},{"$f":"'All Running Order'!BQ8","v":0},{"$f":"'All Running Order'!BR8","v":0},{"$f":"'All Running Order'!BS8","v":0},{"$f":"'All Running Order'!BT8","v":0},{"$f":"'All Running Order'!BU8","v":0},{"$f":"'All Running Order'!BV8","v":0},{"$f":"'All Running Order'!BW8","v":19},{"$f":"'All Running Order'!BX8","v":1},{"$f":"'All Running Order'!BY8","v":5},{"$f":"'All Running Order'!BZ8","v":5},{"$f":"'All Running Order'!CA8","v":5},{"$f":"'All Running Order'!CB8","v":5},{"$f":"'All Running Order'!CC8","v":1},{"$f":"'All Running Order'!CD8","v":5},{"$f":"'All Running Order'!CE8","v":5},{"$f":"'All Running Order'!CF8","v":5},{"$f":"'All Running Order'!CG8","v":5},{"$f":"'All Running Order'!CH8","v":5},{"$f":"'All Running Order'!CI8","v":""},{"$f":"'All Running Order'!CJ8","v":"-"},{"$f":"'All Running Order'!CK8","v":""},{"$f":"'All Running Order'!CL8","v":"-"},{"$f":"'All Running Order'!CM8","v":""},{"$f":"'All Running Order'!CN8","v":"-"},{"$f":"'All Running Order'!CO8","v":""},{"$f":"'All Running Order'!CP8","v":"-"},{"$f":"'All Running Order'!CQ8","v":""},{"$f":"'All Running Order'!CR8","v":"-"},{"$f":"'All Running Order'!CS8","v":""},{"$f":"'All Running Order'!CT8","v":"-"},{"$f":"'All Running Order'!CU8","v":" "},{"$f":"'All Running Order'!CV8","v":5},{"$f":"'All Running Order'!CW8","v":" "},{"$f":"'All Running Order'!CX8","v":" "}]
["Rookie ",{"$f":"'All Running Order'!B9","v":4},{"$f":"'All Running Order'!C9","v":"Trevor Wood"},{"$f":"'All Running Order'!D9","v":"Ralph Brown"},{"$f":"'All Running Order'!E9","v":"MSR"},{"$f":"'All Running Order'!F9","v":0},{"$f":"'All Running Order'!G9","v":"IRS"},{"$f":"'All Running Order'!I9","v":0},{"$f":"'All Running Order'!J9","v":0},{"$f":"'All Running Order'!K9","v":0},null,{"$f":"'All Running Order'!N9","v":0},{"$f":"'All Running Order'!P9","v":"Rookie"},{"$f":"'All Running Order'!Q9","v":9},{"$f":"'All Running Order'!R9","v":2},{"$f":"'All Running Order'!S9","v":8},{"$f":"'All Running Order'!T9","v":9},{"$f":"'All Running Order'!U9","v":10},{"$f":"'All Running Order'!V9","v":8},{"$f":"'All Running Order'!W9","v":0},{"$f":"'All Running Order'!X9","v":0},{"$f":"'All Running Order'!Y9","v":0},{"$f":"'All Running Order'!Z9","v":0},{"$f":"'All Running Order'!AA9","v":46},{"$f":"'All Running Order'!AB9","v":5},{"$f":"'All Running Order'!AC9","v":2},{"$f":"'All Running Order'!AD9","v":3},{"$f":"'All Running Order'!AE9","v":10},{"$f":"'All Running Order'!AF9","v":11},{"$f":"'All Running Order'!AG9","v":8},{"$f":"'All Running Order'!AH9","v":0},{"$f":"'All Running Order'!AI9","v":0},{"$f":"'All Running Order'!AJ9","v":0},{"$f":"'All Running Order'!AK9","v":0},{"$f":"'All Running Order'!AL9","v":39},{"$f":"'All Running Order'!AM9","v":85},{"$f":"'All Running Order'!AN9","v":6},{"$f":"'All Running Order'!AO9","v":9},{"$f":"'All Running Order'!AP9","v":2},{"$f":"'All Running Order'!AQ9","v":9},{"$f":"'All Running Order'!AR9","v":10},{"$f":"'All Running Order'!AS9","v":11},{"$f":"'All Running Order'!AT9","v":0},{"$f":"'All Running Order'!AU9","v":0},{"$f":"'All Running Order'!AV9","v":0},{"$f":"'All Running Order'!AW9","v":0},{"$f":"'All Running Order'!AX9","v":47},{"$f":"'All Running Order'!AY9","v":132},{"$f":"'All Running Order'!AZ9","v":8},{"$f":"'All Running Order'!BA9","v":11},{"$f":"'All Running Order'!BB9","v":3},{"$f":"'All Running Order'!BC9","v":9},{"$f":"'All Running Order'!BD9","v":11},{"$f":"'All Running Order'!BE9","v":11},{"$f":"'All Running Order'!BF9","v":0},{"$f":"'All Running Order'!BG9","v":0},{"$f":"'All Running Order'!BH9","v":0},{"$f":"'All Running Order'!BI9","v":0},{"$f":"'All Running Order'!BJ9","v":53},{"$f":"'All Running Order'!BK9","v":185},{"$f":"'All Running Order'!BL9","v":0},{"$f":"'All Running Order'!BM9","v":0},{"$f":"'All Running Order'!BN9","v":0},{"$f":"'All Running Order'!BO9","v":0},{"$f":"'All Running Order'!BP9","v":0},{"$f":"'All Running Order'!BQ9","v":0},{"$f":"'All Running Order'!BR9","v":0},{"$f":"'All Running Order'!BS9","v":0},{"$f":"'All Running Order'!BT9","v":0},{"$f":"'All Running Order'!BU9","v":0},{"$f":"'All Running Order'!BV9","v":0},{"$f":"'All Running Order'!BW9","v":185},{"$f":"'All Running Order'!BX9","v":10},{"$f":"'All Running Order'!BY9","v":10},{"$f":"'All Running Order'!BZ9","v":10},{"$f":"'All Running Order'!CA9","v":10},{"$f":"'All Running Order'!CB9","v":10},{"$f":"'All Running Order'!CC9","v":10},{"$f":"'All Running Order'!CD9","v":10},{"$f":"'All Running Order'!CE9","v":10},{"$f":"'All Running Order'!CF9","v":10},{"$f":"'All Running Order'!CG9","v":10},{"$f":"'All Running Order'!CH9","v":"-"},{"$f":"'All Running Order'!CI9","v":""},{"$f":"'All Running Order'!CJ9","v":"-"},{"$f":"'All Running Order'!CK9","v":""},{"$f":"'All Running Order'!CL9","v":10},{"$f":"'All Running Order'!CM9","v":""},{"$f":"'All Running Order'!CN9","v":"-"},{"$f":"'All Running Order'!CO9","v":""},{"$f":"'All Running Order'!CP9","v":"-"},{"$f":"'All Running Order'!CQ9","v":""},{"$f":"'All Running Order'!CR9","v":"-"},{"$f":"'All Running Order'!CS9","v":""},{"$f":"'All Running Order'!CT9","v":"-"},{"$f":"'All Running Order'!CU9","v":" "},{"$f":"'All Running Order'!CV9","v":"-"},{"$f":"'All Running Order'!CW9","v":" "},{"$f":"'All Running Order'!CX9","v":" "}]
["Red ",{"$f":"'All Running Order'!B10","v":5},{"$f":"'All Running Order'!C10","v":"Ian Wright"},{"$f":"'All Running Order'!D10","v":"Chris Taylor"},{"$f":"'All Running Order'!E10","v":"Sherpa Indy"},{"$f":"'All Running Order'!F10","v":0},{"$f":"'All Running Order'!G10","v":"IRS"},{"$f":"'All Running Order'!I10","v":0},{"$f":"'All Running Order'!J10","v":0},{"$f":"'All Running Order'!K10","v":0},null,{"$f":"'All Running Order'!N10","v":0},{"$f":"'All Running Order'!P10","v":"Red"},{"$f":"'All Running Order'!Q10","v":0},{"$f":"'All Running Order'!R10","v":1},{"$f":"'All Running Order'!S10","v":2},{"$f":"'All Running Order'!T10","v":0},{"$f":"'All Running Order'!U10","v":2},{"$f":"'All Running Order'!V10","v":1},{"$f":"'All Running Order'!W10","v":0},{"$f":"'All Running Order'!X10","v":0},{"$f":"'All Running Order'!Y10","v":0},{"$f":"'All Running Order'!Z10","v":0},{"$f":"'All Running Order'!AA10","v":6},{"$f":"'All Running Order'!AB10","v":0},{"$f":"'All Running Order'!AC10","v":0},{"$f":"'All Running Order'!AD10","v":0},{"$f":"'All Running Order'!AE10","v":1},{"$f":"'All Running Order'!AF10","v":1},{"$f":"'All Running Order'!AG10","v":0},{"$f":"'All Running Order'!AH10","v":0},{"$f":"'All Running Order'!AI10","v":0},{"$f":"'All Running Order'!AJ10","v":0},{"$f":"'All Running Order'!AK10","v":0},{"$f":"'All Running Order'!AL10","v":2},{"$f":"'All Running Order'!AM10","v":8},{"$f":"'All Running Order'!AN10","v":0},{"$f":"'All Running Order'!AO10","v":0},{"$f":"'All Running Order'!AP10","v":0},{"$f":"'All Running Order'!AQ10","v":0},{"$f":"'All Running Order'!AR10","v":0},{"$f":"'All Running Order'!AS10","v":0},{"$f":"'All Running Order'!AT10","v":0},{"$f":"'All Running Order'!AU10","v":0},{"$f":"'All Running Order'!AV10","v":0},{"$f":"'All Running Order'!AW10","v":0},{"$f":"'All Running Order'!AX10","v":0},{"$f":"'All Running Order'!AY10","v":8},{"$f":"'All Running Order'!AZ10","v":0},{"$f":"'All Running Order'!BA10","v":2},{"$f":"'All Running Order'!BB10","v":2},{"$f":"'All Running Order'!BC10","v":0},{"$f":"'All Running Order'!BD10","v":2},{"$f":"'All Running Order'!BE10","v":0},{"$f":"'All Running Order'!BF10","v":0},{"$f":"'All Running Order'!BG10","v":0},{"$f":"'All Running Order'!BH10","v":0},{"$f":"'All Running Order'!BI10","v":0},{"$f":"'All Running Order'!BJ10","v":6},{"$f":"'All Running Order'!BK10","v":14},{"$f":"'All Running Order'!BL10","v":0},{"$f":"'All Running Order'!BM10","v":0},{"$f":"'All Running Order'!BN10","v":0},{"$f":"'All Running Order'!BO10","v":0},{"$f":"'All Running Order'!BP10","v":0},{"$f":"'All Running Order'!BQ10","v":0},{"$f":"'All Running Order'!BR10","v":0},{"$f":"'All Running Order'!BS10","v":0},{"$f":"'All Running Order'!BT10","v":0},{"$f":"'All Running Order'!BU10","v":0},{"$f":"'All Running Order'!BV10","v":0},{"$f":"'All Running Order'!BW10","v":14},{"$f":"'All Running Order'!BX10","v":4},{"$f":"'All Running Order'!BY10","v":2},{"$f":"'All Running Order'!BZ10","v":1},{"$f":"'All Running Order'!CA10","v":2},{"$f":"'All Running Order'!CB10","v":2},{"$f":"'All Running Order'!CC10","v":4},{"$f":"'All Running Order'!CD10","v":2},{"$f":"'All Running Order'!CE10","v":1},{"$f":"'All Running Order'!CF10","v":2},{"$f":"'All Running Order'!CG10","v":2},{"$f":"'All Running Order'!CH10","v":2},{"$f":"'All Running Order'!CI10","v":""},{"$f":"'All Running Order'!CJ10","v":"-"},{"$f":"'All Running Order'!CK10","v":""},{"$f":"'All Running Order'!CL10","v":"-"},{"$f":"'All Running Order'!CM10","v":""},{"$f":"'All Running Order'!CN10","v":"-"},{"$f":"'All Running Order'!CO10","v":""},{"$f":"'All Running Order'!CP10","v":"-"},{"$f":"'All Running Order'!CQ10","v":""},{"$f":"'All Running Order'!CR10","v":"-"},{"$f":"'All Running Order'!CS10","v":""},{"$f":"'All Running Order'!CT10","v":"-"},{"$f":"'All Running Order'!CU10","v":" "},{"$f":"'All Running Order'!CV10","v":"-"},{"$f":"'All Running Order'!CW10","v":" "},{"$f":"'All Running Order'!CX10","v":" "}]
["Red ",{"$f":"'All Running Order'!B11","v":6},{"$f":"'All Running Order'!C11","v":"Peter Fensom"},{"$f":"'All Running Order'!D11","v":"Liz Fensom"},{"$f":"'All Running Order'!E11","v":"Hamilton"},{"$f":"'All Running Order'!F11","v":0},{"$f":"'All Running Order'!G11","v":"IRS"},{"$f":"'All Running Order'!I11","v":0},{"$f":"'All Running Order'!J11","v":0},{"$f":"'All Running Order'!K11","v":0},null,{"$f":"'All Running Order'!N11","v":0},{"$f":"'All Running Order'!P11","v":"Red"},{"$f":"'All Running Order'!Q11","v":0},{"$f":"'All Running Order'!R11","v":2},{"$f":"'All Running Order'!S11","v":2},{"$f":"'All Running Order'!T11","v":0},{"$f":"'All Running Order'!U11","v":2},{"$f":"'All Running Order'!V11","v":1},{"$f":"'All Running Order'!W11","v":0},{"$f":"'All Running Order'!X11","v":0},{"$f":"'All Running Order'!Y11","v":0},{"$f":"'All Running Order'!Z11","v":0},{"$f":"'All Running Order'!AA11","v":7},{"$f":"'All Running Order'!AB11","v":0},{"$f":"'All Running Order'!AC11","v":0},{"$f":"'All Running Order'!AD11","v":2},{"$f":"'All Running Order'!AE11","v":4},{"$f":"'All Running Order'!AF11","v":2},{"$f":"'All Running Order'!AG11","v":0},{"$f":"'All Running Order'!AH11","v":0},{"$f":"'All Running Order'!AI11","v":0},{"$f":"'All Running Order'!AJ11","v":0},{"$f":"'All Running Order'!AK11","v":0},{"$f":"'All Running Order'!AL11","v":8},{"$f":"'All Running Order'!AM11","v":15},{"$f":"'All Running Order'!AN11","v":0},{"$f":"'All Running Order'!AO11","v":2},{"$f":"'All Running Order'!AP11","v":2},{"$f":"'All Running Order'!AQ11","v":1},{"$f":"'All Running Order'!AR11","v":0},{"$f":"'All Running Order'!AS11","v":0},{"$f":"'All Running Order'!AT11","v":0},{"$f":"'All Running Order'!AU11","v":0},{"$f":"'All Running Order'!AV11","v":0},{"$f":"'All Running Order'!AW11","v":0},{"$f":"'All Running Order'!AX11","v":5},{"$f":"'All Running Order'!AY11","v":20},{"$f":"'All Running Order'!AZ11","v":12},{"$f":"'All Running Order'!BA11","v":2},{"$f":"'All Running Order'!BB11","v":2},{"$f":"'All Running Order'!BC11","v":2},{"$f":"'All Running Order'!BD11","v":2},{"$f":"'All Running Order'!BE11","v":0},{"$f":"'All Running Order'!BF11","v":0},{"$f":"'All Running Order'!BG11","v":0},{"$f":"'All Running Order'!BH11","v":0},{"$f":"'All Running Order'!BI11","v":0},{"$f":"'All Running Order'!BJ11","v":20},{"$f":"'All Running Order'!BK11","v":40},{"$f":"'All Running Order'!BL11","v":0},{"$f":"'All Running Order'!BM11","v":0},{"$f":"'All Running Order'!BN11","v":0},{"$f":"'All Running Order'!BO11","v":0},{"$f":"'All Running Order'!BP11","v":0},{"$f":"'All Running Order'!BQ11","v":0},{"$f":"'All Running Order'!BR11","v":0},{"$f":"'All Running Order'!BS11","v":0},{"$f":"'All Running Order'!BT11","v":0},{"$f":"'All Running Order'!BU11","v":0},{"$f":"'All Running Order'!BV11","v":0},{"$f":"'All Running Order'!BW11","v":40},{"$f":"'All Running Order'!BX11","v":5},{"$f":"'All Running Order'!BY11","v":6},{"$f":"'All Running Order'!BZ11","v":6},{"$f":"'All Running Order'!CA11","v":6},{"$f":"'All Running Order'!CB11","v":6},{"$f":"'All Running Order'!CC11","v":5},{"$f":"'All Running Order'!CD11","v":6},{"$f":"'All Running Order'!CE11","v":6},{"$f":"'All Running Order'!CF11","v":6},{"$f":"'All Running Order'!CG11","v":6},{"$f":"'All Running Order'!CH11","v":6},{"$f":"'All Running Order'!CI11","v":""},{"$f":"'All Running Order'!CJ11","v":"-"},{"$f":"'All Running Order'!CK11","v":""},{"$f":"'All Running Order'!CL11","v":"-"},{"$f":"'All Running Order'!CM11","v":""},{"$f":"'All Running Order'!CN11","v":"-"},{"$f":"'All Running Order'!CO11","v":""},{"$f":"'All Running Order'!CP11","v":"-"},{"$f":"'All Running Order'!CQ11","v":""},{"$f":"'All Running Order'!CR11","v":"-"},{"$f":"'All Running Order'!CS11","v":""},{"$f":"'All Running Order'!CT11","v":"-"},{"$f":"'All Running Order'!CU11","v":" "},{"$f":"'All Running Order'!CV11","v":"-"},{"$f":"'All Running Order'!CW11","v":" "},{"$f":"'All Running Order'!CX11","v":" "}]
["Rookie ",{"$f":"'All Running Order'!B12","v":7},{"$f":"'All Running Order'!C12","v":"Ian Brooks"},{"$f":"'All Running Order'!D12","v":"Matt Sunderland"},{"$f":"'All Running Order'!E12","v":"Sabson"},{"$f":"'All Running Order'!F12","v":0},{"$f":"'All Running Order'!G12","v":"Live"},{"$f":"'All Running Order'!I12","v":0},{"$f":"'All Running Order'!J12","v":0},{"$f":"'All Running Order'!K12","v":0},null,{"$f":"'All Running Order'!N12","v":0},{"$f":"'All Running Order'!P12","v":"Rookie"},{"$f":"'All Running Order'!Q12","v":8},{"$f":"'All Running Order'!R12","v":2},{"$f":"'All Running Order'!S12","v":2},{"$f":"'All Running Order'!T12","v":5},{"$f":"'All Running Order'!U12","v":9},{"$f":"'All Running Order'!V12","v":8},{"$f":"'All Running Order'!W12","v":0},{"$f":"'All Running Order'!X12","v":0},{"$f":"'All Running Order'!Y12","v":0},{"$f":"'All Running Order'!Z12","v":0},{"$f":"'All Running Order'!AA12","v":34},{"$f":"'All Running Order'!AB12","v":8},{"$f":"'All Running Order'!AC12","v":3},{"$f":"'All Running Order'!AD12","v":4},{"$f":"'All Running Order'!AE12","v":9},{"$f":"'All Running Order'!AF12","v":9},{"$f":"'All Running Order'!AG12","v":1},{"$f":"'All Running Order'!AH12","v":0},{"$f":"'All Running Order'!AI12","v":0},{"$f":"'All Running Order'!AJ12","v":0},{"$f":"'All Running Order'!AK12","v":0},{"$f":"'All Running Order'!AL12","v":34},{"$f":"'All Running Order'!AM12","v":68},{"$f":"'All Running Order'!AN12","v":2},{"$f":"'All Running Order'!AO12","v":8},{"$f":"'All Running Order'!AP12","v":4},{"$f":"'All Running Order'!AQ12","v":6},{"$f":"'All Running Order'!AR12","v":10},{"$f":"'All Running Order'!AS12","v":11},{"$f":"'All Running Order'!AT12","v":0},{"$f":"'All Running Order'!AU12","v":0},{"$f":"'All Running Order'!AV12","v":0},{"$f":"'All Running Order'!AW12","v":0},{"$f":"'All Running Order'!AX12","v":41},{"$f":"'All Running Order'!AY12","v":109},{"$f":"'All Running Order'!AZ12","v":2},{"$f":"'All Running Order'!BA12","v":11},{"$f":"'All Running Order'!BB12","v":2},{"$f":"'All Running Order'!BC12","v":10},{"$f":"'All Running Order'!BD12","v":10},{"$f":"'All Running Order'!BE12","v":11},{"$f":"'All Running Order'!BF12","v":0},{"$f":"'All Running Order'!BG12","v":0},{"$f":"'All Running Order'!BH12","v":0},{"$f":"'All Running Order'!BI12","v":0},{"$f":"'All Running Order'!BJ12","v":46},{"$f":"'All Running Order'!BK12","v":155},{"$f":"'All Running Order'!BL12","v":0},{"$f":"'All Running Order'!BM12","v":0},{"$f":"'All Running Order'!BN12","v":0},{"$f":"'All Running Order'!BO12","v":0},{"$f":"'All Running Order'!BP12","v":0},{"$f":"'All Running Order'!BQ12","v":0},{"$f":"'All Running Order'!BR12","v":0},{"$f":"'All Running Order'!BS12","v":0},{"$f":"'All Running Order'!BT12","v":0},{"$f":"'All Running Order'!BU12","v":0},{"$f":"'All Running Order'!BV12","v":0},{"$f":"'All Running Order'!BW12","v":155},{"$f":"'All Running Order'!BX12","v":9},{"$f":"'All Running Order'!BY12","v":9},{"$f":"'All Running Order'!BZ12","v":9},{"$f":"'All Running Order'!CA12","v":9},{"$f":"'All Running Order'!CB12","v":9},{"$f":"'All Running Order'!CC12","v":9},{"$f":"'All Running Order'!CD12","v":9},{"$f":"'All Running Order'!CE12","v":9},{"$f":"'All Running Order'!CF12","v":9},{"$f":"'All Running Order'!CG12","v":9},{"$f":"'All Running Order'!CH12","v":"-"},{"$f":"'All Running Order'!CI12","v":""},{"$f":"'All Running Order'!CJ12","v":"-"},{"$f":"'All Running Order'!CK12","v":""},{"$f":"'All Running Order'!CL12","v":9},{"$f":"'All Running Order'!CM12","v":""},{"$f":"'All Running Order'!CN12","v":"-"},{"$f":"'All Running Order'!CO12","v":""},{"$f":"'All Running Order'!CP12","v":"-"},{"$f":"'All Running Order'!CQ12","v":""},{"$f":"'All Running Order'!CR12","v":"-"},{"$f":"'All Running Order'!CS12","v":""},{"$f":"'All Running Order'!CT12","v":"-"},{"$f":"'All Running Order'!CU12","v":" "},{"$f":"'All Running Order'!CV12","v":9},{"$f":"'All Running Order'!CW12","v":" "},{"$f":"'All Running Order'!CX12","v":" "}]
["Red ",{"$f":"'All Running Order'!B13","v":8},{"$f":"'All Running Order'!C13","v":"Tom Bricknell"},{"$f":"'All Running Order'!D13","v":"Andy Beveridge"},{"$f":"'All Running Order'!E13","v":"Crossle "},{"$f":"'All Running Order'!F13","v":0},{"$f":"'All Running Order'!G13","v":"IRS"},{"$f":"'All Running Order'!I13","v":0},{"$f":"'All Running Order'!J13","v":0},{"$f":"'All Running Order'!K13","v":0},null,{"$f":"'All Running Order'!N13","v":0},{"$f":"'All Running Order'!P13","v":"Red"},{"$f":"'All Running Order'!Q13","v":0},{"$f":"'All Running Order'!R13","v":0},{"$f":"'All Running Order'!S13","v":0},{"$f":"'All Running Order'!T13","v":5},{"$f":"'All Running Order'!U13","v":2},{"$f":"'All Running Order'!V13","v":2},{"$f":"'All Running Order'!W13","v":0},{"$f":"'All Running Order'!X13","v":0},{"$f":"'All Running Order'!Y13","v":0},{"$f":"'All Running Order'!Z13","v":0},{"$f":"'All Running Order'!AA13","v":9},{"$f":"'All Running Order'!AB13","v":0},{"$f":"'All Running Order'!AC13","v":0},{"$f":"'All Running Order'!AD13","v":0},{"$f":"'All Running Order'!AE13","v":1},{"$f":"'All Running Order'!AF13","v":0},{"$f":"'All Running Order'!AG13","v":0},{"$f":"'All Running Order'!AH13","v":0},{"$f":"'All Running Order'!AI13","v":0},{"$f":"'All Running Order'!AJ13","v":0},{"$f":"'All Running Order'!AK13","v":0},{"$f":"'All Running Order'!AL13","v":1},{"$f":"'All Running Order'!AM13","v":10},{"$f":"'All Running Order'!AN13","v":3},{"$f":"'All Running Order'!AO13","v":0},{"$f":"'All Running Order'!AP13","v":0},{"$f":"'All Running Order'!AQ13","v":1},{"$f":"'All Running Order'!AR13","v":0},{"$f":"'All Running Order'!AS13","v":0},{"$f":"'All Running Order'!AT13","v":0},{"$f":"'All Running Order'!AU13","v":0},{"$f":"'All Running Order'!AV13","v":0},{"$f":"'All Running Order'!AW13","v":0},{"$f":"'All Running Order'!AX13","v":4},{"$f":"'All Running Order'!AY13","v":14},{"$f":"'All Running Order'!AZ13","v":0},{"$f":"'All Running Order'!BA13","v":2},{"$f":"'All Running Order'!BB13","v":2},{"$f":"'All Running Order'!BC13","v":0},{"$f":"'All Running Order'!BD13","v":0},{"$f":"'All Running Order'!BE13","v":0},{"$f":"'All Running Order'!BF13","v":0},{"$f":"'All Running Order'!BG13","v":0},{"$f":"'All Running Order'!BH13","v":0},{"$f":"'All Running Order'!BI13","v":0},{"$f":"'All Running Order'!BJ13","v":4},{"$f":"'All Running Order'!BK13","v":18},{"$f":"'All Running Order'!BL13","v":0},{"$f":"'All Running Order'!BM13","v":0},{"$f":"'All Running Order'!BN13","v":0},{"$f":"'All Running Order'!BO13","v":0},{"$f":"'All Running Order'!BP13","v":0},{"$f":"'All Running Order'!BQ13","v":0},{"$f":"'All Running Order'!BR13","v":0},{"$f":"'All Running Order'!BS13","v":0},{"$f":"'All Running Order'!BT13","v":0},{"$f":"'All Running Order'!BU13","v":0},{"$f":"'All Running Order'!BV13","v":0},{"$f":"'All Running Order'!BW13","v":18},{"$f":"'All Running Order'!BX13","v":6},{"$f":"'All Running Order'!BY13","v":4},{"$f":"'All Running Order'!BZ13","v":4},{"$f":"'All Running Order'!CA13","v":4},{"$f":"'All Running Order'!CB13","v":4},{"$f":"'All Running Order'!CC13","v":6},{"$f":"'All Running Order'!CD13","v":4},{"$f":"'All Running Order'!CE13","v":4},{"$f":"'All Running Order'!CF13","v":3},{"$f":"'All Running Order'!CG13","v":3},{"$f":"'All Running Order'!CH13","v":4},{"$f":"'All Running Order'!CI13","v":""},{"$f":"'All Running Order'!CJ13","v":"-"},{"$f":"'All Running Order'!CK13","v":""},{"$f":"'All Running Order'!CL13","v":"-"},{"$f":"'All Running Order'!CM13","v":""},{"$f":"'All Running Order'!CN13","v":"-"},{"$f":"'All Running Order'!CO13","v":""},{"$f":"'All Running Order'!CP13","v":"-"},{"$f":"'All Running Order'!CQ13","v":""},{"$f":"'All Running Order'!CR13","v":"-"},{"$f":"'All Running Order'!CS13","v":""},{"$f":"'All Running Order'!CT13","v":"-"},{"$f":"'All Running Order'!CU13","v":" "},{"$f":"'All Running Order'!CV13","v":"-"},{"$f":"'All Running Order'!CW13","v":" "},{"$f":"'All Running Order'!CX13","v":" "}]
["Red ",{"$f":"'All Running Order'!B14","v":9},{"$f":"'All Running Order'!C14","v":"Sam Beare"},{"$f":"'All Running Order'!D14","v":"Jemima Beare"},{"$f":"'All Running Order'!E14","v":"Sherpa"},{"$f":"'All Running Order'!F14","v":0},{"$f":"'All Running Order'!G14","v":"Live"},{"$f":"'All Running Order'!I14","v":0},{"$f":"'All Running Order'!J14","v":0},{"$f":"'All Running Order'!K14","v":0},null,{"$f":"'All Running Order'!N14","v":0},{"$f":"'All Running Order'!P14","v":"Red"},{"$f":"'All Running Order'!Q14","v":0},{"$f":"'All Running Order'!R14","v":0},{"$f":"'All Running Order'!S14","v":2},{"$f":"'All Running Order'!T14","v":0},{"$f":"'All Running Order'!U14","v":1},{"$f":"'All Running Order'!V14","v":2},{"$f":"'All Running Order'!W14","v":0},{"$f":"'All Running Order'!X14","v":0},{"$f":"'All Running Order'!Y14","v":0},{"$f":"'All Running Order'!Z14","v":0},{"$f":"'All Running Order'!AA14","v":5},{"$f":"'All Running Order'!AB14","v":0},{"$f":"'All Running Order'!AC14","v":0},{"$f":"'All Running Order'!AD14","v":0},{"$f":"'All Running Order'!AE14","v":1},{"$f":"'All Running Order'!AF14","v":1},{"$f":"'All Running Order'!AG14","v":1},{"$f":"'All Running Order'!AH14","v":0},{"$f":"'All Running Order'!AI14","v":0},{"$f":"'All Running Order'!AJ14","v":0},{"$f":"'All Running Order'!AK14","v":0},{"$f":"'All Running Order'!AL14","v":3},{"$f":"'All Running Order'!AM14","v":8},{"$f":"'All Running Order'!AN14","v":0},{"$f":"'All Running Order'!AO14","v":0},{"$f":"'All Running Order'!AP14","v":0},{"$f":"'All Running Order'!AQ14","v":0},{"$f":"'All Running Order'!AR14","v":0},{"$f":"'All Running Order'!AS14","v":0},{"$f":"'All Running Order'!AT14","v":0},{"$f":"'All Running Order'!AU14","v":0},{"$f":"'All Running Order'!AV14","v":0},{"$f":"'All Running Order'!AW14","v":0},{"$f":"'All Running Order'!AX14","v":0},{"$f":"'All Running Order'!AY14","v":8},{"$f":"'All Running Order'!AZ14","v":0},{"$f":"'All Running Order'!BA14","v":0},{"$f":"'All Running Order'!BB14","v":0},{"$f":"'All Running Order'!BC14","v":10},{"$f":"'All Running Order'!BD14","v":0},{"$f":"'All Running Order'!BE14","v":0},{"$f":"'All Running Order'!BF14","v":0},{"$f":"'All Running Order'!BG14","v":0},{"$f":"'All Running Order'!BH14","v":0},{"$f":"'All Running Order'!BI14","v":0},{"$f":"'All Running Order'!BJ14","v":10},{"$f":"'All Running Order'!BK14","v":18},{"$f":"'All Running Order'!BL14","v":0},{"$f":"'All Running Order'!BM14","v":0},{"$f":"'All Running Order'!BN14","v":0},{"$f":"'All Running Order'!BO14","v":0},{"$f":"'All Running Order'!BP14","v":0},{"$f":"'All Running Order'!BQ14","v":0},{"$f":"'All Running Order'!BR14","v":0},{"$f":"'All Running Order'!BS14","v":0},{"$f":"'All Running Order'!BT14","v":0},{"$f":"'All Running Order'!BU14","v":0},{"$f":"'All Running Order'!BV14","v":0},{"$f":"'All Running Order'!BW14","v":18},{"$f":"'All Running Order'!BX14","v":3},{"$f":"'All Running Order'!BY14","v":2},{"$f":"'All Running Order'!BZ14","v":1},{"$f":"'All Running Order'!CA14","v":3},{"$f":"'All Running Order'!CB14","v":3},{"$f":"'All Running Order'!CC14","v":3},{"$f":"'All Running Order'!CD14","v":2},{"$f":"'All Running Order'!CE14","v":1},{"$f":"'All Running Order'!CF14","v":3},{"$f":"'All Running Order'!CG14","v":3},{"$f":"'All Running Order'!CH14","v":3},{"$f":"'All Running Order'!CI14","v":""},{"$f":"'All Running Order'!CJ14","v":"-"},{"$f":"'All Running Order'!CK14","v":""},{"$f":"'All Running Order'!CL14","v":"-"},{"$f":"'All Running Order'!CM14","v":""},{"$f":"'All Running Order'!CN14","v":"-"},{"$f":"'All Running Order'!CO14","v":""},{"$f":"'All Running Order'!CP14","v":"-"},{"$f":"'All Running Order'!CQ14","v":""},{"$f":"'All Running Order'!CR14","v":"-"},{"$f":"'All Running Order'!CS14","v":""},{"$f":"'All Running Order'!CT14","v":"-"},{"$f":"'All Running Order'!CU14","v":" "},{"$f":"'All Running Order'!CV14","v":3},{"$f":"'All Running Order'!CW14","v":" "},{"$f":"'All Running Order'!CX14","v":" "}]
["Red ",{"$f":"'All Running Order'!B15","v":10},{"$f":"'All Running Order'!C15","v":"Mike Readings"},{"$f":"'All Running Order'!D15","v":"Carole Readings"},{"$f":"'All Running Order'!E15","v":"Sherpa Indy"},{"$f":"'All Running Order'!F15","v":0},{"$f":"'All Running Order'!G15","v":"IRS"},{"$f":"'All Running Order'!I15","v":0},{"$f":"'All Running Order'!J15","v":0},{"$f":"'All Running Order'!K15","v":0},null,{"$f":"'All Running Order'!N15","v":"Ret/NS"},{"$f":"'All Running Order'!P15","v":"Red"},{"$f":"'All Running Order'!Q15","v":0},{"$f":"'All Running Order'!R15","v":0},{"$f":"'All Running Order'!S15","v":0},{"$f":"'All Running Order'!T15","v":0},{"$f":"'All Running Order'!U15","v":0},{"$f":"'All Running Order'!V15","v":0},{"$f":"'All Running Order'!W15","v":0},{"$f":"'All Running Order'!X15","v":0},{"$f":"'All Running Order'!Y15","v":0},{"$f":"'All Running Order'!Z15","v":0},{"$f":"'All Running Order'!AA15","v":1000},{"$f":"'All Running Order'!AB15","v":0},{"$f":"'All Running Order'!AC15","v":0},{"$f":"'All Running Order'!AD15","v":0},{"$f":"'All Running Order'!AE15","v":0},{"$f":"'All Running Order'!AF15","v":0},{"$f":"'All Running Order'!AG15","v":0},{"$f":"'All Running Order'!AH15","v":0},{"$f":"'All Running Order'!AI15","v":0},{"$f":"'All Running Order'!AJ15","v":0},{"$f":"'All Running Order'!AK15","v":0},{"$f":"'All Running Order'!AL15","v":0},{"$f":"'All Running Order'!AM15","v":1000},{"$f":"'All Running Order'!AN15","v":0},{"$f":"'All Running Order'!AO15","v":0},{"$f":"'All Running Order'!AP15","v":0},{"$f":"'All Running Order'!AQ15","v":0},{"$f":"'All Running Order'!AR15","v":0},{"$f":"'All Running Order'!AS15","v":0},{"$f":"'All Running Order'!AT15","v":0},{"$f":"'All Running Order'!AU15","v":0},{"$f":"'All Running Order'!AV15","v":0},{"$f":"'All Running Order'!AW15","v":0},{"$f":"'All Running Order'!AX15","v":0},{"$f":"'All Running Order'!AY15","v":1000},{"$f":"'All Running Order'!AZ15","v":0},{"$f":"'All Running Order'!BA15","v":0},{"$f":"'All Running Order'!BB15","v":0},{"$f":"'All Running Order'!BC15","v":0},{"$f":"'All Running Order'!BD15","v":0},{"$f":"'All Running Order'!BE15","v":0},{"$f":"'All Running Order'!BF15","v":0},{"$f":"'All Running Order'!BG15","v":0},{"$f":"'All Running Order'!BH15","v":0},{"$f":"'All Running Order'!BI15","v":0},{"$f":"'All Running Order'!BJ15","v":0},{"$f":"'All Running Order'!BK15","v":1000},{"$f":"'All Running Order'!BL15","v":0},{"$f":"'All Running Order'!BM15","v":0},{"$f":"'All Running Order'!BN15","v":0},{"$f":"'All Running Order'!BO15","v":0},{"$f":"'All Running Order'!BP15","v":0},{"$f":"'All Running Order'!BQ15","v":0},{"$f":"'All Running Order'!BR15","v":0},{"$f":"'All Running Order'!BS15","v":0},{"$f":"'All Running Order'!BT15","v":0},{"$f":"'All Running Order'!BU15","v":0},{"$f":"'All Running Order'!BV15","v":0},{"$f":"'All Running Order'!BW15","v":1000},{"$f":"'All Running Order'!BX15","v":11},{"$f":"'All Running Order'!BY15","v":11},{"$f":"'All Running Order'!BZ15","v":11},{"$f":"'All Running Order'!CA15","v":11},{"$f":"'All Running Order'!CB15","v":11},{"$f":"'All Running Order'!CC15","v":11},{"$f":"'All Running Order'!CD15","v":11},{"$f":"'All Running Order'!CE15","v":11},{"$f":"'All Running Order'!CF15","v":11},{"$f":"'All Running Order'!CG15","v":11},{"$f":"'All Running Order'!CH15","v":11},{"$f":"'All Running Order'!CI15","v":""},{"$f":"'All Running Order'!CJ15","v":"-"},{"$f":"'All Running Order'!CK15","v":""},{"$f":"'All Running Order'!CL15","v":"-"},{"$f":"'All Running Order'!CM15","v":""},{"$f":"'All Running Order'!CN15","v":"-"},{"$f":"'All Running Order'!CO15","v":""},{"$f":"'All Running Order'!CP15","v":"-"},{"$f":"'All Running Order'!CQ15","v":""},{"$f":"'All Running Order'!CR15","v":"-"},{"$f":"'All Running Order'!CS15","v":""},{"$f":"'All Running Order'!CT15","v":"-"},{"$f":"'All Running Order'!CU15","v":" "},{"$f":"'All Running Order'!CV15","v":"-"},{"$f":"'All Running Order'!CW15","v":" "},{"$f":"'All Running Order'!CX15","v":" "}]
["Rookie ",{"$f":"'All Running Order'!B16","v":11},{"$f":"'All Running Order'!C16","v":"Jamie Bartholomew"},{"$f":"'All Running Order'!D16","v":"Fiona Bartholomew"},{"$f":"'All Running Order'!E16","v":"Avonova"},{"$f":"'All Running Order'!F16","v":0},{"$f":"'All Running Order'!G16","v":"Live"},{"$f":"'All Running Order'!I16","v":0},{"$f":"'All Running Order'!J16","v":0},{"$f":"'All Running Order'!K16","v":0},null,{"$f":"'All Running Order'!N16","v":0},{"$f":"'All Running Order'!P16","v":"Rookie"},{"$f":"'All Running Order'!Q16","v":8},{"$f":"'All Running Order'!R16","v":0},{"$f":"'All Running Order'!S16","v":4},{"$f":"'All Running Order'!T16","v":1},{"$f":"'All Running Order'!U16","v":5},{"$f":"'All Running Order'!V16","v":2},{"$f":"'All Running Order'!W16","v":0},{"$f":"'All Running Order'!X16","v":0},{"$f":"'All Running Order'!Y16","v":0},{"$f":"'All Running Order'!Z16","v":0},{"$f":"'All Running Order'!AA16","v":20},{"$f":"'All Running Order'!AB16","v":0},{"$f":"'All Running Order'!AC16","v":0},{"$f":"'All Running Order'!AD16","v":2},{"$f":"'All Running Order'!AE16","v":2},{"$f":"'All Running Order'!AF16","v":5},{"$f":"'All Running Order'!AG16","v":11},{"$f":"'All Running Order'!AH16","v":0},{"$f":"'All Running Order'!AI16","v":0},{"$f":"'All Running Order'!AJ16","v":0},{"$f":"'All Running Order'!AK16","v":0},{"$f":"'All Running Order'!AL16","v":20},{"$f":"'All Running Order'!AM16","v":40},{"$f":"'All Running Order'!AN16","v":0},{"$f":"'All Running Order'!AO16","v":8},{"$f":"'All Running Order'!AP16","v":2},{"$f":"'All Running Order'!AQ16","v":10},{"$f":"'All Running Order'!AR16","v":5},{"$f":"'All Running Order'!AS16","v":11},{"$f":"'All Running Order'!AT16","v":0},{"$f":"'All Running Order'!AU16","v":0},{"$f":"'All Running Order'!AV16","v":0},{"$f":"'All Running Order'!AW16","v":0},{"$f":"'All Running Order'!AX16","v":36},{"$f":"'All Running Order'!AY16","v":76},{"$f":"'All Running Order'!AZ16","v":0},{"$f":"'All Running Order'!BA16","v":2},{"$f":"'All Running Order'!BB16","v":2},{"$f":"'All Running Order'!BC16","v":4},{"$f":"'All Running Order'!BD16","v":2},{"$f":"'All Running Order'!BE16","v":4},{"$f":"'All Running Order'!BF16","v":0},{"$f":"'All Running Order'!BG16","v":0},{"$f":"'All Running Order'!BH16","v":0},{"$f":"'All Running Order'!BI16","v":0},{"$f":"'All Running Order'!BJ16","v":14},{"$f":"'All Running Order'!BK16","v":90},{"$f":"'All Running Order'!BL16","v":0},{"$f":"'All Running Order'!BM16","v":0},{"$f":"'All Running Order'!BN16","v":0},{"$f":"'All Running Order'!BO16","v":0},{"$f":"'All Running Order'!BP16","v":0},{"$f":"'All Running Order'!BQ16","v":0},{"$f":"'All Running Order'!BR16","v":0},{"$f":"'All Running Order'!BS16","v":0},{"$f":"'All Running Order'!BT16","v":0},{"$f":"'All Running Order'!BU16","v":0},{"$f":"'All Running Order'!BV16","v":0},{"$f":"'All Running Order'!BW16","v":90},{"$f":"'All Running Order'!BX16","v":8},{"$f":"'All Running Order'!BY16","v":8},{"$f":"'All Running Order'!BZ16","v":8},{"$f":"'All Running Order'!CA16","v":8},{"$f":"'All Running Order'!CB16","v":8},{"$f":"'All Running Order'!CC16","v":8},{"$f":"'All Running Order'!CD16","v":8},{"$f":"'All Running Order'!CE16","v":8},{"$f":"'All Running Order'!CF16","v":8},{"$f":"'All Running Order'!CG16","v":8},{"$f":"'All Running Order'!CH16","v":"-"},{"$f":"'All Running Order'!CI16","v":""},{"$f":"'All Running Order'!CJ16","v":"-"},{"$f":"'All Running Order'!CK16","v":""},{"$f":"'All Running Order'!CL16","v":8},{"$f":"'All Running Order'!CM16","v":""},{"$f":"'All Running Order'!CN16","v":"-"},{"$f":"'All Running Order'!CO16","v":""},{"$f":"'All Running Order'!CP16","v":"-"},{"$f":"'All Running Order'!CQ16","v":""},{"$f":"'All Running Order'!CR16","v":"-"},{"$f":"'All Running Order'!CS16","v":""},{"$f":"'All Running Order'!CT16","v":"-"},{"$f":"'All Running Order'!CU16","v":" "},{"$f":"'All Running Order'!CV16","v":8},{"$f":"'All Running Order'!CW16","v":" "},{"$f":"'All Running Order'!CX16","v":" "}]
[{"$error":"#REF!"},{"$f":"'All Running Order'!B17","v":12},{"$f":"'All Running Order'!#REF!","v":{"$error":"#REF!"}},{"$f":"'All Running Order'!#REF!","v":{"$error":"#REF!"}},{"$f":"'All Running Order'!#REF!","v":{"$error":"#REF!"}},{"$f":"'All Running Order'!#REF!","v":{"$error":"#REF!"}},{"$f":"'All Running Order'!#REF!","v":{"$error":"#REF!"}},{"$f":"'All Running Order'!#REF!","v":{"$error":"#REF!"}},{"$f":"'All Running Order'!#REF!","v":{"$error":"#REF!"}},{"$f":"'All Running Order'!#REF!","v":{"$error":"#REF!"}},null,{"$f":"'All Running Order'!#REF!","v":{"$error":"#REF!"}},{"$f":"'All Running Order'!#REF!","v":{"$error":"#REF!"}},{"$f":"'All Running Order'!Q17","v":0},{"$f":"'All Running Order'!R17","v":2},{"$f":"'All Running Order'!S17","v":0},{"$f":"'All Running Order'!T17","v":0},{"$f":"'All Running Order'!U17","v":5},{"$f":"'All Running Order'!V17","v":2},{"$f":"'All Running Order'!W17","v":0},{"$f":"'All Running Order'!X17","v":0},{"$f":"'All Running Order'!Y17","v":0},{"$f":"'All Running Order'!Z17","v":0},{"$f":"'All Running Order'!AA17","v":9},{"$f":"'All Running Order'!AB17","v":12},{"$f":"'All Running Order'!AC17","v":2},{"$f":"'All Running Order'!AD17","v":0},{"$f":"'All Running Order'!AE17","v":2},{"$f":"'All Running Order'!AF17","v":2},{"$f":"'All Running Order'!AG17","v":2},{"$f":"'All Running Order'!AH17","v":0},{"$f":"'All Running Order'!AI17","v":0},{"$f":"'All Running Order'!AJ17","v":0},{"$f":"'All Running Order'!AK17","v":0},{"$f":"'All Running Order'!AL17","v":20},{"$f":"'All Running Order'!AM17","v":29},{"$f":"'All Running Order'!AN17","v":3},{"$f":"'All Running Order'!AO17","v":2},{"$f":"'All Running Order'!AP17","v":0},{"$f":"'All Running Order'!AQ17","v":3},{"$f":"'All Running Order'!AR17","v":2},{"$f":"'All Running Order'!AS17","v":0},{"$f":"'All Running Order'!AT17","v":0},{"$f":"'All Running Order'!AU17","v":0},{"$f":"'All Running Order'!AV17","v":0},{"$f":"'All Running Order'!AW17","v":0},{"$f":"'All Running Order'!AX17","v":10},{"$f":"'All Running Order'!AY17","v":39},{"$f":"'All Running Order'!AZ17","v":2},{"$f":"'All Running Order'!BA17","v":2},{"$f":"'All Running Order'!BB17","v":1},{"$f":"'All Running Order'!BC17","v":0},{"$f":"'All Running Order'!BD17","v":2},{"$f":"'All Running Order'!BE17","v":5},{"$f":"'All Running Order'!BF17","v":0},{"$f":"'All Running Order'!BG17","v":0},{"$f":"'All Running Order'!BH17","v":0},{"$f":"'All Running Order'!BI17","v":0},{"$f":"'All Running Order'!BJ17","v":12},{"$f":"'All Running Order'!BK17","v":51},{"$f":"'All Running Order'!BL17","v":0},{"$f":"'All Running Order'!BM17","v":0},{"$f":"'All Running Order'!BN17","v":0},{"$f":"'All Running Order'!BO17","v":0},{"$f":"'All Running Order'!BP17","v":0},{"$f":"'All Running Order'!BQ17","v":0},{"$f":"'All Running Order'!BR17","v":0},{"$f":"'All Running Order'!BS17","v":0},{"$f":"'All Running Order'!BT17","v":0},{"$f":"'All Running Order'!BU17","v":0},{"$f":"'All Running Order'!BV17","v":0},{"$f":"'All Running Order'!BW17","v":51},{"$f":"'All Running Order'!BX17","v":6},{"$f":"'All Running Order'!BY17","v":7},{"$f":"'All Running Order'!BZ17","v":7},{"$f":"'All Running Order'!CA17","v":7},{"$f":"'All Running Order'!CB17","v":7},{"$f":"'All Running Order'!CC17","v":6},{"$f":"'All Running Order'!CD17","v":7},{"$f":"'All Running Order'!CE17","v":7},{"$f":"'All Running Order'!CF17","v":7},{"$f":"'All Running Order'!CG17","v":7},{"$f":"'All Running Order'!CH17","v":{"$error":"#REF!"}},{"$f":"'All Running Order'!CI17","v":""},{"$f":"'All Running Order'!CJ17","v":{"$error":"#REF!"}},{"$f":"'All Running Order'!CK17","v":""},{"$f":"'All Running Order'!CL17","v":{"$error":"#REF!"}},{"$f":"'All Running Order'!CM17","v":""},{"$f":"'All Running Order'!CN17","v":{"$error":"#REF!"}},{"$f":"'All Running Order'!CO17","v":""},{"$f":"'All Running Order'!CP17","v":{"$error":"#REF!"}},{"$f":"'All Running Order'!CQ17","v":""},{"$f":"'All Running Order'!CR17","v":{"$error":"#REF!"}},{"$f":"'All Running Order'!CS17","v":""},{"$f":"'All Running Order'!CT17","v":{"$error":"#REF!"}},{"$f":"'All Running Order'!CU17","v":" "},{"$f":"'All Running Order'!CV17","v":{"$error":"#REF!"}},{"$f":"'All Running Order'!CW17","v":" "},{"$f":"'All Running Order'!CX17","v":" "}]
["0 ",{"$f":"'All Running Order'!B18","v":14},{"$f":"'All Running Order'!C18","v":0},{"$f":"'All Running Order'!D18","v":0},{"$f":"'All Running Order'!E18","v":0},{"$f":"'All Running Order'!F18","v":0},{"$f":"'All Running Order'!G18","v":0},{"$f":"'All Running Order'!I18","v":0},{"$f":"'All Running Order'!J18","v":0},{"$f":"'All Running Order'!K18","v":0},null,{"$f":"'All Running Order'!N18","v":0},{"$f":"'All Running Order'!P18","v":0},{"$f":"'All Running Order'!Q18","v":0},{"$f":"'All Running Order'!R18","v":0},{"$f":"'All Running Order'!S18","v":0},{"$f":"'All Running Order'!T18","v":0},{"$f":"'All Running Order'!U18","v":0},{"$f":"'All Running Order'!V18","v":0},{"$f":"'All Running Order'!W18","v":0},{"$f":"'All Running Order'!X18","v":0},{"$f":"'All Running Order'!Y18","v":0},{"$f":"'All Running Order'!Z18","v":0},{"$f":"'All Running Order'!AA18","v":2000},{"$f":"'All Running Order'!AB18","v":0},{"$f":"'All Running Order'!AC18","v":0},{"$f":"'All Running Order'!AD18","v":0},{"$f":"'All Running Order'!AE18","v":0},{"$f":"'All Running Order'!AF18","v":0},{"$f":"'All Running Order'!AG18","v":0},{"$f":"'All Running Order'!AH18","v":0},{"$f":"'All Running Order'!AI18","v":0},{"$f":"'All Running Order'!AJ18","v":0},{"$f":"'All Running Order'!AK18","v":0},{"$f":"'All Running Order'!AL18","v":0},{"$f":"'All Running Order'!AM18","v":2000},{"$f":"'All Running Order'!AN18","v":0},{"$f":"'All Running Order'!AO18","v":0},{"$f":"'All Running Order'!AP18","v":0},{"$f":"'All Running Order'!AQ18","v":0},{"$f":"'All Running Order'!AR18","v":0},{"$f":"'All Running Order'!AS18","v":0},{"$f":"'All Running Order'!AT18","v":0},{"$f":"'All Running Order'!AU18","v":0},{"$f":"'All Running Order'!AV18","v":0},{"$f":"'All Running Order'!AW18","v":0},{"$f":"'All Running Order'!AX18","v":0},{"$f":"'All Running Order'!AY18","v":2000},{"$f":"'All Running Order'!AZ18","v":0},{"$f":"'All Running Order'!BA18","v":0},{"$f":"'All Running Order'!BB18","v":0},{"$f":"'All Running Order'!BC18","v":0},{"$f":"'All Running Order'!BD18","v":0},{"$f":"'All Running Order'!BE18","v":0},{"$f":"'All Running Order'!BF18","v":0},{"$f":"'All Running Order'!BG18","v":0},{"$f":"'All Running Order'!BH18","v":0},{"$f":"'All Running Order'!BI18","v":0},{"$f":"'All Running Order'!BJ18","v":0},{"$f":"'All Running Order'!BK18","v":2000},{"$f":"'All Running Order'!BL18","v":0},{"$f":"'All Running Order'!BM18","v":0},{"$f":"'All Running Order'!BN18","v":0},{"$f":"'All Running Order'!BO18","v":0},{"$f":"'All Running Order'!BP18","v":0},{"$f":"'All Running Order'!BQ18","v":0},{"$f":"'All Running Order'!BR18","v":0},{"$f":"'All Running Order'!BS18","v":0},{"$f":"'All Running Order'!BT18","v":0},{"$f":"'All Running Order'!BU18","v":0},{"$f":"'All Running Order'!BV18","v":0},{"$f":"'All Running Order'!BW18","v":2000},{"$f":"'All Running Order'!BX18","v":13},{"$f":"'All Running Order'!BY18","v":13},{"$f":"'All Running Order'!BZ18","v":13},{"$f":"'All Running Order'!CA18","v":13},{"$f":"'All Running Order'!CB18","v":13},{"$f":"'All Running Order'!CC18","v":13},{"$f":"'All Running Order'!CD18","v":13},{"$f":"'All Running Order'!CE18","v":13},{"$f":"'All Running Order'!CF18","v":13},{"$f":"'All Running Order'!CG18","v":13},{"$f":"'All Running Order'!CH18","v":"-"},{"$f":"'All Running Order'!CI18","v":""},{"$f":"'All Running Order'!CJ18","v":"-"},{"$f":"'All Running Order'!CK18","v":""},{"$f":"'All Running Order'!CL18","v":"-"},{"$f":"'All Running Order'!CM18","v":""},{"$f":"'All Running Order'!CN18","v":"-"},{"$f":"'All Running Order'!CO18","v":""},{"$f":"'All Running Order'!CP18","v":"-"},{"$f":"'All Running Order'!CQ18","v":""},{"$f":"'All Running Order'!CR18","v":"-"},{"$f":"'All Running Order'!CS18","v":""},{"$f":"'All Running Order'!CT18","v":"-"},{"$f":"'All Running Order'!CU18","v":" "},{"$f":"'All Running Order'!CV18","v":"-"},{"$f":"'All Running Order'!CW18","v":" "},{"$f":"'All Running Order'!CX18","v":" "}]
["0 ",{"$f":"'All Running Order'!B19","v":15},{"$f":"'All Running Order'!C19","v":0},{"$f":"'All Running Order'!D19","v":0},{"$f":"'All Running Order'!E19","v":0},{"$f":"'All Running Order'!F19","v":0},{"$f":"'All Running Order'!G19","v":0},{"$f":"'All Running Order'!I19","v":0},{"$f":"'All Running Order'!J19","v":0},{"$f":"'All Running Order'!K19","v":0},null,{"$f":"'All Running Order'!N19","v":0},{"$f":"'All Running Order'!P19","v":0},{"$f":"'All Running Order'!Q19","v":0},{"$f":"'All Running Order'!R19","v":0},{"$f":"'All Running Order'!S19","v":0},{"$f":"'All Running Order'!T19","v":0},{"$f":"'All Running Order'!U19","v":0},{"$f":"'All Running Order'!V19","v":0},{"$f":"'All Running Order'!W19","v":0},{"$f":"'All Running Order'!X19","v":0},{"$f":"'All Running Order'!Y19","v":0},{"$f":"'All Running Order'!Z19","v":0},{"$f":"'All Running Order'!AA19","v":2000},{"$f":"'All Running Order'!AB19","v":0},{"$f":"'All Running Order'!AC19","v":0},{"$f":"'All Running Order'!AD19","v":0},{"$f":"'All Running Order'!AE19","v":0},{"$f":"'All Running Order'!AF19","v":0},{"$f":"'All Running Order'!AG19","v":0},{"$f":"'All Running Order'!AH19","v":0},{"$f":"'All Running Order'!AI19","v":0},{"$f":"'All Running Order'!AJ19","v":0},{"$f":"'All Running Order'!AK19","v":0},{"$f":"'All Running Order'!AL19","v":0},{"$f":"'All Running Order'!AM19","v":2000},{"$f":"'All Running Order'!AN19","v":0},{"$f":"'All Running Order'!AO19","v":0},{"$f":"'All Running Order'!AP19","v":0},{"$f":"'All Running Order'!AQ19","v":0},{"$f":"'All Running Order'!AR19","v":0},{"$f":"'All Running Order'!AS19","v":0},{"$f":"'All Running Order'!AT19","v":0},{"$f":"'All Running Order'!AU19","v":0},{"$f":"'All Running Order'!AV19","v":0},{"$f":"'All Running Order'!AW19","v":0},{"$f":"'All Running Order'!AX19","v":0},{"$f":"'All Running Order'!AY19","v":2000},{"$f":"'All Running Order'!AZ19","v":0},{"$f":"'All Running Order'!BA19","v":0},{"$f":"'All Running Order'!BB19","v":0},{"$f":"'All Running Order'!BC19","v":0},{"$f":"'All Running Order'!BD19","v":0},{"$f":"'All Running Order'!BE19","v":0},{"$f":"'All Running Order'!BF19","v":0},{"$f":"'All Running Order'!BG19","v":0},{"$f":"'All Running Order'!BH19","v":0},{"$f":"'All Running Order'!BI19","v":0},{"$f":"'All Running Order'!BJ19","v":0},{"$f":"'All Running Order'!BK19","v":2000},{"$f":"'All Running Order'!BL19","v":0},{"$f":"'All Running Order'!BM19","v":0},{"$f":"'All Running Order'!BN19","v":0},{"$f":"'All Running Order'!BO19","v":0},{"$f":"'All Running Order'!BP19","v":0},{"$f":"'All Running Order'!BQ19","v":0},{"$f":"'All Running Order'!BR19","v":0},{"$f":"'All Running Order'!BS19","v":0},{"$f":"'All Running Order'!BT19","v":0},{"$f":"'All Running Order'!BU19","v":0},{"$f":"'All Running Order'!BV19","v":0},{"$f":"'All Running Order'!BW19","v":2000},{"$f":"'All Running Order'!BX19","v":13},{"$f":"'All Running Order'!BY19","v":13},{"$f":"'All Running Order'!BZ19","v":13},{"$f":"'All Running Order'!CA19","v":13},{"$f":"'All Running Order'!CB19","v":13},{"$f":"'All Running Order'!CC19","v":13},{"$f":"'All Running Order'!CD19","v":13},{"$f":"'All Running Order'!CE19","v":13},{"$f":"'All Running Order'!CF19","v":13},{"$f":"'All Running Order'!CG19","v":13},{"$f":"'All Running Order'!CH19","v":"-"},{"$f":"'All Running Order'!CI19","v":""},{"$f":"'All Running Order'!CJ19","v":"-"},{"$f":"'All Running Order'!CK19","v":""},{"$f":"'All Running Order'!CL19","v":"-"},{"$f":"'All Running Order'!CM19","v":""},{"$f":"'All Running Order'!CN19","v":"-"},{"$f":"'All Running Order'!CO19","v":""},{"$f":"'All Running Order'!CP19","v":"-"},{"$f":"'All Running Order'!CQ19","v":""},{"$f":"'All Running Order'!CR19","v":"-"},{"$f":"'All Running Order'!CS19","v":""},{"$f":"'All Running Order'!CT19","v":"-"},{"$f":"'All Running Order'!CU19","v":" "},{"$f":"'All Running Order'!CV19","v":"-"},{"$f":"'All Running Order'!CW19","v":" "},{"$f":"'All Running Order'!CX19","v":" "}]
["0 ",{"$f":"'All Running Order'!B20","v":16},{"$f":"'All Running Order'!C20","v":0},{"$f":"'All Running Order'!D20","v":0},{"$f":"'All Running Order'!E20","v":0},{"$f":"'All Running Order'!F20","v":0},{"$f":"'All Running Order'!G20","v":0},{"$f":"'All Running Order'!I20","v":0},{"$f":"'All Running Order'!J20","v":0},{"$f":"'All Running Order'!K20","v":0},null,{"$f":"'All Running Order'!N20","v":0},{"$f":"'All Running Order'!P20","v":0},{"$f":"'All Running Order'!Q20","v":0},{"$f":"'All Running Order'!R20","v":0},{"$f":"'All Running Order'!S20","v":0},{"$f":"'All Running Order'!T20","v":0},{"$f":"'All Running Order'!U20","v":0},{"$f":"'All Running Order'!V20","v":0},{"$f":"'All Running Order'!W20","v":0},{"$f":"'All Running Order'!X20","v":0},{"$f":"'All Running Order'!Y20","v":0},{"$f":"'All Running Order'!Z20","v":0},{"$f":"'All Running Order'!AA20","v":2000},{"$f":"'All Running Order'!AB20","v":0},{"$f":"'All Running Order'!AC20","v":0},{"$f":"'All Running Order'!AD20","v":0},{"$f":"'All Running Order'!AE20","v":0},{"$f":"'All Running Order'!AF20","v":0},{"$f":"'All Running Order'!AG20","v":0},{"$f":"'All Running Order'!AH20","v":0},{"$f":"'All Running Order'!AI20","v":0},{"$f":"'All Running Order'!AJ20","v":0},{"$f":"'All Running Order'!AK20","v":0},{"$f":"'All Running Order'!AL20","v":0},{"$f":"'All Running Order'!AM20","v":2000},{"$f":"'All Running Order'!AN20","v":0},{"$f":"'All Running Order'!AO20","v":0},{"$f":"'All Running Order'!AP20","v":0},{"$f":"'All Running Order'!AQ20","v":0},{"$f":"'All Running Order'!AR20","v":0},{"$f":"'All Running Order'!AS20","v":0},{"$f":"'All Running Order'!AT20","v":0},{"$f":"'All Running Order'!AU20","v":0},{"$f":"'All Running Order'!AV20","v":0},{"$f":"'All Running Order'!AW20","v":0},{"$f":"'All Running Order'!AX20","v":0},{"$f":"'All Running Order'!AY20","v":2000},{"$f":"'All Running Order'!AZ20","v":0},{"$f":"'All Running Order'!BA20","v":0},{"$f":"'All Running Order'!BB20","v":0},{"$f":"'All Running Order'!BC20","v":0},{"$f":"'All Running Order'!BD20","v":0},{"$f":"'All Running Order'!BE20","v":0},{"$f":"'All Running Order'!BF20","v":0},{"$f":"'All Running Order'!BG20","v":0},{"$f":"'All Running Order'!BH20","v":0},{"$f":"'All Running Order'!BI20","v":0},{"$f":"'All Running Order'!BJ20","v":0},{"$f":"'All Running Order'!BK20","v":2000},{"$f":"'All Running Order'!BL20","v":0},{"$f":"'All Running Order'!BM20","v":0},{"$f":"'All Running Order'!BN20","v":0},{"$f":"'All Running Order'!BO20","v":0},{"$f":"'All Running Order'!BP20","v":0},{"$f":"'All Running Order'!BQ20","v":0},{"$f":"'All Running Order'!BR20","v":0},{"$f":"'All Running Order'!BS20","v":0},{"$f":"'All Running Order'!BT20","v":0},{"$f":"'All Running Order'!BU20","v":0},{"$f":"'All Running Order'!BV20","v":0},{"$f":"'All Running Order'!BW20","v":2000},{"$f":"'All Running Order'!BX20","v":13},{"$f":"'All Running Order'!BY20","v":13},{"$f":"'All Running Order'!BZ20","v":13},{"$f":"'All Running Order'!CA20","v":13},{"$f":"'All Running Order'!CB20","v":13},{"$f":"'All Running Order'!CC20","v":13},{"$f":"'All Running Order'!CD20","v":13},{"$f":"'All Running Order'!CE20","v":13},{"$f":"'All Running Order'!CF20","v":13},{"$f":"'All Running Order'!CG20","v":13},{"$f":"'All Running Order'!CH20","v":"-"},{"$f":"'All Running Order'!CI20","v":""},{"$f":"'All Running Order'!CJ20","v":"-"},{"$f":"'All Running Order'!CK20","v":""},{"$f":"'All Running Order'!CL20","v":"-"},{"$f":"'All Running Order'!CM20","v":""},{"$f":"'All Running Order'!CN20","v":"-"},{"$f":"'All Running Order'!CO20","v":""},{"$f":"'All Running Order'!CP20","v":"-"},{"$f":"'All Running Order'!CQ20","v":""},{"$f":"'All Running Order'!CR20","v":"-"},{"$f":"'All Running Order'!CS20","v":""},{"$f":"'All Running Order'!CT20","v":"-"},{"$f":"'All Running Order'!CU20","v":" "},{"$f":"'All Running Order'!CV20","v":"-"},{"$f":"'All Running Order'!CW20","v":" "},{"$f":"'All Running Order'!CX20","v":" "}]
["0 ",{"$f":"'All Running Order'!B21","v":17},{"$f":"'All Running Order'!C21","v":0},{"$f":"'All Running Order'!D21","v":0},{"$f":"'All Running Order'!E21","v":0},{"$f":"'All Running Order'!F21","v":0},{"$f":"'All Running Order'!G21","v":0},{"$f":"'All Running Order'!I21","v":0},{"$f":"'All Running Order'!J21","v":0},{"$f":"'All Running Order'!K21","v":0},null,{"$f":"'All Running Order'!N21","v":0},{"$f":"'All Running Order'!P21","v":0},{"$f":"'All Running Order'!Q21","v":0},{"$f":"'All Running Order'!R21","v":0},{"$f":"'All Running Order'!S21","v":0},{"$f":"'All Running Order'!T21","v":0},{"$f":"'All Running Order'!U21","v":0},{"$f":"'All Running Order'!V21","v":0},{"$f":"'All Running Order'!W21","v":0},{"$f":"'All Running Order'!X21","v":0},{"$f":"'All Running Order'!Y21","v":0},{"$f":"'All Running Order'!Z21","v":0},{"$f":"'All Running Order'!AA21","v":2000},{"$f":"'All Running Order'!AB21","v":0},{"$f":"'All Running Order'!AC21","v":0},{"$f":"'All Running Order'!AD21","v":0},{"$f":"'All Running Order'!AE21","v":0},{"$f":"'All Running Order'!AF21","v":0},{"$f":"'All Running Order'!AG21","v":0},{"$f":"'All Running Order'!AH21","v":0},{"$f":"'All Running Order'!AI21","v":0},{"$f":"'All Running Order'!AJ21","v":0},{"$f":"'All Running Order'!AK21","v":0},{"$f":"'All Running Order'!AL21","v":0},{"$f":"'All Running Order'!AM21","v":2000},{"$f":"'All Running Order'!AN21","v":0},{"$f":"'All Running Order'!AO21","v":0},{"$f":"'All Running Order'!AP21","v":0},{"$f":"'All Running Order'!AQ21","v":0},{"$f":"'All Running Order'!AR21","v":0},{"$f":"'All Running Order'!AS21","v":0},{"$f":"'All Running Order'!AT21","v":0},{"$f":"'All Running Order'!AU21","v":0},{"$f":"'All Running Order'!AV21","v":0},{"$f":"'All Running Order'!AW21","v":0},{"$f":"'All Running Order'!AX21","v":0},{"$f":"'All Running Order'!AY21","v":2000},{"$f":"'All Running Order'!AZ21","v":0},{"$f":"'All Running Order'!BA21","v":0},{"$f":"'All Running Order'!BB21","v":0},{"$f":"'All Running Order'!BC21","v":0},{"$f":"'All Running Order'!BD21","v":0},{"$f":"'All Running Order'!BE21","v":0},{"$f":"'All Running Order'!BF21","v":0},{"$f":"'All Running Order'!BG21","v":0},{"$f":"'All Running Order'!BH21","v":0},{"$f":"'All Running Order'!BI21","v":0},{"$f":"'All Running Order'!BJ21","v":0},{"$f":"'All Running Order'!BK21","v":2000},{"$f":"'All Running Order'!BL21","v":0},{"$f":"'All Running Order'!BM21","v":0},{"$f":"'All Running Order'!BN21","v":0},{"$f":"'All Running Order'!BO21","v":0},{"$f":"'All Running Order'!BP21","v":0},{"$f":"'All Running Order'!BQ21","v":0},{"$f":"'All Running Order'!BR21","v":0},{"$f":"'All Running Order'!BS21","v":0},{"$f":"'All Running Order'!BT21","v":0},{"$f":"'All Running Order'!BU21","v":0},{"$f":"'All Running Order'!BV21","v":0},{"$f":"'All Running Order'!BW21","v":2000},{"$f":"'All Running Order'!BX21","v":13},{"$f":"'All Running Order'!BY21","v":13},{"$f":"'All Running Order'!BZ21","v":13},{"$f":"'All Running Order'!CA21","v":13},{"$f":"'All Running Order'!CB21","v":13},{"$f":"'All Running Order'!CC21","v":13},{"$f":"'All Running Order'!CD21","v":13},{"$f":"'All Running Order'!CE21","v":13},{"$f":"'All Running Order'!CF21","v":13},{"$f":"'All Running Order'!CG21","v":13},{"$f":"'All Running Order'!CH21","v":"-"},{"$f":"'All Running Order'!CI21","v":""},{"$f":"'All Running Order'!CJ21","v":"-"},{"$f":"'All Running Order'!CK21","v":""},{"$f":"'All Running Order'!CL21","v":"-"},{"$f":"'All Running Order'!CM21","v":""},{"$f":"'All Running Order'!CN21","v":"-"},{"$f":"'All Running Order'!CO21","v":""},{"$f":"'All Running Order'!CP21","v":"-"},{"$f":"'All Running Order'!CQ21","v":""},{"$f":"'All Running Order'!CR21","v":"-"},{"$f":"'All Running Order'!CS21","v":""},{"$f":"'All Running Order'!CT21","v":"-"},{"$f":"'All Running Order'!CU21","v":" "},{"$f":"'All Running Order'!CV21","v":"-"},{"$f":"'All Running Order'!CW21","v":" "},{"$f":"'All Running Order'!CX21","v":" "}]
["0 ",{"$f":"'All Running Order'!B22","v":18},{"$f":"'All Running Order'!C22","v":0},{"$f":"'All Running Order'!D22","v":0},{"$f":"'All Running Order'!E22","v":0},{"$f":"'All Running Order'!F22","v":0},{"$f":"'All Running Order'!G22","v":0},{"$f":"'All Running Order'!I22","v":0},{"$f":"'All Running Order'!J22","v":0},{"$f":"'All Running Order'!K22","v":0},null,{"$f":"'All Running Order'!N22","v":0},{"$f":"'All Running Order'!P22","v":0},{"$f":"'All Running Order'!Q22","v":0},{"$f":"'All Running Order'!R22","v":0},{"$f":"'All Running Order'!S22","v":0},{"$f":"'All Running Order'!T22","v":0},{"$f":"'All Running Order'!U22","v":0},{"$f":"'All Running Order'!V22","v":0},{"$f":"'All Running Order'!W22","v":0},{"$f":"'All Running Order'!X22","v":0},{"$f":"'All Running Order'!Y22","v":0},{"$f":"'All Running Order'!Z22","v":0},{"$f":"'All Running Order'!AA22","v":2000},{"$f":"'All Running Order'!AB22","v":0},{"$f":"'All Running Order'!AC22","v":0},{"$f":"'All Running Order'!AD22","v":0},{"$f":"'All Running Order'!AE22","v":0},{"$f":"'All Running Order'!AF22","v":0},{"$f":"'All Running Order'!AG22","v":0},{"$f":"'All Running Order'!AH22","v":0},{"$f":"'All Running Order'!AI22","v":0},{"$f":"'All Running Order'!AJ22","v":0},{"$f":"'All Running Order'!AK22","v":0},{"$f":"'All Running Order'!AL22","v":0},{"$f":"'All Running Order'!AM22","v":2000},{"$f":"'All Running Order'!AN22","v":0},{"$f":"'All Running Order'!AO22","v":0},{"$f":"'All Running Order'!AP22","v":0},{"$f":"'All Running Order'!AQ22","v":0},{"$f":"'All Running Order'!AR22","v":0},{"$f":"'All Running Order'!AS22","v":0},{"$f":"'All Running Order'!AT22","v":0},{"$f":"'All Running Order'!AU22","v":0},{"$f":"'All Running Order'!AV22","v":0},{"$f":"'All Running Order'!AW22","v":0},{"$f":"'All Running Order'!AX22","v":0},{"$f":"'All Running Order'!AY22","v":2000},{"$f":"'All Running Order'!AZ22","v":0},{"$f":"'All Running Order'!BA22","v":0},{"$f":"'All Running Order'!BB22","v":0},{"$f":"'All Running Order'!BC22","v":0},{"$f":"'All Running Order'!BD22","v":0},{"$f":"'All Running Order'!BE22","v":0},{"$f":"'All Running Order'!BF22","v":0},{"$f":"'All Running Order'!BG22","v":0},{"$f":"'All Running Order'!BH22","v":0},{"$f":"'All Running Order'!BI22","v":0},{"$f":"'All Running Order'!BJ22","v":0},{"$f":"'All Running Order'!BK22","v":2000},{"$f":"'All Running Order'!BL22","v":0},{"$f":"'All Running Order'!BM22","v":0},{"$f":"'All Running Order'!BN22","v":0},{"$f":"'All Running Order'!BO22","v":0},{"$f":"'All Running Order'!BP22","v":0},{"$f":"'All Running Order'!BQ22","v":0},{"$f":"'All Running Order'!BR22","v":0},{"$f":"'All Running Order'!BS22","v":0},{"$f":"'All Running Order'!BT22","v":0},{"$f":"'All Running Order'!BU22","v":0},{"$f":"'All Running Order'!BV22","v":0},{"$f":"'All Running Order'!BW22","v":2000},{"$f":"'All Running Order'!BX22","v":13},{"$f":"'All Running Order'!BY22","v":13},{"$f":"'All Running Order'!BZ22","v":13},{"$f":"'All Running Order'!CA22","v":13},{"$f":"'All Running Order'!CB22","v":13},{"$f":"'All Running Order'!CC22","v":13},{"$f":"'All Running Order'!CD22","v":13},{"$f":"'All Running Order'!CE22","v":13},{"$f":"'All Running Order'!CF22","v":13},{"$f":"'All Running Order'!CG22","v":13},{"$f":"'All Running Order'!CH22","v":"-"},{"$f":"'All Running Order'!CI22","v":""},{"$f":"'All Running Order'!CJ22","v":"-"},{"$f":"'All Running Order'!CK22","v":""},{"$f":"'All Running Order'!CL22","v":"-"},{"$f":"'All Running Order'!CM22","v":""},{"$f":"'All Running Order'!CN22","v":"-"},{"$f":"'All Running Order'!CO22","v":""},{"$f":"'All Running Order'!CP22","v":"-"},{"$f":"'All Running Order'!CQ22","v":""},{"$f":"'All Running Order'!CR22","v":"-"},{"$f":"'All Running Order'!CS22","v":""},{"$f":"'All Running Order'!CT22","v":"-"},{"$f":"'All Running Order'!CU22","v":" "},{"$f":"'All Running Order'!CV22","v":"-"},{"$f":"'All Running Order'!CW22","v":" "},{"$f":"'All Running Order'!CX22","v":" "}]
["0 ",{"$f":"'All Running Order'!B23","v":19},{"$f":"'All Running Order'!C23","v":0},{"$f":"'All Running Order'!D23","v":0},{"$f":"'All Running Order'!E23","v":0},{"$f":"'All Running Order'!F23","v":0},{"$f":"'All Running Order'!G23","v":0},{"$f":"'All Running Order'!I23","v":0},{"$f":"'All Running Order'!J23","v":0},{"$f":"'All Running Order'!K23","v":0},null,{"$f":"'All Running Order'!N23","v":0},{"$f":"'All Running Order'!P23","v":0},{"$f":"'All Running Order'!Q23","v":0},{"$f":"'All Running Order'!R23","v":0},{"$f":"'All Running Order'!S23","v":0},{"$f":"'All Running Order'!T23","v":0},{"$f":"'All Running Order'!U23","v":0},{"$f":"'All Running Order'!V23","v":0},{"$f":"'All Running Order'!W23","v":0},{"$f":"'All Running Order'!X23","v":0},{"$f":"'All Running Order'!Y23","v":0},{"$f":"'All Running Order'!Z23","v":0},{"$f":"'All Running Order'!AA23","v":2000},{"$f":"'All Running Order'!AB23","v":0},{"$f":"'All Running Order'!AC23","v":0},{"$f":"'All Running Order'!AD23","v":0},{"$f":"'All Running Order'!AE23","v":0},{"$f":"'All Running Order'!AF23","v":0},{"$f":"'All Running Order'!AG23","v":0},{"$f":"'All Running Order'!AH23","v":0},{"$f":"'All Running Order'!AI23","v":0},{"$f":"'All Running Order'!AJ23","v":0},{"$f":"'All Running Order'!AK23","v":0},{"$f":"'All Running Order'!AL23","v":0},{"$f":"'All Running Order'!AM23","v":2000},{"$f":"'All Running Order'!AN23","v":0},{"$f":"'All Running Order'!AO23","v":0},{"$f":"'All Running Order'!AP23","v":0},{"$f":"'All Running Order'!AQ23","v":0},{"$f":"'All Running Order'!AR23","v":0},{"$f":"'All Running Order'!AS23","v":0},{"$f":"'All Running Order'!AT23","v":0},{"$f":"'All Running Order'!AU23","v":0},{"$f":"'All Running Order'!AV23","v":0},{"$f":"'All Running Order'!AW23","v":0},{"$f":"'All Running Order'!AX23","v":0},{"$f":"'All Running Order'!AY23","v":2000},{"$f":"'All Running Order'!AZ23","v":0},{"$f":"'All Running Order'!BA23","v":0},{"$f":"'All Running Order'!BB23","v":0},{"$f":"'All Running Order'!BC23","v":0},{"$f":"'All Running Order'!BD23","v":0},{"$f":"'All Running Order'!BE23","v":0},{"$f":"'All Running Order'!BF23","v":0},{"$f":"'All Running Order'!BG23","v":0},{"$f":"'All Running Order'!BH23","v":0},{"$f":"'All Running Order'!BI23","v":0},{"$f":"'All Running Order'!BJ23","v":0},{"$f":"'All Running Order'!BK23","v":2000},{"$f":"'All Running Order'!BL23","v":0},{"$f":"'All Running Order'!BM23","v":0},{"$f":"'All Running Order'!BN23","v":0},{"$f":"'All Running Order'!BO23","v":0},{"$f":"'All Running Order'!BP23","v":0},{"$f":"'All Running Order'!BQ23","v":0},{"$f":"'All Running Order'!BR23","v":0},{"$f":"'All Running Order'!BS23","v":0},{"$f":"'All Running Order'!BT23","v":0},{"$f":"'All Running Order'!BU23","v":0},{"$f":"'All Running Order'!BV23","v":0},{"$f":"'All Running Order'!BW23","v":2000},{"$f":"'All Running Order'!BX23","v":13},{"$f":"'All Running Order'!BY23","v":13},{"$f":"'All Running Order'!BZ23","v":13},{"$f":"'All Running Order'!CA23","v":13},{"$f":"'All Running Order'!CB23","v":13},{"$f":"'All Running Order'!CC23","v":13},{"$f":"'All Running Order'!CD23","v":13},{"$f":"'All Running Order'!CE23","v":13},{"$f":"'All Running Order'!CF23","v":13},{"$f":"'All Running Order'!CG23","v":13},{"$f":"'All Running Order'!CH23","v":"-"},{"$f":"'All Running Order'!CI23","v":""},{"$f":"'All Running Order'!CJ23","v":"-"},{"$f":"'All Running Order'!CK23","v":""},{"$f":"'All Running Order'!CL23","v":"-"},{"$f":"'All Running Order'!CM23","v":""},{"$f":"'All Running Order'!CN23","v":"-"},{"$f":"'All Running Order'!CO23","v":""},{"$f":"'All Running Order'!CP23","v":"-"},{"$f":"'All Running Order'!CQ23","v":""},{"$f":"'All Running Order'!CR23","v":"-"},{"$f":"'All Running Order'!CS23","v":""},{"$f":"'All Running Order'!CT23","v":"-"},{"$f":"'All Running Order'!CU23","v":" "},{"$f":"'All Running Order'!CV23","v":"-"},{"$f":"'All Running Order'!CW23","v":" "},{"$f":"'All Running Order'!CX23","v":" "}]
["0 ",{"$f":"'All Running Order'!B24","v":20},{"$f":"'All Running Order'!C24","v":0},{"$f":"'All Running Order'!D24","v":0},{"$f":"'All Running Order'!E24","v":0},{"$f":"'All Running Order'!F24","v":0},{"$f":"'All Running Order'!G24","v":0},{"$f":"'All Running Order'!I24","v":0},{"$f":"'All Running Order'!J24","v":0},{"$f":"'All Running Order'!K24","v":0},null,{"$f":"'All Running Order'!N24","v":0},{"$f":"'All Running Order'!P24","v":0},{"$f":"'All Running Order'!Q24","v":0},{"$f":"'All Running Order'!R24","v":0},{"$f":"'All Running Order'!S24","v":0},{"$f":"'All Running Order'!T24","v":0},{"$f":"'All Running Order'!U24","v":0},{"$f":"'All Running Order'!V24","v":0},{"$f":"'All Running Order'!W24","v":0},{"$f":"'All Running Order'!X24","v":0},{"$f":"'All Running Order'!Y24","v":0},{"$f":"'All Running Order'!Z24","v":0},{"$f":"'All Running Order'!AA24","v":2000},{"$f":"'All Running Order'!AB24","v":0},{"$f":"'All Running Order'!AC24","v":0},{"$f":"'All Running Order'!AD24","v":0},{"$f":"'All Running Order'!AE24","v":0},{"$f":"'All Running Order'!AF24","v":0},{"$f":"'All Running Order'!AG24","v":0},{"$f":"'All Running Order'!AH24","v":0},{"$f":"'All Running Order'!AI24","v":0},{"$f":"'All Running Order'!AJ24","v":0},{"$f":"'All Running Order'!AK24","v":0},{"$f":"'All Running Order'!AL24","v":0},{"$f":"'All Running Order'!AM24","v":2000},{"$f":"'All Running Order'!AN24","v":0},{"$f":"'All Running Order'!AO24","v":0},{"$f":"'All Running Order'!AP24","v":0},{"$f":"'All Running Order'!AQ24","v":0},{"$f":"'All Running Order'!AR24","v":0},{"$f":"'All Running Order'!AS24","v":0},{"$f":"'All Running Order'!AT24","v":0},{"$f":"'All Running Order'!AU24","v":0},{"$f":"'All Running Order'!AV24","v":0},{"$f":"'All Running Order'!AW24","v":0},{"$f":"'All Running Order'!AX24","v":0},{"$f":"'All Running Order'!AY24","v":2000},{"$f":"'All Running Order'!AZ24","v":0},{"$f":"'All Running Order'!BA24","v":0},{"$f":"'All Running Order'!BB24","v":0},{"$f":"'All Running Order'!BC24","v":0},{"$f":"'All Running Order'!BD24","v":0},{"$f":"'All Running Order'!BE24","v":0},{"$f":"'All Running Order'!BF24","v":0},{"$f":"'All Running Order'!BG24","v":0},{"$f":"'All Running Order'!BH24","v":0},{"$f":"'All Running Order'!BI24","v":0},{"$f":"'All Running Order'!BJ24","v":0},{"$f":"'All Running Order'!BK24","v":2000},{"$f":"'All Running Order'!BL24","v":0},{"$f":"'All Running Order'!BM24","v":0},{"$f":"'All Running Order'!BN24","v":0},{"$f":"'All Running Order'!BO24","v":0},{"$f":"'All Running Order'!BP24","v":0},{"$f":"'All Running Order'!BQ24","v":0},{"$f":"'All Running Order'!BR24","v":0},{"$f":"'All Running Order'!BS24","v":0},{"$f":"'All Running Order'!BT24","v":0},{"$f":"'All Running Order'!BU24","v":0},{"$f":"'All Running Order'!BV24","v":0},{"$f":"'All Running Order'!BW24","v":2000},{"$f":"'All Running Order'!BX24","v":13},{"$f":"'All Running Order'!BY24","v":13},{"$f":"'All Running Order'!BZ24","v":13},{"$f":"'All Running Order'!CA24","v":13},{"$f":"'All Running Order'!CB24","v":13},{"$f":"'All Running Order'!CC24","v":13},{"$f":"'All Running Order'!CD24","v":13},{"$f":"'All Running Order'!CE24","v":13},{"$f":"'All Running Order'!CF24","v":13},{"$f":"'All Running Order'!CG24","v":13},{"$f":"'All Running Order'!CH24","v":"-"},{"$f":"'All Running Order'!CI24","v":""},{"$f":"'All Running Order'!CJ24","v":"-"},{"$f":"'All Running Order'!CK24","v":""},{"$f":"'All Running Order'!CL24","v":"-"},{"$f":"'All Running Order'!CM24","v":""},{"$f":"'All Running Order'!CN24","v":"-"},{"$f":"'All Running Order'!CO24","v":""},{"$f":"'All Running Order'!CP24","v":"-"},{"$f":"'All Running Order'!CQ24","v":""},{"$f":"'All Running Order'!CR24","v":"-"},{"$f":"'All Running Order'!CS24","v":""},{"$f":"'All Running Order'!CT24","v":"-"},{"$f":"'All Running Order'!CU24","v":" "},{"$f":"'All Running Order'!CV24","v":"-"},{"$f":"'All Running Order'!CW24","v":" "},{"$f":"'All Running Order'!CX24","v":" "}]
["0 ",{"$f":"'All Running Order'!B25","v":21},{"$f":"'All Running Order'!C25","v":0},{"$f":"'All Running Order'!D25","v":0},{"$f":"'All Running Order'!E25","v":0},{"$f":"'All Running Order'!F25","v":0},{"$f":"'All Running Order'!G25","v":0},{"$f":"'All Running Order'!I25","v":0},{"$f":"'All Running Order'!J25","v":0},{"$f":"'All Running Order'!K25","v":0},null,{"$f":"'All Running Order'!N25","v":0},{"$f":"'All Running Order'!P25","v":0},{"$f":"'All Running Order'!Q25","v":0},{"$f":"'All Running Order'!R25","v":0},{"$f":"'All Running Order'!S25","v":0},{"$f":"'All Running Order'!T25","v":0},{"$f":"'All Running Order'!U25","v":0},{"$f":"'All Running Order'!V25","v":0},{"$f":"'All Running Order'!W25","v":0},{"$f":"'All Running Order'!X25","v":0},{"$f":"'All Running Order'!Y25","v":0},{"$f":"'All Running Order'!Z25","v":0},{"$f":"'All Running Order'!AA25","v":2000},{"$f":"'All Running Order'!AB25","v":0},{"$f":"'All Running Order'!AC25","v":0},{"$f":"'All Running Order'!AD25","v":0},{"$f":"'All Running Order'!AE25","v":0},{"$f":"'All Running Order'!AF25","v":0},{"$f":"'All Running Order'!AG25","v":0},{"$f":"'All Running Order'!AH25","v":0},{"$f":"'All Running Order'!AI25","v":0},{"$f":"'All Running Order'!AJ25","v":0},{"$f":"'All Running Order'!AK25","v":0},{"$f":"'All Running Order'!AL25","v":0},{"$f":"'All Running Order'!AM25","v":2000},{"$f":"'All Running Order'!AN25","v":0},{"$f":"'All Running Order'!AO25","v":0},{"$f":"'All Running Order'!AP25","v":0},{"$f":"'All Running Order'!AQ25","v":0},{"$f":"'All Running Order'!AR25","v":0},{"$f":"'All Running Order'!AS25","v":0},{"$f":"'All Running Order'!AT25","v":0},{"$f":"'All Running Order'!AU25","v":0},{"$f":"'All Running Order'!AV25","v":0},{"$f":"'All Running Order'!AW25","v":0},{"$f":"'All Running Order'!AX25","v":0},{"$f":"'All Running Order'!AY25","v":2000},{"$f":"'All Running Order'!AZ25","v":0},{"$f":"'All Running Order'!BA25","v":0},{"$f":"'All Running Order'!BB25","v":0},{"$f":"'All Running Order'!BC25","v":0},{"$f":"'All Running Order'!BD25","v":0},{"$f":"'All Running Order'!BE25","v":0},{"$f":"'All Running Order'!BF25","v":0},{"$f":"'All Running Order'!BG25","v":0},{"$f":"'All Running Order'!BH25","v":0},{"$f":"'All Running Order'!BI25","v":0},{"$f":"'All Running Order'!BJ25","v":0},{"$f":"'All Running Order'!BK25","v":2000},{"$f":"'All Running Order'!BL25","v":0},{"$f":"'All Running Order'!BM25","v":0},{"$f":"'All Running Order'!BN25","v":0},{"$f":"'All Running Order'!BO25","v":0},{"$f":"'All Running Order'!BP25","v":0},{"$f":"'All Running Order'!BQ25","v":0},{"$f":"'All Running Order'!BR25","v":0},{"$f":"'All Running Order'!BS25","v":0},{"$f":"'All Running Order'!BT25","v":0},{"$f":"'All Running Order'!BU25","v":0},{"$f":"'All Running Order'!BV25","v":0},{"$f":"'All Running Order'!BW25","v":2000},{"$f":"'All Running Order'!BX25","v":13},{"$f":"'All Running Order'!BY25","v":13},{"$f":"'All Running Order'!BZ25","v":13},{"$f":"'All Running Order'!CA25","v":13},{"$f":"'All Running Order'!CB25","v":13},{"$f":"'All Running Order'!CC25","v":13},{"$f":"'All Running Order'!CD25","v":13},{"$f":"'All Running Order'!CE25","v":13},{"$f":"'All Running Order'!CF25","v":13},{"$f":"'All Running Order'!CG25","v":13},{"$f":"'All Running Order'!CH25","v":"-"},{"$f":"'All Running Order'!CI25","v":""},{"$f":"'All Running Order'!CJ25","v":"-"},{"$f":"'All Running Order'!CK25","v":""},{"$f":"'All Running Order'!CL25","v":"-"},{"$f":"'All Running Order'!CM25","v":""},{"$f":"'All Running Order'!CN25","v":"-"},{"$f":"'All Running Order'!CO25","v":""},{"$f":"'All Running Order'!CP25","v":"-"},{"$f":"'All Running Order'!CQ25","v":""},{"$f":"'All Running Order'!CR25","v":"-"},{"$f":"'All Running Order'!CS25","v":""},{"$f":"'All Running Order'!CT25","v":"-"},{"$f":"'All Running Order'!CU25","v":" "},{"$f":"'All Running Order'!CV25","v":"-"},{"$f":"'All Running Order'!CW25","v":" "},{"$f":"'All Running Order'!CX25","v":" "}]
["0 ",{"$f":"'All Running Order'!B26","v":22},{"$f":"'All Running Order'!C26","v":0},{"$f":"'All Running Order'!D26","v":0},{"$f":"'All Running Order'!E26","v":0},{"$f":"'All Running Order'!F26","v":0},{"$f":"'All Running Order'!G26","v":0},{"$f":"'All Running Order'!I26","v":0},{"$f":"'All Running Order'!J26","v":0},{"$f":"'All Running Order'!K26","v":0},null,{"$f":"'All Running Order'!N26","v":0},{"$f":"'All Running Order'!P26","v":0},{"$f":"'All Running Order'!Q26","v":0},{"$f":"'All Running Order'!R26","v":0},{"$f":"'All Running Order'!S26","v":0},{"$f":"'All Running Order'!T26","v":0},{"$f":"'All Running Order'!U26","v":0},{"$f":"'All Running Order'!V26","v":0},{"$f":"'All Running Order'!W26","v":0},{"$f":"'All Running Order'!X26","v":0},{"$f":"'All Running Order'!Y26","v":0},{"$f":"'All Running Order'!Z26","v":0},{"$f":"'All Running Order'!AA26","v":2000},{"$f":"'All Running Order'!AB26","v":0},{"$f":"'All Running Order'!AC26","v":0},{"$f":"'All Running Order'!AD26","v":0},{"$f":"'All Running Order'!AE26","v":0},{"$f":"'All Running Order'!AF26","v":0},{"$f":"'All Running Order'!AG26","v":0},{"$f":"'All Running Order'!AH26","v":0},{"$f":"'All Running Order'!AI26","v":0},{"$f":"'All Running Order'!AJ26","v":0},{"$f":"'All Running Order'!AK26","v":0},{"$f":"'All Running Order'!AL26","v":0},{"$f":"'All Running Order'!AM26","v":2000},{"$f":"'All Running Order'!AN26","v":0},{"$f":"'All Running Order'!AO26","v":0},{"$f":"'All Running Order'!AP26","v":0},{"$f":"'All Running Order'!AQ26","v":0},{"$f":"'All Running Order'!AR26","v":0},{"$f":"'All Running Order'!AS26","v":0},{"$f":"'All Running Order'!AT26","v":0},{"$f":"'All Running Order'!AU26","v":0},{"$f":"'All Running Order'!AV26","v":0},{"$f":"'All Running Order'!AW26","v":0},{"$f":"'All Running Order'!AX26","v":0},{"$f":"'All Running Order'!AY26","v":2000},{"$f":"'All Running Order'!AZ26","v":0},{"$f":"'All Running Order'!BA26","v":0},{"$f":"'All Running Order'!BB26","v":0},{"$f":"'All Running Order'!BC26","v":0},{"$f":"'All Running Order'!BD26","v":0},{"$f":"'All Running Order'!BE26","v":0},{"$f":"'All Running Order'!BF26","v":0},{"$f":"'All Running Order'!BG26","v":0},{"$f":"'All Running Order'!BH26","v":0},{"$f":"'All Running Order'!BI26","v":0},{"$f":"'All Running Order'!BJ26","v":0},{"$f":"'All Running Order'!BK26","v":2000},{"$f":"'All Running Order'!BL26","v":0},{"$f":"'All Running Order'!BM26","v":0},{"$f":"'All Running Order'!BN26","v":0},{"$f":"'All Running Order'!BO26","v":0},{"$f":"'All Running Order'!BP26","v":0},{"$f":"'All Running Order'!BQ26","v":0},{"$f":"'All Running Order'!BR26","v":0},{"$f":"'All Running Order'!BS26","v":0},{"$f":"'All Running Order'!BT26","v":0},{"$f":"'All Running Order'!BU26","v":0},{"$f":"'All Running Order'!BV26","v":0},{"$f":"'All Running Order'!BW26","v":2000},{"$f":"'All Running Order'!BX26","v":13},{"$f":"'All Running Order'!BY26","v":13},{"$f":"'All Running Order'!BZ26","v":13},{"$f":"'All Running Order'!CA26","v":13},{"$f":"'All Running Order'!CB26","v":13},{"$f":"'All Running Order'!CC26","v":13},{"$f":"'All Running Order'!CD26","v":13},{"$f":"'All Running Order'!CE26","v":13},{"$f":"'All Running Order'!CF26","v":13},{"$f":"'All Running Order'!CG26","v":13},{"$f":"'All Running Order'!CH26","v":"-"},{"$f":"'All Running Order'!CI26","v":""},{"$f":"'All Running Order'!CJ26","v":"-"},{"$f":"'All Running Order'!CK26","v":""},{"$f":"'All Running Order'!CL26","v":"-"},{"$f":"'All Running Order'!CM26","v":""},{"$f":"'All Running Order'!CN26","v":"-"},{"$f":"'All Running Order'!CO26","v":""},{"$f":"'All Running Order'!CP26","v":"-"},{"$f":"'All Running Order'!CQ26","v":""},{"$f":"'All Running Order'!CR26","v":"-"},{"$f":"'All Running Order'!CS26","v":""},{"$f":"'All Running Order'!CT26","v":"-"},{"$f":"'All Running Order'!CU26","v":" "},{"$f":"'All Running Order'!CV26","v":"-"},{"$f":"'All Running Order'!CW26","v":" "},{"$f":"'All Running Order'!CX26","v":" "}]
["0 ",{"$f":"'All Running Order'!B27","v":23},{"$f":"'All Running Order'!C27","v":0},{"$f":"'All Running Order'!D27","v":0},{"$f":"'All Running Order'!E27","v":0},{"$f":"'All Running Order'!F27","v":0},{"$f":"'All Running Order'!G27","v":0},{"$f":"'All Running Order'!I27","v":0},{"$f":"'All Running Order'!J27","v":0},{"$f":"'All Running Order'!K27","v":0},null,{"$f":"'All Running Order'!N27","v":0},{"$f":"'All Running Order'!P27","v":0},{"$f":"'All Running Order'!Q27","v":0},{"$f":"'All Running Order'!R27","v":0},{"$f":"'All Running Order'!S27","v":0},{"$f":"'All Running Order'!T27","v":0},{"$f":"'All Running Order'!U27","v":0},{"$f":"'All Running Order'!V27","v":0},{"$f":"'All Running Order'!W27","v":0},{"$f":"'All Running Order'!X27","v":0},{"$f":"'All Running Order'!Y27","v":0},{"$f":"'All Running Order'!Z27","v":0},{"$f":"'All Running Order'!AA27","v":2000},{"$f":"'All Running Order'!AB27","v":0},{"$f":"'All Running Order'!AC27","v":0},{"$f":"'All Running Order'!AD27","v":0},{"$f":"'All Running Order'!AE27","v":0},{"$f":"'All Running Order'!AF27","v":0},{"$f":"'All Running Order'!AG27","v":0},{"$f":"'All Running Order'!AH27","v":0},{"$f":"'All Running Order'!AI27","v":0},{"$f":"'All Running Order'!AJ27","v":0},{"$f":"'All Running Order'!AK27","v":0},{"$f":"'All Running Order'!AL27","v":0},{"$f":"'All Running Order'!AM27","v":2000},{"$f":"'All Running Order'!AN27","v":0},{"$f":"'All Running Order'!AO27","v":0},{"$f":"'All Running Order'!AP27","v":0},{"$f":"'All Running Order'!AQ27","v":0},{"$f":"'All Running Order'!AR27","v":0},{"$f":"'All Running Order'!AS27","v":0},{"$f":"'All Running Order'!AT27","v":0},{"$f":"'All Running Order'!AU27","v":0},{"$f":"'All Running Order'!AV27","v":0},{"$f":"'All Running Order'!AW27","v":0},{"$f":"'All Running Order'!AX27","v":0},{"$f":"'All Running Order'!AY27","v":2000},{"$f":"'All Running Order'!AZ27","v":0},{"$f":"'All Running Order'!BA27","v":0},{"$f":"'All Running Order'!BB27","v":0},{"$f":"'All Running Order'!BC27","v":0},{"$f":"'All Running Order'!BD27","v":0},{"$f":"'All Running Order'!BE27","v":0},{"$f":"'All Running Order'!BF27","v":0},{"$f":"'All Running Order'!BG27","v":0},{"$f":"'All Running Order'!BH27","v":0},{"$f":"'All Running Order'!BI27","v":0},{"$f":"'All Running Order'!BJ27","v":0},{"$f":"'All Running Order'!BK27","v":2000},{"$f":"'All Running Order'!BL27","v":0},{"$f":"'All Running Order'!BM27","v":0},{"$f":"'All Running Order'!BN27","v":0},{"$f":"'All Running Order'!BO27","v":0},{"$f":"'All Running Order'!BP27","v":0},{"$f":"'All Running Order'!BQ27","v":0},{"$f":"'All Running Order'!BR27","v":0},{"$f":"'All Running Order'!BS27","v":0},{"$f":"'All Running Order'!BT27","v":0},{"$f":"'All Running Order'!BU27","v":0},{"$f":"'All Running Order'!BV27","v":0},{"$f":"'All Running Order'!BW27","v":2000},{"$f":"'All Running Order'!BX27","v":13},{"$f":"'All Running Order'!BY27","v":13},{"$f":"'All Running Order'!BZ27","v":13},{"$f":"'All Running Order'!CA27","v":13},{"$f":"'All Running Order'!CB27","v":13},{"$f":"'All Running Order'!CC27","v":13},{"$f":"'All Running Order'!CD27","v":13},{"$f":"'All Running Order'!CE27","v":13},{"$f":"'All Running Order'!CF27","v":13},{"$f":"'All Running Order'!CG27","v":13},{"$f":"'All Running Order'!CH27","v":"-"},{"$f":"'All Running Order'!CI27","v":""},{"$f":"'All Running Order'!CJ27","v":"-"},{"$f":"'All Running Order'!CK27","v":""},{"$f":"'All Running Order'!CL27","v":"-"},{"$f":"'All Running Order'!CM27","v":""},{"$f":"'All Running Order'!CN27","v":"-"},{"$f":"'All Running Order'!CO27","v":""},{"$f":"'All Running Order'!CP27","v":"-"},{"$f":"'All Running Order'!CQ27","v":""},{"$f":"'All Running Order'!CR27","v":"-"},{"$f":"'All Running Order'!CS27","v":""},{"$f":"'All Running Order'!CT27","v":"-"},{"$f":"'All Running Order'!CU27","v":" "},{"$f":"'All Running Order'!CV27","v":"-"},{"$f":"'All Running Order'!CW27","v":" "},{"$f":"'All Running Order'!CX27","v":" "}]
["0 ",{"$f":"'All Running Order'!B28","v":24},{"$f":"'All Running Order'!C28","v":0},{"$f":"'All Running Order'!D28","v":0},{"$f":"'All Running Order'!E28","v":0},{"$f":"'All Running Order'!F28","v":0},{"$f":"'All Running Order'!G28","v":0},{"$f":"'All Running Order'!I28","v":0},{"$f":"'All Running Order'!J28","v":0},{"$f":"'All Running Order'!K28","v":0},null,{"$f":"'All Running Order'!N28","v":0},{"$f":"'All Running Order'!P28","v":0},{"$f":"'All Running Order'!Q28","v":0},{"$f":"'All Running Order'!R28","v":0},{"$f":"'All Running Order'!S28","v":0},{"$f":"'All Running Order'!T28","v":0},{"$f":"'All Running Order'!U28","v":0},{"$f":"'All Running Order'!V28","v":0},{"$f":"'All Running Order'!W28","v":0},{"$f":"'All Running Order'!X28","v":0},{"$f":"'All Running Order'!Y28","v":0},{"$f":"'All Running Order'!Z28","v":0},{"$f":"'All Running Order'!AA28","v":2000},{"$f":"'All Running Order'!AB28","v":0},{"$f":"'All Running Order'!AC28","v":0},{"$f":"'All Running Order'!AD28","v":0},{"$f":"'All Running Order'!AE28","v":0},{"$f":"'All Running Order'!AF28","v":0},{"$f":"'All Running Order'!AG28","v":0},{"$f":"'All Running Order'!AH28","v":0},{"$f":"'All Running Order'!AI28","v":0},{"$f":"'All Running Order'!AJ28","v":0},{"$f":"'All Running Order'!AK28","v":0},{"$f":"'All Running Order'!AL28","v":0},{"$f":"'All Running Order'!AM28","v":2000},{"$f":"'All Running Order'!AN28","v":0},{"$f":"'All Running Order'!AO28","v":0},{"$f":"'All Running Order'!AP28","v":0},{"$f":"'All Running Order'!AQ28","v":0},{"$f":"'All Running Order'!AR28","v":0},{"$f":"'All Running Order'!AS28","v":0},{"$f":"'All Running Order'!AT28","v":0},{"$f":"'All Running Order'!AU28","v":0},{"$f":"'All Running Order'!AV28","v":0},{"$f":"'All Running Order'!AW28","v":0},{"$f":"'All Running Order'!AX28","v":0},{"$f":"'All Running Order'!AY28","v":2000},{"$f":"'All Running Order'!AZ28","v":0},{"$f":"'All Running Order'!BA28","v":0},{"$f":"'All Running Order'!BB28","v":0},{"$f":"'All Running Order'!BC28","v":0},{"$f":"'All Running Order'!BD28","v":0},{"$f":"'All Running Order'!BE28","v":0},{"$f":"'All Running Order'!BF28","v":0},{"$f":"'All Running Order'!BG28","v":0},{"$f":"'All Running Order'!BH28","v":0},{"$f":"'All Running Order'!BI28","v":0},{"$f":"'All Running Order'!BJ28","v":0},{"$f":"'All Running Order'!BK28","v":2000},{"$f":"'All Running Order'!BL28","v":0},{"$f":"'All Running Order'!BM28","v":0},{"$f":"'All Running Order'!BN28","v":0},{"$f":"'All Running Order'!BO28","v":0},{"$f":"'All Running Order'!BP28","v":0},{"$f":"'All Running Order'!BQ28","v":0},{"$f":"'All Running Order'!BR28","v":0},{"$f":"'All Running Order'!BS28","v":0},{"$f":"'All Running Order'!BT28","v":0},{"$f":"'All Running Order'!BU28","v":0},{"$f":"'All Running Order'!BV28","v":0},{"$f":"'All Running Order'!BW28","v":2000},{"$f":"'All Running Order'!BX28","v":13},{"$f":"'All Running Order'!BY28","v":13},{"$f":"'All Running Order'!BZ28","v":13},{"$f":"'All Running Order'!CA28","v":13},{"$f":"'All Running Order'!CB28","v":13},{"$f":"'All Running Order'!CC28","v":13},{"$f":"'All Running Order'!CD28","v":13},{"$f":"'All Running Order'!CE28","v":13},{"$f":"'All Running Order'!CF28","v":13},{"$f":"'All Running Order'!CG28","v":13},{"$f":"'All Running Order'!CH28","v":"-"},{"$f":"'All Running Order'!CI28","v":""},{"$f":"'All Running Order'!CJ28","v":"-"},{"$f":"'All Running Order'!CK28","v":""},{"$f":"'All Running Order'!CL28","v":"-"},{"$f":"'All Running Order'!CM28","v":""},{"$f":"'All Running Order'!CN28","v":"-"},{"$f":"'All Running Order'!CO28","v":""},{"$f":"'All Running Order'!CP28","v":"-"},{"$f":"'All Running Order'!CQ28","v":""},{"$f":"'All Running Order'!CR28","v":"-"},{"$f":"'All Running Order'!CS28","v":""},{"$f":"'All Running Order'!CT28","v":"-"},{"$f":"'All Running Order'!CU28","v":" "},{"$f":"'All Running Order'!CV28","v":"-"},{"$f":"'All Running Order'!CW28","v":" "},{"$f":"'All Running Order'!CX28","v":" "}]
["0 ",{"$f":"'All Running Order'!B29","v":25},{"$f":"'All Running Order'!C29","v":0},{"$f":"'All Running Order'!D29","v":0},{"$f":"'All Running Order'!E29","v":0},{"$f":"'All Running Order'!F29","v":0},{"$f":"'All Running Order'!G29","v":0},{"$f":"'All Running Order'!I29","v":0},{"$f":"'All Running Order'!J29","v":0},{"$f":"'All Running Order'!K29","v":0},null,{"$f":"'All Running Order'!N29","v":0},{"$f":"'All Running Order'!P29","v":0},{"$f":"'All Running Order'!Q29","v":0},{"$f":"'All Running Order'!R29","v":0},{"$f":"'All Running Order'!S29","v":0},{"$f":"'All Running Order'!T29","v":0},{"$f":"'All Running Order'!U29","v":0},{"$f":"'All Running Order'!V29","v":0},{"$f":"'All Running Order'!W29","v":0},{"$f":"'All Running Order'!X29","v":0},{"$f":"'All Running Order'!Y29","v":0},{"$f":"'All Running Order'!Z29","v":0},{"$f":"'All Running Order'!AA29","v":2000},{"$f":"'All Running Order'!AB29","v":0},{"$f":"'All Running Order'!AC29","v":0},{"$f":"'All Running Order'!AD29","v":0},{"$f":"'All Running Order'!AE29","v":0},{"$f":"'All Running Order'!AF29","v":0},{"$f":"'All Running Order'!AG29","v":0},{"$f":"'All Running Order'!AH29","v":0},{"$f":"'All Running Order'!AI29","v":0},{"$f":"'All Running Order'!AJ29","v":0},{"$f":"'All Running Order'!AK29","v":0},{"$f":"'All Running Order'!AL29","v":0},{"$f":"'All Running Order'!AM29","v":2000},{"$f":"'All Running Order'!AN29","v":0},{"$f":"'All Running Order'!AO29","v":0},{"$f":"'All Running Order'!AP29","v":0},{"$f":"'All Running Order'!AQ29","v":0},{"$f":"'All Running Order'!AR29","v":0},{"$f":"'All Running Order'!AS29","v":0},{"$f":"'All Running Order'!AT29","v":0},{"$f":"'All Running Order'!AU29","v":0},{"$f":"'All Running Order'!AV29","v":0},{"$f":"'All Running Order'!AW29","v":0},{"$f":"'All Running Order'!AX29","v":0},{"$f":"'All Running Order'!AY29","v":2000},{"$f":"'All Running Order'!AZ29","v":0},{"$f":"'All Running Order'!BA29","v":0},{"$f":"'All Running Order'!BB29","v":0},{"$f":"'All Running Order'!BC29","v":0},{"$f":"'All Running Order'!BD29","v":0},{"$f":"'All Running Order'!BE29","v":0},{"$f":"'All Running Order'!BF29","v":0},{"$f":"'All Running Order'!BG29","v":0},{"$f":"'All Running Order'!BH29","v":0},{"$f":"'All Running Order'!BI29","v":0},{"$f":"'All Running Order'!BJ29","v":0},{"$f":"'All Running Order'!BK29","v":2000},{"$f":"'All Running Order'!BL29","v":0},{"$f":"'All Running Order'!BM29","v":0},{"$f":"'All Running Order'!BN29","v":0},{"$f":"'All Running Order'!BO29","v":0},{"$f":"'All Running Order'!BP29","v":0},{"$f":"'All Running Order'!BQ29","v":0},{"$f":"'All Running Order'!BR29","v":0},{"$f":"'All Running Order'!BS29","v":0},{"$f":"'All Running Order'!BT29","v":0},{"$f":"'All Running Order'!BU29","v":0},{"$f":"'All Running Order'!BV29","v":0},{"$f":"'All Running Order'!BW29","v":2000},{"$f":"'All Running Order'!BX29","v":13},{"$f":"'All Running Order'!BY29","v":13},{"$f":"'All Running Order'!BZ29","v":13},{"$f":"'All Running Order'!CA29","v":13},{"$f":"'All Running Order'!CB29","v":13},{"$f":"'All Running Order'!CC29","v":13},{"$f":"'All Running Order'!CD29","v":13},{"$f":"'All Running Order'!CE29","v":13},{"$f":"'All Running Order'!CF29","v":13},{"$f":"'All Running Order'!CG29","v":13},{"$f":"'All Running Order'!CH29","v":"-"},{"$f":"'All Running Order'!CI29","v":""},{"$f":"'All Running Order'!CJ29","v":"-"},{"$f":"'All Running Order'!CK29","v":""},{"$f":"'All Running Order'!CL29","v":"-"},{"$f":"'All Running Order'!CM29","v":""},{"$f":"'All Running Order'!CN29","v":"-"},{"$f":"'All Running Order'!CO29","v":""},{"$f":"'All Running Order'!CP29","v":"-"},{"$f":"'All Running Order'!CQ29","v":""},{"$f":"'All Running Order'!CR29","v":"-"},{"$f":"'All Running Order'!CS29","v":""},{"$f":"'All Running Order'!CT29","v":"-"},{"$f":"'All Running Order'!CU29","v":" "},{"$f":"'All Running Order'!CV29","v":"-"},{"$f":"'All Running Order'!CW29","v":" "},{"$f":"'All Running Order'!CX29","v":" "}]
["0 ",{"$f":"'All Running Order'!B30","v":26},{"$f":"'All Running Order'!C30","v":0},{"$f":"'All Running Order'!D30","v":0},{"$f":"'All Running Order'!E30","v":0},{"$f":"'All Running Order'!F30","v":0},{"$f":"'All Running Order'!G30","v":0},{"$f":"'All Running Order'!I30","v":0},{"$f":"'All Running Order'!J30","v":0},{"$f":"'All Running Order'!K30","v":0},null,{"$f":"'All Running Order'!N30","v":0},{"$f":"'All Running Order'!P30","v":0},{"$f":"'All Running Order'!Q30","v":0},{"$f":"'All Running Order'!R30","v":0},{"$f":"'All Running Order'!S30","v":0},{"$f":"'All Running Order'!T30","v":0},{"$f":"'All Running Order'!U30","v":0},{"$f":"'All Running Order'!V30","v":0},{"$f":"'All Running Order'!W30","v":0},{"$f":"'All Running Order'!X30","v":0},{"$f":"'All Running Order'!Y30","v":0},{"$f":"'All Running Order'!Z30","v":0},{"$f":"'All Running Order'!AA30","v":2000},{"$f":"'All Running Order'!AB30","v":0},{"$f":"'All Running Order'!AC30","v":0},{"$f":"'All Running Order'!AD30","v":0},{"$f":"'All Running Order'!AE30","v":0},{"$f":"'All Running Order'!AF30","v":0},{"$f":"'All Running Order'!AG30","v":0},{"$f":"'All Running Order'!AH30","v":0},{"$f":"'All Running Order'!AI30","v":0},{"$f":"'All Running Order'!AJ30","v":0},{"$f":"'All Running Order'!AK30","v":0},{"$f":"'All Running Order'!AL30","v":0},{"$f":"'All Running Order'!AM30","v":2000},{"$f":"'All Running Order'!AN30","v":0},{"$f":"'All Running Order'!AO30","v":0},{"$f":"'All Running Order'!AP30","v":0},{"$f":"'All Running Order'!AQ30","v":0},{"$f":"'All Running Order'!AR30","v":0},{"$f":"'All Running Order'!AS30","v":0},{"$f":"'All Running Order'!AT30","v":0},{"$f":"'All Running Order'!AU30","v":0},{"$f":"'All Running Order'!AV30","v":0},{"$f":"'All Running Order'!AW30","v":0},{"$f":"'All Running Order'!AX30","v":0},{"$f":"'All Running Order'!AY30","v":2000},{"$f":"'All Running Order'!AZ30","v":0},{"$f":"'All Running Order'!BA30","v":0},{"$f":"'All Running Order'!BB30","v":0},{"$f":"'All Running Order'!BC30","v":0},{"$f":"'All Running Order'!BD30","v":0},{"$f":"'All Running Order'!BE30","v":0},{"$f":"'All Running Order'!BF30","v":0},{"$f":"'All Running Order'!BG30","v":0},{"$f":"'All Running Order'!BH30","v":0},{"$f":"'All Running Order'!BI30","v":0},{"$f":"'All Running Order'!BJ30","v":0},{"$f":"'All Running Order'!BK30","v":2000},{"$f":"'All Running Order'!BL30","v":0},{"$f":"'All Running Order'!BM30","v":0},{"$f":"'All Running Order'!BN30","v":0},{"$f":"'All Running Order'!BO30","v":0},{"$f":"'All Running Order'!BP30","v":0},{"$f":"'All Running Order'!BQ30","v":0},{"$f":"'All Running Order'!BR30","v":0},{"$f":"'All Running Order'!BS30","v":0},{"$f":"'All Running Order'!BT30","v":0},{"$f":"'All Running Order'!BU30","v":0},{"$f":"'All Running Order'!BV30","v":0},{"$f":"'All Running Order'!BW30","v":2000},{"$f":"'All Running Order'!BX30","v":13},{"$f":"'All Running Order'!BY30","v":13},{"$f":"'All Running Order'!BZ30","v":13},{"$f":"'All Running Order'!CA30","v":13},{"$f":"'All Running Order'!CB30","v":13},{"$f":"'All Running Order'!CC30","v":13},{"$f":"'All Running Order'!CD30","v":13},{"$f":"'All Running Order'!CE30","v":13},{"$f":"'All Running Order'!CF30","v":13},{"$f":"'All Running Order'!CG30","v":13},{"$f":"'All Running Order'!CH30","v":"-"},{"$f":"'All Running Order'!CI30","v":""},{"$f":"'All Running Order'!CJ30","v":"-"},{"$f":"'All Running Order'!CK30","v":""},{"$f":"'All Running Order'!CL30","v":"-"},{"$f":"'All Running Order'!CM30","v":""},{"$f":"'All Running Order'!CN30","v":"-"},{"$f":"'All Running Order'!CO30","v":""},{"$f":"'All Running Order'!CP30","v":"-"},{"$f":"'All Running Order'!CQ30","v":""},{"$f":"'All Running Order'!CR30","v":"-"},{"$f":"'All Running Order'!CS30","v":""},{"$f":"'All Running Order'!CT30","v":"-"},{"$f":"'All Running Order'!CU30","v":" "},{"$f":"'All Running Order'!CV30","v":"-"},{"$f":"'All Running Order'!CW30","v":" "},{"$f":"'All Running Order'!CX30","v":" "}]
["0 ",{"$f":"'All Running Order'!B31","v":27},{"$f":"'All Running Order'!C31","v":0},{"$f":"'All Running Order'!D31","v":0},{"$f":"'All Running Order'!E31","v":0},{"$f":"'All Running Order'!F31","v":0},{"$f":"'All Running Order'!G31","v":0},{"$f":"'All Running Order'!I31","v":0},{"$f":"'All Running Order'!J31","v":0},{"$f":"'All Running Order'!K31","v":0},null,{"$f":"'All Running Order'!N31","v":0},{"$f":"'All Running Order'!P31","v":0},{"$f":"'All Running Order'!Q31","v":0},{"$f":"'All Running Order'!R31","v":0},{"$f":"'All Running Order'!S31","v":0},{"$f":"'All Running Order'!T31","v":0},{"$f":"'All Running Order'!U31","v":0},{"$f":"'All Running Order'!V31","v":0},{"$f":"'All Running Order'!W31","v":0},{"$f":"'All Running Order'!X31","v":0},{"$f":"'All Running Order'!Y31","v":0},{"$f":"'All Running Order'!Z31","v":0},{"$f":"'All Running Order'!AA31","v":2000},{"$f":"'All Running Order'!AB31","v":0},{"$f":"'All Running Order'!AC31","v":0},{"$f":"'All Running Order'!AD31","v":0},{"$f":"'All Running Order'!AE31","v":0},{"$f":"'All Running Order'!AF31","v":0},{"$f":"'All Running Order'!AG31","v":0},{"$f":"'All Running Order'!AH31","v":0},{"$f":"'All Running Order'!AI31","v":0},{"$f":"'All Running Order'!AJ31","v":0},{"$f":"'All Running Order'!AK31","v":0},{"$f":"'All Running Order'!AL31","v":0},{"$f":"'All Running Order'!AM31","v":2000},{"$f":"'All Running Order'!AN31","v":0},{"$f":"'All Running Order'!AO31","v":0},{"$f":"'All Running Order'!AP31","v":0},{"$f":"'All Running Order'!AQ31","v":0},{"$f":"'All Running Order'!AR31","v":0},{"$f":"'All Running Order'!AS31","v":0},{"$f":"'All Running Order'!AT31","v":0},{"$f":"'All Running Order'!AU31","v":0},{"$f":"'All Running Order'!AV31","v":0},{"$f":"'All Running Order'!AW31","v":0},{"$f":"'All Running Order'!AX31","v":0},{"$f":"'All Running Order'!AY31","v":2000},{"$f":"'All Running Order'!AZ31","v":0},{"$f":"'All Running Order'!BA31","v":0},{"$f":"'All Running Order'!BB31","v":0},{"$f":"'All Running Order'!BC31","v":0},{"$f":"'All Running Order'!BD31","v":0},{"$f":"'All Running Order'!BE31","v":0},{"$f":"'All Running Order'!BF31","v":0},{"$f":"'All Running Order'!BG31","v":0},{"$f":"'All Running Order'!BH31","v":0},{"$f":"'All Running Order'!BI31","v":0},{"$f":"'All Running Order'!BJ31","v":0},{"$f":"'All Running Order'!BK31","v":2000},{"$f":"'All Running Order'!BL31","v":0},{"$f":"'All Running Order'!BM31","v":0},{"$f":"'All Running Order'!BN31","v":0},{"$f":"'All Running Order'!BO31","v":0},{"$f":"'All Running Order'!BP31","v":0},{"$f":"'All Running Order'!BQ31","v":0},{"$f":"'All Running Order'!BR31","v":0},{"$f":"'All Running Order'!BS31","v":0},{"$f":"'All Running Order'!BT31","v":0},{"$f":"'All Running Order'!BU31","v":0},{"$f":"'All Running Order'!BV31","v":0},{"$f":"'All Running Order'!BW31","v":2000},{"$f":"'All Running Order'!BX31","v":13},{"$f":"'All Running Order'!BY31","v":13},{"$f":"'All Running Order'!BZ31","v":13},{"$f":"'All Running Order'!CA31","v":13},{"$f":"'All Running Order'!CB31","v":13},{"$f":"'All Running Order'!CC31","v":13},{"$f":"'All Running Order'!CD31","v":13},{"$f":"'All Running Order'!CE31","v":13},{"$f":"'All Running Order'!CF31","v":13},{"$f":"'All Running Order'!CG31","v":13},{"$f":"'All Running Order'!CH31","v":"-"},{"$f":"'All Running Order'!CI31","v":""},{"$f":"'All Running Order'!CJ31","v":"-"},{"$f":"'All Running Order'!CK31","v":""},{"$f":"'All Running Order'!CL31","v":"-"},{"$f":"'All Running Order'!CM31","v":""},{"$f":"'All Running Order'!CN31","v":"-"},{"$f":"'All Running Order'!CO31","v":""},{"$f":"'All Running Order'!CP31","v":"-"},{"$f":"'All Running Order'!CQ31","v":""},{"$f":"'All Running Order'!CR31","v":"-"},{"$f":"'All Running Order'!CS31","v":""},{"$f":"'All Running Order'!CT31","v":"-"},{"$f":"'All Running Order'!CU31","v":" "},{"$f":"'All Running Order'!CV31","v":"-"},{"$f":"'All Running Order'!CW31","v":" "},{"$f":"'All Running Order'!CX31","v":" "}]
["0 ",{"$f":"'All Running Order'!B32","v":28},{"$f":"'All Running Order'!C32","v":0},{"$f":"'All Running Order'!D32","v":0},{"$f":"'All Running Order'!E32","v":0},{"$f":"'All Running Order'!F32","v":0},{"$f":"'All Running Order'!G32","v":0},{"$f":"'All Running Order'!I32","v":0},{"$f":"'All Running Order'!J32","v":0},{"$f":"'All Running Order'!K32","v":0},null,{"$f":"'All Running Order'!N32","v":0},{"$f":"'All Running Order'!P32","v":0},{"$f":"'All Running Order'!Q32","v":0},{"$f":"'All Running Order'!R32","v":0},{"$f":"'All Running Order'!S32","v":0},{"$f":"'All Running Order'!T32","v":0},{"$f":"'All Running Order'!U32","v":0},{"$f":"'All Running Order'!V32","v":0},{"$f":"'All Running Order'!W32","v":0},{"$f":"'All Running Order'!X32","v":0},{"$f":"'All Running Order'!Y32","v":0},{"$f":"'All Running Order'!Z32","v":0},{"$f":"'All Running Order'!AA32","v":2000},{"$f":"'All Running Order'!AB32","v":0},{"$f":"'All Running Order'!AC32","v":0},{"$f":"'All Running Order'!AD32","v":0},{"$f":"'All Running Order'!AE32","v":0},{"$f":"'All Running Order'!AF32","v":0},{"$f":"'All Running Order'!AG32","v":0},{"$f":"'All Running Order'!AH32","v":0},{"$f":"'All Running Order'!AI32","v":0},{"$f":"'All Running Order'!AJ32","v":0},{"$f":"'All Running Order'!AK32","v":0},{"$f":"'All Running Order'!AL32","v":0},{"$f":"'All Running Order'!AM32","v":2000},{"$f":"'All Running Order'!AN32","v":0},{"$f":"'All Running Order'!AO32","v":0},{"$f":"'All Running Order'!AP32","v":0},{"$f":"'All Running Order'!AQ32","v":0},{"$f":"'All Running Order'!AR32","v":0},{"$f":"'All Running Order'!AS32","v":0},{"$f":"'All Running Order'!AT32","v":0},{"$f":"'All Running Order'!AU32","v":0},{"$f":"'All Running Order'!AV32","v":0},{"$f":"'All Running Order'!AW32","v":0},{"$f":"'All Running Order'!AX32","v":0},{"$f":"'All Running Order'!AY32","v":2000},{"$f":"'All Running Order'!AZ32","v":0},{"$f":"'All Running Order'!BA32","v":0},{"$f":"'All Running Order'!BB32","v":0},{"$f":"'All Running Order'!BC32","v":0},{"$f":"'All Running Order'!BD32","v":0},{"$f":"'All Running Order'!BE32","v":0},{"$f":"'All Running Order'!BF32","v":0},{"$f":"'All Running Order'!BG32","v":0},{"$f":"'All Running Order'!BH32","v":0},{"$f":"'All Running Order'!BI32","v":0},{"$f":"'All Running Order'!BJ32","v":0},{"$f":"'All Running Order'!BK32","v":2000},{"$f":"'All Running Order'!BL32","v":0},{"$f":"'All Running Order'!BM32","v":0},{"$f":"'All Running Order'!BN32","v":0},{"$f":"'All Running Order'!BO32","v":0},{"$f":"'All Running Order'!BP32","v":0},{"$f":"'All Running Order'!BQ32","v":0},{"$f":"'All Running Order'!BR32","v":0},{"$f":"'All Running Order'!BS32","v":0},{"$f":"'All Running Order'!BT32","v":0},{"$f":"'All Running Order'!BU32","v":0},{"$f":"'All Running Order'!BV32","v":0},{"$f":"'All Running Order'!BW32","v":2000},{"$f":"'All Running Order'!BX32","v":13},{"$f":"'All Running Order'!BY32","v":13},{"$f":"'All Running Order'!BZ32","v":13},{"$f":"'All Running Order'!CA32","v":13},{"$f":"'All Running Order'!CB32","v":13},{"$f":"'All Running Order'!CC32","v":13},{"$f":"'All Running Order'!CD32","v":13},{"$f":"'All Running Order'!CE32","v":13},{"$f":"'All Running Order'!CF32","v":13},{"$f":"'All Running Order'!CG32","v":13},{"$f":"'All Running Order'!CH32","v":"-"},{"$f":"'All Running Order'!CI32","v":""},{"$f":"'All Running Order'!CJ32","v":"-"},{"$f":"'All Running Order'!CK32","v":""},{"$f":"'All Running Order'!CL32","v":"-"},{"$f":"'All Running Order'!CM32","v":""},{"$f":"'All Running Order'!CN32","v":"-"},{"$f":"'All Running Order'!CO32","v":""},{"$f":"'All Running Order'!CP32","v":"-"},{"$f":"'All Running Order'!CQ32","v":""},{"$f":"'All Running Order'!CR32","v":"-"},{"$f":"'All Running Order'!CS32","v":""},{"$f":"'All Running Order'!CT32","v":"-"},{"$f":"'All Running Order'!CU32","v":" "},{"$f":"'All Running Order'!CV32","v":"-"},{"$f":"'All Running Order'!CW32","v":" "},{"$f":"'All Running Order'!CX32","v":" "}]
["0 ",{"$f":"'All Running Order'!B33","v":29},{"$f":"'All Running Order'!C33","v":0},{"$f":"'All Running Order'!D33","v":0},{"$f":"'All Running Order'!E33","v":0},{"$f":"'All Running Order'!F33","v":0},{"$f":"'All Running Order'!G33","v":0},{"$f":"'All Running Order'!I33","v":0},{"$f":"'All Running Order'!J33","v":0},{"$f":"'All Running Order'!K33","v":0},null,{"$f":"'All Running Order'!N33","v":0},{"$f":"'All Running Order'!P33","v":0},{"$f":"'All Running Order'!Q33","v":0},{"$f":"'All Running Order'!R33","v":0},{"$f":"'All Running Order'!S33","v":0},{"$f":"'All Running Order'!T33","v":0},{"$f":"'All Running Order'!U33","v":0},{"$f":"'All Running Order'!V33","v":0},{"$f":"'All Running Order'!W33","v":0},{"$f":"'All Running Order'!X33","v":0},{"$f":"'All Running Order'!Y33","v":0},{"$f":"'All Running Order'!Z33","v":0},{"$f":"'All Running Order'!AA33","v":2000},{"$f":"'All Running Order'!AB33","v":0},{"$f":"'All Running Order'!AC33","v":0},{"$f":"'All Running Order'!AD33","v":0},{"$f":"'All Running Order'!AE33","v":0},{"$f":"'All Running Order'!AF33","v":0},{"$f":"'All Running Order'!AG33","v":0},{"$f":"'All Running Order'!AH33","v":0},{"$f":"'All Running Order'!AI33","v":0},{"$f":"'All Running Order'!AJ33","v":0},{"$f":"'All Running Order'!AK33","v":0},{"$f":"'All Running Order'!AL33","v":0},{"$f":"'All Running Order'!AM33","v":2000},{"$f":"'All Running Order'!AN33","v":0},{"$f":"'All Running Order'!AO33","v":0},{"$f":"'All Running Order'!AP33","v":0},{"$f":"'All Running Order'!AQ33","v":0},{"$f":"'All Running Order'!AR33","v":0},{"$f":"'All Running Order'!AS33","v":0},{"$f":"'All Running Order'!AT33","v":0},{"$f":"'All Running Order'!AU33","v":0},{"$f":"'All Running Order'!AV33","v":0},{"$f":"'All Running Order'!AW33","v":0},{"$f":"'All Running Order'!AX33","v":0},{"$f":"'All Running Order'!AY33","v":2000},{"$f":"'All Running Order'!AZ33","v":0},{"$f":"'All Running Order'!BA33","v":0},{"$f":"'All Running Order'!BB33","v":0},{"$f":"'All Running Order'!BC33","v":0},{"$f":"'All Running Order'!BD33","v":0},{"$f":"'All Running Order'!BE33","v":0},{"$f":"'All Running Order'!BF33","v":0},{"$f":"'All Running Order'!BG33","v":0},{"$f":"'All Running Order'!BH33","v":0},{"$f":"'All Running Order'!BI33","v":0},{"$f":"'All Running Order'!BJ33","v":0},{"$f":"'All Running Order'!BK33","v":2000},{"$f":"'All Running Order'!BL33","v":0},{"$f":"'All Running Order'!BM33","v":0},{"$f":"'All Running Order'!BN33","v":0},{"$f":"'All Running Order'!BO33","v":0},{"$f":"'All Running Order'!BP33","v":0},{"$f":"'All Running Order'!BQ33","v":0},{"$f":"'All Running Order'!BR33","v":0},{"$f":"'All Running Order'!BS33","v":0},{"$f":"'All Running Order'!BT33","v":0},{"$f":"'All Running Order'!BU33","v":0},{"$f":"'All Running Order'!BV33","v":0},{"$f":"'All Running Order'!BW33","v":2000},{"$f":"'All Running Order'!BX33","v":13},{"$f":"'All Running Order'!BY33","v":13},{"$f":"'All Running Order'!BZ33","v":13},{"$f":"'All Running Order'!CA33","v":13},{"$f":"'All Running Order'!CB33","v":13},{"$f":"'All Running Order'!CC33","v":13},{"$f":"'All Running Order'!CD33","v":13},{"$f":"'All Running Order'!CE33","v":13},{"$f":"'All Running Order'!CF33","v":13},{"$f":"'All Running Order'!CG33","v":13},{"$f":"'All Running Order'!CH33","v":"-"},{"$f":"'All Running Order'!CI33","v":""},{"$f":"'All Running Order'!CJ33","v":"-"},{"$f":"'All Running Order'!CK33","v":""},{"$f":"'All Running Order'!CL33","v":"-"},{"$f":"'All Running Order'!CM33","v":""},{"$f":"'All Running Order'!CN33","v":"-"},{"$f":"'All Running Order'!CO33","v":""},{"$f":"'All Running Order'!CP33","v":"-"},{"$f":"'All Running Order'!CQ33","v":""},{"$f":"'All Running Order'!CR33","v":"-"},{"$f":"'All Running Order'!CS33","v":""},{"$f":"'All Running Order'!CT33","v":"-"},{"$f":"'All Running Order'!CU33","v":" "},{"$f":"'All Running Order'!CV33","v":"-"},{"$f":"'All Running Order'!CW33","v":" "},{"$f":"'All Running Order'!CX33","v":" "}]
["0 ",{"$f":"'All Running Order'!B34","v":30},{"$f":"'All Running Order'!C34","v":0},{"$f":"'All Running Order'!D34","v":0},{"$f":"'All Running Order'!E34","v":0},{"$f":"'All Running Order'!F34","v":0},{"$f":"'All Running Order'!G34","v":0},{"$f":"'All Running Order'!I34","v":0},{"$f":"'All Running Order'!J34","v":0},{"$f":"'All Running Order'!K34","v":0},null,{"$f":"'All Running Order'!N34","v":0},{"$f":"'All Running Order'!P34","v":0},{"$f":"'All Running Order'!Q34","v":0},{"$f":"'All Running Order'!R34","v":0},{"$f":"'All Running Order'!S34","v":0},{"$f":"'All Running Order'!T34","v":0},{"$f":"'All Running Order'!U34","v":0},{"$f":"'All Running Order'!V34","v":0},{"$f":"'All Running Order'!W34","v":0},{"$f":"'All Running Order'!X34","v":0},{"$f":"'All Running Order'!Y34","v":0},{"$f":"'All Running Order'!Z34","v":0},{"$f":"'All Running Order'!AA34","v":2000},{"$f":"'All Running Order'!AB34","v":0},{"$f":"'All Running Order'!AC34","v":0},{"$f":"'All Running Order'!AD34","v":0},{"$f":"'All Running Order'!AE34","v":0},{"$f":"'All Running Order'!AF34","v":0},{"$f":"'All Running Order'!AG34","v":0},{"$f":"'All Running Order'!AH34","v":0},{"$f":"'All Running Order'!AI34","v":0},{"$f":"'All Running Order'!AJ34","v":0},{"$f":"'All Running Order'!AK34","v":0},{"$f":"'All Running Order'!AL34","v":0},{"$f":"'All Running Order'!AM34","v":2000},{"$f":"'All Running Order'!AN34","v":0},{"$f":"'All Running Order'!AO34","v":0},{"$f":"'All Running Order'!AP34","v":0},{"$f":"'All Running Order'!AQ34","v":0},{"$f":"'All Running Order'!AR34","v":0},{"$f":"'All Running Order'!AS34","v":0},{"$f":"'All Running Order'!AT34","v":0},{"$f":"'All Running Order'!AU34","v":0},{"$f":"'All Running Order'!AV34","v":0},{"$f":"'All Running Order'!AW34","v":0},{"$f":"'All Running Order'!AX34","v":0},{"$f":"'All Running Order'!AY34","v":2000},{"$f":"'All Running Order'!AZ34","v":0},{"$f":"'All Running Order'!BA34","v":0},{"$f":"'All Running Order'!BB34","v":0},{"$f":"'All Running Order'!BC34","v":0},{"$f":"'All Running Order'!BD34","v":0},{"$f":"'All Running Order'!BE34","v":0},{"$f":"'All Running Order'!BF34","v":0},{"$f":"'All Running Order'!BG34","v":0},{"$f":"'All Running Order'!BH34","v":0},{"$f":"'All Running Order'!BI34","v":0},{"$f":"'All Running Order'!BJ34","v":0},{"$f":"'All Running Order'!BK34","v":2000},{"$f":"'All Running Order'!BL34","v":0},{"$f":"'All Running Order'!BM34","v":0},{"$f":"'All Running Order'!BN34","v":0},{"$f":"'All Running Order'!BO34","v":0},{"$f":"'All Running Order'!BP34","v":0},{"$f":"'All Running Order'!BQ34","v":0},{"$f":"'All Running Order'!BR34","v":0},{"$f":"'All Running Order'!BS34","v":0},{"$f":"'All Running Order'!BT34","v":0},{"$f":"'All Running Order'!BU34","v":0},{"$f":"'All Running Order'!BV34","v":0},{"$f":"'All Running Order'!BW34","v":2000},{"$f":"'All Running Order'!BX34","v":13},{"$f":"'All Running Order'!BY34","v":13},{"$f":"'All Running Order'!BZ34","v":13},{"$f":"'All Running Order'!CA34","v":13},{"$f":"'All Running Order'!CB34","v":13},{"$f":"'All Running Order'!CC34","v":13},{"$f":"'All Running Order'!CD34","v":13},{"$f":"'All Running Order'!CE34","v":13},{"$f":"'All Running Order'!CF34","v":13},{"$f":"'All Running Order'!CG34","v":13},{"$f":"'All Running Order'!CH34","v":"-"},{"$f":"'All Running Order'!CI34","v":""},{"$f":"'All Running Order'!CJ34","v":"-"},{"$f":"'All Running Order'!CK34","v":""},{"$f":"'All Running Order'!CL34","v":"-"},{"$f":"'All Running Order'!CM34","v":""},{"$f":"'All Running Order'!CN34","v":"-"},{"$f":"'All Running Order'!CO34","v":""},{"$f":"'All Running Order'!CP34","v":"-"},{"$f":"'All Running Order'!CQ34","v":""},{"$f":"'All Running Order'!CR34","v":"-"},{"$f":"'All Running Order'!CS34","v":""},{"$f":"'All Running Order'!CT34","v":"-"},{"$f":"'All Running Order'!CU34","v":" "},{"$f":"'All Running Order'!CV34","v":"-"},{"$f":"'All Running Order'!CW34","v":" "},{"$f":"'All Running Order'!CX34","v":" "}]
["0 ",{"$f":"'All Running Order'!B35","v":31},{"$f":"'All Running Order'!C35","v":0},{"$f":"'All Running Order'!D35","v":0},{"$f":"'All Running Order'!E35","v":0},{"$f":"'All Running Order'!F35","v":0},{"$f":"'All Running Order'!G35","v":0},{"$f":"'All Running Order'!I35","v":0},{"$f":"'All Running Order'!J35","v":0},{"$f":"'All Running Order'!K35","v":0},null,{"$f":"'All Running Order'!N35","v":0},{"$f":"'All Running Order'!P35","v":0},{"$f":"'All Running Order'!Q35","v":0},{"$f":"'All Running Order'!R35","v":0},{"$f":"'All Running Order'!S35","v":0},{"$f":"'All Running Order'!T35","v":0},{"$f":"'All Running Order'!U35","v":0},{"$f":"'All Running Order'!V35","v":0},{"$f":"'All Running Order'!W35","v":0},{"$f":"'All Running Order'!X35","v":0},{"$f":"'All Running Order'!Y35","v":0},{"$f":"'All Running Order'!Z35","v":0},{"$f":"'All Running Order'!AA35","v":2000},{"$f":"'All Running Order'!AB35","v":0},{"$f":"'All Running Order'!AC35","v":0},{"$f":"'All Running Order'!AD35","v":0},{"$f":"'All Running Order'!AE35","v":0},{"$f":"'All Running Order'!AF35","v":0},{"$f":"'All Running Order'!AG35","v":0},{"$f":"'All Running Order'!AH35","v":0},{"$f":"'All Running Order'!AI35","v":0},{"$f":"'All Running Order'!AJ35","v":0},{"$f":"'All Running Order'!AK35","v":0},{"$f":"'All Running Order'!AL35","v":0},{"$f":"'All Running Order'!AM35","v":2000},{"$f":"'All Running Order'!AN35","v":0},{"$f":"'All Running Order'!AO35","v":0},{"$f":"'All Running Order'!AP35","v":0},{"$f":"'All Running Order'!AQ35","v":0},{"$f":"'All Running Order'!AR35","v":0},{"$f":"'All Running Order'!AS35","v":0},{"$f":"'All Running Order'!AT35","v":0},{"$f":"'All Running Order'!AU35","v":0},{"$f":"'All Running Order'!AV35","v":0},{"$f":"'All Running Order'!AW35","v":0},{"$f":"'All Running Order'!AX35","v":0},{"$f":"'All Running Order'!AY35","v":2000},{"$f":"'All Running Order'!AZ35","v":0},{"$f":"'All Running Order'!BA35","v":0},{"$f":"'All Running Order'!BB35","v":0},{"$f":"'All Running Order'!BC35","v":0},{"$f":"'All Running Order'!BD35","v":0},{"$f":"'All Running Order'!BE35","v":0},{"$f":"'All Running Order'!BF35","v":0},{"$f":"'All Running Order'!BG35","v":0},{"$f":"'All Running Order'!BH35","v":0},{"$f":"'All Running Order'!BI35","v":0},{"$f":"'All Running Order'!BJ35","v":0},{"$f":"'All Running Order'!BK35","v":2000},{"$f":"'All Running Order'!BL35","v":0},{"$f":"'All Running Order'!BM35","v":0},{"$f":"'All Running Order'!BN35","v":0},{"$f":"'All Running Order'!BO35","v":0},{"$f":"'All Running Order'!BP35","v":0},{"$f":"'All Running Order'!BQ35","v":0},{"$f":"'All Running Order'!BR35","v":0},{"$f":"'All Running Order'!BS35","v":0},{"$f":"'All Running Order'!BT35","v":0},{"$f":"'All Running Order'!BU35","v":0},{"$f":"'All Running Order'!BV35","v":0},{"$f":"'All Running Order'!BW35","v":2000},{"$f":"'All Running Order'!BX35","v":13},{"$f":"'All Running Order'!BY35","v":13},{"$f":"'All Running Order'!BZ35","v":13},{"$f":"'All Running Order'!CA35","v":13},{"$f":"'All Running Order'!CB35","v":13},{"$f":"'All Running Order'!CC35","v":13},{"$f":"'All Running Order'!CD35","v":13},{"$f":"'All Running Order'!CE35","v":13},{"$f":"'All Running Order'!CF35","v":13},{"$f":"'All Running Order'!CG35","v":13},{"$f":"'All Running Order'!CH35","v":"-"},{"$f":"'All Running Order'!CI35","v":""},{"$f":"'All Running Order'!CJ35","v":"-"},{"$f":"'All Running Order'!CK35","v":""},{"$f":"'All Running Order'!CL35","v":"-"},{"$f":"'All Running Order'!CM35","v":""},{"$f":"'All Running Order'!CN35","v":"-"},{"$f":"'All Running Order'!CO35","v":""},{"$f":"'All Running Order'!CP35","v":"-"},{"$f":"'All Running Order'!CQ35","v":""},{"$f":"'All Running Order'!CR35","v":"-"},{"$f":"'All Running Order'!CS35","v":""},{"$f":"'All Running Order'!CT35","v":"-"},{"$f":"'All Running Order'!CU35","v":" "},{"$f":"'All Running Order'!CV35","v":"-"},{"$f":"'All Running Order'!CW35","v":" "},{"$f":"'All Running Order'!CX35","v":" "}]
["0 ",{"$f":"'All Running Order'!B36","v":32},{"$f":"'All Running Order'!C36","v":0},{"$f":"'All Running Order'!D36","v":0},{"$f":"'All Running Order'!E36","v":0},{"$f":"'All Running Order'!F36","v":0},{"$f":"'All Running Order'!G36","v":0},{"$f":"'All Running Order'!I36","v":0},{"$f":"'All Running Order'!J36","v":0},{"$f":"'All Running Order'!K36","v":0},null,{"$f":"'All Running Order'!N36","v":0},{"$f":"'All Running Order'!P36","v":0},{"$f":"'All Running Order'!Q36","v":0},{"$f":"'All Running Order'!R36","v":0},{"$f":"'All Running Order'!S36","v":0},{"$f":"'All Running Order'!T36","v":0},{"$f":"'All Running Order'!U36","v":0},{"$f":"'All Running Order'!V36","v":0},{"$f":"'All Running Order'!W36","v":0},{"$f":"'All Running Order'!X36","v":0},{"$f":"'All Running Order'!Y36","v":0},{"$f":"'All Running Order'!Z36","v":0},{"$f":"'All Running Order'!AA36","v":2000},{"$f":"'All Running Order'!AB36","v":0},{"$f":"'All Running Order'!AC36","v":0},{"$f":"'All Running Order'!AD36","v":0},{"$f":"'All Running Order'!AE36","v":0},{"$f":"'All Running Order'!AF36","v":0},{"$f":"'All Running Order'!AG36","v":0},{"$f":"'All Running Order'!AH36","v":0},{"$f":"'All Running Order'!AI36","v":0},{"$f":"'All Running Order'!AJ36","v":0},{"$f":"'All Running Order'!AK36","v":0},{"$f":"'All Running Order'!AL36","v":0},{"$f":"'All Running Order'!AM36","v":2000},{"$f":"'All Running Order'!AN36","v":0},{"$f":"'All Running Order'!AO36","v":0},{"$f":"'All Running Order'!AP36","v":0},{"$f":"'All Running Order'!AQ36","v":0},{"$f":"'All Running Order'!AR36","v":0},{"$f":"'All Running Order'!AS36","v":0},{"$f":"'All Running Order'!AT36","v":0},{"$f":"'All Running Order'!AU36","v":0},{"$f":"'All Running Order'!AV36","v":0},{"$f":"'All Running Order'!AW36","v":0},{"$f":"'All Running Order'!AX36","v":0},{"$f":"'All Running Order'!AY36","v":2000},{"$f":"'All Running Order'!AZ36","v":0},{"$f":"'All Running Order'!BA36","v":0},{"$f":"'All Running Order'!BB36","v":0},{"$f":"'All Running Order'!BC36","v":0},{"$f":"'All Running Order'!BD36","v":0},{"$f":"'All Running Order'!BE36","v":0},{"$f":"'All Running Order'!BF36","v":0},{"$f":"'All Running Order'!BG36","v":0},{"$f":"'All Running Order'!BH36","v":0},{"$f":"'All Running Order'!BI36","v":0},{"$f":"'All Running Order'!BJ36","v":0},{"$f":"'All Running Order'!BK36","v":2000},{"$f":"'All Running Order'!BL36","v":0},{"$f":"'All Running Order'!BM36","v":0},{"$f":"'All Running Order'!BN36","v":0},{"$f":"'All Running Order'!BO36","v":0},{"$f":"'All Running Order'!BP36","v":0},{"$f":"'All Running Order'!BQ36","v":0},{"$f":"'All Running Order'!BR36","v":0},{"$f":"'All Running Order'!BS36","v":0},{"$f":"'All Running Order'!BT36","v":0},{"$f":"'All Running Order'!BU36","v":0},{"$f":"'All Running Order'!BV36","v":0},{"$f":"'All Running Order'!BW36","v":2000},{"$f":"'All Running Order'!BX36","v":13},{"$f":"'All Running Order'!BY36","v":13},{"$f":"'All Running Order'!BZ36","v":13},{"$f":"'All Running Order'!CA36","v":13},{"$f":"'All Running Order'!CB36","v":13},{"$f":"'All Running Order'!CC36","v":13},{"$f":"'All Running Order'!CD36","v":13},{"$f":"'All Running Order'!CE36","v":13},{"$f":"'All Running Order'!CF36","v":13},{"$f":"'All Running Order'!CG36","v":13},{"$f":"'All Running Order'!CH36","v":"-"},{"$f":"'All Running Order'!CI36","v":""},{"$f":"'All Running Order'!CJ36","v":"-"},{"$f":"'All Running Order'!CK36","v":""},{"$f":"'All Running Order'!CL36","v":"-"},{"$f":"'All Running Order'!CM36","v":""},{"$f":"'All Running Order'!CN36","v":"-"},{"$f":"'All Running Order'!CO36","v":""},{"$f":"'All Running Order'!CP36","v":"-"},{"$f":"'All Running Order'!CQ36","v":""},{"$f":"'All Running Order'!CR36","v":"-"},{"$f":"'All Running Order'!CS36","v":""},{"$f":"'All Running Order'!CT36","v":"-"},{"$f":"'All Running Order'!CU36","v":" "},{"$f":"'All Running Order'!CV36","v":"-"},{"$f":"'All Running Order'!CW36","v":" "},{"$f":"'All Running Order'!CX36","v":" "}]
["0 ",{"$f":"'All Running Order'!B37","v":33},{"$f":"'All Running Order'!C37","v":0},{"$f":"'All Running Order'!D37","v":0},{"$f":"'All Running Order'!E37","v":0},{"$f":"'All Running Order'!F37","v":0},{"$f":"'All Running Order'!G37","v":0},{"$f":"'All Running Order'!I37","v":0},{"$f":"'All Running Order'!J37","v":0},{"$f":"'All Running Order'!K37","v":0},null,{"$f":"'All Running Order'!N37","v":0},{"$f":"'All Running Order'!P37","v":0},{"$f":"'All Running Order'!Q37","v":0},{"$f":"'All Running Order'!R37","v":0},{"$f":"'All Running Order'!S37","v":0},{"$f":"'All Running Order'!T37","v":0},{"$f":"'All Running Order'!U37","v":0},{"$f":"'All Running Order'!V37","v":0},{"$f":"'All Running Order'!W37","v":0},{"$f":"'All Running Order'!X37","v":0},{"$f":"'All Running Order'!Y37","v":0},{"$f":"'All Running Order'!Z37","v":0},{"$f":"'All Running Order'!AA37","v":2000},{"$f":"'All Running Order'!AB37","v":0},{"$f":"'All Running Order'!AC37","v":0},{"$f":"'All Running Order'!AD37","v":0},{"$f":"'All Running Order'!AE37","v":0},{"$f":"'All Running Order'!AF37","v":0},{"$f":"'All Running Order'!AG37","v":0},{"$f":"'All Running Order'!AH37","v":0},{"$f":"'All Running Order'!AI37","v":0},{"$f":"'All Running Order'!AJ37","v":0},{"$f":"'All Running Order'!AK37","v":0},{"$f":"'All Running Order'!AL37","v":0},{"$f":"'All Running Order'!AM37","v":2000},{"$f":"'All Running Order'!AN37","v":0},{"$f":"'All Running Order'!AO37","v":0},{"$f":"'All Running Order'!AP37","v":0},{"$f":"'All Running Order'!AQ37","v":0},{"$f":"'All Running Order'!AR37","v":0},{"$f":"'All Running Order'!AS37","v":0},{"$f":"'All Running Order'!AT37","v":0},{"$f":"'All Running Order'!AU37","v":0},{"$f":"'All Running Order'!AV37","v":0},{"$f":"'All Running Order'!AW37","v":0},{"$f":"'All Running Order'!AX37","v":0},{"$f":"'All Running Order'!AY37","v":2000},{"$f":"'All Running Order'!AZ37","v":0},{"$f":"'All Running Order'!BA37","v":0},{"$f":"'All Running Order'!BB37","v":0},{"$f":"'All Running Order'!BC37","v":0},{"$f":"'All Running Order'!BD37","v":0},{"$f":"'All Running Order'!BE37","v":0},{"$f":"'All Running Order'!BF37","v":0},{"$f":"'All Running Order'!BG37","v":0},{"$f":"'All Running Order'!BH37","v":0},{"$f":"'All Running Order'!BI37","v":0},{"$f":"'All Running Order'!BJ37","v":0},{"$f":"'All Running Order'!BK37","v":2000},{"$f":"'All Running Order'!BL37","v":0},{"$f":"'All Running Order'!BM37","v":0},{"$f":"'All Running Order'!BN37","v":0},{"$f":"'All Running Order'!BO37","v":0},{"$f":"'All Running Order'!BP37","v":0},{"$f":"'All Running Order'!BQ37","v":0},{"$f":"'All Running Order'!BR37","v":0},{"$f":"'All Running Order'!BS37","v":0},{"$f":"'All Running Order'!BT37","v":0},{"$f":"'All Running Order'!BU37","v":0},{"$f":"'All Running Order'!BV37","v":0},{"$f":"'All Running Order'!BW37","v":2000},{"$f":"'All Running Order'!BX37","v":13},{"$f":"'All Running Order'!BY37","v":13},{"$f":"'All Running Order'!BZ37","v":13},{"$f":"'All Running Order'!CA37","v":13},{"$f":"'All Running Order'!CB37","v":13},{"$f":"'All Running Order'!CC37","v":13},{"$f":"'All Running Order'!CD37","v":13},{"$f":"'All Running Order'!CE37","v":13},{"$f":"'All Running Order'!CF37","v":13},{"$f":"'All Running Order'!CG37","v":13},{"$f":"'All Running Order'!CH37","v":"-"},{"$f":"'All Running Order'!CI37","v":""},{"$f":"'All Running Order'!CJ37","v":"-"},{"$f":"'All Running Order'!CK37","v":""},{"$f":"'All Running Order'!CL37","v":"-"},{"$f":"'All Running Order'!CM37","v":""},{"$f":"'All Running Order'!CN37","v":"-"},{"$f":"'All Running Order'!CO37","v":""},{"$f":"'All Running Order'!CP37","v":"-"},{"$f":"'All Running Order'!CQ37","v":""},{"$f":"'All Running Order'!CR37","v":"-"},{"$f":"'All Running Order'!CS37","v":""},{"$f":"'All Running Order'!CT37","v":"-"},{"$f":"'All Running Order'!CU37","v":" "},{"$f":"'All Running Order'!CV37","v":"-"},{"$f":"'All Running Order'!CW37","v":" "},{"$f":"'All Running Order'!CX37","v":" "}]
[{"$f":"CONCATENATE(M36,CU36)","v":"0 "},{"$f":"'All Running Order'!B38","v":34},{"$f":"'All Running Order'!C38","v":0},{"$f":"'All Running Order'!D38","v":0},{"$f":"'All Running Order'!E38","v":0},{"$f":"'All Running Order'!F38","v":0},{"$f":"'All Running Order'!G38","v":0},{"$f":"'All Running Order'!I38","v":0},{"$f":"'All Running Order'!J38","v":0},{"$f":"'All Running Order'!K38","v":0},null,{"$f":"'All Running Order'!N38","v":0},{"$f":"'All Running Order'!P38","v":0},{"$f":"'All Running Order'!Q38","v":0},{"$f":"'All Running Order'!R38","v":0},{"$f":"'All Running Order'!S38","v":0},{"$f":"'All Running Order'!T38","v":0},{"$f":"'All Running Order'!U38","v":0},{"$f":"'All Running Order'!V38","v":0},{"$f":"'All Running Order'!W38","v":0},{"$f":"'All Running Order'!X38","v":0},{"$f":"'All Running Order'!Y38","v":0},{"$f":"'All Running Order'!Z38","v":0},{"$f":"'All Running Order'!AA38","v":2000},{"$f":"'All Running Order'!AB38","v":0},{"$f":"'All Running Order'!AC38","v":0},{"$f":"'All Running Order'!AD38","v":0},{"$f":"'All Running Order'!AE38","v":0},{"$f":"'All Running Order'!AF38","v":0},{"$f":"'All Running Order'!AG38","v":0},{"$f":"'All Running Order'!AH38","v":0},{"$f":"'All Running Order'!AI38","v":0},{"$f":"'All Running Order'!AJ38","v":0},{"$f":"'All Running Order'!AK38","v":0},{"$f":"'All Running Order'!AL38","v":0},{"$f":"'All Running Order'!AM38","v":2000},{"$f":"'All Running Order'!AN38","v":0},{"$f":"'All Running Order'!AO38","v":0},{"$f":"'All Running Order'!AP38","v":0},{"$f":"'All Running Order'!AQ38","v":0},{"$f":"'All Running Order'!AR38","v":0},{"$f":"'All Running Order'!AS38","v":0},{"$f":"'All Running Order'!AT38","v":0},{"$f":"'All Running Order'!AU38","v":0},{"$f":"'All Running Order'!AV38","v":0},{"$f":"'All Running Order'!AW38","v":0},{"$f":"'All Running Order'!AX38","v":0},{"$f":"'All Running Order'!AY38","v":2000},{"$f":"'All Running Order'!AZ38","v":0},{"$f":"'All Running Order'!BA38","v":0},{"$f":"'All Running Order'!BB38","v":0},{"$f":"'All Running Order'!BC38","v":0},{"$f":"'All Running Order'!BD38","v":0},{"$f":"'All Running Order'!BE38","v":0},{"$f":"'All Running Order'!BF38","v":0},{"$f":"'All Running Order'!BG38","v":0},{"$f":"'All Running Order'!BH38","v":0},{"$f":"'All Running Order'!BI38","v":0},{"$f":"'All Running Order'!BJ38","v":0},{"$f":"'All Running Order'!BK38","v":2000},{"$f":"'All Running Order'!BL38","v":0},{"$f":"'All Running Order'!BM38","v":0},{"$f":"'All Running Order'!BN38","v":0},{"$f":"'All Running Order'!BO38","v":0},{"$f":"'All Running Order'!BP38","v":0},{"$f":"'All Running Order'!BQ38","v":0},{"$f":"'All Running Order'!BR38","v":0},{"$f":"'All Running Order'!BS38","v":0},{"$f":"'All Running Order'!BT38","v":0},{"$f":"'All Running Order'!BU38","v":0},{"$f":"'All Running Order'!BV38","v":0},{"$f":"'All Running Order'!BW38","v":2000},{"$f":"'All Running Order'!BX38","v":13},{"$f":"'All Running Order'!BY38","v":13},{"$f":"'All Running Order'!BZ38","v":13},{"$f":"'All Running Order'!CA38","v":13},{"$f":"'All Running Order'!CB38","v":13},{"$f":"'All Running Order'!CC38","v":13},{"$f":"'All Running Order'!CD38","v":13},{"$f":"'All Running Order'!CE38","v":13},{"$f":"'All Running Order'!CF38","v":13},{"$f":"'All Running Order'!CG38","v":13},{"$f":"'All Running Order'!CH38","v":"-"},{"$f":"'All Running Order'!CI38","v":""},{"$f":"'All Running Order'!CJ38","v":"-"},{"$f":"'All Running Order'!CK38","v":""},{"$f":"'All Running Order'!CL38","v":"-"},{"$f":"'All Running Order'!CM38","v":""},{"$f":"'All Running Order'!CN38","v":"-"},{"$f":"'All Running Order'!CO38","v":""},{"$f":"'All Running Order'!CP38","v":"-"},{"$f":"'All Running Order'!CQ38","v":""},{"$f":"'All Running Order'!CR38","v":"-"},{"$f":"'All Running Order'!CS38","v":""},{"$f":"'All Running Order'!CT38","v":"-"},{"$f":"'All Running Order'!CU38","v":" "},{"$f":"'All Running Order'!CV38","v":"-"},{"$f":"'All Running Order'!CW38","v":" "},{"$f":"'All Running Order'!CX38","v":" "}]
["0 ",{"$f":"'All Running Order'!B39","v":35},{"$f":"'All Running Order'!C39","v":0},{"$f":"'All Running Order'!D39","v":0},{"$f":"'All Running Order'!E39","v":0},{"$f":"'All Running Order'!F39","v":0},{"$f":"'All Running Order'!G39","v":0},{"$f":"'All Running Order'!I39","v":0},{"$f":"'All Running Order'!J39","v":0},{"$f":"'All Running Order'!K39","v":0},null,{"$f":"'All Running Order'!N39","v":0},{"$f":"'All Running Order'!P39","v":0},{"$f":"'All Running Order'!Q39","v":0},{"$f":"'All Running Order'!R39","v":0},{"$f":"'All Running Order'!S39","v":0},{"$f":"'All Running Order'!T39","v":0},{"$f":"'All Running Order'!U39","v":0},{"$f":"'All Running Order'!V39","v":0},{"$f":"'All Running Order'!W39","v":0},{"$f":"'All Running Order'!X39","v":0},{"$f":"'All Running Order'!Y39","v":0},{"$f":"'All Running Order'!Z39","v":0},{"$f":"'All Running Order'!AA39","v":2000},{"$f":"'All Running Order'!AB39","v":0},{"$f":"'All Running Order'!AC39","v":0},{"$f":"'All Running Order'!AD39","v":0},{"$f":"'All Running Order'!AE39","v":0},{"$f":"'All Running Order'!AF39","v":0},{"$f":"'All Running Order'!AG39","v":0},{"$f":"'All Running Order'!AH39","v":0},{"$f":"'All Running Order'!AI39","v":0},{"$f":"'All Running Order'!AJ39","v":0},{"$f":"'All Running Order'!AK39","v":0},{"$f":"'All Running Order'!AL39","v":0},{"$f":"'All Running Order'!AM39","v":2000},{"$f":"'All Running Order'!AN39","v":0},{"$f":"'All Running Order'!AO39","v":0},{"$f":"'All Running Order'!AP39","v":0},{"$f":"'All Running Order'!AQ39","v":0},{"$f":"'All Running Order'!AR39","v":0},{"$f":"'All Running Order'!AS39","v":0},{"$f":"'All Running Order'!AT39","v":0},{"$f":"'All Running Order'!AU39","v":0},{"$f":"'All Running Order'!AV39","v":0},{"$f":"'All Running Order'!AW39","v":0},{"$f":"'All Running Order'!AX39","v":0},{"$f":"'All Running Order'!AY39","v":2000},{"$f":"'All Running Order'!AZ39","v":0},{"$f":"'All Running Order'!BA39","v":0},{"$f":"'All Running Order'!BB39","v":0},{"$f":"'All Running Order'!BC39","v":0},{"$f":"'All Running Order'!BD39","v":0},{"$f":"'All Running Order'!BE39","v":0},{"$f":"'All Running Order'!BF39","v":0},{"$f":"'All Running Order'!BG39","v":0},{"$f":"'All Running Order'!BH39","v":0},{"$f":"'All Running Order'!BI39","v":0},{"$f":"'All Running Order'!BJ39","v":0},{"$f":"'All Running Order'!BK39","v":2000},{"$f":"'All Running Order'!BL39","v":0},{"$f":"'All Running Order'!BM39","v":0},{"$f":"'All Running Order'!BN39","v":0},{"$f":"'All Running Order'!BO39","v":0},{"$f":"'All Running Order'!BP39","v":0},{"$f":"'All Running Order'!BQ39","v":0},{"$f":"'All Running Order'!BR39","v":0},{"$f":"'All Running Order'!BS39","v":0},{"$f":"'All Running Order'!BT39","v":0},{"$f":"'All Running Order'!BU39","v":0},{"$f":"'All Running Order'!BV39","v":0},{"$f":"'All Running Order'!BW39","v":2000},{"$f":"'All Running Order'!BX39","v":13},{"$f":"'All Running Order'!BY39","v":13},{"$f":"'All Running Order'!BZ39","v":13},{"$f":"'All Running Order'!CA39","v":13},{"$f":"'All Running Order'!CB39","v":13},{"$f":"'All Running Order'!CC39","v":13},{"$f":"'All Running Order'!CD39","v":13},{"$f":"'All Running Order'!CE39","v":13},{"$f":"'All Running Order'!CF39","v":13},{"$f":"'All Running Order'!CG39","v":13},{"$f":"'All Running Order'!CH39","v":"-"},{"$f":"'All Running Order'!CI39","v":""},{"$f":"'All Running Order'!CJ39","v":"-"},{"$f":"'All Running Order'!CK39","v":""},{"$f":"'All Running Order'!CL39","v":"-"},{"$f":"'All Running Order'!CM39","v":""},{"$f":"'All Running Order'!CN39","v":"-"},{"$f":"'All Running Order'!CO39","v":""},{"$f":"'All Running Order'!CP39","v":"-"},{"$f":"'All Running Order'!CQ39","v":""},{"$f":"'All Running Order'!CR39","v":"-"},{"$f":"'All Running Order'!CS39","v":""},{"$f":"'All Running Order'!CT39","v":"-"},{"$f":"'All Running Order'!CU39","v":" "},{"$f":"'All Running Order'!CV39","v":"-"},{"$f":"'All Running Order'!CW39","v":" "},{"$f":"'All Running Order'!CX39","v":" "}]
["0 ",{"$f":"'All Running Order'!B40","v":36},{"$f":"'All Running Order'!C40","v":0},{"$f":"'All Running Order'!D40","v":0},{"$f":"'All Running Order'!E40","v":0},{"$f":"'All Running Order'!F40","v":0},{"$f":"'All Running Order'!G40","v":0},{"$f":"'All Running Order'!I40","v":0},{"$f":"'All Running Order'!J40","v":0},{"$f":"'All Running Order'!K40","v":0},null,{"$f":"'All Running Order'!N40","v":0},{"$f":"'All Running Order'!P40","v":0},{"$f":"'All Running Order'!Q40","v":0},{"$f":"'All Running Order'!R40","v":0},{"$f":"'All Running Order'!S40","v":0},{"$f":"'All Running Order'!T40","v":0},{"$f":"'All Running Order'!U40","v":0},{"$f":"'All Running Order'!V40","v":0},{"$f":"'All Running Order'!W40","v":0},{"$f":"'All Running Order'!X40","v":0},{"$f":"'All Running Order'!Y40","v":0},{"$f":"'All Running Order'!Z40","v":0},{"$f":"'All Running Order'!AA40","v":2000},{"$f":"'All Running Order'!AB40","v":0},{"$f":"'All Running Order'!AC40","v":0},{"$f":"'All Running Order'!AD40","v":0},{"$f":"'All Running Order'!AE40","v":0},{"$f":"'All Running Order'!AF40","v":0},{"$f":"'All Running Order'!AG40","v":0},{"$f":"'All Running Order'!AH40","v":0},{"$f":"'All Running Order'!AI40","v":0},{"$f":"'All Running Order'!AJ40","v":0},{"$f":"'All Running Order'!AK40","v":0},{"$f":"'All Running Order'!AL40","v":0},{"$f":"'All Running Order'!AM40","v":2000},{"$f":"'All Running Order'!AN40","v":0},{"$f":"'All Running Order'!AO40","v":0},{"$f":"'All Running Order'!AP40","v":0},{"$f":"'All Running Order'!AQ40","v":0},{"$f":"'All Running Order'!AR40","v":0},{"$f":"'All Running Order'!AS40","v":0},{"$f":"'All Running Order'!AT40","v":0},{"$f":"'All Running Order'!AU40","v":0},{"$f":"'All Running Order'!AV40","v":0},{"$f":"'All Running Order'!AW40","v":0},{"$f":"'All Running Order'!AX40","v":0},{"$f":"'All Running Order'!AY40","v":2000},{"$f":"'All Running Order'!AZ40","v":0},{"$f":"'All Running Order'!BA40","v":0},{"$f":"'All Running Order'!BB40","v":0},{"$f":"'All Running Order'!BC40","v":0},{"$f":"'All Running Order'!BD40","v":0},{"$f":"'All Running Order'!BE40","v":0},{"$f":"'All Running Order'!BF40","v":0},{"$f":"'All Running Order'!BG40","v":0},{"$f":"'All Running Order'!BH40","v":0},{"$f":"'All Running Order'!BI40","v":0},{"$f":"'All Running Order'!BJ40","v":0},{"$f":"'All Running Order'!BK40","v":2000},{"$f":"'All Running Order'!BL40","v":0},{"$f":"'All Running Order'!BM40","v":0},{"$f":"'All Running Order'!BN40","v":0},{"$f":"'All Running Order'!BO40","v":0},{"$f":"'All Running Order'!BP40","v":0},{"$f":"'All Running Order'!BQ40","v":0},{"$f":"'All Running Order'!BR40","v":0},{"$f":"'All Running Order'!BS40","v":0},{"$f":"'All Running Order'!BT40","v":0},{"$f":"'All Running Order'!BU40","v":0},{"$f":"'All Running Order'!BV40","v":0},{"$f":"'All Running Order'!BW40","v":2000},{"$f":"'All Running Order'!BX40","v":13},{"$f":"'All Running Order'!BY40","v":13},{"$f":"'All Running Order'!BZ40","v":13},{"$f":"'All Running Order'!CA40","v":13},{"$f":"'All Running Order'!CB40","v":13},{"$f":"'All Running Order'!CC40","v":13},{"$f":"'All Running Order'!CD40","v":13},{"$f":"'All Running Order'!CE40","v":13},{"$f":"'All Running Order'!CF40","v":13},{"$f":"'All Running Order'!CG40","v":13},{"$f":"'All Running Order'!CH40","v":"-"},{"$f":"'All Running Order'!CI40","v":""},{"$f":"'All Running Order'!CJ40","v":"-"},{"$f":"'All Running Order'!CK40","v":""},{"$f":"'All Running Order'!CL40","v":"-"},{"$f":"'All Running Order'!CM40","v":""},{"$f":"'All Running Order'!CN40","v":"-"},{"$f":"'All Running Order'!CO40","v":""},{"$f":"'All Running Order'!CP40","v":"-"},{"$f":"'All Running Order'!CQ40","v":""},{"$f":"'All Running Order'!CR40","v":"-"},{"$f":"'All Running Order'!CS40","v":""},{"$f":"'All Running Order'!CT40","v":"-"},{"$f":"'All Running Order'!CU40","v":" "},{"$f":"'All Running Order'!CV40","v":"-"},{"$f":"'All Running Order'!CW40","v":" "},{"$f":"'All Running Order'!CX40","v":" "}]
["0 ",{"$f":"'All Running Order'!B41","v":37},{"$f":"'All Running Order'!C41","v":0},{"$f":"'All Running Order'!D41","v":0},{"$f":"'All Running Order'!E41","v":0},{"$f":"'All Running Order'!F41","v":0},{"$f":"'All Running Order'!G41","v":0},{"$f":"'All Running Order'!I41","v":0},{"$f":"'All Running Order'!J41","v":0},{"$f":"'All Running Order'!K41","v":0},null,{"$f":"'All Running Order'!N41","v":0},{"$f":"'All Running Order'!P41","v":0},{"$f":"'All Running Order'!Q41","v":0},{"$f":"'All Running Order'!R41","v":0},{"$f":"'All Running Order'!S41","v":0},{"$f":"'All Running Order'!T41","v":0},{"$f":"'All Running Order'!U41","v":0},{"$f":"'All Running Order'!V41","v":0},{"$f":"'All Running Order'!W41","v":0},{"$f":"'All Running Order'!X41","v":0},{"$f":"'All Running Order'!Y41","v":0},{"$f":"'All Running Order'!Z41","v":0},{"$f":"'All Running Order'!AA41","v":2000},{"$f":"'All Running Order'!AB41","v":0},{"$f":"'All Running Order'!AC41","v":0},{"$f":"'All Running Order'!AD41","v":0},{"$f":"'All Running Order'!AE41","v":0},{"$f":"'All Running Order'!AF41","v":0},{"$f":"'All Running Order'!AG41","v":0},{"$f":"'All Running Order'!AH41","v":0},{"$f":"'All Running Order'!AI41","v":0},{"$f":"'All Running Order'!AJ41","v":0},{"$f":"'All Running Order'!AK41","v":0},{"$f":"'All Running Order'!AL41","v":0},{"$f":"'All Running Order'!AM41","v":2000},{"$f":"'All Running Order'!AN41","v":0},{"$f":"'All Running Order'!AO41","v":0},{"$f":"'All Running Order'!AP41","v":0},{"$f":"'All Running Order'!AQ41","v":0},{"$f":"'All Running Order'!AR41","v":0},{"$f":"'All Running Order'!AS41","v":0},{"$f":"'All Running Order'!AT41","v":0},{"$f":"'All Running Order'!AU41","v":0},{"$f":"'All Running Order'!AV41","v":0},{"$f":"'All Running Order'!AW41","v":0},{"$f":"'All Running Order'!AX41","v":0},{"$f":"'All Running Order'!AY41","v":2000},{"$f":"'All Running Order'!AZ41","v":0},{"$f":"'All Running Order'!BA41","v":0},{"$f":"'All Running Order'!BB41","v":0},{"$f":"'All Running Order'!BC41","v":0},{"$f":"'All Running Order'!BD41","v":0},{"$f":"'All Running Order'!BE41","v":0},{"$f":"'All Running Order'!BF41","v":0},{"$f":"'All Running Order'!BG41","v":0},{"$f":"'All Running Order'!BH41","v":0},{"$f":"'All Running Order'!BI41","v":0},{"$f":"'All Running Order'!BJ41","v":0},{"$f":"'All Running Order'!BK41","v":2000},{"$f":"'All Running Order'!BL41","v":0},{"$f":"'All Running Order'!BM41","v":0},{"$f":"'All Running Order'!BN41","v":0},{"$f":"'All Running Order'!BO41","v":0},{"$f":"'All Running Order'!BP41","v":0},{"$f":"'All Running Order'!BQ41","v":0},{"$f":"'All Running Order'!BR41","v":0},{"$f":"'All Running Order'!BS41","v":0},{"$f":"'All Running Order'!BT41","v":0},{"$f":"'All Running Order'!BU41","v":0},{"$f":"'All Running Order'!BV41","v":0},{"$f":"'All Running Order'!BW41","v":2000},{"$f":"'All Running Order'!BX41","v":13},{"$f":"'All Running Order'!BY41","v":13},{"$f":"'All Running Order'!BZ41","v":13},{"$f":"'All Running Order'!CA41","v":13},{"$f":"'All Running Order'!CB41","v":13},{"$f":"'All Running Order'!CC41","v":13},{"$f":"'All Running Order'!CD41","v":13},{"$f":"'All Running Order'!CE41","v":13},{"$f":"'All Running Order'!CF41","v":13},{"$f":"'All Running Order'!CG41","v":13},{"$f":"'All Running Order'!CH41","v":"-"},{"$f":"'All Running Order'!CI41","v":""},{"$f":"'All Running Order'!CJ41","v":"-"},{"$f":"'All Running Order'!CK41","v":""},{"$f":"'All Running Order'!CL41","v":"-"},{"$f":"'All Running Order'!CM41","v":""},{"$f":"'All Running Order'!CN41","v":"-"},{"$f":"'All Running Order'!CO41","v":""},{"$f":"'All Running Order'!CP41","v":"-"},{"$f":"'All Running Order'!CQ41","v":""},{"$f":"'All Running Order'!CR41","v":"-"},{"$f":"'All Running Order'!CS41","v":""},{"$f":"'All Running Order'!CT41","v":"-"},{"$f":"'All Running Order'!CU41","v":" "},{"$f":"'All Running Order'!CV41","v":"-"},{"$f":"'All Running Order'!CW41","v":" "},{"$f":"'All Running Order'!CX41","v":" "}]
["0 ",{"$f":"'All Running Order'!B42","v":38},{"$f":"'All Running Order'!C42","v":0},{"$f":"'All Running Order'!D42","v":0},{"$f":"'All Running Order'!E42","v":0},{"$f":"'All Running Order'!F42","v":0},{"$f":"'All Running Order'!G42","v":0},{"$f":"'All Running Order'!I42","v":0},{"$f":"'All Running Order'!J42","v":0},{"$f":"'All Running Order'!K42","v":0},null,{"$f":"'All Running Order'!N42","v":0},{"$f":"'All Running Order'!P42","v":0},{"$f":"'All Running Order'!Q42","v":0},{"$f":"'All Running Order'!R42","v":0},{"$f":"'All Running Order'!S42","v":0},{"$f":"'All Running Order'!T42","v":0},{"$f":"'All Running Order'!U42","v":0},{"$f":"'All Running Order'!V42","v":0},{"$f":"'All Running Order'!W42","v":0},{"$f":"'All Running Order'!X42","v":0},{"$f":"'All Running Order'!Y42","v":0},{"$f":"'All Running Order'!Z42","v":0},{"$f":"'All Running Order'!AA42","v":2000},{"$f":"'All Running Order'!AB42","v":0},{"$f":"'All Running Order'!AC42","v":0},{"$f":"'All Running Order'!AD42","v":0},{"$f":"'All Running Order'!AE42","v":0},{"$f":"'All Running Order'!AF42","v":0},{"$f":"'All Running Order'!AG42","v":0},{"$f":"'All Running Order'!AH42","v":0},{"$f":"'All Running Order'!AI42","v":0},{"$f":"'All Running Order'!AJ42","v":0},{"$f":"'All Running Order'!AK42","v":0},{"$f":"'All Running Order'!AL42","v":0},{"$f":"'All Running Order'!AM42","v":2000},{"$f":"'All Running Order'!AN42","v":0},{"$f":"'All Running Order'!AO42","v":0},{"$f":"'All Running Order'!AP42","v":0},{"$f":"'All Running Order'!AQ42","v":0},{"$f":"'All Running Order'!AR42","v":0},{"$f":"'All Running Order'!AS42","v":0},{"$f":"'All Running Order'!AT42","v":0},{"$f":"'All Running Order'!AU42","v":0},{"$f":"'All Running Order'!AV42","v":0},{"$f":"'All Running Order'!AW42","v":0},{"$f":"'All Running Order'!AX42","v":0},{"$f":"'All Running Order'!AY42","v":2000},{"$f":"'All Running Order'!AZ42","v":0},{"$f":"'All Running Order'!BA42","v":0},{"$f":"'All Running Order'!BB42","v":0},{"$f":"'All Running Order'!BC42","v":0},{"$f":"'All Running Order'!BD42","v":0},{"$f":"'All Running Order'!BE42","v":0},{"$f":"'All Running Order'!BF42","v":0},{"$f":"'All Running Order'!BG42","v":0},{"$f":"'All Running Order'!BH42","v":0},{"$f":"'All Running Order'!BI42","v":0},{"$f":"'All Running Order'!BJ42","v":0},{"$f":"'All Running Order'!BK42","v":2000},{"$f":"'All Running Order'!BL42","v":0},{"$f":"'All Running Order'!BM42","v":0},{"$f":"'All Running Order'!BN42","v":0},{"$f":"'All Running Order'!BO42","v":0},{"$f":"'All Running Order'!BP42","v":0},{"$f":"'All Running Order'!BQ42","v":0},{"$f":"'All Running Order'!BR42","v":0},{"$f":"'All Running Order'!BS42","v":0},{"$f":"'All Running Order'!BT42","v":0},{"$f":"'All Running Order'!BU42","v":0},{"$f":"'All Running Order'!BV42","v":0},{"$f":"'All Running Order'!BW42","v":2000},{"$f":"'All Running Order'!BX42","v":13},{"$f":"'All Running Order'!BY42","v":13},{"$f":"'All Running Order'!BZ42","v":13},{"$f":"'All Running Order'!CA42","v":13},{"$f":"'All Running Order'!CB42","v":13},{"$f":"'All Running Order'!CC42","v":13},{"$f":"'All Running Order'!CD42","v":13},{"$f":"'All Running Order'!CE42","v":13},{"$f":"'All Running Order'!CF42","v":13},{"$f":"'All Running Order'!CG42","v":13},{"$f":"'All Running Order'!CH42","v":"-"},{"$f":"'All Running Order'!CI42","v":""},{"$f":"'All Running Order'!CJ42","v":"-"},{"$f":"'All Running Order'!CK42","v":""},{"$f":"'All Running Order'!CL42","v":"-"},{"$f":"'All Running Order'!CM42","v":""},{"$f":"'All Running Order'!CN42","v":"-"},{"$f":"'All Running Order'!CO42","v":""},{"$f":"'All Running Order'!CP42","v":"-"},{"$f":"'All Running Order'!CQ42","v":""},{"$f":"'All Running Order'!CR42","v":"-"},{"$f":"'All Running Order'!CS42","v":""},{"$f":"'All Running Order'!CT42","v":"-"},{"$f":"'All Running Order'!CU42","v":" "},{"$f":"'All Running Order'!CV42","v":"-"},{"$f":"'All Running Order'!CW42","v":" "},{"$f":"'All Running Order'!CX42","v":" "}]
["0 ",{"$f":"'All Running Order'!B43","v":39},{"$f":"'All Running Order'!C43","v":0},{"$f":"'All Running Order'!D43","v":0},{"$f":"'All Running Order'!E43","v":0},{"$f":"'All Running Order'!F43","v":0},{"$f":"'All Running Order'!G43","v":0},{"$f":"'All Running Order'!I43","v":0},{"$f":"'All Running Order'!J43","v":0},{"$f":"'All Running Order'!K43","v":0},null,{"$f":"'All Running Order'!N43","v":0},{"$f":"'All Running Order'!P43","v":0},{"$f":"'All Running Order'!Q43","v":0},{"$f":"'All Running Order'!R43","v":0},{"$f":"'All Running Order'!S43","v":0},{"$f":"'All Running Order'!T43","v":0},{"$f":"'All Running Order'!U43","v":0},{"$f":"'All Running Order'!V43","v":0},{"$f":"'All Running Order'!W43","v":0},{"$f":"'All Running Order'!X43","v":0},{"$f":"'All Running Order'!Y43","v":0},{"$f":"'All Running Order'!Z43","v":0},{"$f":"'All Running Order'!AA43","v":2000},{"$f":"'All Running Order'!AB43","v":0},{"$f":"'All Running Order'!AC43","v":0},{"$f":"'All Running Order'!AD43","v":0},{"$f":"'All Running Order'!AE43","v":0},{"$f":"'All Running Order'!AF43","v":0},{"$f":"'All Running Order'!AG43","v":0},{"$f":"'All Running Order'!AH43","v":0},{"$f":"'All Running Order'!AI43","v":0},{"$f":"'All Running Order'!AJ43","v":0},{"$f":"'All Running Order'!AK43","v":0},{"$f":"'All Running Order'!AL43","v":0},{"$f":"'All Running Order'!AM43","v":2000},{"$f":"'All Running Order'!AN43","v":0},{"$f":"'All Running Order'!AO43","v":0},{"$f":"'All Running Order'!AP43","v":0},{"$f":"'All Running Order'!AQ43","v":0},{"$f":"'All Running Order'!AR43","v":0},{"$f":"'All Running Order'!AS43","v":0},{"$f":"'All Running Order'!AT43","v":0},{"$f":"'All Running Order'!AU43","v":0},{"$f":"'All Running Order'!AV43","v":0},{"$f":"'All Running Order'!AW43","v":0},{"$f":"'All Running Order'!AX43","v":0},{"$f":"'All Running Order'!AY43","v":2000},{"$f":"'All Running Order'!AZ43","v":0},{"$f":"'All Running Order'!BA43","v":0},{"$f":"'All Running Order'!BB43","v":0},{"$f":"'All Running Order'!BC43","v":0},{"$f":"'All Running Order'!BD43","v":0},{"$f":"'All Running Order'!BE43","v":0},{"$f":"'All Running Order'!BF43","v":0},{"$f":"'All Running Order'!BG43","v":0},{"$f":"'All Running Order'!BH43","v":0},{"$f":"'All Running Order'!BI43","v":0},{"$f":"'All Running Order'!BJ43","v":0},{"$f":"'All Running Order'!BK43","v":2000},{"$f":"'All Running Order'!BL43","v":0},{"$f":"'All Running Order'!BM43","v":0},{"$f":"'All Running Order'!BN43","v":0},{"$f":"'All Running Order'!BO43","v":0},{"$f":"'All Running Order'!BP43","v":0},{"$f":"'All Running Order'!BQ43","v":0},{"$f":"'All Running Order'!BR43","v":0},{"$f":"'All Running Order'!BS43","v":0},{"$f":"'All Running Order'!BT43","v":0},{"$f":"'All Running Order'!BU43","v":0},{"$f":"'All Running Order'!BV43","v":0},{"$f":"'All Running Order'!BW43","v":2000},{"$f":"'All Running Order'!BX43","v":13},{"$f":"'All Running Order'!BY43","v":13},{"$f":"'All Running Order'!BZ43","v":13},{"$f":"'All Running Order'!CA43","v":13},{"$f":"'All Running Order'!CB43","v":13},{"$f":"'All Running Order'!CC43","v":13},{"$f":"'All Running Order'!CD43","v":13},{"$f":"'All Running Order'!CE43","v":13},{"$f":"'All Running Order'!CF43","v":13},{"$f":"'All Running Order'!CG43","v":13},{"$f":"'All Running Order'!CH43","v":"-"},{"$f":"'All Running Order'!CI43","v":""},{"$f":"'All Running Order'!CJ43","v":"-"},{"$f":"'All Running Order'!CK43","v":""},{"$f":"'All Running Order'!CL43","v":"-"},{"$f":"'All Running Order'!CM43","v":""},{"$f":"'All Running Order'!CN43","v":"-"},{"$f":"'All Running Order'!CO43","v":""},{"$f":"'All Running Order'!CP43","v":"-"},{"$f":"'All Running Order'!CQ43","v":""},{"$f":"'All Running Order'!CR43","v":"-"},{"$f":"'All Running Order'!CS43","v":""},{"$f":"'All Running Order'!CT43","v":"-"},{"$f":"'All Running Order'!CU43","v":" "},{"$f":"'All Running Order'!CV43","v":"-"},{"$f":"'All Running Order'!CW43","v":" "},{"$f":"'All Running Order'!CX43","v":" "}]
["0 ",{"$f":"'All Running Order'!B44","v":40},{"$f":"'All Running Order'!C44","v":0},{"$f":"'All Running Order'!D44","v":0},{"$f":"'All Running Order'!E44","v":0},{"$f":"'All Running Order'!F44","v":0},{"$f":"'All Running Order'!G44","v":0},{"$f":"'All Running Order'!I44","v":0},{"$f":"'All Running Order'!J44","v":0},{"$f":"'All Running Order'!K44","v":0},null,{"$f":"'All Running Order'!N44","v":0},{"$f":"'All Running Order'!P44","v":0},{"$f":"'All Running Order'!Q44","v":0},{"$f":"'All Running Order'!R44","v":0},{"$f":"'All Running Order'!S44","v":0},{"$f":"'All Running Order'!T44","v":0},{"$f":"'All Running Order'!U44","v":0},{"$f":"'All Running Order'!V44","v":0},{"$f":"'All Running Order'!W44","v":0},{"$f":"'All Running Order'!X44","v":0},{"$f":"'All Running Order'!Y44","v":0},{"$f":"'All Running Order'!Z44","v":0},{"$f":"'All Running Order'!AA44","v":2000},{"$f":"'All Running Order'!AB44","v":0},{"$f":"'All Running Order'!AC44","v":0},{"$f":"'All Running Order'!AD44","v":0},{"$f":"'All Running Order'!AE44","v":0},{"$f":"'All Running Order'!AF44","v":0},{"$f":"'All Running Order'!AG44","v":0},{"$f":"'All Running Order'!AH44","v":0},{"$f":"'All Running Order'!AI44","v":0},{"$f":"'All Running Order'!AJ44","v":0},{"$f":"'All Running Order'!AK44","v":0},{"$f":"'All Running Order'!AL44","v":0},{"$f":"'All Running Order'!AM44","v":2000},{"$f":"'All Running Order'!AN44","v":0},{"$f":"'All Running Order'!AO44","v":0},{"$f":"'All Running Order'!AP44","v":0},{"$f":"'All Running Order'!AQ44","v":0},{"$f":"'All Running Order'!AR44","v":0},{"$f":"'All Running Order'!AS44","v":0},{"$f":"'All Running Order'!AT44","v":0},{"$f":"'All Running Order'!AU44","v":0},{"$f":"'All Running Order'!AV44","v":0},{"$f":"'All Running Order'!AW44","v":0},{"$f":"'All Running Order'!AX44","v":0},{"$f":"'All Running Order'!AY44","v":2000},{"$f":"'All Running Order'!AZ44","v":0},{"$f":"'All Running Order'!BA44","v":0},{"$f":"'All Running Order'!BB44","v":0},{"$f":"'All Running Order'!BC44","v":0},{"$f":"'All Running Order'!BD44","v":0},{"$f":"'All Running Order'!BE44","v":0},{"$f":"'All Running Order'!BF44","v":0},{"$f":"'All Running Order'!BG44","v":0},{"$f":"'All Running Order'!BH44","v":0},{"$f":"'All Running Order'!BI44","v":0},{"$f":"'All Running Order'!BJ44","v":0},{"$f":"'All Running Order'!BK44","v":2000},{"$f":"'All Running Order'!BL44","v":0},{"$f":"'All Running Order'!BM44","v":0},{"$f":"'All Running Order'!BN44","v":0},{"$f":"'All Running Order'!BO44","v":0},{"$f":"'All Running Order'!BP44","v":0},{"$f":"'All Running Order'!BQ44","v":0},{"$f":"'All Running Order'!BR44","v":0},{"$f":"'All Running Order'!BS44","v":0},{"$f":"'All Running Order'!BT44","v":0},{"$f":"'All Running Order'!BU44","v":0},{"$f":"'All Running Order'!BV44","v":0},{"$f":"'All Running Order'!BW44","v":2000},{"$f":"'All Running Order'!BX44","v":13},{"$f":"'All Running Order'!BY44","v":13},{"$f":"'All Running Order'!BZ44","v":13},{"$f":"'All Running Order'!CA44","v":13},{"$f":"'All Running Order'!CB44","v":13},{"$f":"'All Running Order'!CC44","v":13},{"$f":"'All Running Order'!CD44","v":13},{"$f":"'All Running Order'!CE44","v":13},{"$f":"'All Running Order'!CF44","v":13},{"$f":"'All Running Order'!CG44","v":13},{"$f":"'All Running Order'!CH44","v":"-"},{"$f":"'All Running Order'!CI44","v":""},{"$f":"'All Running Order'!CJ44","v":"-"},{"$f":"'All Running Order'!CK44","v":""},{"$f":"'All Running Order'!CL44","v":"-"},{"$f":"'All Running Order'!CM44","v":""},{"$f":"'All Running Order'!CN44","v":"-"},{"$f":"'All Running Order'!CO44","v":""},{"$f":"'All Running Order'!CP44","v":"-"},{"$f":"'All Running Order'!CQ44","v":""},{"$f":"'All Running Order'!CR44","v":"-"},{"$f":"'All Running Order'!CS44","v":""},{"$f":"'All Running Order'!CT44","v":"-"},{"$f":"'All Running Order'!CU44","v":" "},{"$f":"'All Running Order'!CV44","v":"-"},{"$f":"'All Running Order'!CW44","v":" "},{"$f":"'All Running Order'!CX44","v":" "}]
["0 ",{"$f":"'All Running Order'!B45","v":41},{"$f":"'All Running Order'!C45","v":0},{"$f":"'All Running Order'!D45","v":0},{"$f":"'All Running Order'!E45","v":0},{"$f":"'All Running Order'!F45","v":0},{"$f":"'All Running Order'!G45","v":0},{"$f":"'All Running Order'!I45","v":0},{"$f":"'All Running Order'!J45","v":0},{"$f":"'All Running Order'!K45","v":0},null,{"$f":"'All Running Order'!N45","v":0},{"$f":"'All Running Order'!P45","v":0},{"$f":"'All Running Order'!Q45","v":0},{"$f":"'All Running Order'!R45","v":0},{"$f":"'All Running Order'!S45","v":0},{"$f":"'All Running Order'!T45","v":0},{"$f":"'All Running Order'!U45","v":0},{"$f":"'All Running Order'!V45","v":0},{"$f":"'All Running Order'!W45","v":0},{"$f":"'All Running Order'!X45","v":0},{"$f":"'All Running Order'!Y45","v":0},{"$f":"'All Running Order'!Z45","v":0},{"$f":"'All Running Order'!AA45","v":2000},{"$f":"'All Running Order'!AB45","v":0},{"$f":"'All Running Order'!AC45","v":0},{"$f":"'All Running Order'!AD45","v":0},{"$f":"'All Running Order'!AE45","v":0},{"$f":"'All Running Order'!AF45","v":0},{"$f":"'All Running Order'!AG45","v":0},{"$f":"'All Running Order'!AH45","v":0},{"$f":"'All Running Order'!AI45","v":0},{"$f":"'All Running Order'!AJ45","v":0},{"$f":"'All Running Order'!AK45","v":0},{"$f":"'All Running Order'!AL45","v":0},{"$f":"'All Running Order'!AM45","v":2000},{"$f":"'All Running Order'!AN45","v":0},{"$f":"'All Running Order'!AO45","v":0},{"$f":"'All Running Order'!AP45","v":0},{"$f":"'All Running Order'!AQ45","v":0},{"$f":"'All Running Order'!AR45","v":0},{"$f":"'All Running Order'!AS45","v":0},{"$f":"'All Running Order'!AT45","v":0},{"$f":"'All Running Order'!AU45","v":0},{"$f":"'All Running Order'!AV45","v":0},{"$f":"'All Running Order'!AW45","v":0},{"$f":"'All Running Order'!AX45","v":0},{"$f":"'All Running Order'!AY45","v":2000},{"$f":"'All Running Order'!AZ45","v":0},{"$f":"'All Running Order'!BA45","v":0},{"$f":"'All Running Order'!BB45","v":0},{"$f":"'All Running Order'!BC45","v":0},{"$f":"'All Running Order'!BD45","v":0},{"$f":"'All Running Order'!BE45","v":0},{"$f":"'All Running Order'!BF45","v":0},{"$f":"'All Running Order'!BG45","v":0},{"$f":"'All Running Order'!BH45","v":0},{"$f":"'All Running Order'!BI45","v":0},{"$f":"'All Running Order'!BJ45","v":0},{"$f":"'All Running Order'!BK45","v":2000},{"$f":"'All Running Order'!BL45","v":0},{"$f":"'All Running Order'!BM45","v":0},{"$f":"'All Running Order'!BN45","v":0},{"$f":"'All Running Order'!BO45","v":0},{"$f":"'All Running Order'!BP45","v":0},{"$f":"'All Running Order'!BQ45","v":0},{"$f":"'All Running Order'!BR45","v":0},{"$f":"'All Running Order'!BS45","v":0},{"$f":"'All Running Order'!BT45","v":0},{"$f":"'All Running Order'!BU45","v":0},{"$f":"'All Running Order'!BV45","v":0},{"$f":"'All Running Order'!BW45","v":2000},{"$f":"'All Running Order'!BX45","v":13},{"$f":"'All Running Order'!BY45","v":13},{"$f":"'All Running Order'!BZ45","v":13},{"$f":"'All Running Order'!CA45","v":13},{"$f":"'All Running Order'!CB45","v":13},{"$f":"'All Running Order'!CC45","v":13},{"$f":"'All Running Order'!CD45","v":13},{"$f":"'All Running Order'!CE45","v":13},{"$f":"'All Running Order'!CF45","v":13},{"$f":"'All Running Order'!CG45","v":13},{"$f":"'All Running Order'!CH45","v":"-"},{"$f":"'All Running Order'!CI45","v":""},{"$f":"'All Running Order'!CJ45","v":"-"},{"$f":"'All Running Order'!CK45","v":""},{"$f":"'All Running Order'!CL45","v":"-"},{"$f":"'All Running Order'!CM45","v":""},{"$f":"'All Running Order'!CN45","v":"-"},{"$f":"'All Running Order'!CO45","v":""},{"$f":"'All Running Order'!CP45","v":"-"},{"$f":"'All Running Order'!CQ45","v":""},{"$f":"'All Running Order'!CR45","v":"-"},{"$f":"'All Running Order'!CS45","v":""},{"$f":"'All Running Order'!CT45","v":"-"},{"$f":"'All Running Order'!CU45","v":" "},{"$f":"'All Running Order'!CV45","v":"-"},{"$f":"'All Running Order'!CW45","v":" "},{"$f":"'All Running Order'!CX45","v":" "}]
["0 ",{"$f":"'All Running Order'!B46","v":42},{"$f":"'All Running Order'!C46","v":0},{"$f":"'All Running Order'!D46","v":0},{"$f":"'All Running Order'!E46","v":0},{"$f":"'All Running Order'!F46","v":0},{"$f":"'All Running Order'!G46","v":0},{"$f":"'All Running Order'!I46","v":0},{"$f":"'All Running Order'!J46","v":0},{"$f":"'All Running Order'!K46","v":0},null,{"$f":"'All Running Order'!N46","v":0},{"$f":"'All Running Order'!P46","v":0},{"$f":"'All Running Order'!Q46","v":0},{"$f":"'All Running Order'!R46","v":0},{"$f":"'All Running Order'!S46","v":0},{"$f":"'All Running Order'!T46","v":0},{"$f":"'All Running Order'!U46","v":0},{"$f":"'All Running Order'!V46","v":0},{"$f":"'All Running Order'!W46","v":0},{"$f":"'All Running Order'!X46","v":0},{"$f":"'All Running Order'!Y46","v":0},{"$f":"'All Running Order'!Z46","v":0},{"$f":"'All Running Order'!AA46","v":2000},{"$f":"'All Running Order'!AB46","v":0},{"$f":"'All Running Order'!AC46","v":0},{"$f":"'All Running Order'!AD46","v":0},{"$f":"'All Running Order'!AE46","v":0},{"$f":"'All Running Order'!AF46","v":0},{"$f":"'All Running Order'!AG46","v":0},{"$f":"'All Running Order'!AH46","v":0},{"$f":"'All Running Order'!AI46","v":0},{"$f":"'All Running Order'!AJ46","v":0},{"$f":"'All Running Order'!AK46","v":0},{"$f":"'All Running Order'!AL46","v":0},{"$f":"'All Running Order'!AM46","v":2000},{"$f":"'All Running Order'!AN46","v":0},{"$f":"'All Running Order'!AO46","v":0},{"$f":"'All Running Order'!AP46","v":0},{"$f":"'All Running Order'!AQ46","v":0},{"$f":"'All Running Order'!AR46","v":0},{"$f":"'All Running Order'!AS46","v":0},{"$f":"'All Running Order'!AT46","v":0},{"$f":"'All Running Order'!AU46","v":0},{"$f":"'All Running Order'!AV46","v":0},{"$f":"'All Running Order'!AW46","v":0},{"$f":"'All Running Order'!AX46","v":0},{"$f":"'All Running Order'!AY46","v":2000},{"$f":"'All Running Order'!AZ46","v":0},{"$f":"'All Running Order'!BA46","v":0},{"$f":"'All Running Order'!BB46","v":0},{"$f":"'All Running Order'!BC46","v":0},{"$f":"'All Running Order'!BD46","v":0},{"$f":"'All Running Order'!BE46","v":0},{"$f":"'All Running Order'!BF46","v":0},{"$f":"'All Running Order'!BG46","v":0},{"$f":"'All Running Order'!BH46","v":0},{"$f":"'All Running Order'!BI46","v":0},{"$f":"'All Running Order'!BJ46","v":0},{"$f":"'All Running Order'!BK46","v":2000},{"$f":"'All Running Order'!BL46","v":0},{"$f":"'All Running Order'!BM46","v":0},{"$f":"'All Running Order'!BN46","v":0},{"$f":"'All Running Order'!BO46","v":0},{"$f":"'All Running Order'!BP46","v":0},{"$f":"'All Running Order'!BQ46","v":0},{"$f":"'All Running Order'!BR46","v":0},{"$f":"'All Running Order'!BS46","v":0},{"$f":"'All Running Order'!BT46","v":0},{"$f":"'All Running Order'!BU46","v":0},{"$f":"'All Running Order'!BV46","v":0},{"$f":"'All Running Order'!BW46","v":2000},{"$f":"'All Running Order'!BX46","v":13},{"$f":"'All Running Order'!BY46","v":13},{"$f":"'All Running Order'!BZ46","v":13},{"$f":"'All Running Order'!CA46","v":13},{"$f":"'All Running Order'!CB46","v":13},{"$f":"'All Running Order'!CC46","v":13},{"$f":"'All Running Order'!CD46","v":13},{"$f":"'All Running Order'!CE46","v":13},{"$f":"'All Running Order'!CF46","v":13},{"$f":"'All Running Order'!CG46","v":13},{"$f":"'All Running Order'!CH46","v":"-"},{"$f":"'All Running Order'!CI46","v":""},{"$f":"'All Running Order'!CJ46","v":"-"},{"$f":"'All Running Order'!CK46","v":""},{"$f":"'All Running Order'!CL46","v":"-"},{"$f":"'All Running Order'!CM46","v":""},{"$f":"'All Running Order'!CN46","v":"-"},{"$f":"'All Running Order'!CO46","v":""},{"$f":"'All Running Order'!CP46","v":"-"},{"$f":"'All Running Order'!CQ46","v":""},{"$f":"'All Running Order'!CR46","v":"-"},{"$f":"'All Running Order'!CS46","v":""},{"$f":"'All Running Order'!CT46","v":"-"},{"$f":"'All Running Order'!CU46","v":" "},{"$f":"'All Running Order'!CV46","v":"-"},{"$f":"'All Running Order'!CW46","v":" "},{"$f":"'All Running Order'!CX46","v":" "}]
["0 ",{"$f":"'All Running Order'!B47","v":43},{"$f":"'All Running Order'!C47","v":0},{"$f":"'All Running Order'!D47","v":0},{"$f":"'All Running Order'!E47","v":0},{"$f":"'All Running Order'!F47","v":0},{"$f":"'All Running Order'!G47","v":0},{"$f":"'All Running Order'!I47","v":0},{"$f":"'All Running Order'!J47","v":0},{"$f":"'All Running Order'!K47","v":0},null,{"$f":"'All Running Order'!N47","v":0},{"$f":"'All Running Order'!P47","v":0},{"$f":"'All Running Order'!Q47","v":0},{"$f":"'All Running Order'!R47","v":0},{"$f":"'All Running Order'!S47","v":0},{"$f":"'All Running Order'!T47","v":0},{"$f":"'All Running Order'!U47","v":0},{"$f":"'All Running Order'!V47","v":0},{"$f":"'All Running Order'!W47","v":0},{"$f":"'All Running Order'!X47","v":0},{"$f":"'All Running Order'!Y47","v":0},{"$f":"'All Running Order'!Z47","v":0},{"$f":"'All Running Order'!AA47","v":2000},{"$f":"'All Running Order'!AB47","v":0},{"$f":"'All Running Order'!AC47","v":0},{"$f":"'All Running Order'!AD47","v":0},{"$f":"'All Running Order'!AE47","v":0},{"$f":"'All Running Order'!AF47","v":0},{"$f":"'All Running Order'!AG47","v":0},{"$f":"'All Running Order'!AH47","v":0},{"$f":"'All Running Order'!AI47","v":0},{"$f":"'All Running Order'!AJ47","v":0},{"$f":"'All Running Order'!AK47","v":0},{"$f":"'All Running Order'!AL47","v":0},{"$f":"'All Running Order'!AM47","v":2000},{"$f":"'All Running Order'!AN47","v":0},{"$f":"'All Running Order'!AO47","v":0},{"$f":"'All Running Order'!AP47","v":0},{"$f":"'All Running Order'!AQ47","v":0},{"$f":"'All Running Order'!AR47","v":0},{"$f":"'All Running Order'!AS47","v":0},{"$f":"'All Running Order'!AT47","v":0},{"$f":"'All Running Order'!AU47","v":0},{"$f":"'All Running Order'!AV47","v":0},{"$f":"'All Running Order'!AW47","v":0},{"$f":"'All Running Order'!AX47","v":0},{"$f":"'All Running Order'!AY47","v":2000},{"$f":"'All Running Order'!AZ47","v":0},{"$f":"'All Running Order'!BA47","v":0},{"$f":"'All Running Order'!BB47","v":0},{"$f":"'All Running Order'!BC47","v":0},{"$f":"'All Running Order'!BD47","v":0},{"$f":"'All Running Order'!BE47","v":0},{"$f":"'All Running Order'!BF47","v":0},{"$f":"'All Running Order'!BG47","v":0},{"$f":"'All Running Order'!BH47","v":0},{"$f":"'All Running Order'!BI47","v":0},{"$f":"'All Running Order'!BJ47","v":0},{"$f":"'All Running Order'!BK47","v":2000},{"$f":"'All Running Order'!BL47","v":0},{"$f":"'All Running Order'!BM47","v":0},{"$f":"'All Running Order'!BN47","v":0},{"$f":"'All Running Order'!BO47","v":0},{"$f":"'All Running Order'!BP47","v":0},{"$f":"'All Running Order'!BQ47","v":0},{"$f":"'All Running Order'!BR47","v":0},{"$f":"'All Running Order'!BS47","v":0},{"$f":"'All Running Order'!BT47","v":0},{"$f":"'All Running Order'!BU47","v":0},{"$f":"'All Running Order'!BV47","v":0},{"$f":"'All Running Order'!BW47","v":2000},{"$f":"'All Running Order'!BX47","v":13},{"$f":"'All Running Order'!BY47","v":13},{"$f":"'All Running Order'!BZ47","v":13},{"$f":"'All Running Order'!CA47","v":13},{"$f":"'All Running Order'!CB47","v":13},{"$f":"'All Running Order'!CC47","v":13},{"$f":"'All Running Order'!CD47","v":13},{"$f":"'All Running Order'!CE47","v":13},{"$f":"'All Running Order'!CF47","v":13},{"$f":"'All Running Order'!CG47","v":13},{"$f":"'All Running Order'!CH47","v":"-"},{"$f":"'All Running Order'!CI47","v":""},{"$f":"'All Running Order'!CJ47","v":"-"},{"$f":"'All Running Order'!CK47","v":""},{"$f":"'All Running Order'!CL47","v":"-"},{"$f":"'All Running Order'!CM47","v":""},{"$f":"'All Running Order'!CN47","v":"-"},{"$f":"'All Running Order'!CO47","v":""},{"$f":"'All Running Order'!CP47","v":"-"},{"$f":"'All Running Order'!CQ47","v":""},{"$f":"'All Running Order'!CR47","v":"-"},{"$f":"'All Running Order'!CS47","v":""},{"$f":"'All Running Order'!CT47","v":"-"},{"$f":"'All Running Order'!CU47","v":" "},{"$f":"'All Running Order'!CV47","v":"-"},{"$f":"'All Running Order'!CW47","v":" "},{"$f":"'All Running Order'!CX47","v":" "}]
["0 ",{"$f":"'All Running Order'!B48","v":44},{"$f":"'All Running Order'!C48","v":0},{"$f":"'All Running Order'!D48","v":0},{"$f":"'All Running Order'!E48","v":0},{"$f":"'All Running Order'!F48","v":0},{"$f":"'All Running Order'!G48","v":0},{"$f":"'All Running Order'!I48","v":0},{"$f":"'All Running Order'!J48","v":0},{"$f":"'All Running Order'!K48","v":0},null,{"$f":"'All Running Order'!N48","v":0},{"$f":"'All Running Order'!P48","v":0},{"$f":"'All Running Order'!Q48","v":0},{"$f":"'All Running Order'!R48","v":0},{"$f":"'All Running Order'!S48","v":0},{"$f":"'All Running Order'!T48","v":0},{"$f":"'All Running Order'!U48","v":0},{"$f":"'All Running Order'!V48","v":0},{"$f":"'All Running Order'!W48","v":0},{"$f":"'All Running Order'!X48","v":0},{"$f":"'All Running Order'!Y48","v":0},{"$f":"'All Running Order'!Z48","v":0},{"$f":"'All Running Order'!AA48","v":2000},{"$f":"'All Running Order'!AB48","v":0},{"$f":"'All Running Order'!AC48","v":0},{"$f":"'All Running Order'!AD48","v":0},{"$f":"'All Running Order'!AE48","v":0},{"$f":"'All Running Order'!AF48","v":0},{"$f":"'All Running Order'!AG48","v":0},{"$f":"'All Running Order'!AH48","v":0},{"$f":"'All Running Order'!AI48","v":0},{"$f":"'All Running Order'!AJ48","v":0},{"$f":"'All Running Order'!AK48","v":0},{"$f":"'All Running Order'!AL48","v":0},{"$f":"'All Running Order'!AM48","v":2000},{"$f":"'All Running Order'!AN48","v":0},{"$f":"'All Running Order'!AO48","v":0},{"$f":"'All Running Order'!AP48","v":0},{"$f":"'All Running Order'!AQ48","v":0},{"$f":"'All Running Order'!AR48","v":0},{"$f":"'All Running Order'!AS48","v":0},{"$f":"'All Running Order'!AT48","v":0},{"$f":"'All Running Order'!AU48","v":0},{"$f":"'All Running Order'!AV48","v":0},{"$f":"'All Running Order'!AW48","v":0},{"$f":"'All Running Order'!AX48","v":0},{"$f":"'All Running Order'!AY48","v":2000},{"$f":"'All Running Order'!AZ48","v":0},{"$f":"'All Running Order'!BA48","v":0},{"$f":"'All Running Order'!BB48","v":0},{"$f":"'All Running Order'!BC48","v":0},{"$f":"'All Running Order'!BD48","v":0},{"$f":"'All Running Order'!BE48","v":0},{"$f":"'All Running Order'!BF48","v":0},{"$f":"'All Running Order'!BG48","v":0},{"$f":"'All Running Order'!BH48","v":0},{"$f":"'All Running Order'!BI48","v":0},{"$f":"'All Running Order'!BJ48","v":0},{"$f":"'All Running Order'!BK48","v":2000},{"$f":"'All Running Order'!BL48","v":0},{"$f":"'All Running Order'!BM48","v":0},{"$f":"'All Running Order'!BN48","v":0},{"$f":"'All Running Order'!BO48","v":0},{"$f":"'All Running Order'!BP48","v":0},{"$f":"'All Running Order'!BQ48","v":0},{"$f":"'All Running Order'!BR48","v":0},{"$f":"'All Running Order'!BS48","v":0},{"$f":"'All Running Order'!BT48","v":0},{"$f":"'All Running Order'!BU48","v":0},{"$f":"'All Running Order'!BV48","v":0},{"$f":"'All Running Order'!BW48","v":2000},{"$f":"'All Running Order'!BX48","v":13},{"$f":"'All Running Order'!BY48","v":13},{"$f":"'All Running Order'!BZ48","v":13},{"$f":"'All Running Order'!CA48","v":13},{"$f":"'All Running Order'!CB48","v":13},{"$f":"'All Running Order'!CC48","v":13},{"$f":"'All Running Order'!CD48","v":13},{"$f":"'All Running Order'!CE48","v":13},{"$f":"'All Running Order'!CF48","v":13},{"$f":"'All Running Order'!CG48","v":13},{"$f":"'All Running Order'!CH48","v":"-"},{"$f":"'All Running Order'!CI48","v":""},{"$f":"'All Running Order'!CJ48","v":"-"},{"$f":"'All Running Order'!CK48","v":""},{"$f":"'All Running Order'!CL48","v":"-"},{"$f":"'All Running Order'!CM48","v":""},{"$f":"'All Running Order'!CN48","v":"-"},{"$f":"'All Running Order'!CO48","v":""},{"$f":"'All Running Order'!CP48","v":"-"},{"$f":"'All Running Order'!CQ48","v":""},{"$f":"'All Running Order'!CR48","v":"-"},{"$f":"'All Running Order'!CS48","v":""},{"$f":"'All Running Order'!CT48","v":"-"},{"$f":"'All Running Order'!CU48","v":" "},{"$f":"'All Running Order'!CV48","v":"-"},{"$f":"'All Running Order'!CW48","v":" "},{"$f":"'All Running Order'!CX48","v":" "}]
["0 ",{"$f":"'All Running Order'!B49","v":45},{"$f":"'All Running Order'!C49","v":0},{"$f":"'All Running Order'!D49","v":0},{"$f":"'All Running Order'!E49","v":0},{"$f":"'All Running Order'!F49","v":0},{"$f":"'All Running Order'!G49","v":0},{"$f":"'All Running Order'!I49","v":0},{"$f":"'All Running Order'!J49","v":0},{"$f":"'All Running Order'!K49","v":0},null,{"$f":"'All Running Order'!N49","v":0},{"$f":"'All Running Order'!P49","v":0},{"$f":"'All Running Order'!Q49","v":0},{"$f":"'All Running Order'!R49","v":0},{"$f":"'All Running Order'!S49","v":0},{"$f":"'All Running Order'!T49","v":0},{"$f":"'All Running Order'!U49","v":0},{"$f":"'All Running Order'!V49","v":0},{"$f":"'All Running Order'!W49","v":0},{"$f":"'All Running Order'!X49","v":0},{"$f":"'All Running Order'!Y49","v":0},{"$f":"'All Running Order'!Z49","v":0},{"$f":"'All Running Order'!AA49","v":2000},{"$f":"'All Running Order'!AB49","v":0},{"$f":"'All Running Order'!AC49","v":0},{"$f":"'All Running Order'!AD49","v":0},{"$f":"'All Running Order'!AE49","v":0},{"$f":"'All Running Order'!AF49","v":0},{"$f":"'All Running Order'!AG49","v":0},{"$f":"'All Running Order'!AH49","v":0},{"$f":"'All Running Order'!AI49","v":0},{"$f":"'All Running Order'!AJ49","v":0},{"$f":"'All Running Order'!AK49","v":0},{"$f":"'All Running Order'!AL49","v":0},{"$f":"'All Running Order'!AM49","v":2000},{"$f":"'All Running Order'!AN49","v":0},{"$f":"'All Running Order'!AO49","v":0},{"$f":"'All Running Order'!AP49","v":0},{"$f":"'All Running Order'!AQ49","v":0},{"$f":"'All Running Order'!AR49","v":0},{"$f":"'All Running Order'!AS49","v":0},{"$f":"'All Running Order'!AT49","v":0},{"$f":"'All Running Order'!AU49","v":0},{"$f":"'All Running Order'!AV49","v":0},{"$f":"'All Running Order'!AW49","v":0},{"$f":"'All Running Order'!AX49","v":0},{"$f":"'All Running Order'!AY49","v":2000},{"$f":"'All Running Order'!AZ49","v":0},{"$f":"'All Running Order'!BA49","v":0},{"$f":"'All Running Order'!BB49","v":0},{"$f":"'All Running Order'!BC49","v":0},{"$f":"'All Running Order'!BD49","v":0},{"$f":"'All Running Order'!BE49","v":0},{"$f":"'All Running Order'!BF49","v":0},{"$f":"'All Running Order'!BG49","v":0},{"$f":"'All Running Order'!BH49","v":0},{"$f":"'All Running Order'!BI49","v":0},{"$f":"'All Running Order'!BJ49","v":0},{"$f":"'All Running Order'!BK49","v":2000},{"$f":"'All Running Order'!BL49","v":0},{"$f":"'All Running Order'!BM49","v":0},{"$f":"'All Running Order'!BN49","v":0},{"$f":"'All Running Order'!BO49","v":0},{"$f":"'All Running Order'!BP49","v":0},{"$f":"'All Running Order'!BQ49","v":0},{"$f":"'All Running Order'!BR49","v":0},{"$f":"'All Running Order'!BS49","v":0},{"$f":"'All Running Order'!BT49","v":0},{"$f":"'All Running Order'!BU49","v":0},{"$f":"'All Running Order'!BV49","v":0},{"$f":"'All Running Order'!BW49","v":2000},{"$f":"'All Running Order'!BX49","v":13},{"$f":"'All Running Order'!BY49","v":13},{"$f":"'All Running Order'!BZ49","v":13},{"$f":"'All Running Order'!CA49","v":13},{"$f":"'All Running Order'!CB49","v":13},{"$f":"'All Running Order'!CC49","v":13},{"$f":"'All Running Order'!CD49","v":13},{"$f":"'All Running Order'!CE49","v":13},{"$f":"'All Running Order'!CF49","v":13},{"$f":"'All Running Order'!CG49","v":13},{"$f":"'All Running Order'!CH49","v":"-"},{"$f":"'All Running Order'!CI49","v":""},{"$f":"'All Running Order'!CJ49","v":"-"},{"$f":"'All Running Order'!CK49","v":""},{"$f":"'All Running Order'!CL49","v":"-"},{"$f":"'All Running Order'!CM49","v":""},{"$f":"'All Running Order'!CN49","v":"-"},{"$f":"'All Running Order'!CO49","v":""},{"$f":"'All Running Order'!CP49","v":"-"},{"$f":"'All Running Order'!CQ49","v":""},{"$f":"'All Running Order'!CR49","v":"-"},{"$f":"'All Running Order'!CS49","v":""},{"$f":"'All Running Order'!CT49","v":"-"},{"$f":"'All Running Order'!CU49","v":" "},{"$f":"'All Running Order'!CV49","v":"-"},{"$f":"'All Running Order'!CW49","v":" "},{"$f":"'All Running Order'!CX49","v":" "}]
["0 ",{"$f":"'All Running Order'!B50","v":46},{"$f":"'All Running Order'!C50","v":0},{"$f":"'All Running Order'!D50","v":0},{"$f":"'All Running Order'!E50","v":0},{"$f":"'All Running Order'!F50","v":0},{"$f":"'All Running Order'!G50","v":0},{"$f":"'All Running Order'!I50","v":0},{"$f":"'All Running Order'!J50","v":0},{"$f":"'All Running Order'!K50","v":0},null,{"$f":"'All Running Order'!N50","v":0},{"$f":"'All Running Order'!P50","v":0},{"$f":"'All Running Order'!Q50","v":0},{"$f":"'All Running Order'!R50","v":0},{"$f":"'All Running Order'!S50","v":0},{"$f":"'All Running Order'!T50","v":0},{"$f":"'All Running Order'!U50","v":0},{"$f":"'All Running Order'!V50","v":0},{"$f":"'All Running Order'!W50","v":0},{"$f":"'All Running Order'!X50","v":0},{"$f":"'All Running Order'!Y50","v":0},{"$f":"'All Running Order'!Z50","v":0},{"$f":"'All Running Order'!AA50","v":2000},{"$f":"'All Running Order'!AB50","v":0},{"$f":"'All Running Order'!AC50","v":0},{"$f":"'All Running Order'!AD50","v":0},{"$f":"'All Running Order'!AE50","v":0},{"$f":"'All Running Order'!AF50","v":0},{"$f":"'All Running Order'!AG50","v":0},{"$f":"'All Running Order'!AH50","v":0},{"$f":"'All Running Order'!AI50","v":0},{"$f":"'All Running Order'!AJ50","v":0},{"$f":"'All Running Order'!AK50","v":0},{"$f":"'All Running Order'!AL50","v":0},{"$f":"'All Running Order'!AM50","v":2000},{"$f":"'All Running Order'!AN50","v":0},{"$f":"'All Running Order'!AO50","v":0},{"$f":"'All Running Order'!AP50","v":0},{"$f":"'All Running Order'!AQ50","v":0},{"$f":"'All Running Order'!AR50","v":0},{"$f":"'All Running Order'!AS50","v":0},{"$f":"'All Running Order'!AT50","v":0},{"$f":"'All Running Order'!AU50","v":0},{"$f":"'All Running Order'!AV50","v":0},{"$f":"'All Running Order'!AW50","v":0},{"$f":"'All Running Order'!AX50","v":0},{"$f":"'All Running Order'!AY50","v":2000},{"$f":"'All Running Order'!AZ50","v":0},{"$f":"'All Running Order'!BA50","v":0},{"$f":"'All Running Order'!BB50","v":0},{"$f":"'All Running Order'!BC50","v":0},{"$f":"'All Running Order'!BD50","v":0},{"$f":"'All Running Order'!BE50","v":0},{"$f":"'All Running Order'!BF50","v":0},{"$f":"'All Running Order'!BG50","v":0},{"$f":"'All Running Order'!BH50","v":0},{"$f":"'All Running Order'!BI50","v":0},{"$f":"'All Running Order'!BJ50","v":0},{"$f":"'All Running Order'!BK50","v":2000},{"$f":"'All Running Order'!BL50","v":0},{"$f":"'All Running Order'!BM50","v":0},{"$f":"'All Running Order'!BN50","v":0},{"$f":"'All Running Order'!BO50","v":0},{"$f":"'All Running Order'!BP50","v":0},{"$f":"'All Running Order'!BQ50","v":0},{"$f":"'All Running Order'!BR50","v":0},{"$f":"'All Running Order'!BS50","v":0},{"$f":"'All Running Order'!BT50","v":0},{"$f":"'All Running Order'!BU50","v":0},{"$f":"'All Running Order'!BV50","v":0},{"$f":"'All Running Order'!BW50","v":2000},{"$f":"'All Running Order'!BX50","v":13},{"$f":"'All Running Order'!BY50","v":13},{"$f":"'All Running Order'!BZ50","v":13},{"$f":"'All Running Order'!CA50","v":13},{"$f":"'All Running Order'!CB50","v":13},{"$f":"'All Running Order'!CC50","v":13},{"$f":"'All Running Order'!CD50","v":13},{"$f":"'All Running Order'!CE50","v":13},{"$f":"'All Running Order'!CF50","v":13},{"$f":"'All Running Order'!CG50","v":13},{"$f":"'All Running Order'!CH50","v":"-"},{"$f":"'All Running Order'!CI50","v":""},{"$f":"'All Running Order'!CJ50","v":"-"},{"$f":"'All Running Order'!CK50","v":""},{"$f":"'All Running Order'!CL50","v":"-"},{"$f":"'All Running Order'!CM50","v":""},{"$f":"'All Running Order'!CN50","v":"-"},{"$f":"'All Running Order'!CO50","v":""},{"$f":"'All Running Order'!CP50","v":"-"},{"$f":"'All Running Order'!CQ50","v":""},{"$f":"'All Running Order'!CR50","v":"-"},{"$f":"'All Running Order'!CS50","v":""},{"$f":"'All Running Order'!CT50","v":"-"},{"$f":"'All Running Order'!CU50","v":" "},{"$f":"'All Running Order'!CV50","v":"-"},{"$f":"'All Running Order'!CW50","v":" "},{"$f":"'All Running Order'!CX50","v":" "}]
["0 ",{"$f":"'All Running Order'!B51","v":47},{"$f":"'All Running Order'!C51","v":0},{"$f":"'All Running Order'!D51","v":0},{"$f":"'All Running Order'!E51","v":0},{"$f":"'All Running Order'!F51","v":0},{"$f":"'All Running Order'!G51","v":0},{"$f":"'All Running Order'!I51","v":0},{"$f":"'All Running Order'!J51","v":0},{"$f":"'All Running Order'!K51","v":0},null,{"$f":"'All Running Order'!N51","v":0},{"$f":"'All Running Order'!P51","v":0},{"$f":"'All Running Order'!Q51","v":0},{"$f":"'All Running Order'!R51","v":0},{"$f":"'All Running Order'!S51","v":0},{"$f":"'All Running Order'!T51","v":0},{"$f":"'All Running Order'!U51","v":0},{"$f":"'All Running Order'!V51","v":0},{"$f":"'All Running Order'!W51","v":0},{"$f":"'All Running Order'!X51","v":0},{"$f":"'All Running Order'!Y51","v":0},{"$f":"'All Running Order'!Z51","v":0},{"$f":"'All Running Order'!AA51","v":2000},{"$f":"'All Running Order'!AB51","v":0},{"$f":"'All Running Order'!AC51","v":0},{"$f":"'All Running Order'!AD51","v":0},{"$f":"'All Running Order'!AE51","v":0},{"$f":"'All Running Order'!AF51","v":0},{"$f":"'All Running Order'!AG51","v":0},{"$f":"'All Running Order'!AH51","v":0},{"$f":"'All Running Order'!AI51","v":0},{"$f":"'All Running Order'!AJ51","v":0},{"$f":"'All Running Order'!AK51","v":0},{"$f":"'All Running Order'!AL51","v":0},{"$f":"'All Running Order'!AM51","v":2000},{"$f":"'All Running Order'!AN51","v":0},{"$f":"'All Running Order'!AO51","v":0},{"$f":"'All Running Order'!AP51","v":0},{"$f":"'All Running Order'!AQ51","v":0},{"$f":"'All Running Order'!AR51","v":0},{"$f":"'All Running Order'!AS51","v":0},{"$f":"'All Running Order'!AT51","v":0},{"$f":"'All Running Order'!AU51","v":0},{"$f":"'All Running Order'!AV51","v":0},{"$f":"'All Running Order'!AW51","v":0},{"$f":"'All Running Order'!AX51","v":0},{"$f":"'All Running Order'!AY51","v":2000},{"$f":"'All Running Order'!AZ51","v":0},{"$f":"'All Running Order'!BA51","v":0},{"$f":"'All Running Order'!BB51","v":0},{"$f":"'All Running Order'!BC51","v":0},{"$f":"'All Running Order'!BD51","v":0},{"$f":"'All Running Order'!BE51","v":0},{"$f":"'All Running Order'!BF51","v":0},{"$f":"'All Running Order'!BG51","v":0},{"$f":"'All Running Order'!BH51","v":0},{"$f":"'All Running Order'!BI51","v":0},{"$f":"'All Running Order'!BJ51","v":0},{"$f":"'All Running Order'!BK51","v":2000},{"$f":"'All Running Order'!BL51","v":0},{"$f":"'All Running Order'!BM51","v":0},{"$f":"'All Running Order'!BN51","v":0},{"$f":"'All Running Order'!BO51","v":0},{"$f":"'All Running Order'!BP51","v":0},{"$f":"'All Running Order'!BQ51","v":0},{"$f":"'All Running Order'!BR51","v":0},{"$f":"'All Running Order'!BS51","v":0},{"$f":"'All Running Order'!BT51","v":0},{"$f":"'All Running Order'!BU51","v":0},{"$f":"'All Running Order'!BV51","v":0},{"$f":"'All Running Order'!BW51","v":2000},{"$f":"'All Running Order'!BX51","v":13},{"$f":"'All Running Order'!BY51","v":13},{"$f":"'All Running Order'!BZ51","v":13},{"$f":"'All Running Order'!CA51","v":13},{"$f":"'All Running Order'!CB51","v":13},{"$f":"'All Running Order'!CC51","v":13},{"$f":"'All Running Order'!CD51","v":13},{"$f":"'All Running Order'!CE51","v":13},{"$f":"'All Running Order'!CF51","v":13},{"$f":"'All Running Order'!CG51","v":13},{"$f":"'All Running Order'!CH51","v":"-"},{"$f":"'All Running Order'!CI51","v":""},{"$f":"'All Running Order'!CJ51","v":"-"},{"$f":"'All Running Order'!CK51","v":""},{"$f":"'All Running Order'!CL51","v":"-"},{"$f":"'All Running Order'!CM51","v":""},{"$f":"'All Running Order'!CN51","v":"-"},{"$f":"'All Running Order'!CO51","v":""},{"$f":"'All Running Order'!CP51","v":"-"},{"$f":"'All Running Order'!CQ51","v":""},{"$f":"'All Running Order'!CR51","v":"-"},{"$f":"'All Running Order'!CS51","v":""},{"$f":"'All Running Order'!CT51","v":"-"},{"$f":"'All Running Order'!CU51","v":" "},{"$f":"'All Running Order'!CV51","v":"-"},{"$f":"'All Running Order'!CW51","v":" "},{"$f":"'All Running Order'!CX51","v":" "}]
["0 ",{"$f":"'All Running Order'!B52","v":48},{"$f":"'All Running Order'!C52","v":0},{"$f":"'All Running Order'!D52","v":0},{"$f":"'All Running Order'!E52","v":0},{"$f":"'All Running Order'!F52","v":0},{"$f":"'All Running Order'!G52","v":0},{"$f":"'All Running Order'!I52","v":0},{"$f":"'All Running Order'!J52","v":0},{"$f":"'All Running Order'!K52","v":0},null,{"$f":"'All Running Order'!N52","v":0},{"$f":"'All Running Order'!P52","v":0},{"$f":"'All Running Order'!Q52","v":0},{"$f":"'All Running Order'!R52","v":0},{"$f":"'All Running Order'!S52","v":0},{"$f":"'All Running Order'!T52","v":0},{"$f":"'All Running Order'!U52","v":0},{"$f":"'All Running Order'!V52","v":0},{"$f":"'All Running Order'!W52","v":0},{"$f":"'All Running Order'!X52","v":0},{"$f":"'All Running Order'!Y52","v":0},{"$f":"'All Running Order'!Z52","v":0},{"$f":"'All Running Order'!AA52","v":2000},{"$f":"'All Running Order'!AB52","v":0},{"$f":"'All Running Order'!AC52","v":0},{"$f":"'All Running Order'!AD52","v":0},{"$f":"'All Running Order'!AE52","v":0},{"$f":"'All Running Order'!AF52","v":0},{"$f":"'All Running Order'!AG52","v":0},{"$f":"'All Running Order'!AH52","v":0},{"$f":"'All Running Order'!AI52","v":0},{"$f":"'All Running Order'!AJ52","v":0},{"$f":"'All Running Order'!AK52","v":0},{"$f":"'All Running Order'!AL52","v":0},{"$f":"'All Running Order'!AM52","v":2000},{"$f":"'All Running Order'!AN52","v":0},{"$f":"'All Running Order'!AO52","v":0},{"$f":"'All Running Order'!AP52","v":0},{"$f":"'All Running Order'!AQ52","v":0},{"$f":"'All Running Order'!AR52","v":0},{"$f":"'All Running Order'!AS52","v":0},{"$f":"'All Running Order'!AT52","v":0},{"$f":"'All Running Order'!AU52","v":0},{"$f":"'All Running Order'!AV52","v":0},{"$f":"'All Running Order'!AW52","v":0},{"$f":"'All Running Order'!AX52","v":0},{"$f":"'All Running Order'!AY52","v":2000},{"$f":"'All Running Order'!AZ52","v":0},{"$f":"'All Running Order'!BA52","v":0},{"$f":"'All Running Order'!BB52","v":0},{"$f":"'All Running Order'!BC52","v":0},{"$f":"'All Running Order'!BD52","v":0},{"$f":"'All Running Order'!BE52","v":0},{"$f":"'All Running Order'!BF52","v":0},{"$f":"'All Running Order'!BG52","v":0},{"$f":"'All Running Order'!BH52","v":0},{"$f":"'All Running Order'!BI52","v":0},{"$f":"'All Running Order'!BJ52","v":0},{"$f":"'All Running Order'!BK52","v":2000},{"$f":"'All Running Order'!BL52","v":0},{"$f":"'All Running Order'!BM52","v":0},{"$f":"'All Running Order'!BN52","v":0},{"$f":"'All Running Order'!BO52","v":0},{"$f":"'All Running Order'!BP52","v":0},{"$f":"'All Running Order'!BQ52","v":0},{"$f":"'All Running Order'!BR52","v":0},{"$f":"'All Running Order'!BS52","v":0},{"$f":"'All Running Order'!BT52","v":0},{"$f":"'All Running Order'!BU52","v":0},{"$f":"'All Running Order'!BV52","v":0},{"$f":"'All Running Order'!BW52","v":2000},{"$f":"'All Running Order'!BX52","v":13},{"$f":"'All Running Order'!BY52","v":13},{"$f":"'All Running Order'!BZ52","v":13},{"$f":"'All Running Order'!CA52","v":13},{"$f":"'All Running Order'!CB52","v":13},{"$f":"'All Running Order'!CC52","v":13},{"$f":"'All Running Order'!CD52","v":13},{"$f":"'All Running Order'!CE52","v":13},{"$f":"'All Running Order'!CF52","v":13},{"$f":"'All Running Order'!CG52","v":13},{"$f":"'All Running Order'!CH52","v":"-"},{"$f":"'All Running Order'!CI52","v":""},{"$f":"'All Running Order'!CJ52","v":"-"},{"$f":"'All Running Order'!CK52","v":""},{"$f":"'All Running Order'!CL52","v":"-"},{"$f":"'All Running Order'!CM52","v":""},{"$f":"'All Running Order'!CN52","v":"-"},{"$f":"'All Running Order'!CO52","v":""},{"$f":"'All Running Order'!CP52","v":"-"},{"$f":"'All Running Order'!CQ52","v":""},{"$f":"'All Running Order'!CR52","v":"-"},{"$f":"'All Running Order'!CS52","v":""},{"$f":"'All Running Order'!CT52","v":"-"},{"$f":"'All Running Order'!CU52","v":" "},{"$f":"'All Running Order'!CV52","v":"-"},{"$f":"'All Running Order'!CW52","v":" "},{"$f":"'All Running Order'!CX52","v":" "}]
["0 ",{"$f":"'All Running Order'!B53","v":49},{"$f":"'All Running Order'!C53","v":0},{"$f":"'All Running Order'!D53","v":0},{"$f":"'All Running Order'!E53","v":0},{"$f":"'All Running Order'!F53","v":0},{"$f":"'All Running Order'!G53","v":0},{"$f":"'All Running Order'!I53","v":0},{"$f":"'All Running Order'!J53","v":0},{"$f":"'All Running Order'!K53","v":0},null,{"$f":"'All Running Order'!N53","v":0},{"$f":"'All Running Order'!P53","v":0},{"$f":"'All Running Order'!Q53","v":0},{"$f":"'All Running Order'!R53","v":0},{"$f":"'All Running Order'!S53","v":0},{"$f":"'All Running Order'!T53","v":0},{"$f":"'All Running Order'!U53","v":0},{"$f":"'All Running Order'!V53","v":0},{"$f":"'All Running Order'!W53","v":0},{"$f":"'All Running Order'!X53","v":0},{"$f":"'All Running Order'!Y53","v":0},{"$f":"'All Running Order'!Z53","v":0},{"$f":"'All Running Order'!AA53","v":2000},{"$f":"'All Running Order'!AB53","v":0},{"$f":"'All Running Order'!AC53","v":0},{"$f":"'All Running Order'!AD53","v":0},{"$f":"'All Running Order'!AE53","v":0},{"$f":"'All Running Order'!AF53","v":0},{"$f":"'All Running Order'!AG53","v":0},{"$f":"'All Running Order'!AH53","v":0},{"$f":"'All Running Order'!AI53","v":0},{"$f":"'All Running Order'!AJ53","v":0},{"$f":"'All Running Order'!AK53","v":0},{"$f":"'All Running Order'!AL53","v":0},{"$f":"'All Running Order'!AM53","v":2000},{"$f":"'All Running Order'!AN53","v":0},{"$f":"'All Running Order'!AO53","v":0},{"$f":"'All Running Order'!AP53","v":0},{"$f":"'All Running Order'!AQ53","v":0},{"$f":"'All Running Order'!AR53","v":0},{"$f":"'All Running Order'!AS53","v":0},{"$f":"'All Running Order'!AT53","v":0},{"$f":"'All Running Order'!AU53","v":0},{"$f":"'All Running Order'!AV53","v":0},{"$f":"'All Running Order'!AW53","v":0},{"$f":"'All Running Order'!AX53","v":0},{"$f":"'All Running Order'!AY53","v":2000},{"$f":"'All Running Order'!AZ53","v":0},{"$f":"'All Running Order'!BA53","v":0},{"$f":"'All Running Order'!BB53","v":0},{"$f":"'All Running Order'!BC53","v":0},{"$f":"'All Running Order'!BD53","v":0},{"$f":"'All Running Order'!BE53","v":0},{"$f":"'All Running Order'!BF53","v":0},{"$f":"'All Running Order'!BG53","v":0},{"$f":"'All Running Order'!BH53","v":0},{"$f":"'All Running Order'!BI53","v":0},{"$f":"'All Running Order'!BJ53","v":0},{"$f":"'All Running Order'!BK53","v":2000},{"$f":"'All Running Order'!BL53","v":0},{"$f":"'All Running Order'!BM53","v":0},{"$f":"'All Running Order'!BN53","v":0},{"$f":"'All Running Order'!BO53","v":0},{"$f":"'All Running Order'!BP53","v":0},{"$f":"'All Running Order'!BQ53","v":0},{"$f":"'All Running Order'!BR53","v":0},{"$f":"'All Running Order'!BS53","v":0},{"$f":"'All Running Order'!BT53","v":0},{"$f":"'All Running Order'!BU53","v":0},{"$f":"'All Running Order'!BV53","v":0},{"$f":"'All Running Order'!BW53","v":2000},{"$f":"'All Running Order'!BX53","v":13},{"$f":"'All Running Order'!BY53","v":13},{"$f":"'All Running Order'!BZ53","v":13},{"$f":"'All Running Order'!CA53","v":13},{"$f":"'All Running Order'!CB53","v":13},{"$f":"'All Running Order'!CC53","v":13},{"$f":"'All Running Order'!CD53","v":13},{"$f":"'All Running Order'!CE53","v":13},{"$f":"'All Running Order'!CF53","v":13},{"$f":"'All Running Order'!CG53","v":13},{"$f":"'All Running Order'!CH53","v":"-"},{"$f":"'All Running Order'!CI53","v":""},{"$f":"'All Running Order'!CJ53","v":"-"},{"$f":"'All Running Order'!CK53","v":""},{"$f":"'All Running Order'!CL53","v":"-"},{"$f":"'All Running Order'!CM53","v":""},{"$f":"'All Running Order'!CN53","v":"-"},{"$f":"'All Running Order'!CO53","v":""},{"$f":"'All Running Order'!CP53","v":"-"},{"$f":"'All Running Order'!CQ53","v":""},{"$f":"'All Running Order'!CR53","v":"-"},{"$f":"'All Running Order'!CS53","v":""},{"$f":"'All Running Order'!CT53","v":"-"},{"$f":"'All Running Order'!CU53","v":" "},{"$f":"'All Running Order'!CV53","v":"-"},{"$f":"'All Running Order'!CW53","v":" "},{"$f":"'All Running Order'!CX53","v":" "}]
["0 ",{"$f":"'All Running Order'!B54","v":50},{"$f":"'All Running Order'!C54","v":0},{"$f":"'All Running Order'!D54","v":0},{"$f":"'All Running Order'!E54","v":0},{"$f":"'All Running Order'!F54","v":0},{"$f":"'All Running Order'!G54","v":0},{"$f":"'All Running Order'!I54","v":0},{"$f":"'All Running Order'!J54","v":0},{"$f":"'All Running Order'!K54","v":0},null,{"$f":"'All Running Order'!N54","v":0},{"$f":"'All Running Order'!P54","v":0},{"$f":"'All Running Order'!Q54","v":0},{"$f":"'All Running Order'!R54","v":0},{"$f":"'All Running Order'!S54","v":0},{"$f":"'All Running Order'!T54","v":0},{"$f":"'All Running Order'!U54","v":0},{"$f":"'All Running Order'!V54","v":0},{"$f":"'All Running Order'!W54","v":0},{"$f":"'All Running Order'!X54","v":0},{"$f":"'All Running Order'!Y54","v":0},{"$f":"'All Running Order'!Z54","v":0},{"$f":"'All Running Order'!AA54","v":2000},{"$f":"'All Running Order'!AB54","v":0},{"$f":"'All Running Order'!AC54","v":0},{"$f":"'All Running Order'!AD54","v":0},{"$f":"'All Running Order'!AE54","v":0},{"$f":"'All Running Order'!AF54","v":0},{"$f":"'All Running Order'!AG54","v":0},{"$f":"'All Running Order'!AH54","v":0},{"$f":"'All Running Order'!AI54","v":0},{"$f":"'All Running Order'!AJ54","v":0},{"$f":"'All Running Order'!AK54","v":0},{"$f":"'All Running Order'!AL54","v":0},{"$f":"'All Running Order'!AM54","v":2000},{"$f":"'All Running Order'!AN54","v":0},{"$f":"'All Running Order'!AO54","v":0},{"$f":"'All Running Order'!AP54","v":0},{"$f":"'All Running Order'!AQ54","v":0},{"$f":"'All Running Order'!AR54","v":0},{"$f":"'All Running Order'!AS54","v":0},{"$f":"'All Running Order'!AT54","v":0},{"$f":"'All Running Order'!AU54","v":0},{"$f":"'All Running Order'!AV54","v":0},{"$f":"'All Running Order'!AW54","v":0},{"$f":"'All Running Order'!AX54","v":0},{"$f":"'All Running Order'!AY54","v":2000},{"$f":"'All Running Order'!AZ54","v":0},{"$f":"'All Running Order'!BA54","v":0},{"$f":"'All Running Order'!BB54","v":0},{"$f":"'All Running Order'!BC54","v":0},{"$f":"'All Running Order'!BD54","v":0},{"$f":"'All Running Order'!BE54","v":0},{"$f":"'All Running Order'!BF54","v":0},{"$f":"'All Running Order'!BG54","v":0},{"$f":"'All Running Order'!BH54","v":0},{"$f":"'All Running Order'!BI54","v":0},{"$f":"'All Running Order'!BJ54","v":0},{"$f":"'All Running Order'!BK54","v":2000},{"$f":"'All Running Order'!BL54","v":0},{"$f":"'All Running Order'!BM54","v":0},{"$f":"'All Running Order'!BN54","v":0},{"$f":"'All Running Order'!BO54","v":0},{"$f":"'All Running Order'!BP54","v":0},{"$f":"'All Running Order'!BQ54","v":0},{"$f":"'All Running Order'!BR54","v":0},{"$f":"'All Running Order'!BS54","v":0},{"$f":"'All Running Order'!BT54","v":0},{"$f":"'All Running Order'!BU54","v":0},{"$f":"'All Running Order'!BV54","v":0},{"$f":"'All Running Order'!BW54","v":2000},{"$f":"'All Running Order'!BX54","v":13},{"$f":"'All Running Order'!BY54","v":13},{"$f":"'All Running Order'!BZ54","v":13},{"$f":"'All Running Order'!CA54","v":13},{"$f":"'All Running Order'!CB54","v":13},{"$f":"'All Running Order'!CC54","v":13},{"$f":"'All Running Order'!CD54","v":13},{"$f":"'All Running Order'!CE54","v":13},{"$f":"'All Running Order'!CF54","v":13},{"$f":"'All Running Order'!CG54","v":13},{"$f":"'All Running Order'!CH54","v":"-"},{"$f":"'All Running Order'!CI54","v":""},{"$f":"'All Running Order'!CJ54","v":"-"},{"$f":"'All Running Order'!CK54","v":""},{"$f":"'All Running Order'!CL54","v":"-"},{"$f":"'All Running Order'!CM54","v":""},{"$f":"'All Running Order'!CN54","v":"-"},{"$f":"'All Running Order'!CO54","v":""},{"$f":"'All Running Order'!CP54","v":"-"},{"$f":"'All Running Order'!CQ54","v":""},{"$f":"'All Running Order'!CR54","v":"-"},{"$f":"'All Running Order'!CS54","v":""},{"$f":"'All Running Order'!CT54","v":"-"},{"$f":"'All Running Order'!CU54","v":" "},{"$f":"'All Running Order'!CV54","v":"-"},{"$f":"'All Running Order'!CW54","v":" "},{"$f":"'All Running Order'!CX54","v":" "}]
["0 ",{"$f":"'All Running Order'!B55","v":51},{"$f":"'All Running Order'!C55","v":0},{"$f":"'All Running Order'!D55","v":0},{"$f":"'All Running Order'!E55","v":0},{"$f":"'All Running Order'!F55","v":0},{"$f":"'All Running Order'!G55","v":0},{"$f":"'All Running Order'!I55","v":0},{"$f":"'All Running Order'!J55","v":0},{"$f":"'All Running Order'!K55","v":0},null,{"$f":"'All Running Order'!N55","v":0},{"$f":"'All Running Order'!P55","v":0},{"$f":"'All Running Order'!Q55","v":0},{"$f":"'All Running Order'!R55","v":0},{"$f":"'All Running Order'!S55","v":0},{"$f":"'All Running Order'!T55","v":0},{"$f":"'All Running Order'!U55","v":0},{"$f":"'All Running Order'!V55","v":0},{"$f":"'All Running Order'!W55","v":0},{"$f":"'All Running Order'!X55","v":0},{"$f":"'All Running Order'!Y55","v":0},{"$f":"'All Running Order'!Z55","v":0},{"$f":"'All Running Order'!AA55","v":2000},{"$f":"'All Running Order'!AB55","v":0},{"$f":"'All Running Order'!AC55","v":0},{"$f":"'All Running Order'!AD55","v":0},{"$f":"'All Running Order'!AE55","v":0},{"$f":"'All Running Order'!AF55","v":0},{"$f":"'All Running Order'!AG55","v":0},{"$f":"'All Running Order'!AH55","v":0},{"$f":"'All Running Order'!AI55","v":0},{"$f":"'All Running Order'!AJ55","v":0},{"$f":"'All Running Order'!AK55","v":0},{"$f":"'All Running Order'!AL55","v":0},{"$f":"'All Running Order'!AM55","v":2000},{"$f":"'All Running Order'!AN55","v":0},{"$f":"'All Running Order'!AO55","v":0},{"$f":"'All Running Order'!AP55","v":0},{"$f":"'All Running Order'!AQ55","v":0},{"$f":"'All Running Order'!AR55","v":0},{"$f":"'All Running Order'!AS55","v":0},{"$f":"'All Running Order'!AT55","v":0},{"$f":"'All Running Order'!AU55","v":0},{"$f":"'All Running Order'!AV55","v":0},{"$f":"'All Running Order'!AW55","v":0},{"$f":"'All Running Order'!AX55","v":0},{"$f":"'All Running Order'!AY55","v":2000},{"$f":"'All Running Order'!AZ55","v":0},{"$f":"'All Running Order'!BA55","v":0},{"$f":"'All Running Order'!BB55","v":0},{"$f":"'All Running Order'!BC55","v":0},{"$f":"'All Running Order'!BD55","v":0},{"$f":"'All Running Order'!BE55","v":0},{"$f":"'All Running Order'!BF55","v":0},{"$f":"'All Running Order'!BG55","v":0},{"$f":"'All Running Order'!BH55","v":0},{"$f":"'All Running Order'!BI55","v":0},{"$f":"'All Running Order'!BJ55","v":0},{"$f":"'All Running Order'!BK55","v":2000},{"$f":"'All Running Order'!BL55","v":0},{"$f":"'All Running Order'!BM55","v":0},{"$f":"'All Running Order'!BN55","v":0},{"$f":"'All Running Order'!BO55","v":0},{"$f":"'All Running Order'!BP55","v":0},{"$f":"'All Running Order'!BQ55","v":0},{"$f":"'All Running Order'!BR55","v":0},{"$f":"'All Running Order'!BS55","v":0},{"$f":"'All Running Order'!BT55","v":0},{"$f":"'All Running Order'!BU55","v":0},{"$f":"'All Running Order'!BV55","v":0},{"$f":"'All Running Order'!BW55","v":2000},{"$f":"'All Running Order'!BX55","v":13},{"$f":"'All Running Order'!BY55","v":13},{"$f":"'All Running Order'!BZ55","v":13},{"$f":"'All Running Order'!CA55","v":13},{"$f":"'All Running Order'!CB55","v":13},{"$f":"'All Running Order'!CC55","v":13},{"$f":"'All Running Order'!CD55","v":13},{"$f":"'All Running Order'!CE55","v":13},{"$f":"'All Running Order'!CF55","v":13},{"$f":"'All Running Order'!CG55","v":13},{"$f":"'All Running Order'!CH55","v":"-"},{"$f":"'All Running Order'!CI55","v":""},{"$f":"'All Running Order'!CJ55","v":"-"},{"$f":"'All Running Order'!CK55","v":""},{"$f":"'All Running Order'!CL55","v":"-"},{"$f":"'All Running Order'!CM55","v":""},{"$f":"'All Running Order'!CN55","v":"-"},{"$f":"'All Running Order'!CO55","v":""},{"$f":"'All Running Order'!CP55","v":"-"},{"$f":"'All Running Order'!CQ55","v":""},{"$f":"'All Running Order'!CR55","v":"-"},{"$f":"'All Running Order'!CS55","v":""},{"$f":"'All Running Order'!CT55","v":"-"},{"$f":"'All Running Order'!CU55","v":" "},{"$f":"'All Running Order'!CV55","v":"-"},{"$f":"'All Running Order'!CW55","v":" "},{"$f":"'All Running Order'!CX55","v":" "}]
["0 ",{"$f":"'All Running Order'!B56","v":52},{"$f":"'All Running Order'!C56","v":0},{"$f":"'All Running Order'!D56","v":0},{"$f":"'All Running Order'!E56","v":0},{"$f":"'All Running Order'!F56","v":0},{"$f":"'All Running Order'!G56","v":0},{"$f":"'All Running Order'!I56","v":0},{"$f":"'All Running Order'!J56","v":0},{"$f":"'All Running Order'!K56","v":0},null,{"$f":"'All Running Order'!N56","v":0},{"$f":"'All Running Order'!P56","v":0},{"$f":"'All Running Order'!Q56","v":0},{"$f":"'All Running Order'!R56","v":0},{"$f":"'All Running Order'!S56","v":0},{"$f":"'All Running Order'!T56","v":0},{"$f":"'All Running Order'!U56","v":0},{"$f":"'All Running Order'!V56","v":0},{"$f":"'All Running Order'!W56","v":0},{"$f":"'All Running Order'!X56","v":0},{"$f":"'All Running Order'!Y56","v":0},{"$f":"'All Running Order'!Z56","v":0},{"$f":"'All Running Order'!AA56","v":2000},{"$f":"'All Running Order'!AB56","v":0},{"$f":"'All Running Order'!AC56","v":0},{"$f":"'All Running Order'!AD56","v":0},{"$f":"'All Running Order'!AE56","v":0},{"$f":"'All Running Order'!AF56","v":0},{"$f":"'All Running Order'!AG56","v":0},{"$f":"'All Running Order'!AH56","v":0},{"$f":"'All Running Order'!AI56","v":0},{"$f":"'All Running Order'!AJ56","v":0},{"$f":"'All Running Order'!AK56","v":0},{"$f":"'All Running Order'!AL56","v":0},{"$f":"'All Running Order'!AM56","v":2000},{"$f":"'All Running Order'!AN56","v":0},{"$f":"'All Running Order'!AO56","v":0},{"$f":"'All Running Order'!AP56","v":0},{"$f":"'All Running Order'!AQ56","v":0},{"$f":"'All Running Order'!AR56","v":0},{"$f":"'All Running Order'!AS56","v":0},{"$f":"'All Running Order'!AT56","v":0},{"$f":"'All Running Order'!AU56","v":0},{"$f":"'All Running Order'!AV56","v":0},{"$f":"'All Running Order'!AW56","v":0},{"$f":"'All Running Order'!AX56","v":0},{"$f":"'All Running Order'!AY56","v":2000},{"$f":"'All Running Order'!AZ56","v":0},{"$f":"'All Running Order'!BA56","v":0},{"$f":"'All Running Order'!BB56","v":0},{"$f":"'All Running Order'!BC56","v":0},{"$f":"'All Running Order'!BD56","v":0},{"$f":"'All Running Order'!BE56","v":0},{"$f":"'All Running Order'!BF56","v":0},{"$f":"'All Running Order'!BG56","v":0},{"$f":"'All Running Order'!BH56","v":0},{"$f":"'All Running Order'!BI56","v":0},{"$f":"'All Running Order'!BJ56","v":0},{"$f":"'All Running Order'!BK56","v":2000},{"$f":"'All Running Order'!BL56","v":0},{"$f":"'All Running Order'!BM56","v":0},{"$f":"'All Running Order'!BN56","v":0},{"$f":"'All Running Order'!BO56","v":0},{"$f":"'All Running Order'!BP56","v":0},{"$f":"'All Running Order'!BQ56","v":0},{"$f":"'All Running Order'!BR56","v":0},{"$f":"'All Running Order'!BS56","v":0},{"$f":"'All Running Order'!BT56","v":0},{"$f":"'All Running Order'!BU56","v":0},{"$f":"'All Running Order'!BV56","v":0},{"$f":"'All Running Order'!BW56","v":2000},{"$f":"'All Running Order'!BX56","v":13},{"$f":"'All Running Order'!BY56","v":13},{"$f":"'All Running Order'!BZ56","v":13},{"$f":"'All Running Order'!CA56","v":13},{"$f":"'All Running Order'!CB56","v":13},{"$f":"'All Running Order'!CC56","v":13},{"$f":"'All Running Order'!CD56","v":13},{"$f":"'All Running Order'!CE56","v":13},{"$f":"'All Running Order'!CF56","v":13},{"$f":"'All Running Order'!CG56","v":13},{"$f":"'All Running Order'!CH56","v":"-"},{"$f":"'All Running Order'!CI56","v":""},{"$f":"'All Running Order'!CJ56","v":"-"},{"$f":"'All Running Order'!CK56","v":""},{"$f":"'All Running Order'!CL56","v":"-"},{"$f":"'All Running Order'!CM56","v":""},{"$f":"'All Running Order'!CN56","v":"-"},{"$f":"'All Running Order'!CO56","v":""},{"$f":"'All Running Order'!CP56","v":"-"},{"$f":"'All Running Order'!CQ56","v":""},{"$f":"'All Running Order'!CR56","v":"-"},{"$f":"'All Running Order'!CS56","v":""},{"$f":"'All Running Order'!CT56","v":"-"},{"$f":"'All Running Order'!CU56","v":" "},{"$f":"'All Running Order'!CV56","v":"-"},{"$f":"'All Running Order'!CW56","v":" "},{"$f":"'All Running Order'!CX56","v":" "}]
["0 ",{"$f":"'All Running Order'!B57","v":53},{"$f":"'All Running Order'!C57","v":0},{"$f":"'All Running Order'!D57","v":0},{"$f":"'All Running Order'!E57","v":0},{"$f":"'All Running Order'!F57","v":0},{"$f":"'All Running Order'!G57","v":0},{"$f":"'All Running Order'!I57","v":0},{"$f":"'All Running Order'!J57","v":0},{"$f":"'All Running Order'!K57","v":0},null,{"$f":"'All Running Order'!N57","v":0},{"$f":"'All Running Order'!P57","v":0},{"$f":"'All Running Order'!Q57","v":0},{"$f":"'All Running Order'!R57","v":0},{"$f":"'All Running Order'!S57","v":0},{"$f":"'All Running Order'!T57","v":0},{"$f":"'All Running Order'!U57","v":0},{"$f":"'All Running Order'!V57","v":0},{"$f":"'All Running Order'!W57","v":0},{"$f":"'All Running Order'!X57","v":0},{"$f":"'All Running Order'!Y57","v":0},{"$f":"'All Running Order'!Z57","v":0},{"$f":"'All Running Order'!AA57","v":2000},{"$f":"'All Running Order'!AB57","v":0},{"$f":"'All Running Order'!AC57","v":0},{"$f":"'All Running Order'!AD57","v":0},{"$f":"'All Running Order'!AE57","v":0},{"$f":"'All Running Order'!AF57","v":0},{"$f":"'All Running Order'!AG57","v":0},{"$f":"'All Running Order'!AH57","v":0},{"$f":"'All Running Order'!AI57","v":0},{"$f":"'All Running Order'!AJ57","v":0},{"$f":"'All Running Order'!AK57","v":0},{"$f":"'All Running Order'!AL57","v":0},{"$f":"'All Running Order'!AM57","v":2000},{"$f":"'All Running Order'!AN57","v":0},{"$f":"'All Running Order'!AO57","v":0},{"$f":"'All Running Order'!AP57","v":0},{"$f":"'All Running Order'!AQ57","v":0},{"$f":"'All Running Order'!AR57","v":0},{"$f":"'All Running Order'!AS57","v":0},{"$f":"'All Running Order'!AT57","v":0},{"$f":"'All Running Order'!AU57","v":0},{"$f":"'All Running Order'!AV57","v":0},{"$f":"'All Running Order'!AW57","v":0},{"$f":"'All Running Order'!AX57","v":0},{"$f":"'All Running Order'!AY57","v":2000},{"$f":"'All Running Order'!AZ57","v":0},{"$f":"'All Running Order'!BA57","v":0},{"$f":"'All Running Order'!BB57","v":0},{"$f":"'All Running Order'!BC57","v":0},{"$f":"'All Running Order'!BD57","v":0},{"$f":"'All Running Order'!BE57","v":0},{"$f":"'All Running Order'!BF57","v":0},{"$f":"'All Running Order'!BG57","v":0},{"$f":"'All Running Order'!BH57","v":0},{"$f":"'All Running Order'!BI57","v":0},{"$f":"'All Running Order'!BJ57","v":0},{"$f":"'All Running Order'!BK57","v":2000},{"$f":"'All Running Order'!BL57","v":0},{"$f":"'All Running Order'!BM57","v":0},{"$f":"'All Running Order'!BN57","v":0},{"$f":"'All Running Order'!BO57","v":0},{"$f":"'All Running Order'!BP57","v":0},{"$f":"'All Running Order'!BQ57","v":0},{"$f":"'All Running Order'!BR57","v":0},{"$f":"'All Running Order'!BS57","v":0},{"$f":"'All Running Order'!BT57","v":0},{"$f":"'All Running Order'!BU57","v":0},{"$f":"'All Running Order'!BV57","v":0},{"$f":"'All Running Order'!BW57","v":2000},{"$f":"'All Running Order'!BX57","v":13},{"$f":"'All Running Order'!BY57","v":13},{"$f":"'All Running Order'!BZ57","v":13},{"$f":"'All Running Order'!CA57","v":13},{"$f":"'All Running Order'!CB57","v":13},{"$f":"'All Running Order'!CC57","v":13},{"$f":"'All Running Order'!CD57","v":13},{"$f":"'All Running Order'!CE57","v":13},{"$f":"'All Running Order'!CF57","v":13},{"$f":"'All Running Order'!CG57","v":13},{"$f":"'All Running Order'!CH57","v":"-"},{"$f":"'All Running Order'!CI57","v":""},{"$f":"'All Running Order'!CJ57","v":"-"},{"$f":"'All Running Order'!CK57","v":""},{"$f":"'All Running Order'!CL57","v":"-"},{"$f":"'All Running Order'!CM57","v":""},{"$f":"'All Running Order'!CN57","v":"-"},{"$f":"'All Running Order'!CO57","v":""},{"$f":"'All Running Order'!CP57","v":"-"},{"$f":"'All Running Order'!CQ57","v":""},{"$f":"'All Running Order'!CR57","v":"-"},{"$f":"'All Running Order'!CS57","v":""},{"$f":"'All Running Order'!CT57","v":"-"},{"$f":"'All Running Order'!CU57","v":" "},{"$f":"'All Running Order'!CV57","v":"-"},{"$f":"'All Running Order'!CW57","v":" "},{"$f":"'All Running Order'!CX57","v":" "}]
["0 ",{"$f":"'All Running Order'!B58","v":54},{"$f":"'All Running Order'!C58","v":0},{"$f":"'All Running Order'!D58","v":0},{"$f":"'All Running Order'!E58","v":0},{"$f":"'All Running Order'!F58","v":0},{"$f":"'All Running Order'!G58","v":0},{"$f":"'All Running Order'!I58","v":0},{"$f":"'All Running Order'!J58","v":0},{"$f":"'All Running Order'!K58","v":0},null,{"$f":"'All Running Order'!N58","v":0},{"$f":"'All Running Order'!P58","v":0},{"$f":"'All Running Order'!Q58","v":0},{"$f":"'All Running Order'!R58","v":0},{"$f":"'All Running Order'!S58","v":0},{"$f":"'All Running Order'!T58","v":0},{"$f":"'All Running Order'!U58","v":0},{"$f":"'All Running Order'!V58","v":0},{"$f":"'All Running Order'!W58","v":0},{"$f":"'All Running Order'!X58","v":0},{"$f":"'All Running Order'!Y58","v":0},{"$f":"'All Running Order'!Z58","v":0},{"$f":"'All Running Order'!AA58","v":2000},{"$f":"'All Running Order'!AB58","v":0},{"$f":"'All Running Order'!AC58","v":0},{"$f":"'All Running Order'!AD58","v":0},{"$f":"'All Running Order'!AE58","v":0},{"$f":"'All Running Order'!AF58","v":0},{"$f":"'All Running Order'!AG58","v":0},{"$f":"'All Running Order'!AH58","v":0},{"$f":"'All Running Order'!AI58","v":0},{"$f":"'All Running Order'!AJ58","v":0},{"$f":"'All Running Order'!AK58","v":0},{"$f":"'All Running Order'!AL58","v":0},{"$f":"'All Running Order'!AM58","v":2000},{"$f":"'All Running Order'!AN58","v":0},{"$f":"'All Running Order'!AO58","v":0},{"$f":"'All Running Order'!AP58","v":0},{"$f":"'All Running Order'!AQ58","v":0},{"$f":"'All Running Order'!AR58","v":0},{"$f":"'All Running Order'!AS58","v":0},{"$f":"'All Running Order'!AT58","v":0},{"$f":"'All Running Order'!AU58","v":0},{"$f":"'All Running Order'!AV58","v":0},{"$f":"'All Running Order'!AW58","v":0},{"$f":"'All Running Order'!AX58","v":0},{"$f":"'All Running Order'!AY58","v":2000},{"$f":"'All Running Order'!AZ58","v":0},{"$f":"'All Running Order'!BA58","v":0},{"$f":"'All Running Order'!BB58","v":0},{"$f":"'All Running Order'!BC58","v":0},{"$f":"'All Running Order'!BD58","v":0},{"$f":"'All Running Order'!BE58","v":0},{"$f":"'All Running Order'!BF58","v":0},{"$f":"'All Running Order'!BG58","v":0},{"$f":"'All Running Order'!BH58","v":0},{"$f":"'All Running Order'!BI58","v":0},{"$f":"'All Running Order'!BJ58","v":0},{"$f":"'All Running Order'!BK58","v":2000},{"$f":"'All Running Order'!BL58","v":0},{"$f":"'All Running Order'!BM58","v":0},{"$f":"'All Running Order'!BN58","v":0},{"$f":"'All Running Order'!BO58","v":0},{"$f":"'All Running Order'!BP58","v":0},{"$f":"'All Running Order'!BQ58","v":0},{"$f":"'All Running Order'!BR58","v":0},{"$f":"'All Running Order'!BS58","v":0},{"$f":"'All Running Order'!BT58","v":0},{"$f":"'All Running Order'!BU58","v":0},{"$f":"'All Running Order'!BV58","v":0},{"$f":"'All Running Order'!BW58","v":2000},{"$f":"'All Running Order'!BX58","v":13},{"$f":"'All Running Order'!BY58","v":13},{"$f":"'All Running Order'!BZ58","v":13},{"$f":"'All Running Order'!CA58","v":13},{"$f":"'All Running Order'!CB58","v":13},{"$f":"'All Running Order'!CC58","v":13},{"$f":"'All Running Order'!CD58","v":13},{"$f":"'All Running Order'!CE58","v":13},{"$f":"'All Running Order'!CF58","v":13},{"$f":"'All Running Order'!CG58","v":13},{"$f":"'All Running Order'!CH58","v":"-"},{"$f":"'All Running Order'!CI58","v":""},{"$f":"'All Running Order'!CJ58","v":"-"},{"$f":"'All Running Order'!CK58","v":""},{"$f":"'All Running Order'!CL58","v":"-"},{"$f":"'All Running Order'!CM58","v":""},{"$f":"'All Running Order'!CN58","v":"-"},{"$f":"'All Running Order'!CO58","v":""},{"$f":"'All Running Order'!CP58","v":"-"},{"$f":"'All Running Order'!CQ58","v":""},{"$f":"'All Running Order'!CR58","v":"-"},{"$f":"'All Running Order'!CS58","v":""},{"$f":"'All Running Order'!CT58","v":"-"},{"$f":"'All Running Order'!CU58","v":" "},{"$f":"'All Running Order'!CV58","v":"-"},{"$f":"'All Running Order'!CW58","v":" "},{"$f":"'All Running Order'!CX58","v":" "}]
["0 ",{"$f":"'All Running Order'!B59","v":55},{"$f":"'All Running Order'!C59","v":0},{"$f":"'All Running Order'!D59","v":0},{"$f":"'All Running Order'!E59","v":0},{"$f":"'All Running Order'!F59","v":0},{"$f":"'All Running Order'!G59","v":0},{"$f":"'All Running Order'!I59","v":0},{"$f":"'All Running Order'!J59","v":0},{"$f":"'All Running Order'!K59","v":0},null,{"$f":"'All Running Order'!N59","v":0},{"$f":"'All Running Order'!P59","v":0},{"$f":"'All Running Order'!Q59","v":0},{"$f":"'All Running Order'!R59","v":0},{"$f":"'All Running Order'!S59","v":0},{"$f":"'All Running Order'!T59","v":0},{"$f":"'All Running Order'!U59","v":0},{"$f":"'All Running Order'!V59","v":0},{"$f":"'All Running Order'!W59","v":0},{"$f":"'All Running Order'!X59","v":0},{"$f":"'All Running Order'!Y59","v":0},{"$f":"'All Running Order'!Z59","v":0},{"$f":"'All Running Order'!AA59","v":2000},{"$f":"'All Running Order'!AB59","v":0},{"$f":"'All Running Order'!AC59","v":0},{"$f":"'All Running Order'!AD59","v":0},{"$f":"'All Running Order'!AE59","v":0},{"$f":"'All Running Order'!AF59","v":0},{"$f":"'All Running Order'!AG59","v":0},{"$f":"'All Running Order'!AH59","v":0},{"$f":"'All Running Order'!AI59","v":0},{"$f":"'All Running Order'!AJ59","v":0},{"$f":"'All Running Order'!AK59","v":0},{"$f":"'All Running Order'!AL59","v":0},{"$f":"'All Running Order'!AM59","v":2000},{"$f":"'All Running Order'!AN59","v":0},{"$f":"'All Running Order'!AO59","v":0},{"$f":"'All Running Order'!AP59","v":0},{"$f":"'All Running Order'!AQ59","v":0},{"$f":"'All Running Order'!AR59","v":0},{"$f":"'All Running Order'!AS59","v":0},{"$f":"'All Running Order'!AT59","v":0},{"$f":"'All Running Order'!AU59","v":0},{"$f":"'All Running Order'!AV59","v":0},{"$f":"'All Running Order'!AW59","v":0},{"$f":"'All Running Order'!AX59","v":0},{"$f":"'All Running Order'!AY59","v":2000},{"$f":"'All Running Order'!AZ59","v":0},{"$f":"'All Running Order'!BA59","v":0},{"$f":"'All Running Order'!BB59","v":0},{"$f":"'All Running Order'!BC59","v":0},{"$f":"'All Running Order'!BD59","v":0},{"$f":"'All Running Order'!BE59","v":0},{"$f":"'All Running Order'!BF59","v":0},{"$f":"'All Running Order'!BG59","v":0},{"$f":"'All Running Order'!BH59","v":0},{"$f":"'All Running Order'!BI59","v":0},{"$f":"'All Running Order'!BJ59","v":0},{"$f":"'All Running Order'!BK59","v":2000},{"$f":"'All Running Order'!BL59","v":0},{"$f":"'All Running Order'!BM59","v":0},{"$f":"'All Running Order'!BN59","v":0},{"$f":"'All Running Order'!BO59","v":0},{"$f":"'All Running Order'!BP59","v":0},{"$f":"'All Running Order'!BQ59","v":0},{"$f":"'All Running Order'!BR59","v":0},{"$f":"'All Running Order'!BS59","v":0},{"$f":"'All Running Order'!BT59","v":0},{"$f":"'All Running Order'!BU59","v":0},{"$f":"'All Running Order'!BV59","v":0},{"$f":"'All Running Order'!BW59","v":2000},{"$f":"'All Running Order'!BX59","v":13},{"$f":"'All Running Order'!BY59","v":13},{"$f":"'All Running Order'!BZ59","v":13},{"$f":"'All Running Order'!CA59","v":13},{"$f":"'All Running Order'!CB59","v":13},{"$f":"'All Running Order'!CC59","v":13},{"$f":"'All Running Order'!CD59","v":13},{"$f":"'All Running Order'!CE59","v":13},{"$f":"'All Running Order'!CF59","v":13},{"$f":"'All Running Order'!CG59","v":13},{"$f":"'All Running Order'!CH59","v":"-"},{"$f":"'All Running Order'!CI59","v":""},{"$f":"'All Running Order'!CJ59","v":"-"},{"$f":"'All Running Order'!CK59","v":""},{"$f":"'All Running Order'!CL59","v":"-"},{"$f":"'All Running Order'!CM59","v":""},{"$f":"'All Running Order'!CN59","v":"-"},{"$f":"'All Running Order'!CO59","v":""},{"$f":"'All Running Order'!CP59","v":"-"},{"$f":"'All Running Order'!CQ59","v":""},{"$f":"'All Running Order'!CR59","v":"-"},{"$f":"'All Running Order'!CS59","v":""},{"$f":"'All Running Order'!CT59","v":"-"},{"$f":"'All Running Order'!CU59","v":" "},{"$f":"'All Running Order'!CV59","v":"-"},{"$f":"'All Running Order'!CW59","v":" "},{"$f":"'All Running Order'!CX59","v":" "}]
["0 ",{"$f":"'All Running Order'!B60","v":56},{"$f":"'All Running Order'!C60","v":0},{"$f":"'All Running Order'!D60","v":0},{"$f":"'All Running Order'!E60","v":0},{"$f":"'All Running Order'!F60","v":0},{"$f":"'All Running Order'!G60","v":0},{"$f":"'All Running Order'!I60","v":0},{"$f":"'All Running Order'!J60","v":0},{"$f":"'All Running Order'!K60","v":0},null,{"$f":"'All Running Order'!N60","v":0},{"$f":"'All Running Order'!P60","v":0},{"$f":"'All Running Order'!Q60","v":0},{"$f":"'All Running Order'!R60","v":0},{"$f":"'All Running Order'!S60","v":0},{"$f":"'All Running Order'!T60","v":0},{"$f":"'All Running Order'!U60","v":0},{"$f":"'All Running Order'!V60","v":0},{"$f":"'All Running Order'!W60","v":0},{"$f":"'All Running Order'!X60","v":0},{"$f":"'All Running Order'!Y60","v":0},{"$f":"'All Running Order'!Z60","v":0},{"$f":"'All Running Order'!AA60","v":2000},{"$f":"'All Running Order'!AB60","v":0},{"$f":"'All Running Order'!AC60","v":0},{"$f":"'All Running Order'!AD60","v":0},{"$f":"'All Running Order'!AE60","v":0},{"$f":"'All Running Order'!AF60","v":0},{"$f":"'All Running Order'!AG60","v":0},{"$f":"'All Running Order'!AH60","v":0},{"$f":"'All Running Order'!AI60","v":0},{"$f":"'All Running Order'!AJ60","v":0},{"$f":"'All Running Order'!AK60","v":0},{"$f":"'All Running Order'!AL60","v":0},{"$f":"'All Running Order'!AM60","v":2000},{"$f":"'All Running Order'!AN60","v":0},{"$f":"'All Running Order'!AO60","v":0},{"$f":"'All Running Order'!AP60","v":0},{"$f":"'All Running Order'!AQ60","v":0},{"$f":"'All Running Order'!AR60","v":0},{"$f":"'All Running Order'!AS60","v":0},{"$f":"'All Running Order'!AT60","v":0},{"$f":"'All Running Order'!AU60","v":0},{"$f":"'All Running Order'!AV60","v":0},{"$f":"'All Running Order'!AW60","v":0},{"$f":"'All Running Order'!AX60","v":0},{"$f":"'All Running Order'!AY60","v":2000},{"$f":"'All Running Order'!AZ60","v":0},{"$f":"'All Running Order'!BA60","v":0},{"$f":"'All Running Order'!BB60","v":0},{"$f":"'All Running Order'!BC60","v":0},{"$f":"'All Running Order'!BD60","v":0},{"$f":"'All Running Order'!BE60","v":0},{"$f":"'All Running Order'!BF60","v":0},{"$f":"'All Running Order'!BG60","v":0},{"$f":"'All Running Order'!BH60","v":0},{"$f":"'All Running Order'!BI60","v":0},{"$f":"'All Running Order'!BJ60","v":0},{"$f":"'All Running Order'!BK60","v":2000},{"$f":"'All Running Order'!BL60","v":0},{"$f":"'All Running Order'!BM60","v":0},{"$f":"'All Running Order'!BN60","v":0},{"$f":"'All Running Order'!BO60","v":0},{"$f":"'All Running Order'!BP60","v":0},{"$f":"'All Running Order'!BQ60","v":0},{"$f":"'All Running Order'!BR60","v":0},{"$f":"'All Running Order'!BS60","v":0},{"$f":"'All Running Order'!BT60","v":0},{"$f":"'All Running Order'!BU60","v":0},{"$f":"'All Running Order'!BV60","v":0},{"$f":"'All Running Order'!BW60","v":2000},{"$f":"'All Running Order'!BX60","v":13},{"$f":"'All Running Order'!BY60","v":13},{"$f":"'All Running Order'!BZ60","v":13},{"$f":"'All Running Order'!CA60","v":13},{"$f":"'All Running Order'!CB60","v":13},{"$f":"'All Running Order'!CC60","v":13},{"$f":"'All Running Order'!CD60","v":13},{"$f":"'All Running Order'!CE60","v":13},{"$f":"'All Running Order'!CF60","v":13},{"$f":"'All Running Order'!CG60","v":13},{"$f":"'All Running Order'!CH60","v":"-"},{"$f":"'All Running Order'!CI60","v":""},{"$f":"'All Running Order'!CJ60","v":"-"},{"$f":"'All Running Order'!CK60","v":""},{"$f":"'All Running Order'!CL60","v":"-"},{"$f":"'All Running Order'!CM60","v":""},{"$f":"'All Running Order'!CN60","v":"-"},{"$f":"'All Running Order'!CO60","v":""},{"$f":"'All Running Order'!CP60","v":"-"},{"$f":"'All Running Order'!CQ60","v":""},{"$f":"'All Running Order'!CR60","v":"-"},{"$f":"'All Running Order'!CS60","v":""},{"$f":"'All Running Order'!CT60","v":"-"},{"$f":"'All Running Order'!CU60","v":" "},{"$f":"'All Running Order'!CV60","v":"-"},{"$f":"'All Running Order'!CW60","v":" "},{"$f":"'All Running Order'!CX60","v":" "}]
["0 ",{"$f":"'All Running Order'!B61","v":57},{"$f":"'All Running Order'!C61","v":0},{"$f":"'All Running Order'!D61","v":0},{"$f":"'All Running Order'!E61","v":0},{"$f":"'All Running Order'!F61","v":0},{"$f":"'All Running Order'!G61","v":0},{"$f":"'All Running Order'!I61","v":0},{"$f":"'All Running Order'!J61","v":0},{"$f":"'All Running Order'!K61","v":0},null,{"$f":"'All Running Order'!N61","v":0},{"$f":"'All Running Order'!P61","v":0},{"$f":"'All Running Order'!Q61","v":0},{"$f":"'All Running Order'!R61","v":0},{"$f":"'All Running Order'!S61","v":0},{"$f":"'All Running Order'!T61","v":0},{"$f":"'All Running Order'!U61","v":0},{"$f":"'All Running Order'!V61","v":0},{"$f":"'All Running Order'!W61","v":0},{"$f":"'All Running Order'!X61","v":0},{"$f":"'All Running Order'!Y61","v":0},{"$f":"'All Running Order'!Z61","v":0},{"$f":"'All Running Order'!AA61","v":2000},{"$f":"'All Running Order'!AB61","v":0},{"$f":"'All Running Order'!AC61","v":0},{"$f":"'All Running Order'!AD61","v":0},{"$f":"'All Running Order'!AE61","v":0},{"$f":"'All Running Order'!AF61","v":0},{"$f":"'All Running Order'!AG61","v":0},{"$f":"'All Running Order'!AH61","v":0},{"$f":"'All Running Order'!AI61","v":0},{"$f":"'All Running Order'!AJ61","v":0},{"$f":"'All Running Order'!AK61","v":0},{"$f":"'All Running Order'!AL61","v":0},{"$f":"'All Running Order'!AM61","v":2000},{"$f":"'All Running Order'!AN61","v":0},{"$f":"'All Running Order'!AO61","v":0},{"$f":"'All Running Order'!AP61","v":0},{"$f":"'All Running Order'!AQ61","v":0},{"$f":"'All Running Order'!AR61","v":0},{"$f":"'All Running Order'!AS61","v":0},{"$f":"'All Running Order'!AT61","v":0},{"$f":"'All Running Order'!AU61","v":0},{"$f":"'All Running Order'!AV61","v":0},{"$f":"'All Running Order'!AW61","v":0},{"$f":"'All Running Order'!AX61","v":0},{"$f":"'All Running Order'!AY61","v":2000},{"$f":"'All Running Order'!AZ61","v":0},{"$f":"'All Running Order'!BA61","v":0},{"$f":"'All Running Order'!BB61","v":0},{"$f":"'All Running Order'!BC61","v":0},{"$f":"'All Running Order'!BD61","v":0},{"$f":"'All Running Order'!BE61","v":0},{"$f":"'All Running Order'!BF61","v":0},{"$f":"'All Running Order'!BG61","v":0},{"$f":"'All Running Order'!BH61","v":0},{"$f":"'All Running Order'!BI61","v":0},{"$f":"'All Running Order'!BJ61","v":0},{"$f":"'All Running Order'!BK61","v":2000},{"$f":"'All Running Order'!BL61","v":0},{"$f":"'All Running Order'!BM61","v":0},{"$f":"'All Running Order'!BN61","v":0},{"$f":"'All Running Order'!BO61","v":0},{"$f":"'All Running Order'!BP61","v":0},{"$f":"'All Running Order'!BQ61","v":0},{"$f":"'All Running Order'!BR61","v":0},{"$f":"'All Running Order'!BS61","v":0},{"$f":"'All Running Order'!BT61","v":0},{"$f":"'All Running Order'!BU61","v":0},{"$f":"'All Running Order'!BV61","v":0},{"$f":"'All Running Order'!BW61","v":2000},{"$f":"'All Running Order'!BX61","v":13},{"$f":"'All Running Order'!BY61","v":13},{"$f":"'All Running Order'!BZ61","v":13},{"$f":"'All Running Order'!CA61","v":13},{"$f":"'All Running Order'!CB61","v":13},{"$f":"'All Running Order'!CC61","v":13},{"$f":"'All Running Order'!CD61","v":13},{"$f":"'All Running Order'!CE61","v":13},{"$f":"'All Running Order'!CF61","v":13},{"$f":"'All Running Order'!CG61","v":13},{"$f":"'All Running Order'!CH61","v":"-"},{"$f":"'All Running Order'!CI61","v":""},{"$f":"'All Running Order'!CJ61","v":"-"},{"$f":"'All Running Order'!CK61","v":""},{"$f":"'All Running Order'!CL61","v":"-"},{"$f":"'All Running Order'!CM61","v":""},{"$f":"'All Running Order'!CN61","v":"-"},{"$f":"'All Running Order'!CO61","v":""},{"$f":"'All Running Order'!CP61","v":"-"},{"$f":"'All Running Order'!CQ61","v":""},{"$f":"'All Running Order'!CR61","v":"-"},{"$f":"'All Running Order'!CS61","v":""},{"$f":"'All Running Order'!CT61","v":"-"},{"$f":"'All Running Order'!CU61","v":" "},{"$f":"'All Running Order'!CV61","v":"-"},{"$f":"'All Running Order'!CW61","v":" "},{"$f":"'All Running Order'!CX61","v":" "}]
["0 ",{"$f":"'All Running Order'!B62","v":58},{"$f":"'All Running Order'!C62","v":0},{"$f":"'All Running Order'!D62","v":0},{"$f":"'All Running Order'!E62","v":0},{"$f":"'All Running Order'!F62","v":0},{"$f":"'All Running Order'!G62","v":0},{"$f":"'All Running Order'!I62","v":0},{"$f":"'All Running Order'!J62","v":0},{"$f":"'All Running Order'!K62","v":0},null,{"$f":"'All Running Order'!N62","v":0},{"$f":"'All Running Order'!P62","v":0},{"$f":"'All Running Order'!Q62","v":0},{"$f":"'All Running Order'!R62","v":0},{"$f":"'All Running Order'!S62","v":0},{"$f":"'All Running Order'!T62","v":0},{"$f":"'All Running Order'!U62","v":0},{"$f":"'All Running Order'!V62","v":0},{"$f":"'All Running Order'!W62","v":0},{"$f":"'All Running Order'!X62","v":0},{"$f":"'All Running Order'!Y62","v":0},{"$f":"'All Running Order'!Z62","v":0},{"$f":"'All Running Order'!AA62","v":2000},{"$f":"'All Running Order'!AB62","v":0},{"$f":"'All Running Order'!AC62","v":0},{"$f":"'All Running Order'!AD62","v":0},{"$f":"'All Running Order'!AE62","v":0},{"$f":"'All Running Order'!AF62","v":0},{"$f":"'All Running Order'!AG62","v":0},{"$f":"'All Running Order'!AH62","v":0},{"$f":"'All Running Order'!AI62","v":0},{"$f":"'All Running Order'!AJ62","v":0},{"$f":"'All Running Order'!AK62","v":0},{"$f":"'All Running Order'!AL62","v":0},{"$f":"'All Running Order'!AM62","v":2000},{"$f":"'All Running Order'!AN62","v":0},{"$f":"'All Running Order'!AO62","v":0},{"$f":"'All Running Order'!AP62","v":0},{"$f":"'All Running Order'!AQ62","v":0},{"$f":"'All Running Order'!AR62","v":0},{"$f":"'All Running Order'!AS62","v":0},{"$f":"'All Running Order'!AT62","v":0},{"$f":"'All Running Order'!AU62","v":0},{"$f":"'All Running Order'!AV62","v":0},{"$f":"'All Running Order'!AW62","v":0},{"$f":"'All Running Order'!AX62","v":0},{"$f":"'All Running Order'!AY62","v":2000},{"$f":"'All Running Order'!AZ62","v":0},{"$f":"'All Running Order'!BA62","v":0},{"$f":"'All Running Order'!BB62","v":0},{"$f":"'All Running Order'!BC62","v":0},{"$f":"'All Running Order'!BD62","v":0},{"$f":"'All Running Order'!BE62","v":0},{"$f":"'All Running Order'!BF62","v":0},{"$f":"'All Running Order'!BG62","v":0},{"$f":"'All Running Order'!BH62","v":0},{"$f":"'All Running Order'!BI62","v":0},{"$f":"'All Running Order'!BJ62","v":0},{"$f":"'All Running Order'!BK62","v":2000},{"$f":"'All Running Order'!BL62","v":0},{"$f":"'All Running Order'!BM62","v":0},{"$f":"'All Running Order'!BN62","v":0},{"$f":"'All Running Order'!BO62","v":0},{"$f":"'All Running Order'!BP62","v":0},{"$f":"'All Running Order'!BQ62","v":0},{"$f":"'All Running Order'!BR62","v":0},{"$f":"'All Running Order'!BS62","v":0},{"$f":"'All Running Order'!BT62","v":0},{"$f":"'All Running Order'!BU62","v":0},{"$f":"'All Running Order'!BV62","v":0},{"$f":"'All Running Order'!BW62","v":2000},{"$f":"'All Running Order'!BX62","v":13},{"$f":"'All Running Order'!BY62","v":13},{"$f":"'All Running Order'!BZ62","v":13},{"$f":"'All Running Order'!CA62","v":13},{"$f":"'All Running Order'!CB62","v":13},{"$f":"'All Running Order'!CC62","v":13},{"$f":"'All Running Order'!CD62","v":13},{"$f":"'All Running Order'!CE62","v":13},{"$f":"'All Running Order'!CF62","v":13},{"$f":"'All Running Order'!CG62","v":13},{"$f":"'All Running Order'!CH62","v":"-"},{"$f":"'All Running Order'!CI62","v":""},{"$f":"'All Running Order'!CJ62","v":"-"},{"$f":"'All Running Order'!CK62","v":""},{"$f":"'All Running Order'!CL62","v":"-"},{"$f":"'All Running Order'!CM62","v":""},{"$f":"'All Running Order'!CN62","v":"-"},{"$f":"'All Running Order'!CO62","v":""},{"$f":"'All Running Order'!CP62","v":"-"},{"$f":"'All Running Order'!CQ62","v":""},{"$f":"'All Running Order'!CR62","v":"-"},{"$f":"'All Running Order'!CS62","v":""},{"$f":"'All Running Order'!CT62","v":"-"},{"$f":"'All Running Order'!CU62","v":" "},{"$f":"'All Running Order'!CV62","v":"-"},{"$f":"'All Running Order'!CW62","v":" "},{"$f":"'All Running Order'!CX62","v":" "}]
["0 ",{"$f":"'All Running Order'!B63","v":59},{"$f":"'All Running Order'!C63","v":0},{"$f":"'All Running Order'!D63","v":0},{"$f":"'All Running Order'!E63","v":0},{"$f":"'All Running Order'!F63","v":0},{"$f":"'All Running Order'!G63","v":0},{"$f":"'All Running Order'!I63","v":0},{"$f":"'All Running Order'!J63","v":0},{"$f":"'All Running Order'!K63","v":0},null,{"$f":"'All Running Order'!N63","v":0},{"$f":"'All Running Order'!P63","v":0},{"$f":"'All Running Order'!Q63","v":0},{"$f":"'All Running Order'!R63","v":0},{"$f":"'All Running Order'!S63","v":0},{"$f":"'All Running Order'!T63","v":0},{"$f":"'All Running Order'!U63","v":0},{"$f":"'All Running Order'!V63","v":0},{"$f":"'All Running Order'!W63","v":0},{"$f":"'All Running Order'!X63","v":0},{"$f":"'All Running Order'!Y63","v":0},{"$f":"'All Running Order'!Z63","v":0},{"$f":"'All Running Order'!AA63","v":2000},{"$f":"'All Running Order'!AB63","v":0},{"$f":"'All Running Order'!AC63","v":0},{"$f":"'All Running Order'!AD63","v":0},{"$f":"'All Running Order'!AE63","v":0},{"$f":"'All Running Order'!AF63","v":0},{"$f":"'All Running Order'!AG63","v":0},{"$f":"'All Running Order'!AH63","v":0},{"$f":"'All Running Order'!AI63","v":0},{"$f":"'All Running Order'!AJ63","v":0},{"$f":"'All Running Order'!AK63","v":0},{"$f":"'All Running Order'!AL63","v":0},{"$f":"'All Running Order'!AM63","v":2000},{"$f":"'All Running Order'!AN63","v":0},{"$f":"'All Running Order'!AO63","v":0},{"$f":"'All Running Order'!AP63","v":0},{"$f":"'All Running Order'!AQ63","v":0},{"$f":"'All Running Order'!AR63","v":0},{"$f":"'All Running Order'!AS63","v":0},{"$f":"'All Running Order'!AT63","v":0},{"$f":"'All Running Order'!AU63","v":0},{"$f":"'All Running Order'!AV63","v":0},{"$f":"'All Running Order'!AW63","v":0},{"$f":"'All Running Order'!AX63","v":0},{"$f":"'All Running Order'!AY63","v":2000},{"$f":"'All Running Order'!AZ63","v":0},{"$f":"'All Running Order'!BA63","v":0},{"$f":"'All Running Order'!BB63","v":0},{"$f":"'All Running Order'!BC63","v":0},{"$f":"'All Running Order'!BD63","v":0},{"$f":"'All Running Order'!BE63","v":0},{"$f":"'All Running Order'!BF63","v":0},{"$f":"'All Running Order'!BG63","v":0},{"$f":"'All Running Order'!BH63","v":0},{"$f":"'All Running Order'!BI63","v":0},{"$f":"'All Running Order'!BJ63","v":0},{"$f":"'All Running Order'!BK63","v":2000},{"$f":"'All Running Order'!BL63","v":0},{"$f":"'All Running Order'!BM63","v":0},{"$f":"'All Running Order'!BN63","v":0},{"$f":"'All Running Order'!BO63","v":0},{"$f":"'All Running Order'!BP63","v":0},{"$f":"'All Running Order'!BQ63","v":0},{"$f":"'All Running Order'!BR63","v":0},{"$f":"'All Running Order'!BS63","v":0},{"$f":"'All Running Order'!BT63","v":0},{"$f":"'All Running Order'!BU63","v":0},{"$f":"'All Running Order'!BV63","v":0},{"$f":"'All Running Order'!BW63","v":2000},{"$f":"'All Running Order'!BX63","v":0},{"$f":"'All Running Order'!BY63","v":0},{"$f":"'All Running Order'!BZ63","v":0},{"$f":"'All Running Order'!CA63","v":13},{"$f":"'All Running Order'!CB63","v":13},{"$f":"'All Running Order'!CC63","v":13},{"$f":"'All Running Order'!CD63","v":13},{"$f":"'All Running Order'!CE63","v":13},{"$f":"'All Running Order'!CF63","v":13},{"$f":"'All Running Order'!CG63","v":13},{"$f":"'All Running Order'!CH63","v":"-"},{"$f":"'All Running Order'!CI63","v":""},{"$f":"'All Running Order'!CJ63","v":"-"},{"$f":"'All Running Order'!CK63","v":""},{"$f":"'All Running Order'!CL63","v":"-"},{"$f":"'All Running Order'!CM63","v":""},{"$f":"'All Running Order'!CN63","v":"-"},{"$f":"'All Running Order'!CO63","v":""},{"$f":"'All Running Order'!CP63","v":"-"},{"$f":"'All Running Order'!CQ63","v":""},{"$f":"'All Running Order'!CR63","v":"-"},{"$f":"'All Running Order'!CS63","v":""},{"$f":"'All Running Order'!CT63","v":"-"},{"$f":"'All Running Order'!CU63","v":" "},{"$f":"'All Running Order'!CV63","v":"-"},{"$f":"'All Running Order'!CW63","v":" "},{"$f":"'All Running Order'!CX63","v":" "}]
["0 ",{"$f":"'All Running Order'!B64","v":60},{"$f":"'All Running Order'!C64","v":0},{"$f":"'All Running Order'!D64","v":0},{"$f":"'All Running Order'!E64","v":0},{"$f":"'All Running Order'!F64","v":0},{"$f":"'All Running Order'!G64","v":0},{"$f":"'All Running Order'!I64","v":0},{"$f":"'All Running Order'!J64","v":0},{"$f":"'All Running Order'!K64","v":0},null,{"$f":"'All Running Order'!N64","v":0},{"$f":"'All Running Order'!O64","v":0},{"$f":"'All Running Order'!Q64","v":0},{"$f":"'All Running Order'!R64","v":0},{"$f":"'All Running Order'!S64","v":0},{"$f":"'All Running Order'!T64","v":0},{"$f":"'All Running Order'!U64","v":0},{"$f":"'All Running Order'!V64","v":0},{"$f":"'All Running Order'!W64","v":0},{"$f":"'All Running Order'!X64","v":0},{"$f":"'All Running Order'!Y64","v":0},{"$f":"'All Running Order'!Z64","v":0},{"$f":"'All Running Order'!AA64","v":2000},{"$f":"'All Running Order'!AB64","v":0},{"$f":"'All Running Order'!AC64","v":0},{"$f":"'All Running Order'!AD64","v":0},{"$f":"'All Running Order'!AE64","v":0},{"$f":"'All Running Order'!AF64","v":0},{"$f":"'All Running Order'!AG64","v":0},{"$f":"'All Running Order'!AH64","v":0},{"$f":"'All Running Order'!AI64","v":0},{"$f":"'All Running Order'!AJ64","v":0},{"$f":"'All Running Order'!AK64","v":0},{"$f":"'All Running Order'!AL64","v":0},{"$f":"'All Running Order'!AM64","v":2000},{"$f":"'All Running Order'!AN64","v":0},{"$f":"'All Running Order'!AO64","v":0},{"$f":"'All Running Order'!AP64","v":0},{"$f":"'All Running Order'!AQ64","v":0},{"$f":"'All Running Order'!AR64","v":0},{"$f":"'All Running Order'!AS64","v":0},{"$f":"'All Running Order'!AT64","v":0},{"$f":"'All Running Order'!AU64","v":0},{"$f":"'All Running Order'!AV64","v":0},{"$f":"'All Running Order'!AW64","v":0},{"$f":"'All Running Order'!AX64","v":0},{"$f":"'All Running Order'!AY64","v":2000},{"$f":"'All Running Order'!AZ64","v":0},{"$f":"'All Running Order'!BA64","v":0},{"$f":"'All Running Order'!BB64","v":0},{"$f":"'All Running Order'!BC64","v":0},{"$f":"'All Running Order'!BD64","v":0},{"$f":"'All Running Order'!BE64","v":0},{"$f":"'All Running Order'!BF64","v":0},{"$f":"'All Running Order'!BG64","v":0},{"$f":"'All Running Order'!BH64","v":0},{"$f":"'All Running Order'!BI64","v":0},{"$f":"'All Running Order'!BJ64","v":0},{"$f":"'All Running Order'!BK64","v":2000},{"$f":"'All Running Order'!BL64","v":0},{"$f":"'All Running Order'!BM64","v":0},{"$f":"'All Running Order'!BN64","v":0},{"$f":"'All Running Order'!BO64","v":0},{"$f":"'All Running Order'!BP64","v":0},{"$f":"'All Running Order'!BQ64","v":0},{"$f":"'All Running Order'!BR64","v":0},{"$f":"'All Running Order'!BS64","v":0},{"$f":"'All Running Order'!BT64","v":0},{"$f":"'All Running Order'!BU64","v":0},{"$f":"'All Running Order'!BV64","v":0},{"$f":"'All Running Order'!BW64","v":2000},{"$f":"'All Running Order'!BX64","v":0},{"$f":"'All Running Order'!BY64","v":0},{"$f":"'All Running Order'!BZ64","v":0},{"$f":"'All Running Order'!CA64","v":13},{"$f":"'All Running Order'!CB64","v":13},{"$f":"'All Running Order'!CC64","v":13},{"$f":"'All Running Order'!CD64","v":13},{"$f":"'All Running Order'!CE64","v":13},{"$f":"'All Running Order'!CF64","v":13},{"$f":"'All Running Order'!CG64","v":13},{"$f":"'All Running Order'!CH64","v":"-"},{"$f":"'All Running Order'!CI64","v":""},{"$f":"'All Running Order'!CJ64","v":"-"},{"$f":"'All Running Order'!CK64","v":""},{"$f":"'All Running Order'!CL64","v":"-"},{"$f":"'All Running Order'!CM64","v":""},{"$f":"'All Running Order'!CN64","v":"-"},{"$f":"'All Running Order'!CO64","v":""},{"$f":"'All Running Order'!CP64","v":"-"},{"$f":"'All Running Order'!CQ64","v":""},{"$f":"'All Running Order'!CR64","v":"-"},{"$f":"'All Running Order'!CS64","v":""},{"$f":"'All Running Order'!CT64","v":"-"},{"$f":"'All Running Order'!CU64","v":" "},{"$f":"'All Running Order'!CV64","v":"-"},{"$f":"'All Running Order'!CW64","v":" "},{"$f":"'All Running Order'!CX64","v":" "}]
[]
[]
[]
[]
[]
[]
[]
[null,null,"RESULTS"]
[null,null,"HSCC Historic Sporting Trial at Plashes Farm, near Ware, Hertfordshire SG11 1ES on Saturday 20th August 2016."]
[]
[null,null,"We hope you enjoyed the day. "]
[null,null,"Our thanks go to Frank Lyons for the use of his farm, greatly appreciated by eveyone"]
[]
[null,null,"Next trial will be organised by Stroud club on a new site near Wotton under Edge Glos. On Saturday 12 th NOVEMBER 2016 ( revised date)"]
[]
[]
[]
[]
[]
[]
[]
[]
[]
[]
[]
[]
[]
[]
[]
[]
[]
[]
[]
[]
[]
[]
[]
[]
[]
[]
[]
[]
[]
[]
[]
[]
[]
[]
[]
[]
[]
[]
[]
[]
[]
[]
[]
[]
[]
[]
[]
[]
[]
[]
[]
[]
[]
[]
[]
[]
[]
[]
[]
[]
[]
[]
[]
[]
[]
[]
[]
[]
[]
[]
[]
[]
[]
[]
[]
[]
[]
[]
[]
[]
[]
[]
[]
[]
[]
[]
[]
[]
[]
[]
[]
[]
[]
[]
[]
[]
[]
[]
[]
[]
[]
[]
[]
[]
[]
[]
[]
[]
[]
[]
[]
[]
[]
[]
[]
[]
[]
[]
[]
[]
[]
[]
[]
[]
[]
[]
[]
[]
[]
[]
[]
[]
[]
[]
[]
[]
[]
[]
[]
[]
[]
[]
[]
[]
[]
[]
[]
[]
[]
[]
[]
[]
[]
[]
[]
[]
[]
[]
[]
[]
[]
[]
[]
[]
[]
[]
[]
[]
[]
[]
[]
[]
[]
[]
[]
[]
[]
[]
[]
[]
[]
[]
[]
[]
[]
[]
[]
[]
[]
[]
[]
[]
[]
[]
[]
[]
[]
[]
[]
[]
[]
[]
[]
[]
[]
[]
[]
[]
[]
[]
[]
[]
[]
[]
[]
[]
[]
[]
[]
[]
[]
[]
[]
[]
[]
[]
[]
[]
[]
[]
[]
[]
[]
[]
[]
[]
[]
[]
[]
[]
[]
[]
[]
[]
[]
[]
[]
[]
[]
[]
[]
[]
[]
[]
[]
[]
[]
[]
[]
[]
[]
[]
[]
[]
[]
[]
[]
[]
[]
[]
[]
[]
[]
[]
[]
[]
[]
[]
[]
[]
[]
[]
[]
[]
[]
[]
[]
[]
[]
[]
[]
[]
[]
[]
[]
[]
[]
[]
[]
[]
[]
[]
[]
[]
[]
[]
[]
[]
[]
[]
[]
[]
[]
[]
[]
[]
[]
[]
[]
[]
[]
[]
[]
[]
[]
[]
[]
[]
[]
[]
[]
[]
[]
[]
[]
[]
[]
[]
[]
[]
[]
[]
[]
[]
[]
[]
[]
[]
[]
[]
[]
[]
[]
[]
[]
[]
[]
[]
[]
[]
[]
[]
[]
[]
[]
[]
[]
[]
[]
[]
[]
[]
[]
[]
[]
[]
[]
[]
[]
[]
[]
[]
[]
[]
[]
[]
[]
[]
[]
[]
[]
[]
[]
[]
[]
[]
[]
[]
[]
[]
[]
[]
[]
[]
[]
[]
[]
[]
[]
[]
[]
[]
[]
[]
[]
[]
[]
[]
[]
[]
[]
[]
[]
[]
[]
[]
[]
[]
[]
[]
[]
[]
[]
[]
[]
[]
[]
[]
[]
[]
[]
[]
[]
[]
[]
[]
[]
[]
[]
[]
[]
[]
[]
[]
[]
[]
[]
[]
[]
[]
[]
[]
[]
[]
[]
[]
[]
[]
[]
[]
[]
[]
[]
[]
[]
[]
[]
[]
[]
[]
[]
[]
[]
[]
[]
[]
[]
[]
[]
[]
[]
[]
[]
[]
[]
[]
[]
[]
[]
[]
[]
[]
[]
[]
[]
[]
[]
[]
[]
[]
[]
[]
[]
[]
[]
[]
[]
[]
[]
[]
[]
[]
[]
[]
[]
[]
[]
[]
[]
[]
[]
[]
[]
[]
[]
[]
[]
[]
[]
[]
[]
[]
[]
[]
[]
[]
[]
[]
[]
[]
[]
[]
[]
[]
[]
[]
[]
[]
[]
[]
[]
[]
[]
[]
[]
[]
[]
[]
[]
[]
[]
[]
[]
[]
[]
[]
[]
[]
[]
[]
[]
[]
[]
[]
[]
[]
[]
[]
[]
[]
[]
[]
[]
[]
[]
[]
[]
[]
[]
[]
[]
[]
[]
[]
[]
[]
[]
[]
[]
[]
[]
[]
[]
[]
[]
[]
[]
[]
[]
[]
[]
[]
[]
[]
[]
[]
[]
[]
[]
[]
[]
[]
[]
[]
[]
[]
[]
[]
[]
[]
[]
[]
[]
[]
[]
[]
[]
[]
[]
[]
[]
[]
[]
[]
[]
[]
[]
[]
[]
[]
[]
[]
[]
[]
[]
[]
[]
[]
[]
[]
[]
[]
[]
[]
[]
[]
[]
[]
[]
[]
[]
[]
[]
[]
[]
[]
[]
[]
[]
[]
[]
[]
[]
[]
[]
[]
[]
[]
[]
[]
[]
[]
[]
[]
[]
[]
[]
[]
[]
[]
[]
[]
[]
[]
[]
[]
[]
[]
[]
[]
[]
[]
[]
[]
[]
[]
[]
[]
[]
[]
[]
[]
[]
[]
[]
[]
[]
[]
[]
[]
[]
[]
[]
[]
[]
[]
[]
[]
[]
[]
[]
[]
[]
[]
[]
[]
[]
[]
[]
[]
[]
[]
[]
[]
[]
[]
[]
[]
[]
[]
[]
[]
[]
[]
[]
[]
[]
[]
[]
[]
[]
[]
[]
[]
[]
[]
[]
[]
[]
[]
[]
[]
[]
[]
[]
[]
[]
[]
[]
[]
[]
[]
[]
[]
[]
[]
[]
[]
[]
[]
[]
[]
[]
[]
[]
[]
[]
[]
[]
[]
[]
[]
[]
[]
[]
[]
[]
[]
[]
[]
[]
[]
[]
[]
[]
[]
[]
[]
[]
[]
[]
[]
[]
[]
[]
[]
[]
[]
[]
[]
[]
[]
[]
[]
[]
[]
[]
[]
[]
[]
[]
[]
[]
[]
[]
[]
[]
[]
[]
[]
[]
[]
[]
[]
[]
[]
[]
[]
[]
[]
[]
[]
[]
[]
[]
[]
[]
[]
[]
[]
[]
[]
[]
[]
[]
[]
[]
[]
[]
[]
[]
[]
[]
[]
[]
[]
[]
[]
[]
[]
[]
[]
[]
[]
[]
[]
[]
[]
[]
[]
[]
[]
[]
[]
[]
[null,null,null,null,"Class"]
[null,null,"Ret/NS",1,"Red","Live"]
[null,null,null,2,"Blue","Indy"]
[null,null,null,3,"Green"]
[null,null,null,4,"Club"]